{"text_format":"1","workbook":"xlsx","n_sheets":8,"sheets":["Gross Rev Wrksht","FSA_Pmts","521A_entry","FSA-521","2020_521A","2021_521A ","Instructions","st_cty_dropdowns"],"not_rendered":{"charts":0,"images":4,"macros":1,"external_links":0,"defined_names":12,"comments":0,"pivot_tables":0},"unopened":[],"bounds":{"document_bytes":16777216,"sheet_cells":100000,"rows_first":2000,"rows_last":500,"rows_between":2000,"halvings":0,"cell_chars":16384,"cell_head_chars":4096},"cells_cut":0,"cells_raw":0,"read":"whole","date_system":"1900"}

{"sheet":"Gross Rev Wrksht","index":0,"n_rows":54,"n_cols":38,"rows_kept":54,"cut":false,"hidden":false,"merged":[[2,1,3,11],[5,13,5,21],[33,7,33,8],[19,12,20,12],[21,12,21,14],[19,13,19,14],[16,12,16,18],[6,7,6,11],[7,8,7,10],[7,1,7,3],[8,1,8,3],[11,1,11,3],[12,1,12,3],[7,4,7,5],[8,4,8,5],[11,8,11,10],[29,1,29,2],[8,21,9,21],[10,21,11,21],[6,14,7,20],[8,14,9,20],[10,14,11,20],[13,8,13,10],[22,3,24,6],[53,12,53,14],[52,12,52,14],[33,3,33,6],[37,7,37,8],[32,17,35,18],[32,15,35,16],[49,1,50,2],[45,3,45,6],[44,3,44,6],[46,2,46,6],[47,3,47,6],[39,7,39,8],[39,3,39,6],[39,1,39,2],[40,1,40,2],[41,1,41,2],[34,3,34,6],[32,3,32,6],[32,7,32,8],[43,1,43,2],[44,1,44,2],[53,7,53,8],[51,7,51,8],[53,1,53,5],[17,2,17,6],[19,3,20,6],[18,2,18,6],[19,10,20,10],[42,1,42,2],[26,9,27,9],[27,13,27,14],[31,1,31,2],[32,1,32,2],[34,1,34,2],[34,7,34,8],[30,3,30,6],[31,3,31,6],[30,1,30,2],[26,13,26,14],[29,3,29,6],[29,7,29,8],[30,7,30,8],[31,7,31,8],[38,2,38,5],[17,7,17,8],[18,7,18,8],[22,11,24,11],[22,9,24,9],[52,7,52,8],[45,7,45,8],[47,7,47,8],[41,7,41,8],[19,16,19,18],[24,17,24,18],[22,13,22,14],[6,21,7,21],[9,8,9,10],[16,7,16,11],[19,11,20,11],[23,13,23,14],[22,10,24,10],[26,15,27,15],[49,9,50,9],[49,10,50,10],[49,11,50,11],[35,7,35,8],[39,12,45,14],[49,16,50,18],[49,15,50,15],[50,13,50,14],[49,12,49,14],[37,13,37,14],[52,1,52,2],[51,2,51,5],[48,2,48,5],[47,1,47,2],[40,3,40,6],[41,3,41,6],[43,3,43,6],[42,3,42,6],[45,1,45,2],[49,3,50,6],[52,3,52,6],[29,12,35,14],[29,15,30,15],[29,16,30,18],[36,7,36,8],[37,15,37,18],[39,15,45,18],[38,7,38,8],[49,7,50,8],[46,7,46,8],[42,7,42,8],[40,7,40,8],[44,7,44,8],[48,7,48,8],[43,7,43,8],[26,1,27,2],[35,1,35,2],[21,2,21,5],[35,3,35,6],[37,3,37,6],[6,13,7,13],[8,13,9,13],[10,13,11,13],[6,1,6,5],[18,12,18,14],[15,4,15,18],[19,7,20,8],[22,7,24,8],[21,7,21,8],[22,16,22,18],[23,17,23,18],[26,16,27,18],[26,10,27,10],[26,7,27,8],[19,9,20,9],[36,2,36,5],[37,1,37,2],[22,1,24,2],[19,1,20,2],[16,1,16,6],[18,15,18,18],[4,17,4,18],[5,1,5,5],[5,7,5,11],[12,13,13,17],[31,16,31,18],[33,1,33,2],[28,2,28,5],[25,7,25,8],[26,3,27,6],[28,7,28,8],[8,8,8,10],[11,4,11,5],[26,11,27,11],[10,7,10,11],[12,8,12,10],[13,1,13,3],[14,2,14,4],[9,1,10,3],[9,4,10,5],[12,4,12,5],[13,4,13,5],[25,2,25,6]]}
[]
[]
[null,"Emergency Relief Program Application Tool - Version 1.0"]
[null,null,null,null,null,null,null,null,null,null,null,null,null,null,null,null,null,null,{"$f":"TODAY()","v":"2023-01-23"}]
[]
[null,"Gross Revenue Worksheet",null,null,null,null,null,"Disaster Information",null,null,null,null,null,"Adjustment Applicability"]
[null,"Producer Information",null,null,null,null,null,{"$f":"IF(F15=\"\",\"\",IF(OR(F15=2021,F15=2020),F15&\" Crop Year\",\"2020 Crop Year\"))","v":""},null,null,null,null,null,"5A)","Are you a new producer in 2020 or 2021 that did not have any allowable revenue in 2018 or 2019?",null,null,null,null,null,null,"No",null,null,null,null,null,null,null,null,null,null,null,null,null,null,"dropdown for adjustment"]
[null,"1A)  Recording State:",null,null,null,null,null,{"$f":"IF(I8=\"\",\"\",\"A4)\")","v":""},{"$f":"IF(OR(F15=2021,F15=2020),\"What representative revenue year did you experience a crop loss for crop year \"&F15&\" due to the qualifying disaster event?\",IF(F15=Z14,\"What representative revenue year did you experience a crop loss for crop year 2020 due to the qualifying disaster event?\",\"\"))","v":""},null,null,null,null,null,null,null,null,null,null,null,null,null,null,null,null,null,null,null,null,null,null,null,null,null,null,null,"decrease","increase"]
[null,"1B)  Recording County:",null,null,null,null,null,{"$f":"IF(I9=\"\",\"\",\"4B)\")","v":""},{"$f":"IF(F15=\"\",\"\",IF(AI12=\"Adjusted\",\"Since you are a new producer the benchmark year will be set to adjusted.\",IF(OR(X9=\"Yes\",X10=\"Yes\"),\"What benchmark year (2018, 2019) represents a typical year of revenue for \"&L8&\" to adjust?\",\"What benchmark year (2018, 2019) represents a typical year of revenue for \"&L8&\"?\")))","v":""},null,null,null,null,"5B)","Do you have allowable revenue in 2018 or 2019, but your operation has undergone a decrease in operating capacity from Benchmark Year to Disaster Year? \nNote:  If \"Yes\" indicate the crop disaster year the decrease occurred.",null,null,null,null,null,null,"No",null,{"$f":"IF(LEFT(V9,3)=\"Yes\",\"Yes\",\"No\")","v":"No"},{"$f":"IF(OR(V9=\"\",V9=\"No\"),\"\",MID(V9,(FIND(\",\",V9)+1),400))","v":""}]
[null,"2A) Name:",null,null,null,null,null,{"$f":"IF(I10=\"\",\"\",\"4C)\")","v":""},{"$f":"IF(F15=\"\",\"\",\"What is your % of Expected Revenue from Specialty & High Value Crops for \"&L8&\"?\")","v":""},null,null,null,null,null,null,null,null,null,null,null,null,null,null,{"$f":"IF(LEFT(V11,3)=\"Yes\",\"Yes\",\"No\")","v":"No"},{"$f":"IF(OR(V11=\"No\",V11=\"\"),\"\",(MID(V11,(FIND(\",\",V11)+1),200)))","v":""},"Disaster Program Drop Down","Part C Dropdown","Part D Dropdown","Original Plan on Program year","Master list of program years",null,null,null,null,"Benchmark","Benchmark","No",{"$f":"AK10","v":"No"}]
[null,null,null,null,null,null,null,{"$f":"IF(F15=\"\",\"\",IF(OR(F15=2021,F15=2020),\"\",\"2021 Crop Year\"))","v":""},null,null,null,null,null,"5C)","Do you have allowable revenue in 2018 or 2019, but your operation has undergone an increase in operating capacity from Benchmark Year to Disaster Year? \nNote:  If \"Yes\" indicate the crop disaster year the increase  occurred.",null,null,null,null,null,null,"No",null,null,"No",null,null,null,null,null,null,null,null,null,null,null,"Yes, 2020 & 2021",{"$f":"IF($V$9=AK12,AK13,IF($V$9=AK13,AK12,IF(V9=AK11,\"\",AK11)))","v":"Yes, 2020 & 2021"}]
[null,"2B) Address:",null,null,null,null,null,{"$f":"IF(H11=\"\",\"\",\"4A)\")","v":""},{"$f":"IF(F15=Z14,\"What representative revenue year did you experience a crop loss for crop year 2021 due to the qualifying weather event?\",\"\")","v":""},null,null,null,null,null,null,null,null,null,null,null,null,null,null,null,"Yes",2020,{"$f":"IF(OR(F15=Z12,F15=Z14),2020,IF(F15=Z12,2020,2021))","v":2021},{"$f":"IF(L8=2020,2021,IF(L8=2021,2022,\"\"))","v":""},{"$f":"IF(OR(L8=2021,L12=2021),2021,\"\")","v":""},"2020 ERP",null,null,null,null,{"$f":"IF(V7=\"Yes\",\"Adjusted\",IF(OR(LEFT(H7,4)=MID(V11,6,4),LEFT(H7,4)=MID(V9,6,4)),\"Adjusted 2018\",2018))","v":"Adjusted 2018"},{"$f":"IF(V7=\"Yes\",\"Adjusted\",IF(OR(LEFT(H11,4)=RIGHT(V11,4),LEFT(H11,4)=RIGHT(V9,4)),\"Adjusted 2018\",2018))","v":2018},"Yes, 2020",{"$f":"IF(V9=\"No\",AK12,IF(AL11=\"\",\"\",IF(OR(AL11=AK11,AL11=AK12,AL11=AK13),\"\",AK12)))","v":"Yes, 2020"}]
[null,"2C)  City, State and Zip Code:",null,null,null,null,null,{"$f":"IF(H11=\"\",\"\",\"4B)\")","v":""},{"$f":"IF(I12=\"\",\"\",IF(AI12=\"Adjusted\",\"Since you are a new producer the benchmark year will be set to adjusted.\",IF(OR(X9=\"Yes\",X10=\"Yes\"),\"What benchmark year (2018, 2019) represents a typical year of revenue for \"&H11&\" to adjust?\",\"What benchmark year (2018, 2019) represents a typical year of revenue for \"&L12&\"?\")))","v":""},null,null,null,null,{"$f":"IF(V7=\"yes\",\"Adjustments apply.  To calculate the expected revenue, please complete the FSA-521A to calculate adjustments by clicking here ---->\",IF(X9=\"Yes\",\"Adjustments to the 2018 or 2019 revenue are required,   please complete the FSA-521A to calculate adjustments by clicking here ---->\",IF(X10=\"Yes\",\"Adjustments to the 2018 or 2019 revenue apply,   please complete the FSA-521A to calculate adjustments by clicking here ---->\",\"Adjustments do NOT apply\")))","v":"Adjustments do NOT apply"},null,null,null,null,null,null,null,null,null,null,null,2021,{"$f":"IF(OR(F15=Z12,F15=Z14),2021,IF(F15=Z12,2021,2022))","v":2022},{"$f":"IF(L8=2020,\"\",IF(AB12=2021,2022,\"\"))","v":""},{"$f":"IF(OR(L8=2022,L12=2021),2022,\"\")","v":""},"2021 ERP",null,null,null,null,{"$f":"IF(V7=\"Yes\",\"Adjusted\",IF(OR(LEFT(H7,4)=MID(V11,6,4),LEFT(H7,4)=MID(V9,6,4)),\"Adjusted 2019\",2019))","v":"Adjusted 2019"},{"$f":"IF(V7=\"Yes\",\"Adjusted\",IF(OR(LEFT(H11,4)=RIGHT(V11,4),LEFT(H11,4)=RIGHT(V9,4)),\"Adjusted 2019\",2019))","v":2019},"Yes, 2021",{"$f":"IF(V9=\"No\",AK13,IF(AL11=\"\",\"\",IF(OR(AL11=AK11,AL11=AK12,AL11=AK13),\"\",AK13)))","v":"Yes, 2021"}]
[null,"2D)  Phone Number:",null,null,null,null,null,{"$f":"IF(H11=\"\",\"\",\"4C)\")","v":""},{"$f":"IF(H11=\"\",\"\",\"What is your % of Expected Revenue from Specialty & High Value Crops for  \"&L12)","v":""},null,null,null,null,null,null,null,null,null,null,null,null,null,null,null,null,"2020 & 2021",null,null,null,"2020 & 2021 ERP"]
[null,"3)","Did you suffer a production loss in  2020 or 2021 due to a qualifying disaster event for the Emergency Relief Program?",null,null,null,null,null,null,null,null,null,null,null,null,null,null,null,null,null,null,null,null,null,null,null,null,null,null,"Does Not Apply",{"$f":"IF(OR(J18=\"\",J18=AD15),IF(F15=2020,\"\",IF(F15=2021,\"\",IF(F15=Z14,AD15,AD15))),\"\")","v":"Does Not Apply"},{"$f":"IF(OR(H18=\"\",H18=AD15),IF(F15=2020,\"\",IF(F15=2021,\"\",IF(F15=Z14,AD15,AD15))),\"\")","v":"Does Not Apply"}]
[null,null,null,null,{"$f":"IF(E10=\"\",\"\",E10)","v":""},null,null,null,null,null,null,null,null,null,null,null,null,null,null,null,null,null,null,null,null,null,null,null,null,null,{"$f":"IF($J$18=\"\",AD16,\"\")","v":""}]
[null,"Allowable Revenue Source",null,null,null,null,null,"Revenue",null,null,null,null,"Comments",null,null,null,null,null,null,null,null,null,null,null,{"$f":"IF(V7=\"Yes\",O57,IF(L57=0,\"\",O57))","v":""},null,null,null,null," Form Benchmark","Second Form Benchmark",{"$f":"LEFT(K18,4)","v":"Does"},{"$f":"LEFT(L18,4)","v":"Does"}]
[null,"6)","Disaster year associated to the applicable years revenue?",null,null,null,null,{"$f":"IF(V7=\"Yes\",\"Adjusted\",IF(AND(F15=Z14,RIGHT(L9,4)=\"2018\",RIGHT(L13,4)=\"2018\"),AD14,IF(RIGHT(L9,4)=\"2018\",LEFT(H7,4)&\" ERP\",IF(RIGHT(L13,4)=\"2018\",LEFT(H11,4)&\" ERP\",\"Does Not Apply\"))))","v":"Does Not Apply"},null,{"$f":"IF(V7=\"Yes\",\"Adjusted\",IF(AND(F15=Z14,RIGHT(L9,4)=\"2019\",RIGHT(L13,4)=\"2019\"),AD14,IF(RIGHT(L9,4)=\"2019\",LEFT(H7,4)&\" ERP\",IF(RIGHT(L13,4)=\"2019\",LEFT(H11,4)&\" ERP\",\"Does Not Apply\"))))","v":"Does Not Apply"},{"$f":"IF(F15=\"\",\"Does Not Apply\",LEFT(H7,4)&\" ERP\")","v":"Does Not Apply"},{"$f":"IF(F15=\"\",\"Does Not Apply\",IF(H11=\"\",\"\",LEFT(H11,4)&\" ERP\"))","v":"Does Not Apply"},null,null,null,null,null,null,null,null,null,null,null,null,null,2018,2019,"1st supplemental","2nd supplemental",{"$f":"LEFT(H7,4)","v":""},{"$f":"LEFT(H11,4)","v":""},{"$f":"IF(AND(AF19=\"\",AF20=\"\",AF21=\"\",AF22=\"\",AF23=\"\",AF26=\"\",AF24=\"\",AF25=\"\"),\"\",SUM(AF19:AF26))","v":""},{"$f":"IF(AG17=\"\",\"\",IF(AND(AG19=\"\",AG20=\"\",AG21=\"\",AG22=\"\",AG23=\"\",AG26=\"\",AG24=\"\",AG25=\"\"),\"\",SUM(AG19:AG26)))","v":""}]
[null,"7) ","Schedule F Line 1C Sales of purchased livestock and other resale items,” or information that could be reported on a Scheduled F\"",null,null,null,null,2018,null,2019,{"$f":"LEFT(L8,4)","v":""},{"$f":"IF(L12=\"\",\"\",L12)","v":""},"Include Revenue From:",null,null,"Exclude Revenue From:",null,null,null,null,null,null,null,null,"item 1",{"$f":"H20","v":0},{"$f":"J20","v":0},{"$f":"IF($L$9=\"Adjusted 2018\",Z19,IF($L$9=\"Adjusted 2019\",AA19,\"\"))","v":""},{"$f":"IF($L$13=\"Adjusted 2018\",Z19,IF($L$13=\"Adjusted 2019\",AA19,\"\"))","v":""},{"$f":"IF(RIGHT($L$9,4)=\"2018\",AB19,AC19)","v":""},{"$f":"IF(RIGHT($L$13,4)=\"2018\",AB19,AC19)","v":""},{"$f":"IF(K20=\"\",\"\",K20)","v":""},{"$f":"IF(L20=\"\",\"\",L20)","v":""}]
[null,"7A)",null,"Sales of eligible crops produced by the applicant resulting from value added through post - production activities for the applicable year.",null,null,null,null,null,null,null,null,"•","Sales of eligible crops purchased for resale that had a change in characteristic due to the time held, such as:",null,"•","Sales of livestock",null,null,null,null,null,null,null,"item 2",{"$f":"H23","v":0},{"$f":"J23","v":0},{"$f":"IF($L$9=\"Adjusted 2018\",Z20,IF($L$9=\"Adjusted 2019\",AA20,\"\"))","v":""},{"$f":"IF($L$13=\"Adjusted 2018\",Z20,IF($L$13=\"Adjusted 2019\",AA20,\"\"))","v":""},{"$f":"IF(RIGHT($L$9,4)=\"2018\",AB20,AC20)","v":""},{"$f":"IF(RIGHT($L$13,4)=\"2018\",AB20,AC20)","v":""},{"$f":"IF(K23=\"\",\"\",K23)","v":""},{"$f":"IF(L23=\"\",\"\",L23)","v":""}]
[null,null,null,null,null,null,null,null,null,null,null,null,null,"•","A plant purchased at a size of 2 inches and sold as an 18-inch plant after 4 months",null,null,null,null,null,null,null,null,null,"item 3",{"$f":"H27","v":0},{"$f":"J27","v":0},"","","","",{"$f":"IF(K27=\"\",\"\",K27)","v":""},{"$f":"IF(L27=\"\",\"\",L27)","v":""}]
[null,"8)","Schedule F Line 2, “Sales of livestock, produce, grains, and other products you raised,” or information that could be reported on a Schedule F",null,null,null,null,2018,null,2019,{"$f":"K19","v":""},{"$f":"L19","v":""},null,null,null,null,null,null,null,null,null,null,null,null,"Item 4",{"$f":"H30+H31+H32+H33+H34+H36+H35","v":0},{"$f":"J30+J31+J32+J33+J34+J36+J35","v":0},"","","","",{"$f":"IF(AND(K30=\"\",K31=\"\",K32=\"\",K33=\"\",K34=\"\",K35=\"\",K36=\"\"),\"\",K30+K31+K32+K33+K34+K36+K35)","v":""},{"$f":"IF(AND(L30=\"\",L31=\"\",L32=\"\",L33=\"\",L34=\"\",L35=\"\",L36=\"\"),\"\",L30+L31+L32+L33+L34+L36+L35)","v":""}]
[null,"8A)",null," Allowable revenue from sales of eligible crops raised and sold in the United States, sales of agriculture commodities, and sales of aquatic species.",null,null,null,null,null,null,null,null,"• ","Sales of eligible crops grown and sold in the United States by the applicant.\n",null,"•","Sales of animals and their by-products",null,null,null,null,null,null,null,"item 5",{"$f":"H38","v":0},{"$f":"J38","v":0},"","","","",{"$f":"IF(K38=\"\",\"\",K38)","v":""},{"$f":"IF(L38=\"\",\"\",L38)","v":""}]
[null,null,null,null,null,null,null,null,null,null,null,null,"•\n\n\n\n\n\n\n\n\n\n\n•","Sales of eligible crops grown by the applicant resulting from value added through post - production activities only if reported on Schedule F.\n\nExamples of post-production activities include:\n • Grapes into wine\n • Strawberries into jam\n\nSales of aquatic species that are grown:",null,null,"•\n\n•\n•\n• \n•\n\n\n•\n•","Animals for consumption by the owner, lessee, or contract grower \nEggs \nMilk \nMink including pelts \nRevenue from animals for show, sport, or recreational purposes \nWild free-roaming animals \nRevenue from raised breeding livestock (Schedule 4797 Part, Column (d) or (g) or other information that could be reported on a Schedule F",null,null,null,null,null,null,"item 6",{"$f":"H40+H41+H42+H43+H44+H45+H46","v":0},{"$f":"J40+J41++J42+J43+J44+J45+J46","v":0},{"$f":"IF($L$9=\"Adjusted 2018\",Z24,IF($L$9=\"Adjusted 2019\",AA24,\"\"))","v":""},{"$f":"IF($L$13=\"Adjusted 2018\",Z24,IF($L$13=\"Adjusted 2019\",AA24,\"\"))","v":""},{"$f":"IF(RIGHT($L$9,4)=\"2018\",AB24,AC24)","v":""},{"$f":"IF(RIGHT($L$13,4)=\"2018\",AB24,AC24)","v":""},{"$f":"IF(AND(K40=\"\",K41=\"\",K42=\"\",K43=\"\",K44=\"\",K45=\"\",K46=\"\"),\"\",K40+K41+K42+K43+K44+K45+K46)","v":""},{"$f":"IF(AND(L40=\"\",L41=\"\",L42=\"\",L43=\"\",L44=\"\",L45=\"\",L46=\"\"),\"\",L40+L41+L42+L43+L44+L45+L46)","v":""}]
[null,null,null,null,null,null,null,null,null,null,null,null,null,"• \n\n•\n•\n\n•","As food for human or livestock consumption,\nFor industrial or biomass uses\nAs fish raised as feed for fish that are consumed by humans\nAs ornamental fish propagated and reared in an aquatic medium","•\n\n\n\n\n•    \n\n•",null,"Sales of agricultural commodities resulting from value added through post-production activities if reported on Schedule C\nCommodities not grown in the U.S. \nInventory carried over from prior tax year.",null,null,null,null,null,null,"Item 7",{"$f":"H50","v":0},{"$f":"J50","v":0},{"$f":"IF($L$9=\"Adjusted 2018\",Z25,IF($L$9=\"Adjusted 2019\",AA25,\"\"))","v":""},{"$f":"IF($L$13=\"Adjusted 2018\",Z25,IF($L$13=\"Adjusted 2019\",AA25,\"\"))","v":""},{"$f":"IF(RIGHT($L$9,4)=\"2018\",AB25,AC25)","v":""},{"$f":"IF(RIGHT($L$13,4)=\"2018\",AB25,AC25)","v":""},{"$f":"IF(K50=\"\",\"\",K50)","v":""},{"$f":"IF(L50=\"\",\"\",L50)","v":""}]
[null,"9)"," Schedule F Line 3a, ““Cooperative distributions,” Form 1099-PATR, or information that could be reported on a Schedule F",null,null,null,null,2018,null,2019,{"$f":"K22","v":""},{"$f":"L22","v":""},null,null,null,null,null,null,null,null,null,null,null,null,"Item 8",{"$f":"H50","v":0},{"$f":"J50","v":0},{"$f":"IF($L$9=\"Adjusted 2018\",Z26,IF($L$9=\"Adjusted 2019\",AA26,\"\"))","v":""},{"$f":"IF($L$13=\"Adjusted 2018\",Z26,IF($L$13=\"Adjusted 2019\",AA26,\"\"))","v":""},{"$f":"IF(RIGHT($L$9,4)=\"2018\",AB26,AC26)","v":""},{"$f":"IF(RIGHT($L$13,4)=\"2018\",AB26,AC26)","v":""},{"$f":"IF(K50=\"\",\"\",K50)","v":""},{"$f":"IF(L50=\"\",\"\",L50)","v":""}]
[null,"9A)",null,"Allowable revenue from the taxable amount of cooperative distributions directly related to the sale of eligible crops produced by the applicant ",null,null,null,null,null,null,null,null,"•","The taxable amount of cooperative distributions directly related to the sale of eligible crops produced by the applicant.\n",null,"•","Distributions that are not directly related to the sale of eligible crops that are not produced by the applicant.",null,null,null,null,null,null,null,"Total",{"$f":"SUM(Z19:Z26)","v":0},0,{"$f":"SUM(AB19:AB26)","v":0},0,0,0]
[null,null,null,null,null,null,null,null,null,null,null,null,"•","Per-unit allocations paid to patrons for gross grain sales.",null,null,null,null,null,null,null,null,null,null,null,null,null,null,"Adjustments","Actual"]
[null,"10)","Schedule F Line 4a, “Agricultural Program Payments,“ Form 1099-G, or information that could be reported on a Schedule F",null,null,null,null,2018,null,2019,{"$f":"K26","v":""},{"$f":"L26","v":""},null,null,null,null,null,null,null,null,null,null,null,null,"2020 Crop Year Benchmark",{"$f":"IF(LEFT(H7,4)=\"2020\",L10,\"\")","v":""},{"$f":"IF(LEFT(F15,4)=\"2020\",L9,\"\")","v":""},{"$f":"IF(AND(LEFT(F15,4)=\"2020\",RIGHT(L9,4)=\"2018\"),SUM(Z19:Z25),IF(AND(LEFT(F15,4)=\"2020\",RIGHT(L9,4)=\"2019\"),SUM(AA19:AA25),0))","v":0},{"$f":"AB29+'521A_entry'!H6","v":0},{"$f":"IF(LEFT(H7,4)=\"2021\",\"\",LEFT(L8,4))","v":""},{"$f":"_xlfn.IFNA(HLOOKUP(LEFT(Y29,4),$AF$17:$AH$18,2,FALSE),\"\")","v":""}]
[null,"10A)",null,"Agriculture Risk Coverage (ARC) and Price Loss Coverage (PLC) Program  payments.",null,null,null,null,null,null,null,null,null,null,null,"•\n•\n•","Conservation Program Payments\nDairy Margin Coverage (DMC) Program\n Marketing Assistance Loan (MAL)\n",null,null,null,null,null,null,null,"2021 Crop Year Benchmark",{"$f":"IF(LEFT(H7,4)=\"2021\",L10,IF(LEFT(H11,4)=\"2021\",L14,\"\"))","v":""},{"$f":"IF(F15=Z13,L9,IF(F15=Z14,L13,\"\"))","v":""},{"$f":"IF(AND(RIGHT(F15,4)=\"2021\",RIGHT(L13,4)=\"2018\"),SUM(Z19:Z25),IF(AND(RIGHT(F15,4)=\"2021\",RIGHT(L13,4)=\"2019\"),SUM(AA19:AA25),   IF(AND(RIGHT(F15,4)=\"2021\",RIGHT(L9,4)=\"2018\"),SUM(Z19:Z25),IF(AND(RIGHT(F15,4)=\"2021\",RIGHT(L9,4)=\"2019\"),SUM(AA19:AA25),0))))","v":0},{"$f":"AB30+'521A_entry'!H7","v":{"$error":"#VALUE!"}},{"$f":"IF(LEFT(H7,4)=\"2021\",LEFT(L8,4),LEFT(L12,4))","v":""},{"$f":"_xlfn.IFNA(HLOOKUP(LEFT(Y30,4),$AF$17:$AH$18,2,FALSE),\"\")","v":""}]
[null,"10B)",null,"Biomass Crop Assistance Program (BCAP)  payments."]
[null,"10C)",null,"Loan Deficiency Payment (LDP) Program  payments.",null,null,null,null,null,null,null,null,null,null,null,"•","Pandemic Assistance payments including, but not limited to:"]
[null,"10D)",null,"Market Loan Gains (MLG) - repayment of Commodity Credit Corporation (CCC) loan less than the original amount payments.",null,null,null,null,null,null,null,null,null,null,null,"•\n•\n•\n•\n\n•\n•\n\n•\n",null,"cost-share assistance\nloss of buildings\nlivestock portion\nCoronavirus Food Assistance Program (CFAP) 1\nCFAP 2\nPandemic Livestock Indemnity Program (PLIP)\nSpot Market Hog Pandemic Program (SMHP)"]
[null,"10E)",null,"Market Facilitation Program (MFP) payments."]
[null,"10F)",null,"Seafood Trade Relief Program (STRP)"]
[null,"10G)",null,"For the disaster year only. Emergency Relief Program ERP Phase 1 payments issued to another person or entity for the applicant's share of an eligible crop, regardless of the tax year in which the payment would be reported to the IRS"]
[null,"11)","Schedule F Line 5a - 5c, “Commodity Credit Corporation (CCC) loans reported under election,” Form 1099-A, or information that could be reported on a Schedule F",null,null,null,null,2018,null,2019,{"$f":"K29","v":""},{"$f":"L29","v":""}]
[null,"11A)",null,"Allowable revenue CCC loans reported under election if elected to be treated as income and reported to IRS when all or part of the production is used as collateral to secure the loan; and forfeited CCC loans\n",null,null,null,null,null,null,null,null,"•\n\n\n\n\n\n•","CCC loans reported under election if elected to be treated as income and reported to IRS when all or part of the production is used as collateral to secure the loan.\n\nForfeited loans."]
[null,"12) ","Schedule F Line 6, “Crop insurance proceeds and federal crop disaster payments” or information that could be reported on a Schedule F.",null,null,null,null,2018,null,2019,{"$f":"K37","v":""},{"$f":"L37","v":""}]
[null,"12A)",null,"Crop insurance proceeds, less administrative fees and premiums."]
[null,"12B)",null,"Emergency Assistance for Livestock, Honeybees, and Farm Raised Fish Program (ELAP) - payments specific to aquaculture."]
[null,"12C)",null,"2017 Wildfire and Hurricanes Indemnity Program (WHIP) Payments & 2018 or 2019 WHIP+ Payments- Impacts Benchmark Year Revenue (2018, 2019)."]
[null,"12D)",null,"Noninsured Disaster Assistance Program (NAP) proceeds, less administrative fees and premiums."]
[null,"12E)",null,"On Farm Storage Payments ."]
[null,"12F)",null,"Payments issued through grant agreements with FSA for losses of eligible crops."]
[null,"12G)",null,"Grants from the Department of Commerce, National Oceanic and Atmospheric Administration (NOAA), and State program funds for the direct loss of eligible crops or the loss of revenue for eligible crops that could be reported on the schedule F."]
[null,"13)","Schedule F Line 7, “Custom hire (machine work) income,” or information that could be reported on a Schedule F.",null,null,null,null,2018,null,2019,{"$f":"K39","v":""},{"$f":"L39","v":""}]
[null,"13A)",null,"Exclude Custom Hire"]
[null,"14)  ","Schedule F Line 8,“Other income, including federal and state gasoline or fuel tax credit or refund,” or information that could be reported on a Schedule F.",null,null,null,null,2018,null,2019,{"$f":"K47","v":""},{"$f":"L47","v":""}]
[null,"14A)",null,"Other revenue directly related to the production of agricultural commodities that IRS requires the applicant to report as income, not included above.",null,null,null,null,null,null,null,null,"Other revenue directly related to the production of eligible crops that the IRS requires the applicant to report such as but not limited to:\n",null,null,"•\n\n• \n\n\n\n\n•\n•\n\n•\n•\n•\n\n•","Federal and State gas/fuel tax credits\n Income from by-passed (unharvested) acres\n Income from a pass-through entity such as an S Corporation or LLC\n Certificate Exchanges\n Net gain from hedging or speculation\n Wages, salaries, and tips\n Cash rent\n Rental of equipment or supplies\n Revenue earned as a contract producer"]
[null,null,null,null,null,null,null,null,null,null,null,null,"•","Commodity specific income received from state or local governments"]
[null,"15)"," Adjustments necessary using the FSA-521A that system will calculate, if applicable.",null,null,null,null,2018,null,2019,{"$f":"K49","v":""},{"$f":"L49","v":""}]
[null,"15A)",null,"Adjusted",null,null,null,{"$f":"_xlfn.IFNA(HLOOKUP('Gross Rev Wrksht'!H52,'521A_entry'!$T$5:$U$8,4,FALSE),\"\")","v":0},null,{"$f":"_xlfn.IFNA(HLOOKUP(J52,'521A_entry'!$T$5:$U$9,4,FALSE),\"\")","v":0}]
[null,"Total Allowable Revenue for ERP:",null,null,null,null,null,{"$f":"H53+H50+H46+H45+H44+H43+H42+H41+H40+H38+H36+H34+H33+H32+H31+H30+H27+H23+H20","v":0},null,{"$f":"J53+J50+J46+J45+J44+J43+J42+J41+J40+J38+J36+J34+J33+J32+J31+J30+J27+J23+J20","v":0},{"$f":"K53+K50+K46+K45+K44+K43+K42+K41+K40+K38+K36+K34+K33+K32+K31+K30+K27+K23+K20","v":0},{"$f":"L53+L50+L46+L45+L44+L43+L42+L41+L40+L38+L36+L34+L33+L32+L31+L30+L27+L23+L20","v":0}]

{"sheet":"FSA_Pmts","index":1,"n_rows":291,"n_cols":30,"rows_kept":291,"cut":false,"hidden":false,"merged":[[8,1,8,3],[8,4,8,6],[8,7,8,9],[8,10,8,12],[8,13,8,15],[15,19,15,20],[16,19,16,20],[7,4,7,9],[3,4,5,6],[18,19,18,20],[17,19,17,20],[8,19,8,20],[9,19,9,20],[10,19,10,20],[11,19,11,20],[12,19,12,20],[13,19,13,20],[14,19,14,20]]}
[]
[]
[]
[null,null,null,null,"Using Financial Inquiries enter the applicable payment amounts from the 1099, and any receivables, offsets, premiums, and service fees."]
[]
[null,null,null,null,null,null,null,null,null,null,null,null,null,null,null,null,{"$f":"MAX(Q9:Q216)","v":2}]
[]
[null,"FSA Payment Calculator",null,null,{"$f":"IF('Gross Rev Wrksht'!E10=\"\",\"\",'Gross Rev Wrksht'!E10)","v":""}]
[null,"Item",null,null,{"$f":"'Gross Rev Wrksht'!H19&\"  Payments\"","v":"2018  Payments"},null,null,{"$f":"'Gross Rev Wrksht'!J19&\"  Payments\"","v":"2019  Payments"},null,null,{"$f":"IF('Gross Rev Wrksht'!K19=\"\",\"\",'Gross Rev Wrksht'!K19&\"  Payments\")","v":""},null,null,{"$f":"IF('Gross Rev Wrksht'!L19=\"\",\"\",'Gross Rev Wrksht'!L19&\"  Payments\")","v":""},null,null,null,null,null,{"$f":"E9","v":"2018  Payments"},null,{"$f":"H9","v":"2019  Payments"},{"$f":"K9","v":""},{"$f":"N9","v":""}]
[null,"1.\nProgram Category","2.\nProgram Name","3.\nIncluded in ERP Revenue","4.\nReportable Income","5.\nReceivables/Offsets\nNote:  for NAP  include Service Fees and Producer Paid Premiums",{"$f":"\"6.\nNet \"&E9","v":"6.\nNet 2018  Payments"},"4.\nReportable Income","5.\nReceivables/Offsets\nNote:  for NAP  include Service Fees and Producer Paid Premiums",{"$f":"\"6.\nNet \"&H9","v":"6.\nNet 2019  Payments"},{"$f":"IF(K9=\"\",\"\",\"4.\nReportable Income\")","v":""},{"$f":"IF(K9=\"\",\"\",\"5.\nReceivables/Offsets\nNote:  for NAP  include Service Fees and Producer Paid Premiums\")","v":""},{"$f":"IF(K9=\"\",\"\",\"6.\nNet \"&K9)","v":""},{"$f":"IF(N9=\"\",\"\",\"4.\nReportable Income\")","v":""},{"$f":"IF(N9=\"\",\"\",\"5.\nReceivables/Offsets\nNote:  for NAP  include Service Fees and Producer Paid Premiums\")","v":""},{"$f":"IF(N9=\"\",\"\",\"6\nNet \"&N9)","v":""},null,"ARCPLC","10A)",{"$f":"SUMIF($C$11:$O$132,R10,$G$11:$G$122)","v":0},null,{"$f":"SUMIF($C$11:$O$132,R10,$J$11:$J$122)","v":0},{"$f":"SUMIF($C$11:$O$132,R10,$M$11:$M$122)","v":0},{"$f":"SUMIF($C$11:$O$132,R10,$P$11:$P$122)","v":0}]
[null,null,{"$f":"_xlfn.IFNA(VLOOKUP(B11,$Z$14:$AE$300,4,FALSE),\"\")","v":""},{"$f":"_xlfn.IFNA(VLOOKUP(B11,$Z$14:$AE$300,5,FALSE),\"\")","v":""},null,null,{"$f":"IF(E11=\"\",\"\",MAX(0,E11-F11))","v":""},null,null,{"$f":"IF(H11=\"\",\"\",MAX(0,H11-I11))","v":""},null,null,{"$f":"IF(K11=\"\",\"\",MAX(0,K11-L11))","v":""},null,null,{"$f":"IF(N11=\"\",\"\",MAX(0,N11-O11))","v":""},null,"BCAP","10B)",{"$f":"SUMIF($C$11:$O$132,R11,$G$11:$G$122)","v":0},null,{"$f":"SUMIF($C$11:$O$132,R11,$J$11:$J$122)","v":0},{"$f":"SUMIF($C$11:$O$132,R11,$M$11:$M$122)","v":0},{"$f":"SUMIF($C$11:$O$132,R11,$P$11:$P$122)","v":0}]
[null,null,{"$f":"_xlfn.IFNA(VLOOKUP(B12,$Z$14:$AE$300,4,FALSE),\"\")","v":""},{"$f":"_xlfn.IFNA(VLOOKUP(B12,$Z$14:$AE$300,5,FALSE),\"\")","v":""},null,null,{"$f":"IF(E12=\"\",\"\",MAX(0,E12-F12))","v":""},null,null,{"$f":"IF(H12=\"\",\"\",MAX(0,H12-I12))","v":""},null,null,{"$f":"IF(K12=\"\",\"\",MAX(0,K12-L12))","v":""},null,null,{"$f":"IF(N12=\"\",\"\",MAX(0,N12-O12))","v":""},null,"LDP","10C)",0,null,0,0,0,null,null,"Accounting Program Description","Program Code","Program","PARP or ERP"]
[null,null,"","",null,null,"",null,null,"",null,null,"",null,null,"",null,"MAL","10D)",0,null,0,0,0,null,null,"accounting_program_description"," accounting_program_code "]
[null,null,"","",null,null,"",null,null,"",null,null,"",null,null,"",null,"MFP","10E)",0,null,0,0,0,null,{"$f":"TRIM(AA14)&\" (\"&AB14&\")\"","v":"AGRICULTURAL RISK COVERAGE - INDIVIDUAL (2840)"},"AGRICULTURAL RISK COVERAGE - INDIVIDUAL           ",2840,"ARCPLC","Yes"]
[null,null,"","",null,null,"",null,null,"",null,null,"",null,null,"",null,"STRP","10F)",{"$f":"SUMIF($C$11:$O$132,R15,$G$11:$G$122)","v":0},null,{"$f":"SUMIF($C$11:$O$132,R15,$J$11:$J$122)","v":0},{"$f":"SUMIF($C$11:$O$132,R15,$M$11:$M$122)","v":0},{"$f":"SUMIF($C$11:$O$132,R15,$P$11:$P$122)","v":0},null,{"$f":"TRIM(AA15)&\" (\"&AB15&\")\"","v":"AGRICULTURAL RISK COVERAGE PROG - COUNTY (2838)"},"AGRICULTURAL RISK COVERAGE PROG - COUNTY          ",2838,"ARCPLC","Yes"]
[null,null,"","",null,null,"",null,null,"",null,null,"",null,null,"",null,"ELAP - Aquaculture Only","12B)",{"$f":"SUMIF($C$11:$O$132,R16,$G$11:$G$122)","v":0},null,{"$f":"SUMIF($C$11:$O$132,R16,$J$11:$J$122)","v":0},{"$f":"SUMIF($C$11:$O$132,R16,$M$11:$M$122)","v":0},{"$f":"SUMIF($C$11:$O$132,R16,$P$11:$P$122)","v":0},null,"ARC PROGRAM-COUNTY PILOT COVERAGE (2862)","ARC PROGRAM-COUNTY PILOT COVERAGE                 ",2862,"ARCPLC","Yes"]
[null,null,"","",null,null,"",null,null,"",null,null,"",null,null,"",null,"WHIP","12C)",{"$f":"SUMIF($C$11:$O$132,R17,$G$11:$G$122)","v":0},null,{"$f":"SUMIF($C$11:$O$132,R17,$J$11:$J$122)","v":0},{"$f":"SUMIF($C$11:$O$132,R17,$M$11:$M$122)","v":0},{"$f":"SUMIF($C$11:$O$132,R17,$P$11:$P$122)","v":0},null,"BCAP COST SHARE WEB BASED (2768)","BCAP COST SHARE WEB BASED                         ",2768,"BCAP","Yes"]
[null,null,"","",null,null,"",null,null,"",null,null,"",null,null,"",null,"NAP","12D)",{"$f":"SUMIF($C$11:$O$132,R18,$G$11:$G$122)","v":0},null,{"$f":"SUMIF($C$11:$O$132,R18,$J$11:$J$122)","v":0},{"$f":"SUMIF($C$11:$O$132,R18,$M$11:$M$122)","v":0},{"$f":"SUMIF($C$11:$O$132,R18,$P$11:$P$122)","v":0},null,"BCAP PRIVATE SECTOR TECHNICAL ASSISTANCE (2751)","BCAP PRIVATE SECTOR TECHNICAL ASSISTANCE          ",2751,"BCAP","Yes"]
[null,null,"","",null,null,"",null,null,"",null,null,"",null,null,"",null,"OFSP","12E)",{"$f":"SUMIF($C$11:$O$132,R19,$G$11:$G$122)","v":0},null,{"$f":"SUMIF($C$11:$O$132,R19,$J$11:$J$122)","v":0},{"$f":"SUMIF($C$11:$O$132,R19,$M$11:$M$122)","v":0},{"$f":"SUMIF($C$11:$O$132,R19,$P$11:$P$122)","v":0},null,"EMERGENCY ASSISTANCE FOR LIVESTOCK, HONEY BEES, AND FARM-RAISED FISH (2833)","EMERGENCY ASSISTANCE FOR LIVESTOCK, HONEY BEES, AND FARM-RAISED FISH",2833,"ELAP - Aquaculture Only","Yes"]
[null,null,"","",null,null,"",null,null,"",null,null,"",null,null,"",null,null,null,null,null,null,null,null,null,"LDP WEB PAYMENTS-FUNDS CONTROLLED (5217)","LDP WEB PAYMENTS-FUNDS CONTROLLED                 ",5217,"LDP","Yes"]
[null,null,"","",null,null,"",null,null,"",null,null,"",null,null,"",null,null,null,null,null,null,null,null,null,"LIVESTOCK FORAGE PROGRAM (2833)","LIVESTOCK FORAGE PROGRAM                          ",2833,"ELAP - Aquaculture Only","Yes"]
[null,null,"","",null,null,"",null,null,"",null,null,"",null,null,"",null,null,null,null,null,null,null,null,null,"LOAN DEFICIENCY - LENTILS, DRY (5207)","LOAN DEFICIENCY - LENTILS, DRY                    ",5207,"LDP","Yes"]
[null,null,"","",null,null,"",null,null,"",null,null,"",null,null,"",null,null,null,null,null,null,null,null,null,"LOAN DEFICIENCY PAYMENT (5207)","LOAN DEFICIENCY PAYMENT",5207,"LDP","Yes"]
[null,null,"","",null,null,"",null,null,"",null,null,"",null,null,"",null,null,null,null,null,null,null,null,null,"LOAN DEFICIENCY PAYMENT (5217)","LOAN DEFICIENCY PAYMENT",5217,"LDP","Yes"]
[null,null,"","",null,null,"",null,null,"",null,null,"",null,null,"",null,null,null,null,null,null,null,null,null,"MARKET FACILITATION PROGRAM - CROPS (2867)","MARKET FACILITATION PROGRAM - CROPS               ",2867,"MFP","Yes"]
[null,null,"","",null,null,"",null,null,"",null,null,"",null,null,"",null,null,null,null,null,null,null,null,null,"MARKET FACILITATION PROGRAM - NON-SPECIALTY CROPS (2877)","MARKET FACILITATION PROGRAM - NON-SPECIALTY CROPS",2877,"MFP","Yes"]
[null,null,"","",null,null,"",null,null,"",null,null,"",null,null,"",null,null,null,null,null,null,null,null,null,"MARKET FACILITATION PROGRAM – SPECIALTY CROPS (2878)","MARKET FACILITATION PROGRAM – SPECIALTY CROPS",2878,"MFP","Yes"]
[null,null,"","",null,null,"",null,null,"",null,null,"",null,null,"",null,null,null,null,null,null,null,null,null,"MARKET FACILITATION PROG-SPECIALTY CROPS (2870)","MARKET FACILITATION PROG-SPECIALTY CROPS          ",2870,"MFP","Yes"]
[null,null,"","",null,null,"",null,null,"",null,null,"",null,null,"",null,null,null,null,null,null,null,null,null,"MARKETING ASSISTANCE LOANS - NON-RECOURSE INCLUDES SUPPLEMENTAL SUGAR (1060)","MARKETING ASSISTANCE LOANS - NON-RECOURSE INCLUDES SUPPLEMENTAL SUGAR",1060,"MAL","Yes"]
[null,null,"","",null,null,"",null,null,"",null,null,"",null,null,"",null,null,null,null,null,null,null,null,null,"MARKETING ASSISTANCE LOANS - RECOURSE (1070)","MARKETING ASSISTANCE LOANS - RECOURSE",1070,"MAL","Yes"]
[null,null,"","",null,null,"",null,null,"",null,null,"",null,null,"",null,null,null,null,null,null,null,null,null,"NAP REGULAR WEB-BASED (2920)","NAP REGULAR WEB-BASED                             ",2920,"NAP","Yes"]
[null,null,"","",null,null,"",null,null,"",null,null,"",null,null,"",{"$f":"IF(B32=\"\",2,4)","v":2},null,null,null,null,null,null,null,null,"NONINSURED CROP DISASTER ASSISTANCE PROGRAM - BUY UP (2920)","NONINSURED CROP DISASTER ASSISTANCE PROGRAM - BUY UP",2920,"NAP","Yes"]
[null,null,"","",null,null,"",null,null,"",null,null,"",null,null,"",null,null,null,null,null,null,null,null,null,"NONINSURED CROP DISASTER ASSISTANCE PROGRAM (2775)","NONINSURED CROP DISASTER ASSISTANCE PROGRAM",2775,"NAP","Yes"]
[null,null,"","",null,null,"",null,null,"",null,null,"",null,null,"",null,null,null,null,null,null,null,null,null,"NON-RECOURSE MAL (1060)","NON-RECOURSE MAL                                  ",1060,"MAL","Yes"]
[null,null,"","",null,null,"",null,null,"",null,null,"",null,null,"",null,null,null,null,null,null,null,null,null,"ON-FARM STORAGE LOSS PROGRAM (2433)","ON-FARM STORAGE LOSS PROGRAM                      ",2433,"OFSP","Yes"]
[null,null,"","",null,null,"",null,null,"",null,null,"",null,null,"",null,null,null,null,null,null,null,null,null,"ON-FARM STORED COMMODITY LOSS PROGRAM (2434)","ON-FARM STORED COMMODITY LOSS PROGRAM             ",2434,"OFSP","Yes"]
[null,null,"","",null,null,"",null,null,"",null,null,"",null,null,"",null,null,null,null,null,null,null,null,null,"PRICE LOSS COVERAGE (2837)","PRICE LOSS COVERAGE                               ",2837,"ARCPLC","Yes"]
[null,null,"","",null,null,"",null,null,"",null,null,"",null,null,"",null,null,null,null,null,null,null,null,null,"RECOURSE MAL (1070)","RECOURSE MAL                                      ",1070,"MAL","Yes"]
[null,null,"","",null,null,"",null,null,"",null,null,"",null,null,"",null,null,null,null,null,null,null,null,null,{"$f":"TRIM(AA39)&\" (\"&AB39&\")\"","v":"SEAFOOD TRADE RELIEF PROGRAM (2907)"},"SEAFOOD TRADE RELIEF PROGRAM                      ",2907,"STRP","No"]
[null,null,"","",null,null,"",null,null,"",null,null,"",null,null,"",null,null,null,null,null,null,null,null,null,"TMP/MFP 2019 NON SPECIALTY CROPS (2877)","TMP/MFP 2019 NON SPECIALTY CROPS                  ",2877,"MFP","Yes"]
[null,null,"","",null,null,"",null,null,"",null,null,"",null,null,"",null,null,null,null,null,null,null,null,null,"TMP/MFP 2019 SPECIALITY CROPS (2878)","TMP/MFP 2019 SPECIALITY CROPS                     ",2878,"MFP","Yes"]
[null,null,"","",null,null,"",null,null,"",null,null,"",null,null,"",null,null,null,null,null,null,null,null,null,"WEB-BASED NAP (2775)","WEB-BASED NAP                                     ",2775,"NAP","Yes"]
[null,null,"","",null,null,"",null,null,"",null,null,"",null,null,"",null,null,null,null,null,null,null,null,null,"WILDFIRE AND HURRICANE INDEMNITY PROGRAM (2864)","WILDFIRE AND HURRICANE INDEMNITY PROGRAM",2864,"WHIP","Yes"]
[null,null,"","",null,null,"",null,null,"",null,null,"",null,null,"",null,null,null,null,null,null,null,null,null,"WILDFIRE AND HURRICANE INDEMNITY PROGRAM (2886)","WILDFIRE AND HURRICANE INDEMNITY PROGRAM",2886,"WHIP","Yes"]
[null,null,"","",null,null,"",null,null,"",null,null,"",null,null,"",null,null,null,null,null,null,null,null,null,"WHIP PLUS 3 ASSISTANCE (2888)","WHIP PLUS 3 ASSISTANCE                            ",2888,"WHIP","Yes"]
[null,null,"","",null,null,"",null,null,"",null,null,"",null,null,"",null,null,null,null,null,null,null,null,null,"DIS/WH2 2019 WFHURRINDEMP (2875)","DIS/WH2 2019 WFHURRINDEMP                         ",2875,"WHIP","Yes"]
[null,null,"","",null,null,"",null,null,"",null,null,"",null,null,"",null,null,null,null,null,null,null,null,null,{"$f":"TRIM(AA47)&\" (\"&AB47&\")\"","v":"0ITLE II GRANTS, FOOD FOR PEACE-UKRAINE (8409)"},"0ITLE II GRANTS, FOOD FOR PEACE-UKRAINE           ",8409,"N/A","No"]
[null,null,"","",null,null,"",null,null,"",null,null,"",null,null,"",null,null,null,null,null,null,null,null,null,"ACREAGE GRAZING PAYMENTS - OATS (5261)","ACREAGE GRAZING PAYMENTS - OATS                   ",5261,"N/A","No"]
[null,null,"","",null,null,"",null,null,"",null,null,"",null,null,"",null,null,null,null,null,null,null,null,null,"AFFILIATED PERSON PAYMENT REDUCTIONS (2831)","AFFILIATED PERSON PAYMENT REDUCTIONS              ",2831,"N/A","No"]
[null,null,"","",null,null,"",null,null,"",null,null,"",null,null,"",null,null,null,null,null,null,null,null,null,"AGRICULTURAL TRADE PROMOTION (2873)","AGRICULTURAL TRADE PROMOTION                      ",2873,"N/A","No"]
[null,null,"","",null,null,"",null,null,"",null,null,"",null,null,"",null,null,null,null,null,null,null,null,null,"AMA GRANT (6141)","AMA GRANT                                         ",6141,"N/A","No"]
[null,null,"","",null,null,"",null,null,"",null,null,"",null,null,"",null,null,null,null,null,null,null,null,null,"AMA ORGANIC COST SHARE - WILD CROPS (6140)","AMA ORGANIC COST SHARE - WILD CROPS               ",6140,"N/A","No"]
[null,null,"","",null,null,"",null,null,"",null,null,"",null,null,"",{"$f":"IF(B53=\"\",2,6)","v":2},null,null,null,null,null,null,null,null,"AMS SECT32A SPEC FRUIT & VEG DIRECT CITE (8328)","AMS SECT32A SPEC FRUIT & VEG DIRECT CITE          ",8328,"N/A","No"]
[null,null,"","",null,null,"",null,null,"",null,null,"",null,null,"",null,null,null,null,null,null,null,null,null,"AMS SECTION 32 DIRECT CITE (8330)","AMS SECTION 32 DIRECT CITE                        ",8330,"N/A","No"]
[null,null,"","",null,null,"",null,null,"",null,null,"",null,null,"",null,null,null,null,null,null,null,null,null,"AMS SECTION 32R DIRECT CITE (8329)","AMS SECTION 32R DIRECT CITE                       ",8329,"N/A","No"]
[null,null,"","",null,null,"",null,null,"",null,null,"",null,null,"",null,null,null,null,null,null,null,null,null,"AUDIT PAYMENT (6025)","AUDIT PAYMENT                                     ",6025,"N/A","No"]
[null,null,"","",null,null,"",null,null,"",null,null,"",null,null,"",null,null,null,null,null,null,null,null,null,"AUDIT READINESS (6047)","AUDIT READINESS                                   ",6047,"N/A","No"]
[null,null,"","",null,null,"",null,null,"",null,null,"",null,null,"",null,null,null,null,null,null,null,null,null,"AUTO CRP - COST SHARES (3306)","AUTO CRP - COST SHARES                            ",3306,"N/A","No"]
[null,null,"","",null,null,"",null,null,"",null,null,"",null,null,"",null,null,null,null,null,null,null,null,null,"BANKRUPT - FSFL (221)","BANKRUPT - FSFL                                   ",221,"N/A","No"]
[null,null,"","",null,null,"",null,null,"",null,null,"",null,null,"",null,null,null,null,null,null,null,null,null,"BCAP ANNUAL RENTAL WEB BASED (2767)","BCAP ANNUAL RENTAL WEB BASED                      ",2767,"N/A","No"]
[null,null,"","",null,null,"",null,null,"",null,null,"",null,null,"",null,null,null,null,null,null,null,null,null,"BCAP LIQUIDATED DAMAGES (7397)","BCAP LIQUIDATED DAMAGES                           ",7397,"N/A","No"]
[null,null,"","",null,null,"",null,null,"",null,null,"",null,null,"",null,null,null,null,null,null,null,null,null,"BCAP MATCHING PYMNT WEB-BASE APPLICATION (2766)","BCAP MATCHING PYMNT WEB-BASE APPLICATION          ",2766,"N/A","No"]
[null,null,"","",null,null,"",null,null,"",null,null,"",null,null,"",null,null,null,null,null,null,null,null,null,"BIOFUEL INFRASTRUCTURE PROGRAM (2854)","BIOFUEL INFRASTRUCTURE PROGRAM                    ",2854,"N/A","No"]
[null,null,"","",null,null,"",null,null,"",null,null,"",null,null,"",null,null,null,null,null,null,null,null,null,"BIP COLLECTION OF INTEREST (2855)","BIP COLLECTION OF INTEREST                        ",2855,"N/A","No"]
[null,null,"","",null,null,"",null,null,"",null,null,"",null,null,"",null,null,null,null,null,null,null,null,null,"CARES ACT (OLP) (4927)","CARES ACT (OLP)                                   ",4927,"N/A","No"]
[null,null,"","",null,null,"",null,null,"",null,null,"",null,null,"",null,null,null,null,null,null,null,null,null,"CAT RELIEF (2741)","CAT RELIEF                                        ",2741,"N/A","No"]
[null,null,"","",null,null,"",null,null,"",null,null,"",null,null,"",null,null,null,null,null,null,null,null,null,"CCC GRANT (6151)","CCC GRANT                                         ",6151,"N/A","No"]
[null,null,"","",null,null,"",null,null,"",null,null,"",null,null,"",null,null,null,null,null,null,null,null,null,"CCC ORGANIC COST SHARE - CROPS (6150)","CCC ORGANIC COST SHARE - CROPS                    ",6150,"N/A","No"]
[null,null,"","",null,null,"",null,null,"",null,null,"",null,null,"",null,null,null,null,null,null,null,null,null,"CCC ORGANIC COST SHARE FEES - HANDLING (6152)","CCC ORGANIC COST SHARE FEES - HANDLING            ",6152,"N/A","No"]
[null,null,"","",null,null,"",null,null,"",null,null,"",null,null,"",null,null,null,null,null,null,null,null,null,"CFAP3 - LTU (4923)","CFAP3 - LTU                                       ",4923,"N/A","No"]
[null,null,"","",null,null,"",null,null,"",null,null,"",null,null,"",null,null,null,null,null,null,null,null,null,"CFAP3 - TUP (4924)","CFAP3 - TUP                                       ",4924,"N/A","No"]
[null,null,"","",null,null,"",null,null,"",null,null,"",null,null,"",null,null,null,null,null,null,null,null,null,"CFAPCARES (4920)","CFAPCARES                                         ",4920,"N/A","No"]
[null,null,"","",null,null,"",null,null,"",null,null,"",null,null,"",null,null,null,null,null,null,null,null,null,"CFAPCARES2 (4921)","CFAPCARES2                                        ",4921,"N/A","No"]
[null,null,"","",null,null,"",null,null,"",null,null,"",null,null,"",{"$f":"IF(B74=\"\",2,8)","v":2},null,null,null,null,null,null,null,null,"CFAPCARES2.1 (4922)","CFAPCARES2.1                                      ",4922,"N/A","No"]
[null,null,"","",null,null,"",null,null,"",null,null,"",null,null,"",null,null,null,null,null,null,null,null,null,"CFAPCCA2 (4926)","CFAPCCA2                                          ",4926,"N/A","No"]
[null,null,{"$f":"_xlfn.IFNA(VLOOKUP(B76,$Z$14:$AE$300,4,FALSE),\"\")","v":""},{"$f":"_xlfn.IFNA(VLOOKUP(B76,$Z$14:$AE$300,5,FALSE),\"\")","v":""},null,null,{"$f":"IF(E76=\"\",\"\",MAX(0,E76-F76))","v":""},null,null,{"$f":"IF(H76=\"\",\"\",MAX(0,H76-I76))","v":""},null,null,{"$f":"IF(K76=\"\",\"\",MAX(0,K76-L76))","v":""},null,null,{"$f":"IF(N76=\"\",\"\",MAX(0,N76-O76))","v":""},null,null,null,null,null,null,null,null,null,"CFAPCCCCA (4925)","CFAPCCCCA                                         ",4925,"N/A","No"]
[null,null,"","",null,null,"",null,null,"",null,null,"",null,null,"",null,null,null,null,null,null,null,null,null,"CHESAPEAKE BAY INCENTIVE (3353)","CHESAPEAKE BAY INCENTIVE                          ",3353,"N/A","No"]
[null,null,"","",null,null,"",null,null,"",null,null,"",null,null,"",null,null,null,null,null,null,null,null,null,"CIB-FRMLY RBI WEBBASE W_MOBLIG (3112)","CIB-FRMLY RBI WEBBASE W_MOBLIG                    ",3112,"N/A","No"]
[null,null,"","",null,null,"",null,null,"",null,null,"",null,null,"",null,null,null,null,null,null,null,null,null,"CONTRACT-CCC FINANCIAL STATEMENT&ACCTING (6046)","CONTRACT-CCC FINANCIAL STATEMENT&ACCTING          ",6046,"N/A","No"]
[null,null,"","",null,null,"",null,null,"",null,null,"",null,null,"",null,null,null,null,null,null,null,null,null,"CORN INVENTORY SALE (6842)","CORN INVENTORY SALE                               ",6842,"N/A","No"]
[null,null,"","",null,null,"",null,null,"",null,null,"",null,null,"",null,null,null,null,null,null,null,null,null,"CORONAVIRUS AID, CCC CHARTER ACT (OLP) (4928)","CORONAVIRUS AID, CCC CHARTER ACT (OLP)            ",4928,"N/A","No"]
[null,null,"","",null,null,"",null,null,"",null,null,"",null,null,"",null,null,null,null,null,null,null,null,null,{"$f":"TRIM(AA82)&\" (\"&AB82&\")\"","v":"CORONAVIRUS AID, CCC CHARTER ACT (OLP) (4929)"},"CORONAVIRUS AID, CCC CHARTER ACT (OLP)            ",4929,"N/A","No"]
[null,null,"","",null,null,"",null,null,"",null,null,"",null,null,"",null,null,null,null,null,null,null,null,null,"COTTON LOAN FORFEITURE (2405)","COTTON LOAN FORFEITURE                            ",2405,"N/A","No"]
[null,null,"","",null,null,"",null,null,"",null,null,"",null,null,"",null,null,null,null,null,null,null,null,null,"CRP - CONTINUOUS PIP (3361)","CRP - CONTINUOUS PIP                              ",3361,"N/A","No"]
[null,null,"","",null,null,"",null,null,"",null,null,"",null,null,"",null,null,null,null,null,null,null,null,null,"CRP - EMERGENCY FORESTRY ANNUAL RENTAL (3180)","CRP - EMERGENCY FORESTRY ANNUAL RENTAL            ",3180,"N/A","No"]
[null,null,"","",null,null,"",null,null,"",null,null,"",null,null,"",null,null,null,null,null,null,null,null,null,"CRP - MISACTION/MISINFORMATION (3105)","CRP - MISACTION/MISINFORMATION                    ",3105,"N/A","No"]
[null,null,"","",null,null,"",null,null,"",null,null,"",null,null,"",null,null,null,null,null,null,null,null,null,"CRP - REDUCTION (6801)","CRP - REDUCTION                                   ",6801,"N/A","No"]
[null,null,"","",null,null,"",null,null,"",null,null,"",null,null,"",null,null,null,null,null,null,null,null,null,"CRP ARCHAEOLOGICAL SURVEYS (3335)","CRP ARCHAEOLOGICAL SURVEYS                        ",3335,"N/A","No"]
[null,null,"","",null,null,"",null,null,"",null,null,"",null,null,"",null,null,null,null,null,null,null,null,null,"CRP CLEAR30 MAINT PRGM (3360)","CRP CLEAR30 MAINT PRGM                            ",3360,"N/A","No"]
[null,null,"","",null,null,"",null,null,"",null,null,"",null,null,"",null,null,null,null,null,null,null,null,null,"CRP COMMON INCENTIVE (3324)","CRP COMMON INCENTIVE                              ",3324,"N/A","No"]
[null,null,"","",null,null,"",null,null,"",null,null,"",null,null,"",null,null,null,null,null,null,null,null,null,"CRP COST-SHARE WEB-BASED - COF (3307)","CRP COST-SHARE WEB-BASED - COF                    ",3307,"N/A","No"]
[null,null,"","",null,null,"",null,null,"",null,null,"",null,null,"",null,null,null,null,null,null,null,null,null,"CRP ENVIRON IMPACT STATEMENT TECH ASSIST (3185)","CRP ENVIRON IMPACT STATEMENT TECH ASSIST          ",3185,"N/A","No"]
[null,null,"","",null,null,"",null,null,"",null,null,"",null,null,"",null,null,null,null,null,null,null,null,null,"CRP FOREST INVENTORY PILOT PROGRAM (3356)","CRP FOREST INVENTORY PILOT PROGRAM                ",3356,"N/A","No"]
[null,null,"","",null,null,"",null,null,"",null,null,"",null,null,"",null,null,null,null,null,null,null,null,null,"CRP FOREST MANAGEMENT INCENTIVE (3358)","CRP FOREST MANAGEMENT INCENTIVE                   ",3358,"N/A","No"]
[null,null,"","",null,null,"",null,null,"",null,null,"",null,null,"",{"$f":"IF(B95=\"\",2,10)","v":2},null,null,null,null,null,null,null,null,"CRP HONEY BEE INCENTIVE PAYMNTS (3349)","CRP HONEY BEE INCENTIVE PAYMNTS                   ",3349,"N/A","No"]
[null,null,"","",null,null,"",null,null,"",null,null,"",null,null,"",null,null,null,null,null,null,null,null,null,"CRP HONEY BEE TECHNICAL ASSISTANCE (3350)","CRP HONEY BEE TECHNICAL ASSISTANCE                ",3350,"N/A","No"]
[null,null,"","",null,null,"",null,null,"",null,null,"",null,null,"",null,null,null,null,null,null,null,null,null,"CRP INCENTIVE - WETLAND RESTORATION (3312)","CRP INCENTIVE - WETLAND RESTORATION               ",3312,"N/A","No"]
[null,null,"","",null,null,"",null,null,"",null,null,"",null,null,"",null,null,null,null,null,null,null,null,null,"CRP OUTREACH AND TECHNICAL ASSISTANCE (3331)","CRP OUTREACH AND TECHNICAL ASSISTANCE             ",3331,"N/A","No"]
[null,null,"","",null,null,"",null,null,"",null,null,"",null,null,"",null,null,null,null,null,null,null,null,null,"CRP PAYMENT - ANNUAL RENTAL (3132)","CRP PAYMENT - ANNUAL RENTAL                       ",3132,"N/A","No"]
[null,null,"","",null,null,"",null,null,"",null,null,"",null,null,"",null,null,null,null,null,null,null,null,null,"CRP PRACTICE INCENTIVES PAYMENT (3359)","CRP PRACTICE INCENTIVES PAYMENT                   ",3359,"N/A","No"]
[null,null,"","",null,null,"",null,null,"",null,null,"",null,null,"",null,null,null,null,null,null,null,null,null,"CRP TRANSITION INCENTIVE (3329)","CRP TRANSITION INCENTIVE                          ",3329,"N/A","No"]
[null,null,"","",null,null,"",null,null,"",null,null,"",null,null,"",null,null,null,null,null,null,null,null,null,"CRP TRANSITION INCENTIVES PRGM (3338)","CRP TRANSITION INCENTIVES PRGM                    ",3338,"N/A","No"]
[null,null,"","",null,null,"",null,null,"",null,null,"",null,null,"",null,null,null,null,null,null,null,null,null,"DAIRY MARGIN COVERAGE ADM FEE (8051)","DAIRY MARGIN COVERAGE ADM FEE                     ",8051,"N/A","No"]
[null,null,"","",null,null,"",null,null,"",null,null,"",null,null,"",null,null,null,null,null,null,null,null,null,"DAIRY MARGIN COVERAGE PREM FEE (8052)","DAIRY MARGIN COVERAGE PREM FEE                    ",8052,"N/A","No"]
[null,null,"","",null,null,"",null,null,"",null,null,"",null,null,"",null,null,null,null,null,null,null,null,null,"DAIRY MARGIN COVERAGE PREMIUM REFUND (8054)","DAIRY MARGIN COVERAGE PREMIUM REFUND              ",8054,"N/A","No"]
[null,null,"","",null,null,"",null,null,"",null,null,"",null,null,"",null,null,null,null,null,null,null,null,null,"DAIRY MARGIN COVERAGE PROGRAM (8053)","DAIRY MARGIN COVERAGE PROGRAM                     ",8053,"N/A","No"]
[null,null,"","",null,null,"",null,null,"",null,null,"",null,null,"",null,null,null,null,null,null,null,null,null,"DAIRY MARGIN COVERAGE-PREMIUM REPAYMENTS (8050)","DAIRY MARGIN COVERAGE-PREMIUM REPAYMENTS          ",8050,"N/A","No"]
[null,null,"","",null,null,"",null,null,"",null,null,"",null,null,"",null,null,null,null,null,null,null,null,null,"DIPP WEB-BASED (7902)","DIPP WEB-BASED                                    ",7902,"N/A","No"]
[null,null,"","",null,null,"",null,null,"",null,null,"",null,null,"",null,null,null,null,null,null,null,null,null,"DIS/WH2 2019 WFHURRINDEMP (2875)","DIS/WH2 2019 WFHURRINDEMP                         ",2875,"WHIP","Yes"]
[null,null,"","",null,null,"",null,null,"",null,null,"",null,null,"",null,null,null,null,null,null,null,null,null,"DMC PRGM-SUPLMNTL PREMIUM FEE (8056)","DMC PRGM-SUPLMNTL PREMIUM FEE                     ",8056,"N/A","No"]
[null,null,"","",null,null,"",null,null,"",null,null,"",null,null,"",null,null,null,null,null,null,null,null,null,"DMC PRGM-SUPPLEMENTAL (8055)","DMC PRGM-SUPPLEMENTAL                             ",8055,"N/A","No"]
[null,null,"","",null,null,"",null,null,"",null,null,"",null,null,"",null,null,null,null,null,null,null,null,null,"ECONOMIC ADJUSTMENT ASSIST-UPLAND COTTON (1225)","ECONOMIC ADJUSTMENT ASSIST-UPLAND COTTON          ",1225,"N/A","No"]
[null,null,"","",null,null,"",null,null,"",null,null,"",null,null,"",null,null,null,null,null,null,null,null,null,"ELDP PRICE SUPPORT SYSTEM SUPPORT (6053)","ELDP PRICE SUPPORT SYSTEM SUPPORT                 ",6053,"N/A","No"]
[null,null,"","",null,null,"",null,null,"",null,null,"",null,null,"",null,null,null,null,null,null,null,null,null,"EMERGENCY LIVESTOCK RELIEF PROGRAM (2911)","EMERGENCY LIVESTOCK RELIEF PROGRAM                ",2911,"N/A","No"]
[null,null,"","",null,null,"",null,null,"",null,null,"",null,null,"",null,null,null,null,null,null,null,null,null,"EMERGENCY RELIEF PRGM 2 (2438)","EMERGENCY RELIEF PRGM 2                           ",2438,"N/A","No"]
[null,null,"","",null,null,"",null,null,"",null,null,"",null,null,"",{"$f":"IF(B116=\"\",2,12)","v":2},null,null,null,null,null,null,null,null,"EMERGENCY RELIEF PRGM 2 (2439)","EMERGENCY RELIEF PRGM 2                           ",2439,"N/A","No"]
[null,null,"","",null,null,"",null,null,"",null,null,"",null,null,"",null,null,null,null,null,null,null,null,null,"EMERGING MARKETS PROGRAM (7847)","EMERGING MARKETS PROGRAM                          ",7847,"N/A","No"]
[null,null,"","",null,null,"",null,null,"",null,null,"",null,null,"",null,null,null,null,null,null,null,null,null,"EMGNCY RELIEF PRGM-NONSPECIALITY CROPS (2437)","EMGNCY RELIEF PRGM-NONSPECIALITY CROPS            ",2437,"N/A","No"]
[null,null,"","",null,null,"",null,null,"",null,null,"",null,null,"",null,null,null,null,null,null,null,null,null,"EMGNCY RELIEF PROGRAM-SPECIALITY CROPS (2436)","EMGNCY RELIEF PROGRAM-SPECIALITY CROPS            ",2436,"N/A","No"]
[null,null,"","",null,null,"",null,null,"",null,null,"",null,null,"",null,null,null,null,null,null,null,null,null,"ENVIRONMENTAL REVIEW ASSESSMENT TRAIN (6032)","ENVIRONMENTAL REVIEW ASSESSMENT TRAIN             ",6032,"N/A","No"]
[null,null,"","",null,null,"",null,null,"",null,null,"",null,null,"",null,null,null,null,null,null,null,null,null,"EXPORT MARKET DEVELOPMENT PAYMENT (7846)","EXPORT MARKET DEVELOPMENT PAYMENT                 ",7846,"N/A","No"]
[null,null,"","",null,null,"",null,null,"",null,null,"",null,null,"",null,null,null,null,null,null,null,null,null,"FACILITY LOAN - SUGAR STORAGE (240)","FACILITY LOAN - SUGAR STORAGE                     ",240,"N/A","No"]
[null,null,"","",null,null,"",null,null,"",null,null,"",null,null,"",null,null,null,null,null,null,null,null,null,"FACILITY LOAN LIQUID COLLATERAL-FARM STG (214)","FACILITY LOAN LIQUID COLLATERAL-FARM STG          ",214,"N/A","No"]
[null,null,"","",null,null,"",null,null,"",null,null,"",null,null,"",null,null,null,null,null,null,null,null,null,"FACILITY LOAN REC'DNG FEE - FARM STORAGE (216)","FACILITY LOAN REC'DNG FEE - FARM STORAGE          ",216,"N/A","No"]
[null,null,"","",null,null,"",null,null,"",null,null,"",null,null,"",null,null,null,null,null,null,null,null,null,"FACILITY LOAN RECOVERABLE COSTS-FARM STG (215)","FACILITY LOAN RECOVERABLE COSTS-FARM STG          ",215,"N/A","No"]
[null,null,"","",null,null,"",null,null,"",null,null,"",null,null,"",null,null,null,null,null,null,null,null,null,"FARM APP SERV TECH COTTON MGMT SYSTEMS (6051)","FARM APP SERV TECH COTTON MGMT SYSTEMS            ",6051,"N/A","No"]
[null,null,"","",null,null,"",null,null,"",null,null,"",null,null,"",null,null,null,null,null,null,null,null,null,"FARM RANCHERS PROGRAM (2887)","FARM RANCHERS PROGRAM                             ",2887,"N/A","No"]
[null,null,"","",null,null,"",null,null,"",null,null,"",null,null,"",null,null,null,null,null,null,null,null,null,"FARM RANCHERS PROGRAM (2921)","FARM RANCHERS PROGRAM                             ",2921,"N/A","No"]
[null,null,"","",null,null,"",null,null,"",null,null,"",null,null,"",null,null,null,null,null,null,null,null,null,"FARM RANCHERS PROGRAM (2922)","FARM RANCHERS PROGRAM                             ",2922,"N/A","No"]
[null,null,"","",null,null,"",null,null,"",null,null,"",null,null,"",null,null,null,null,null,null,null,null,null,"FARM STG FACILITY MICRO LN RECOVER COST (236)","FARM STG FACILITY MICRO LN RECOVER COST           ",236,"N/A","No"]
[null,null,"","",null,null,"",null,null,"",null,null,"",null,null,"",null,null,null,null,null,null,null,null,null,"FARM STG FACILITY MICRO LN RECOVER COST (237)","FARM STG FACILITY MICRO LN RECOVER COST           ",237,"N/A","No"]
[null,null,"","",null,null,"",null,null,"",null,null,"",null,null,"",null,null,null,null,null,null,null,null,null,"FARM STG MICRO LN BANKRUPTCY REPAYMNT (239)","FARM STG MICRO LN BANKRUPTCY REPAYMNT             ",239,"N/A","No"]
[null,null,"","",null,null,"",null,null,"",null,null,"",null,null,"",null,null,null,null,null,null,null,null,null,"FARM STG MICRO LOAN IPAC RECLAIM CREDIT (263)","FARM STG MICRO LOAN IPAC RECLAIM CREDIT           ",263,"N/A","No"]
[null,null,"","",null,null,"",null,null,"",null,null,"",null,null,"",null,null,null,null,null,null,null,null,null,"FARM STGE FACILITY MICRO LN REC-FILE FEE (238)","FARM STGE FACILITY MICRO LN REC-FILE FEE          ",238,"N/A","No"]
[null,null,"","",null,null,"",null,null,"",null,null,"",null,null,"",null,null,null,null,null,null,null,null,null,"FARM STGE FACLTY LN RCVRBL COSTWEBSYSDLS (268)","FARM STGE FACLTY LN RCVRBL COSTWEBSYSDLS          ",268,"N/A","No"]
[null,null,"","",null,null,"",null,null,"",null,null,"",null,null,"",null,null,null,null,null,null,null,null,null,"FARM STGE FACLTY LN RCVRBL COSTWEBSYSDLS (269)","FARM STGE FACLTY LN RCVRBL COSTWEBSYSDLS          ",269,"N/A","No"]
[null,null,"","",null,null,"",null,null,"",null,null,"",null,null,"",{"$f":"IF(B137=\"\",2,14)","v":2},null,null,null,null,null,null,null,null,"FARM STGE MICRLN FILE/RCRD FEE WEBSYSDLS (267)","FARM STGE MICRLN FILE/RCRD FEE WEBSYSDLS          ",267,"N/A","No"]
[null,null,"","",null,null,"",null,null,"",null,null,"",null,null,"",null,null,null,null,null,null,null,null,null,"FARM STORAGE FACILITY APPLICATION FEE (220)","FARM STORAGE FACILITY APPLICATION FEE             ",220,"N/A","No"]
[null,null,"","",null,null,"",null,null,"",null,null,"",null,null,"",null,null,null,null,null,null,null,null,null,"FARM STORAGE FACILITY LOAN - DEFAULT (229)","FARM STORAGE FACILITY LOAN - DEFAULT              ",229,"N/A","No"]
[null,null,{"$f":"_xlfn.IFNA(VLOOKUP(B140,$Z$14:$AE$300,4,FALSE),\"\")","v":""},{"$f":"_xlfn.IFNA(VLOOKUP(B140,$Z$14:$AE$300,5,FALSE),\"\")","v":""},null,null,{"$f":"IF(E140=\"\",\"\",MAX(0,E140-F140))","v":""},null,null,{"$f":"IF(H140=\"\",\"\",MAX(0,H140-I140))","v":""},null,null,{"$f":"IF(K140=\"\",\"\",MAX(0,K140-L140))","v":""},null,null,{"$f":"IF(N140=\"\",\"\",MAX(0,N140-O140))","v":""},null,null,null,null,null,null,null,null,null,"FARM STORAGE FACILITY LOAN PAYMENTS (210)","FARM STORAGE FACILITY LOAN PAYMENTS               ",210,"N/A","No"]
[null,null,"","",null,null,"",null,null,"",null,null,"",null,null,"",null,null,null,null,null,null,null,null,null,"FARM STORAGE FACILITY LOAN TOP REFUNDS (225)","FARM STORAGE FACILITY LOAN TOP REFUNDS            ",225,"N/A","No"]
[null,null,"","",null,null,"",null,null,"",null,null,"",null,null,"",null,null,null,null,null,null,null,null,null,"FARM STORAGE FACILITY MICRO LOAN (209)","FARM STORAGE FACILITY MICRO LOAN                  ",209,"N/A","No"]
[null,null,"","",null,null,"",null,null,"",null,null,"",null,null,"",null,null,null,null,null,null,null,null,null,"FARM STORAGE MICRO LN APPLICATION REFNDS (264)","FARM STORAGE MICRO LN APPLICATION REFNDS          ",264,"N/A","No"]
[null,null,"","",null,null,"",null,null,"",null,null,"",null,null,"",null,null,null,null,null,null,null,null,null,"FARM STORAGE MICRO LOAN DEFAULT (262)","FARM STORAGE MICRO LOAN DEFAULT                   ",262,"N/A","No"]
[null,null,"","",null,null,"",null,null,"",null,null,"",null,null,"",null,null,null,null,null,null,null,null,null,"FARM STORAGE MICRO LOAN TOP REFUNDS (261)","FARM STORAGE MICRO LOAN TOP REFUNDS               ",261,"N/A","No"]
[null,null,"","",null,null,"",null,null,"",null,null,"",null,null,"",null,null,null,null,null,null,null,null,null,{"$f":"TRIM(AA146)&\" (\"&AB146&\")\"","v":"FARM STRG FCLTY LN FIL/REC FEE WEBSYSDLS (270)"},"FARM STRG FCLTY LN FIL/REC FEE WEBSYSDLS          ",270,"N/A","No"]
[null,null,"","",null,null,"",null,null,"",null,null,"",null,null,"",null,null,null,null,null,null,null,null,null,"FARM STRGE FACILITY LN BANKRUPTCY-RPYMNT (224)","FARM STRGE FACILITY LN BANKRUPTCY-RPYMNT          ",224,"N/A","No"]
[null,null,"","",null,null,"",null,null,"",null,null,"",null,null,"",null,null,null,null,null,null,null,null,null,"FARM STRGE FACILITY LN RECVERBL COST REC (228)","FARM STRGE FACILITY LN RECVERBL COST REC          ",228,"N/A","No"]
[null,null,"","",null,null,"",null,null,"",null,null,"",null,null,"",null,null,null,null,null,null,null,null,null,"FARM STRGE FACILITY LN-IPAC RECLMTN CR (233)","FARM STRGE FACILITY LN-IPAC RECLMTN CR            ",233,"N/A","No"]
[null,null,"","",null,null,"",null,null,"",null,null,"",null,null,"",null,null,null,null,null,null,null,null,null,"FARM STRGE MICRO LN EXP RELATED TO SALES (260)","FARM STRGE MICRO LN EXP RELATED TO SALES          ",260,"N/A","No"]
[null,null,"","",null,null,"",null,null,"",null,null,"",null,null,"",null,null,null,null,null,null,null,null,null,"FARM STRGE MICRO LN RCVRBL COSTWEBSYMREC (265)","FARM STRGE MICRO LN RCVRBL COSTWEBSYMREC          ",265,"N/A","No"]
[null,null,"","",null,null,"",null,null,"",null,null,"",null,null,"",null,null,null,null,null,null,null,null,null,"FARM STRGE MICRO LN RCVRBL COSTWEBSYSDLS (266)","FARM STRGE MICRO LN RCVRBL COSTWEBSYSDLS          ",266,"N/A","No"]
[null,null,"","",null,null,"",null,null,"",null,null,"",null,null,"",null,null,null,null,null,null,null,null,null,"FCC/OTN TRANSPORTATION COSTS FY19 (8514)","FCC/OTN TRANSPORTATION COSTS FY19                 ",8514,"N/A","No"]
[null,null,"","",null,null,"",null,null,"",null,null,"",null,null,"",null,null,null,null,null,null,null,null,null,"FFPT2GARP - DEFATTED SOY FLOUR (8405)","FFPT2GARP - DEFATTED SOY FLOUR                    ",8405,"N/A","No"]
[null,null,"","",null,null,"",null,null,"",null,null,"",null,null,"",null,null,null,null,null,null,null,null,null,"FLP DIRECT ARPA LOAN REPAYMENT-NON-AUTO (8280)","FLP DIRECT ARPA LOAN REPAYMENT-NON-AUTO           ",8280,"N/A","No"]
[null,null,"","",null,null,"",null,null,"",null,null,"",null,null,"",null,null,null,null,null,null,null,null,null,"FLP GUARANTEED ARPA LOAN RPYMNT-NON-AUTO (8284)","FLP GUARANTEED ARPA LOAN RPYMNT-NON-AUTO          ",8284,"N/A","No"]
[null,null,"","",null,null,"",null,null,"",null,null,"",null,null,"",null,null,null,null,null,null,null,null,null,"FNS 4A FOOD STAMPS (8390)","FNS 4A FOOD STAMPS                                ",8390,"N/A","No"]
[null,null,"","",null,null,"",null,null,"",null,null,"",null,null,"",{"$f":"IF(B158=\"\",2,16)","v":2},null,null,null,null,null,null,null,null,"FNS 4A FOOD STAMPS (8399)","FNS 4A FOOD STAMPS                                ",8399,"N/A","No"]
[null,null,"","",null,null,"",null,null,"",null,null,"",null,null,"",null,null,null,null,null,null,null,null,null,"FNS 4A FOOD STAMPS (8517)","FNS 4A FOOD STAMPS                                ",8517,"N/A","No"]
[null,null,"","",null,null,"",null,null,"",null,null,"",null,null,"",null,null,null,null,null,null,null,null,null,"FNS SECTION 104 FOOD STAMPS (8392)","FNS SECTION 104 FOOD STAMPS                       ",8392,"N/A","No"]
[null,null,"","",null,null,"",null,null,"",null,null,"",null,null,"",null,null,null,null,null,null,null,null,null,"FNS SECTION 104 TEFAP (8511)","FNS SECTION 104 TEFAP                             ",8511,"N/A","No"]
[null,null,"","",null,null,"",null,null,"",null,null,"",null,null,"",null,null,null,null,null,null,null,null,null,"FNS SECTION 104 TEFAP ADMIN (8512)","FNS SECTION 104 TEFAP ADMIN                       ",8512,"N/A","No"]
[null,null,"","",null,null,"",null,null,"",null,null,"",null,null,"",null,null,null,null,null,null,null,null,null,"FNS SECTION 104-ADMINISTRATION (8396)","FNS SECTION 104-ADMINISTRATION                    ",8396,"N/A","No"]
[null,null,"","",null,null,"",null,null,"",null,null,"",null,null,"",null,null,null,null,null,null,null,null,null,"FNS SECTION 104-TEFAP ADMIN (8520)","FNS SECTION 104-TEFAP ADMIN                       ",8520,"N/A","No"]
[null,null,"","",null,null,"",null,null,"",null,null,"",null,null,"",null,null,null,null,null,null,null,null,null,"FNS SECTION 17 CAP (8388)","FNS SECTION 17 CAP                                ",8388,"N/A","No"]
[null,null,"","",null,null,"",null,null,"",null,null,"",null,null,"",null,null,null,null,null,null,null,null,null,"FNS SECTION 17 CAP (8397)","FNS SECTION 17 CAP                                ",8397,"N/A","No"]
[null,null,"","",null,null,"",null,null,"",null,null,"",null,null,"",null,null,null,null,null,null,null,null,null,"FNS SECTION 17C (8515)","FNS SECTION 17C                                   ",8515,"N/A","No"]
[null,null,"","",null,null,"",null,null,"",null,null,"",null,null,"",null,null,null,null,null,null,null,null,null,"FNS SECTION 311 (8389)","FNS SECTION 311                                   ",8389,"N/A","No"]
[null,null,"","",null,null,"",null,null,"",null,null,"",null,null,"",null,null,null,null,null,null,null,null,null,"FNS SECTION 311 (8398)","FNS SECTION 311                                   ",8398,"N/A","No"]
[null,null,"","",null,null,"",null,null,"",null,null,"",null,null,"",null,null,null,null,null,null,null,null,null,"FNS SECTION 311 (8516)","FNS SECTION 311                                   ",8516,"N/A","No"]
[null,null,"","",null,null,"",null,null,"",null,null,"",null,null,"",null,null,null,null,null,null,null,null,null,"FNS SECTION 4A DA (8391)","FNS SECTION 4A DA                                 ",8391,"N/A","No"]
[null,null,"","",null,null,"",null,null,"",null,null,"",null,null,"",null,null,null,null,null,null,null,null,null,"FNS SECTION 4A DA (8510)","FNS SECTION 4A DA                                 ",8510,"N/A","No"]
[null,null,"","",null,null,"",null,null,"",null,null,"",null,null,"",null,null,null,null,null,null,null,null,null,"FNS SECTION 6E (8393)","FNS SECTION 6E                                    ",8393,"N/A","No"]
[null,null,"","",null,null,"",null,null,"",null,null,"",null,null,"",null,null,null,null,null,null,null,null,null,"FNS SECTION 6E (8513)","FNS SECTION 6E                                    ",8513,"N/A","No"]
[null,null,"","",null,null,"",null,null,"",null,null,"",null,null,"",null,null,null,null,null,null,null,null,null,"FNS SECTION 6E (8521)","FNS SECTION 6E                                    ",8521,"N/A","No"]
[null,null,"","",null,null,"",null,null,"",null,null,"",null,null,"",null,null,null,null,null,null,null,null,null,"FNS SECTION104 TEFAP (8519)","FNS SECTION104 TEFAP                              ",8519,"N/A","No"]
[null,null,"","",null,null,"",null,null,"",null,null,"",null,null,"",null,null,null,null,null,null,null,null,null,"FOOD FOR EDUCATION 12X2903 DIRECT CITE (8349)","FOOD FOR EDUCATION 12X2903 DIRECT CITE            ",8349,"N/A","No"]
[null,null,"","",null,null,"",null,null,"",null,null,"",null,null,"",null,null,null,null,null,null,null,null,null,"FOOD FOR EDUCATION PROGRAM (8379)","FOOD FOR EDUCATION PROGRAM                        ",8379,"N/A","No"]
[null,null,"","",null,null,"",null,null,"",null,null,"",null,null,"",{"$f":"IF(B179=\"\",2,18)","v":2},null,null,null,null,null,null,null,null,"FOOD FOR PEACE TITLE II - VEGETABLE OIL (8305)","FOOD FOR PEACE TITLE II - VEGETABLE OIL           ",8305,"N/A","No"]
[null,null,"","",null,null,"",null,null,"",null,null,"",null,null,"",null,null,null,null,null,null,null,null,null,"FOOD FOR PROGRESS - ADMINISTRATION (8358)","FOOD FOR PROGRESS - ADMINISTRATION                ",8358,"N/A","No"]
[null,null,"","",null,null,"",null,null,"",null,null,"",null,null,"",null,null,null,null,null,null,null,null,null,"FOOD FOR PROGRESS - ADMINISTRATIVE COSTS (8378)","FOOD FOR PROGRESS - ADMINISTRATIVE COSTS          ",8378,"N/A","No"]
[null,null,"","",null,null,"",null,null,"",null,null,"",null,null,"",null,null,null,null,null,null,null,null,null,"FOOD FOR PROGRESS - POTATOES, DEHYDRATED (8355)","FOOD FOR PROGRESS - POTATOES, DEHYDRATED          ",8355,"N/A","No"]
[null,null,"","",null,null,"",null,null,"",null,null,"",null,null,"",null,null,null,null,null,null,null,null,null,"FOOD FOR PROGRESS - TRANSPORTATION (8356)","FOOD FOR PROGRESS - TRANSPORTATION                ",8356,"N/A","No"]
[null,null,"","",null,null,"",null,null,"",null,null,"",null,null,"",null,null,null,null,null,null,null,null,null,"FOOD PURCHASE AND DISTRIBUTION (2871)","FOOD PURCHASE AND DISTRIBUTION                    ",2871,"N/A","No"]
[null,null,"","",null,null,"",null,null,"",null,null,"",null,null,"",null,null,null,null,null,null,null,null,null,"FOOD SAFETY CERTFCTN-SPECIALITY CROPS (8293)","FOOD SAFETY CERTFCTN-SPECIALITY CROPS             ",8293,"N/A","No"]
[null,null,"","",null,null,"",null,null,"",null,null,"",null,null,"",null,null,null,null,null,null,null,null,null,"FOOD SEC COMM RSRV APPROP (8304)","FOOD SEC COMM RSRV APPROP                         ",8304,"N/A","No"]
[null,null,"","",null,null,"",null,null,"",null,null,"",null,null,"",null,null,null,null,null,null,null,null,null,"FOOD SECURITY RESERVE - WHEAT SOY BLEND (8306)","FOOD SECURITY RESERVE - WHEAT SOY BLEND           ",8306,"N/A","No"]
[null,null,"","",null,null,"",null,null,"",null,null,"",null,null,"",null,null,null,null,null,null,null,null,null,"FOOD SECURITY RESERVE STORAGE (8354)","FOOD SECURITY RESERVE STORAGE                     ",8354,"N/A","No"]
[null,null,"","",null,null,"",null,null,"",null,null,"",null,null,"",null,null,null,null,null,null,null,null,null,"FORFEITURE-COMMODITY (1210)","FORFEITURE-COMMODITY                              ",1210,"N/A","No"]
[null,null,"","",null,null,"",null,null,"",null,null,"",null,null,"",null,null,null,null,null,null,null,null,null,"FSFL ARPA LOAN REPAYMENT-NON-AUTOMATED (8282)","FSFL ARPA LOAN REPAYMENT-NON-AUTOMATED            ",8282,"N/A","No"]
[null,null,"","",null,null,"",null,null,"",null,null,"",null,null,"",null,null,null,null,null,null,null,null,null,"FSFL NEGATIVE SUBSIDY FINANCING FUND (226)","FSFL NEGATIVE SUBSIDY FINANCING FUND              ",226,"N/A","No"]
[null,null,"","",null,null,"",null,null,"",null,null,"",null,null,"",null,null,null,null,null,null,null,null,null,"FSML NEGATIVE SUBSIDY FINANCING FUND (235)","FSML NEGATIVE SUBSIDY FINANCING FUND              ",235,"N/A","No"]
[null,null,"","",null,null,"",null,null,"",null,null,"",null,null,"",null,null,null,null,null,null,null,null,null,"GENERAL SALES MANAGER CONTRACT SUPPORT (2859)","GENERAL SALES MANAGER CONTRACT SUPPORT            ",2859,"N/A","No"]
[null,null,"","",null,null,"",null,null,"",null,null,"",null,null,"",null,null,null,null,null,null,null,null,null,"GEOGRAPHIC DISADVANTAGED PROGRAM (2865)","GEOGRAPHIC DISADVANTAGED PROGRAM                  ",2865,"N/A","No"]
[null,null,"","",null,null,"",null,null,"",null,null,"",null,null,"",null,null,null,null,null,null,null,null,null,"GEOGRAPHIC DISADVANTAGED PROGRAM (2874)","GEOGRAPHIC DISADVANTAGED PROGRAM                  ",2874,"N/A","No"]
[null,null,"","",null,null,"",null,null,"",null,null,"",null,null,"",null,null,null,null,null,null,null,null,null,"GIS SUPPORT AND MODERNIZATION (6052)","GIS SUPPORT AND MODERNIZATION                     ",6052,"N/A","No"]
[null,null,"","",null,null,"",null,null,"",null,null,"",null,null,"",null,null,null,null,null,null,null,null,null,"GRADUATED PAYMENT REDUCTION (1120)","GRADUATED PAYMENT REDUCTION                       ",1120,"N/A","No"]
[null,null,"","",null,null,"",null,null,"",null,null,"",null,null,"",null,null,null,null,null,null,null,null,null,"GRAZE OUT THRU WEB BASED ELDP (5262)","GRAZE OUT THRU WEB BASED ELDP                     ",5262,"N/A","No"]
[null,null,"","",null,null,"",null,null,"",null,null,"",null,null,"",null,null,null,null,null,null,null,null,null,"HAY GRAZING (6390)","HAY GRAZING                                       ",6390,"N/A","No"]
[null,null,"","",null,null,"",null,null,"",null,null,"",null,null,"",{"$f":"IF(B200=\"\",2,20)","v":2},null,null,null,null,null,null,null,null,"HAY GRAZING, MANAGED (6395)","HAY GRAZING, MANAGED                              ",6395,"N/A","No"]
[null,null,"","",null,null,"",null,null,"",null,null,"",null,null,"",null,null,null,null,null,null,null,null,null,"HAZ WASTE REM MISSOURI DEPT NATURAL RES (7668)","HAZ WASTE REM MISSOURI DEPT NATURAL RES           ",7668,"N/A","No"]
[null,null,"","",null,null,"",null,null,"",null,null,"",null,null,"",null,null,null,null,null,null,null,null,null,"HAZ WASTE REM NEBRASKA DEPT ENVIR QUAL (7669)","HAZ WASTE REM NEBRASKA DEPT ENVIR QUAL            ",7669,"N/A","No"]
[null,null,"","",null,null,"",null,null,"",null,null,"",null,null,"",null,null,null,null,null,null,null,null,null,"HAZ WASTE REM-KANSAS DEPT NATURAL RES (7667)","HAZ WASTE REM-KANSAS DEPT NATURAL RES             ",7667,"N/A","No"]
[null,null,{"$f":"_xlfn.IFNA(VLOOKUP(B204,$Z$14:$AE$300,4,FALSE),\"\")","v":""},{"$f":"_xlfn.IFNA(VLOOKUP(B204,$Z$14:$AE$300,5,FALSE),\"\")","v":""},null,null,{"$f":"IF(E204=\"\",\"\",MAX(0,E204-F204))","v":""},null,null,{"$f":"IF(H204=\"\",\"\",MAX(0,H204-I204))","v":""},null,null,{"$f":"IF(K204=\"\",\"\",MAX(0,K204-L204))","v":""},null,null,{"$f":"IF(N204=\"\",\"\",MAX(0,N204-O204))","v":""},null,null,null,null,null,null,null,null,null,"HAZARDOUS WASTE JUDGEMENT INTEREST (7671)","HAZARDOUS WASTE JUDGEMENT INTEREST                ",7671,"N/A","No"]
[null,null,"","",null,null,"",null,null,"",null,null,"",null,null,"",null,null,null,null,null,null,null,null,null,"HAZARDOUS WASTE JUDGEMENT SETTLEMENT (7670)","HAZARDOUS WASTE JUDGEMENT SETTLEMENT              ",7670,"N/A","No"]
[null,null,"","",null,null,"",null,null,"",null,null,"",null,null,"",null,null,null,null,null,null,null,null,null,"HAZARDOUS WASTE TREATMENT SYSTEMS (7662)","HAZARDOUS WASTE TREATMENT SYSTEMS                 ",7662,"N/A","No"]
[null,null,"","",null,null,"",null,null,"",null,null,"",null,null,"",null,null,null,null,null,null,null,null,null,"HISTORIC PRESERVATION COMPLIANCE (6033)","HISTORIC PRESERVATION COMPLIANCE                  ",6033,"N/A","No"]
[null,null,"","",null,null,"",null,null,"",null,null,"",null,null,"",null,null,null,null,null,null,null,null,null,"INDEMNITY PAYMENT - DAIRY (7900)","INDEMNITY PAYMENT - DAIRY                         ",7900,"N/A","No"]
[null,null,"","",null,null,"",null,null,"",null,null,"",null,null,"",null,null,null,null,null,null,null,null,null,"INTEREST - COTTON, SPECIAL LOAN (9400)","INTEREST - COTTON, SPECIAL LOAN                   ",9400,"N/A","No"]
[null,null,"","",null,null,"",null,null,"",null,null,"",null,null,"",null,null,null,null,null,null,null,null,null,{"$f":"TRIM(AA210)&\" (\"&AB210&\")\"","v":"INTERNATIONAL FOOD AID CONFERENCE (7864)"},"INTERNATIONAL FOOD AID CONFERENCE                 ",7864,"N/A","No"]
[null,null,"","",null,null,"",null,null,"",null,null,"",null,null,"",null,null,null,null,null,null,null,null,null,"LDP ACRS WIRES (5214)","LDP ACRS WIRES                                    ",5214,"N/A","No"]
[null,null,"","",null,null,"",null,null,"",null,null,"",null,null,"",null,null,null,null,null,null,null,null,null,"LIQUIDATED DAMAGES - CRP (7300)","LIQUIDATED DAMAGES - CRP                          ",7300,"N/A","No"]
[null,null,"","",null,null,"",null,null,"",null,null,"",null,null,"",null,null,null,null,null,null,null,null,null,"LIQUIDATED DAMAGES - NON-INSURED ASSIST (6995)","LIQUIDATED DAMAGES - NON-INSURED ASSIST           ",6995,"N/A","No"]
[null,null,"","",null,null,"",null,null,"",null,null,"",null,null,"",null,null,null,null,null,null,null,null,null,"LIVESTOCK FORAGE PROGRAM (2835)","LIVESTOCK FORAGE PROGRAM                          ",2835,"N/A","No"]
[null,null,"","",null,null,"",null,null,"",null,null,"",null,null,"",null,null,null,null,null,null,null,null,null,"LIVESTOCK INDEMINITY PAYMENTS PROGRAM (2832)","LIVESTOCK INDEMINITY PAYMENTS PROGRAM             ",2832,"N/A","No"]
[null,null,"","",null,null,"",null,null,"",null,null,"",null,null,"",null,null,null,null,null,null,null,null,null,"LOAD IN CHARGES - PEANUTS (5285)","LOAD IN CHARGES - PEANUTS                         ",5285,"N/A","No"]
[null,null,null,null,null,null,null,null,null,null,null,null,null,null,null,null,null,null,null,null,null,null,null,null,null,"LOAN DEFICIENCY - BARLEY (5202)","LOAN DEFICIENCY - BARLEY                          ",5202,"N/A","No"]
[null,null,null,null,null,null,null,null,null,null,null,null,null,null,null,null,null,null,null,null,null,null,null,null,null,"LOAN DEFICIENCY - CORN (5215)","LOAN DEFICIENCY - CORN                            ",5215,"N/A","No"]
[null,null,null,null,null,null,null,null,null,null,null,null,null,null,null,null,null,null,null,null,null,null,null,null,null,"LOAN DEFICIENCY - LENTILS, DRY (5205)","LOAN DEFICIENCY - LENTILS, DRY                    ",5205,"N/A","No"]
[null,null,null,null,null,null,null,null,null,null,null,null,null,null,null,null,null,null,null,null,null,null,null,null,null,"MAL - ASSESSMENT FEE DUE (1074)","MAL - ASSESSMENT FEE DUE                          ",1074,"N/A","No"]
[null,null,null,null,null,null,null,null,null,null,null,null,null,null,null,null,null,null,null,null,null,null,null,null,null,"MAL - ASSESSMENT FEE DUE (1080)","MAL - ASSESSMENT FEE DUE                          ",1080,"N/A","No"]
[null,null,null,null,null,null,null,null,null,null,null,null,null,null,null,null,null,null,null,null,null,null,null,null,null,"MAL - LOAN SETTLEMENT (1067)","MAL - LOAN SETTLEMENT                             ",1067,"N/A","No"]
[null,null,null,null,null,null,null,null,null,null,null,null,null,null,null,null,null,null,null,null,null,null,null,null,null,"MAL - LOAN SETTLEMENT (70)","MAL - LOAN SETTLEMENT                             ",70,"N/A","No"]
[null,null,null,null,null,null,null,null,null,null,null,null,null,null,null,null,null,null,null,null,null,null,null,null,null,"MAL - VIOLATIONS (1090)","MAL - VIOLATIONS                                  ",1090,"N/A","No"]
[null,null,null,null,null,null,null,null,null,null,null,null,null,null,null,null,null,null,null,null,null,null,null,null,null,"MAL ACRS WIRES (1403)","MAL ACRS WIRES                                    ",1403,"N/A","No"]
[null,null,null,null,null,null,null,null,null,null,null,null,null,null,null,null,null,null,null,null,null,null,null,null,null,"MAL-INTEREST RECEIVABLE (1066)","MAL-INTEREST RECEIVABLE                           ",1066,"N/A","No"]
[null,null,null,null,null,null,null,null,null,null,null,null,null,null,null,null,null,null,null,null,null,null,null,null,null,"MARGIN PROTECTION - ADMINISTRATIVE FEE (8027)","MARGIN PROTECTION - ADMINISTRATIVE FEE            ",8027,"N/A","No"]
[null,null,null,null,null,null,null,null,null,null,null,null,null,null,null,null,null,null,null,null,null,null,null,null,null,"MARGIN PROTECTION - DAIRY (8030)","MARGIN PROTECTION  - DAIRY                        ",8030,"N/A","No"]
[null,null,null,null,null,null,null,null,null,null,null,null,null,null,null,null,null,null,null,null,null,null,null,null,null,"MARGIN PROTECTION - PREMIUM FEE (8028)","MARGIN PROTECTION - PREMIUM FEE                   ",8028,"N/A","No"]
[null,null,null,null,null,null,null,null,null,null,null,null,null,null,null,null,null,null,null,null,null,null,null,null,null,"MARGIN PROTECTION - PREMIUM REFUND (8029)","MARGIN PROTECTION - PREMIUM REFUND                ",8029,"N/A","No"]
[null,null,null,null,null,null,null,null,null,null,null,null,null,null,null,null,null,null,null,null,null,null,null,null,null,"MARGIN PROTECTION PROGRAM - DAIRY (8025)","MARGIN PROTECTION PROGRAM - DAIRY                 ",8025,"N/A","No"]
[null,null,null,null,null,null,null,null,null,null,null,null,null,null,null,null,null,null,null,null,null,null,null,null,null,"MARKET ACCESS PROGRAM (7610)","MARKET ACCESS PROGRAM                             ",7610,"N/A","No"]
[null,null,null,null,null,null,null,null,null,null,null,null,null,null,null,null,null,null,null,null,null,null,null,null,null,"MARKET FACILITATION PROGRAM - DAHG (2868)","MARKET FACILITATION PROGRAM - DAHG                ",2868,"N/A","No"]
[null,null,null,null,null,null,null,null,null,null,null,null,null,null,null,null,null,null,null,null,null,null,null,null,null,"MILK LOSS PROGRAM (2435)","MILK LOSS PROGRAM                                 ",2435,"N/A","No"]
[null,null,null,null,null,null,null,null,null,null,null,null,null,null,null,null,null,null,null,null,null,null,null,null,null,"MONITOR,ASSESS,EVALUATE-CRP TECH ASSIST (3124)","MONITOR,ASSESS,EVALUATE-CRP TECH ASSIST           ",3124,"N/A","No"]
[null,null,null,null,null,null,null,null,null,null,null,null,null,null,null,null,null,null,null,null,null,null,null,null,null,"NAP EQUITABLE RELIEF SERVICE FEE (2740)","NAP EQUITABLE RELIEF SERVICE FEE                  ",2740,"N/A","No"]
[null,null,null,null,null,null,null,null,null,null,null,null,null,null,null,null,null,null,null,null,null,null,null,null,null,"NML - LOCAL SALES (1069)","NML - LOCAL SALES                                 ",1069,"N/A","No"]
[null,null,null,null,null,null,null,null,null,null,null,null,null,null,null,null,null,null,null,null,null,null,null,null,null,"NML MAL-SETTLEMENT PAYMENTS (1061)","NML MAL-SETTLEMENT PAYMENTS                       ",1061,"N/A","No"]
[null,null,null,null,null,null,null,null,null,null,null,null,null,null,null,null,null,null,null,null,null,null,null,null,null,"NON AUTOMATED TAP LOSS ADJSTR CONTRACTOR (2850)","NON AUTOMATED TAP LOSS ADJSTR CONTRACTOR          ",2850,"N/A","No"]
[null,null,null,null,null,null,null,null,null,null,null,null,null,null,null,null,null,null,null,null,null,null,null,null,null,"NON AUTOMATED TAP LOSS ADJSTR TRVL REIMB (2851)","NON AUTOMATED TAP LOSS ADJSTR TRVL REIMB          ",2851,"N/A","No"]
[null,null,null,null,null,null,null,null,null,null,null,null,null,null,null,null,null,null,null,null,null,null,null,null,null,"NONEMGNCY HAYING/GRAZING DC (6396)","NONEMGNCY HAYING/GRAZING DC                       ",6396,"N/A","No"]
[null,null,null,null,null,null,null,null,null,null,null,null,null,null,null,null,null,null,null,null,null,null,null,null,null,"NON-INSURED ASSISTANCE PROG AUTHORIZED (2695)","NON-INSURED ASSISTANCE PROG AUTHORIZED            ",2695,"N/A","No"]
[null,null,null,null,null,null,null,null,null,null,null,null,null,null,null,null,null,null,null,null,null,null,null,null,null,"NON-RECOURSE DEFAULTED LOAN (1062)","NON-RECOURSE DEFAULTED LOAN                       ",1062,"N/A","No"]
[null,null,null,null,null,null,null,null,null,null,null,null,null,null,null,null,null,null,null,null,null,null,null,null,null,"NON-RECOURSE RFND OF PEANUT PREPAID STRG (1068)","NON-RECOURSE RFND OF PEANUT PREPAID STRG          ",1068,"N/A","No"]
[null,null,null,null,null,null,null,null,null,null,null,null,null,null,null,null,null,null,null,null,null,null,null,null,null,"NON-RECOURSE UPLAND COTTON STG CREDIT (1063)","NON-RECOURSE UPLAND COTTON STG CREDIT             ",1063,"N/A","No"]
[null,null,null,null,null,null,null,null,null,null,null,null,null,null,null,null,null,null,null,null,null,null,null,null,null,"NON-SECTION 11 HAZARDOUS WASTE COSTS (7663)","NON-SECTION 11 HAZARDOUS WASTE COSTS              ",7663,"N/A","No"]
[null,null,null,null,null,null,null,null,null,null,null,null,null,null,null,null,null,null,null,null,null,null,null,null,null,"ONLINE MARKETING SERVICE (6030)","ONLINE MARKETING SERVICE                          ",6030,"N/A","No"]
[null,null,null,null,null,null,null,null,null,null,null,null,null,null,null,null,null,null,null,null,null,null,null,null,null,"ORGANIC & TRANSITIONAL EDU & CERT PRGM (8291)","ORGANIC & TRANSITIONAL EDU & CERT PRGM            ",8291,"N/A","No"]
[null,null,null,null,null,null,null,null,null,null,null,null,null,null,null,null,null,null,null,null,null,null,null,null,null,"PANDEMIC ASSISTANCE REVENUE PROGRAM (8290)","PANDEMIC ASSISTANCE REVENUE PROGRAM               ",8290,"N/A","No"]
[null,null,null,null,null,null,null,null,null,null,null,null,null,null,null,null,null,null,null,null,null,null,null,null,null,"PANDEMIC ASST-TIMBER HARVESTERS/HAULERS (8286)","PANDEMIC ASST-TIMBER HARVESTERS/HAULERS           ",8286,"N/A","No"]
[null,null,null,null,null,null,null,null,null,null,null,null,null,null,null,null,null,null,null,null,null,null,null,null,null,"PANDEMIC LIVESTOCK INDEMNITY PROGRAM (8287)","PANDEMIC LIVESTOCK INDEMNITY PROGRAM              ",8287,"N/A","No"]
[null,null,null,null,null,null,null,null,null,null,null,null,null,null,null,null,null,null,null,null,null,null,null,null,null,"PEANUT LOAN ADVANCE (1220)","PEANUT LOAN ADVANCE                               ",1220,"N/A","No"]
[null,null,null,null,null,null,null,null,null,null,null,null,null,null,null,null,null,null,null,null,null,null,null,null,null,"PEANUT LOAN ADVANCE (1221)","PEANUT LOAN ADVANCE                               ",1221,"N/A","No"]
[null,null,null,null,null,null,null,null,null,null,null,null,null,null,null,null,null,null,null,null,null,null,null,null,null,"PECAN TREES - ADDTNL SUPLMNTL APPROP (2885)","PECAN TREES - ADDTNL SUPLMNTL APPROP              ",2885,"N/A","No"]
[null,null,null,null,null,null,null,null,null,null,null,null,null,null,null,null,null,null,null,null,null,null,null,null,null,"PIMA COTTON TRUST FUND (2844)","PIMA COTTON TRUST FUND                            ",2844,"N/A","No"]
[null,null,null,null,null,null,null,null,null,null,null,null,null,null,null,null,null,null,null,null,null,null,null,null,null,"PRIORITY TRADE FUND (7680)","PRIORITY TRADE FUND                               ",7680,"N/A","No"]
[null,null,null,null,null,null,null,null,null,null,null,null,null,null,null,null,null,null,null,null,null,null,null,null,null,"QUALITY LOSS ADJUSTMENT PROGRAM (2908)","QUALITY LOSS ADJUSTMENT PROGRAM                   ",2908,"N/A","No"]
[null,null,null,null,null,null,null,null,null,null,null,null,null,null,null,null,null,null,null,null,null,null,null,null,null,"QUALITY SAMPLES PROGRAM (7845)","QUALITY SAMPLES PROGRAM                           ",7845,"N/A","No"]
[null,null,null,null,null,null,null,null,null,null,null,null,null,null,null,null,null,null,null,null,null,null,null,null,null,"RECOURSE DEFAULTED LOAN (1072)","RECOURSE DEFAULTED LOAN                           ",1072,"N/A","No"]
[null,null,null,null,null,null,null,null,null,null,null,null,null,null,null,null,null,null,null,null,null,null,null,null,null,"RECOURSE LOANS ACRS (1404)","RECOURSE LOANS ACRS                               ",1404,"N/A","No"]
[null,null,null,null,null,null,null,null,null,null,null,null,null,null,null,null,null,null,null,null,null,null,null,null,null,"RECOURSE MAL - VIOLATIONS (1091)","RECOURSE MAL - VIOLATIONS                         ",1091,"N/A","No"]
[null,null,null,null,null,null,null,null,null,null,null,null,null,null,null,null,null,null,null,null,null,null,null,null,null,"REMOTE SENSING ACTIVITIES (7850)","REMOTE SENSING ACTIVITIES                         ",7850,"N/A","No"]
[]
[null,null,null,null,null,null,null,null,null,null,null,null,null,null,null,null,null,null,null,null,null,null,null,null,null,"SPOT MARKET HOG PANDEMIC PROGRAM (8292)","SPOT MARKET HOG PANDEMIC PROGRAM                  ",8292,"N/A","No"]
[null,null,null,null,null,null,null,null,null,null,null,null,null,null,null,null,null,null,null,null,null,null,null,null,null,"STORAGE CHARGE - AUTOMATED (1205)","STORAGE CHARGE - AUTOMATED                        ",1205,"N/A","No"]
[null,null,null,null,null,null,null,null,null,null,null,null,null,null,null,null,null,null,null,null,null,null,null,null,null,"STORAGE PAYMENT TO WAREHOUSE (2432)","STORAGE PAYMENT TO WAREHOUSE                      ",2432,"N/A","No"]
[null,null,null,null,null,null,null,null,null,null,null,null,null,null,null,null,null,null,null,null,null,null,null,null,null,"STORAGE RECEIVABLE-NON-AUTOMATED (2431)","STORAGE RECEIVABLE-NON-AUTOMATED                  ",2431,"N/A","No"]
[null,null,null,null,null,null,null,null,null,null,null,null,null,null,null,null,null,null,null,null,null,null,null,null,null,"STORAGE REFUND (2430)","STORAGE REFUND                                    ",2430,"N/A","No"]
[null,null,null,null,null,null,null,null,null,null,null,null,null,null,null,null,null,null,null,null,null,null,null,null,null,"SUBSCRIPTION DTN SERV PRICE DISCOVER OP (6048)","SUBSCRIPTION DTN SERV PRICE DISCOVER OP           ",6048,"N/A","No"]
[null,null,null,null,null,null,null,null,null,null,null,null,null,null,null,null,null,null,null,null,null,null,null,null,null,"SUGAR STORAGE FACILITY LOAN NON-AUTO (250)","SUGAR STORAGE FACILITY LOAN NON-AUTO              ",250,"N/A","No"]
[null,null,null,null,null,null,null,null,null,null,null,null,null,null,null,null,null,null,null,null,null,null,null,null,null,"TAP LOSS ADJUSTOR CONTRACTOR (2847)","TAP LOSS ADJUSTOR CONTRACTOR                      ",2847,"N/A","No"]
[null,null,null,null,null,null,null,null,null,null,null,null,null,null,null,null,null,null,null,null,null,null,null,null,null,"TAP LOSS ADJUSTOR TRAVEL REIMBURSEMENT (2848)","TAP LOSS ADJUSTOR TRAVEL REIMBURSEMENT            ",2848,"N/A","No"]
[null,null,null,null,null,null,null,null,null,null,null,null,null,null,null,null,null,null,null,null,null,null,null,null,null,"TASCP (2677)","TASCP                                             ",2677,"N/A","No"]
[null,null,null,null,null,null,null,null,null,null,null,null,null,null,null,null,null,null,null,null,null,null,null,null,null,{"$f":"TRIM(AA274)&\" (\"&AB274&\")\"","v":"TITLE 2 GRANT,FOOD FOR PEACE-FOOD BARS (8371)"},"TITLE 2 GRANT,FOOD FOR PEACE-FOOD BARS            ",8371,"N/A","No"]
[null,null,null,null,null,null,null,null,null,null,null,null,null,null,null,null,null,null,null,null,null,null,null,null,null,"TITLE II GRANTS, FOOD FOR PEACE (8406)","TITLE II GRANTS, FOOD FOR PEACE                   ",8406,"N/A","No"]
[null,null,null,null,null,null,null,null,null,null,null,null,null,null,null,null,null,null,null,null,null,null,null,null,null,"TITLE II GRANTS, FOOD FOR PEACE-UKRAINE (8407)","TITLE II GRANTS, FOOD FOR PEACE-UKRAINE           ",8407,"N/A","No"]
[null,null,null,null,null,null,null,null,null,null,null,null,null,null,null,null,null,null,null,null,null,null,null,null,null,"TITLE II GRANTS,FOOD FOR PEACE-SOYBEANS (8394)","TITLE II GRANTS,FOOD FOR PEACE-SOYBEANS           ",8394,"N/A","No"]
[null,null,null,null,null,null,null,null,null,null,null,null,null,null,null,null,null,null,null,null,null,null,null,null,null,"TMP/MFP 2019 LIVESTOCK (2879)","TMP/MFP 2019 LIVESTOCK                            ",2879,"N/A","No"]
[null,null,null,null,null,null,null,null,null,null,null,null,null,null,null,null,null,null,null,null,null,null,null,null,null,"TMP/MFP 2019 NON-SPECIALITY CROPS-A (2880)","TMP/MFP 2019 NON-SPECIALITY CROPS-A               ",2880,"N/A","No"]
[null,null,null,null,null,null,null,null,null,null,null,null,null,null,null,null,null,null,null,null,null,null,null,null,null,"TRANSPTN COSTS FOR SINGLE YR AGRMNTS (8530)","TRANSPTN COSTS FOR SINGLE YR AGRMNTS              ",8530,"N/A","No"]
[null,null,null,null,null,null,null,null,null,null,null,null,null,null,null,null,null,null,null,null,null,null,null,null,null,"TREE ASSISTANCE PROGRAM (2834)","TREE ASSISTANCE PROGRAM                           ",2834,"N/A","No"]
[null,null,null,null,null,null,null,null,null,null,null,null,null,null,null,null,null,null,null,null,null,null,null,null,null,"TREE ASSISTANCE PROGRAM (2872)","TREE ASSISTANCE PROGRAM                           ",2872,"N/A","No"]
[null,null,null,null,null,null,null,null,null,null,null,null,null,null,null,null,null,null,null,null,null,null,null,null,null,"TREE THINNING INCENTIVE (3352)","TREE THINNING INCENTIVE                           ",3352,"N/A","No"]
[null,null,null,null,null,null,null,null,null,null,null,null,null,null,null,null,null,null,null,null,null,null,null,null,null,"TREE THINNING INCENTIVE PROGRAM (3355)","TREE THINNING INCENTIVE PROGRAM                   ",3355,"N/A","No"]
[null,null,null,null,null,null,null,null,null,null,null,null,null,null,null,null,null,null,null,null,null,null,null,null,null,"VESSEL LOADING OBSERVATIONS PROGRAM (8345)","VESSEL LOADING OBSERVATIONS PROGRAM               ",8345,"N/A","No"]
[null,null,null,null,null,null,null,null,null,null,null,null,null,null,null,null,null,null,null,null,null,null,null,null,null,"WEB-BASED NAP LOSS ADJUSTOR CONTRACTOR (2786)","WEB-BASED NAP LOSS ADJUSTOR CONTRACTOR            ",2786,"N/A","No"]
[null,null,null,null,null,null,null,null,null,null,null,null,null,null,null,null,null,null,null,null,null,null,null,null,null,"WEBBS NAP LOSS ADJSTR CNTRCTR TRVL REIMB (2790)","WEBBS NAP LOSS ADJSTR CNTRCTR TRVL REIMB          ",2790,"N/A","No"]
[null,null,null,null,null,null,null,null,null,null,null,null,null,null,null,null,null,null,null,null,null,null,null,null,null,"WET LAND CONSERVATION (2830)","WET LAND CONSERVATION                             ",2830,"N/A","No"]
[null,null,null,null,null,null,null,null,null,null,null,null,null,null,null,null,null,null,null,null,null,null,null,null,null,"WHIP - SUGAR BEET COOPERATIVES (2889)","WHIP - SUGAR BEET COOPERATIVES                    ",2889,"N/A","No"]
[null,null,null,null,null,null,null,null,null,null,null,null,null,null,null,null,null,null,null,null,null,null,null,null,null,{"$f":"TRIM(AA290)&\" (\"&AB290&\")\"","v":"WML/WML 19 WHIP MILK LOSS (2881)"},"WML/WML 19 WHIP MILK LOSS                         ",2881,"N/A","No"]
[null,null,null,null,null,null,null,null,null,null,null,null,null,null,null,null,null,null,null,null,null,null,null,null,null,{"$f":"TRIM(AA291)&\" (\"&AB291&\")\"","v":"WOOL MANUFACTURERS TRUST FUND (2845)"},"WOOL MANUFACTURERS TRUST FUND                     ",2845,"N/A","No"]

{"sheet":"521A_entry","index":2,"n_rows":360,"n_cols":31,"rows_kept":360,"cut":false,"hidden":false,"merged":[[4,5,4,6],[4,8,4,10],[3,1,3,10],[9,15,9,17],[4,1,4,2],[5,1,6,2],[9,1,9,7],[8,1,8,7],[9,10,9,12],[5,8,5,10],[6,8,6,10],[5,5,5,6],[6,5,6,6]]}
[null,null,null,null,null,null,null,null,null,null,null,null,null,null,null,null,null,null,null,null,null,null,null,null,null,null,null,null,{"$f":"'Gross Rev Wrksht'!O7","v":"Are you a new producer in 2020 or 2021 that did not have any allowable revenue in 2018 or 2019?"},{"$f":"'Gross Rev Wrksht'!V7","v":"No"}]
[null,null,null,null,null,null,null,null,null,null,null,null,null,null,null,null,null,null,null,null,null,null,null,null,null,null,null,2020,{"$f":"'Gross Rev Wrksht'!O9","v":"Do you have allowable revenue in 2018 or 2019, but your operation has undergone a decrease in operating capacity from Benchmark Year to Disaster Year? \nNote:  If \"Yes\" indicate the crop disaster year the decrease occurred."},{"$f":"'Gross Rev Wrksht'!X9","v":"No"},{"$f":"TEXT(TRIM('Gross Rev Wrksht'!Y9),0)","v":""}]
[null,{"$f":"'Gross Rev Wrksht'!B3","v":"Emergency Relief Program Application Tool - Version 1.0"},null,null,null,null,null,null,null,null,null,null,{"$f":"TODAY()","v":"2023-01-23"},null,null,null,null,null,null,null,null,null,null,null,null,null,null,2021,{"$f":"'Gross Rev Wrksht'!O11","v":"Do you have allowable revenue in 2018 or 2019, but your operation has undergone an increase in operating capacity from Benchmark Year to Disaster Year? \nNote:  If \"Yes\" indicate the crop disaster year the increase  occurred."},{"$f":"'Gross Rev Wrksht'!X10","v":"No"},{"$f":"TRIM('Gross Rev Wrksht'!Y10)","v":""}]
[null,"CCC-521A Data Entry"]
[null,"Revenue Adjustments",null,"1.\nProgram Year","2.\nBenchmark Year ","3.\nReported Revenue",null,"4.\nAdjustments","5.\nAdjusted Benchmark Revenue",null,null,null,null,null,null,null,null,null,null,2018,2019]
[null,"Crop Disaster Year:",null,{"$f":"LEFT('Gross Rev Wrksht'!H7,4)","v":""},{"$f":"IF(AD1=\"Yes\",\"Adjusted\",IF(OR('Gross Rev Wrksht'!L9=2018,'Gross Rev Wrksht'!L9=2019),\"No Adjustments Required\",IF('Gross Rev Wrksht'!L9=\"\",\"Missing Benchmark Year from Gross Revenue Worksheet\",'Gross Rev Wrksht'!L9)))","v":"Missing Benchmark Year from Gross Revenue Worksheet"},{"$f":"IF(D6=\"\",0,IF(LEFT(D6,4)=LEFT('Gross Rev Wrksht'!Y29,4),'Gross Rev Wrksht'!AB29,'Gross Rev Wrksht'!AB30))","v":0},null,{"$f":"IF(LEFT(E6,8)=\"Adjusted\",IF(OR(AD10=\"2021\",AD10=\"2020\"),AD29-F6,0),0)","v":0},{"$f":"IF(H6=0,\"No Adjustments Applied\",F6+H6)","v":"No Adjustments Applied"},null,null,null,null,null,null,null,null,null,null,{"$f":"IF(E6=\"No Adjustments Required\",0,IF(RIGHT(E6,4)=\"2018\",H6,0))","v":0},{"$f":"IF(E6=\"No Adjustments Required\",0,IF(RIGHT(E6,4)=\"2019\",H6,0))","v":0}]
[null,null,null,{"$f":"LEFT('Gross Rev Wrksht'!H11,4)","v":""},{"$f":"IF(D7=\"\",\"\",IF(AD1=\"Yes\",\"Adjusted\",IF(OR('Gross Rev Wrksht'!L13=213018,'Gross Rev Wrksht'!L13=2019),\"No Adjustments Required\",IF('Gross Rev Wrksht'!L13=\"\",\"Missing Benchmark Year from Gross Revenue Worksheet\",'Gross Rev Wrksht'!L13))))","v":""},{"$f":"IF(D7=\"\",\"\",'Gross Rev Wrksht'!AB30)","v":""},null,{"$f":"IF(D7=\"\",\"\",IF(LEFT(E7,8)=\"Adjusted\",IF(AD10*1=2021,AD29-F7,IF(AE10*1=2021,AE29-F7,0)),0))","v":""},{"$f":"IF(H7=\"\",\"\",IF(H7=0,\"No Adjustments Applied\",F7+H7))","v":""},null,null,null,null,null,null,null,null,null,null,{"$f":"IF(E7=\"No Adjustments Required\",0,IF(RIGHT(E7,4)=\"2018\",H7,0))","v":0},{"$f":"IF(E7=\"No Adjustments Required\",0,IF(RIGHT(E7,4)=\"2019\",H7,0))","v":0}]
[null,null,null,null,null,null,null,null,null,null,null,null,null,null,null,null,null,null,null,{"$f":"MAX(T6:T7)","v":0},{"$f":"MAX(U6:U7)","v":0}]
[null,{"$f":"IF('Gross Rev Wrksht'!$E$10=\"\",\"\",\"Name:\"&'Gross Rev Wrksht'!$E$10)","v":""}]
[null,"ELIGIBLE YIELD BASED CROPS/COMMODITIES",null,null,null,null,null,null,null,null,"ELIGIBLE VALUE ADDED BASED COMMODITIES",null,null,null,null,"ELIGIBLE INVENTORY BASED CROPS/COMMODITIES",null,null,null,{"$f":"MIN(T12:T26)","v":0},null,null,null,null,null,null,null,null,null,"2020","2021"]
[null,"6.\nDisaster Year for Adjustment","7.\nCommodity\n(Crop/Type/Intened Use)","8.\nExpected Acres","9.\nExpected Yield\n(per acre)","10.\nUnit of Measure\n(For ex.  bu/ton/pound)","11.\nExpected  Price\n(per unit of measure)","12.\nTotal Expected Revenue",null,null,"13.\nDisaster Year for Adjustment","14.\nEligible Value Added Commodities","15.\nTotal Expected Revenue",null,null,"16.\nDisaster Year for Adjustment","17.\nEligible Inventory Based Commodities","18.\nTotal Expected Revenue",null,{"$f":"MAX(T12:T22)","v":0},null,null,null,null,null,null,null,null,"SECTION H – TOTAL EXPECTED ALLOWABLE DISASTER YEAR REVENUE","Form 1","Form 2"]
[1,null,null,null,null,null,null,{"$f":"IF(C12=\"\",\"\",ROUND(D12*E12*G12,2))","v":""},null,{"$f":"IF(H12=\"\",0,1)","v":0},null,null,null,null,{"$f":"IF(M12=\"\",\"\",3)","v":""},null,null,null,{"$f":"IF(R12=\"\",\"\",5)","v":""},{"$f":"J12","v":0},null,null,null,null,null,null,null,null,"38. Total Expected Allowable Disaster Year Revenue from Eligible Value Added Commodities (total from Item 27):",{"$f":"IF(AND(AD10=\"2020\",AD1=\"Yes\"),M251,IF(AND(AD10=\"2021\",AD1=\"Yes\"),M360,\"\"))","v":""},{"$f":"IF(AND(AE10=\"2020\",AD1=\"Yes\"),M251,IF(AND(AE10=\"2021\",AD1=\"Yes\"),M360,\"\"))","v":""}]
[2,null,null,null,null,null,null,{"$f":"IF(C13=\"\",\"\",ROUND(D13*E13*G13,2))","v":""},null,null,null,null,null,null,null,null,null,null,null,{"$f":"J65","v":""},null,null,null,null,null,null,null,null,"39. Total Expected Allowable Disaster Year Revenue from Eligible Yield Based Crops/Commodities (total from Item 34):",{"$f":"IF(AND(AD10=\"2020\",AD1=\"Yes\"),H251,IF(AND(AD10=\"2021\",AD1=\"Yes\"),H360,\"\"))","v":""},{"$f":"IF(AND(AE10=\"2020\",AD1=\"Yes\"),H251,IF(AND(AE10=\"2021\",AD1=\"Yes\"),H360,\"\"))","v":""}]
[3,null,null,null,null,null,null,"",null,null,null,null,null,null,null,null,null,null,null,{"$f":"O12","v":""},null,null,null,null,null,null,null,null,"40. Total Expected Allowable Disaster Year Revenue from Eligible Inventory Crops/Commodities (total from Item 37):",{"$f":"IF(AND(AD10=\"2020\",AD1=\"Yes\"),R251,IF(AND(AD10=\"2021\",AD1=\"Yes\"),R360,\"\"))","v":""},{"$f":"IF(AND(AE10=\"2020\",AD1=\"Yes\"),R251,IF(AND(AE10=\"2021\",AD1=\"Yes\"),R360,\"\"))","v":""}]
[4,null,null,null,null,null,null,"",null,null,null,null,null,null,null,null,null,null,null,{"$f":"O65","v":""},null,null,null,null,null,null,null,null,"41. Total Expected Allowable Disaster Year Revenue (sum Items 38 through 41):",{"$f":"IF(AD1=\"Yes\",SUM(AD12:AD14),\"\")","v":""},{"$f":"IF(AD1=\"Yes\",SUM(AE12:AE14),\"\")","v":""}]
[5,null,null,null,null,null,null,"",null,null,null,null,null,null,null,null,null,null,null,{"$f":"S12","v":""},null,null,null,null,null,null,null,null,"SECTION I – TOTAL ADJUSTED BENCHMARK YEAR REVENUE FROM DECREASED OPERATING CAPACITY"]
[6,null,null,null,null,null,null,"",null,null,null,null,null,null,null,null,null,null,null,{"$f":"S65","v":""},null,null,null,null,null,null,null,null,"42. Total Actual Allowable Benchmark Year Revenue (total from Item 16)",{"$f":"IF(AND(AD2=\"Yes\",LEFT(AE2,4)=AD10),'Gross Rev Wrksht'!AB27,\"\")","v":""},{"$f":"IF(AND(AD2=\"Yes\",RIGHT(AE2,4)=AE10),'Gross Rev Wrksht'!AC27,\"\")","v":""}]
[7,null,null,null,null,null,null,"",null,null,null,null,null,null,null,null,null,null,null,null,null,null,null,null,null,null,null,null,"43. Total Expected Decreased Revenue from Eligible Value Added Commodities (total from Item 27):",{"$f":"IF(AND(AD10=\"2020\",AD2=\"Yes\",LEFT(AE2,4)=AD10),M251,IF(AND(AD10=\"2021\",AD2=\"Yes\",LEFT(AE2,4)=AD10),M360,\"\"))","v":""},{"$f":"IF(AND(AE10=\"2020\",AD2=\"Yes\",RIGHT(AE2,4)=AE10),M251,IF(AND(AE10=\"2021\",AD2=\"Yes\",RIGHT(AE2,4)=AE10),M360,\"\"))","v":""}]
[8,null,null,null,null,null,null,"",null,null,null,null,null,null,null,null,null,null,null,null,null,null,null,null,null,null,null,null,"44. Total Expected Decreased Revenue from Eligible Yield Based Crops/Commodities (total from Item 34):",{"$f":"IF(AND(AD10=\"2020\",AD2=\"Yes\",LEFT(AE2,4)=AD10),H251,IF(AND(AD10=\"2021\",AD2=\"Yes\",LEFT(AE2,4)=AD10),H360,\"\"))","v":""},{"$f":"IF(AND(AE10=\"2020\",AD2=\"Yes\",RIGHT(AE2,4)=AE10),H251,IF(AND(AE10=\"2021\",AD2=\"Yes\",RIGHT(AE2,4)=AE10),H360,\"\"))","v":""}]
[9,null,null,null,null,null,null,"",null,null,null,null,null,null,null,null,null,null,null,null,null,null,null,null,null,null,null,null,"45. Total Expected Decreased Revenue from Eligible Inventory Crops/Commodities (total from Item 37):",{"$f":"IF(AND(AD10=\"2020\",AD2=\"Yes\",LEFT(AE2,4)=AD10),R251,IF(AND(AD10=\"2021\",AD2=\"Yes\",LEFT(AE2,4)=AD10),R360,\"\"))","v":""},{"$f":"IF(AND(AE10=\"2020\",AD2=\"Yes\",RIGHT(AE2,4)=AE10),R251,IF(AND(AE10=\"2021\",AD2=\"Yes\",RIGHT(AE2,4)=AE10),R360,\"\"))","v":""}]
[10,null,null,null,null,null,null,"",null,null,null,null,null,null,null,null,null,null,null,null,null,null,null,null,null,null,null,null,"46. Total Adjusted Benchmark Year Revenue from Decreased Operating Capacity (subtract Items 43 through 45 from Item 42):",{"$f":"IF(AND(LEFT(AE2,4)=AD10,AD2=\"Yes\"),MAX(0,AD17-SUM(AD18:AD20)),\"\")","v":""},{"$f":"IF(AND(RIGHT(AE2,4)=AE10,AD2=\"Yes\"),MAX(0,AE17-SUM(AE18:AE20)),\"\")","v":""}]
[11,null,null,null,null,null,null,"",null,null,null,null,null,null,null,null,null,null,null,null,null,null,null,null,null,null,null,null,"SECTION J – TOTAL ADJUSTED BENCHMARK YEAR REVENUE FROM INCREASED OPERATING CAPACITY"]
[12,null,null,null,null,null,null,"",null,null,null,null,null,null,null,null,null,null,null,null,null,null,null,null,null,null,null,null,"47. Total Actual Allowable Benchmark Year Revenue (total from Item 16)",{"$f":"IF(AND(LEFT(AE3,4)=AD10,AD3=\"Yes\"),'Gross Rev Wrksht'!AB27,\"\")","v":""},{"$f":"IF(AND(RIGHT(AE3,4)=AE10,AD3=\"Yes\"),'Gross Rev Wrksht'!AC27,\"\")","v":""}]
[13,null,null,null,null,null,null,"",null,null,null,null,null,null,null,null,null,null,null,null,null,null,null,null,null,null,null,null,"48. Total Expected Increased Revenue from Eligible Value Added Commodities (total from Item 27):",{"$f":"IF(AND(AD10=\"2020\",AD3=\"Yes\",LEFT(AE3,4)=AD10),M251,IF(AND(AD10=\"2021\",AD3=\"Yes\",LEFT(AE3,4)=AD10),M360,\"\"))","v":""},{"$f":"IF(AND(AE10=\"2020\",AD3=\"Yes\",RIGHT(AE3,4)=AE10),M251,IF(AND(AE10=\"2021\",AD3=\"Yes\",RIGHT(AE3,4)=AE10),M360,\"\"))","v":""}]
[14,null,null,null,null,null,null,"",null,null,null,null,null,null,null,null,null,null,null,null,null,null,null,null,null,null,null,null,"49. Total Expected Increased Revenue from Eligible Yield Based Crops/Commodities (total from Item 34):",{"$f":"IF(AND(AD10=\"2020\",AD3=\"Yes\",LEFT(AE3,4)=AD10),H251,IF(AND(AD10=\"2021\",AD3=\"Yes\",LEFT(AE3,4)=AD10),H360,\"\"))","v":""},{"$f":"IF(AND(AE10=\"2020\",AD3=\"Yes\",RIGHT(AE3,4)=AE10),H251,IF(AND(AE10=\"2021\",AD3=\"Yes\",RIGHT(AE3,4)=AE10),H360,\"\"))","v":""}]
[15,null,null,null,null,null,null,"",null,null,null,null,null,null,null,null,null,null,null,null,null,null,null,null,null,null,null,null,"50. Total Expected Increased Revenue from Eligible Inventory Crops/Commodities (total from Item 37):",{"$f":"IF(AND(AD10=\"2020\",AD3=\"Yes\",LEFT(AE3,4)=AD10),R251,IF(AND(AD10=\"2021\",AD3=\"Yes\",LEFT(AE3,4)=AD10),R360,\"\"))","v":""},{"$f":"IF(AND(AE10=\"2020\",AD3=\"Yes\",RIGHT(AE3,4)=AE10),R251,IF(AND(AE10=\"2021\",AD3=\"Yes\",RIGHT(AE3,4)=AE10),R360,\"\"))","v":""}]
[16,null,null,null,null,null,null,"",null,null,null,null,null,null,null,null,null,null,null,null,null,null,null,null,null,null,null,null,"51. Total Adjusted Benchmark Year Revenue from Increased Operating Capacity (sum Items 47 through Item 50):",{"$f":"IF(AND(LEFT(AE3,4)=AD10,AD3=\"Yes\"),MAX(SUM(AD23:AD26),0),\"\")","v":""},{"$f":"IF(AND(RIGHT(AE3,4)=AE10,AD3=\"Yes\"),SUM(AE23:AE26),\"\")","v":""}]
[17,null,null,null,null,null,null,"",null,null,null,null,null,null,null,null,null,null,null,null,null,null,null,null,null,null,null,null,"SECTION K – TOTAL ALLOWABLE BENCHMARK YEAR AND ALLOWABLE DISASTER YEAR REVENUE"]
[18,null,null,null,null,null,null,"",null,null,null,null,null,null,null,null,null,null,null,null,null,null,null,null,null,null,null,null,"52. Total Allowable Benchmark Year Revenue (total from either Item 16, Item 41, Item 46, or Item 51):",{"$f":"IF(AD1=\"Yes\",AD15,IF(AND(AD2=\"yes\",LEFT(AE2,4)=AD10),AD21,IF(AND(LEFT(AE3,4)=AD10,AD3=\"Yes\"),AD27,\"\")))","v":""},{"$f":"IF(AD1=\"Yes\",AE15,IF(AND(AD2=\"yes\",RIGHT(AE2,4)=AE10),AE21,IF(AND(RIGHT(AE3,4)=AE10,AD3=\"Yes\"),AE27,\"\")))","v":""}]
[19,null,null,null,null,null,null,"",null,null,null,null,null,null,null,null,null,null,null,null,null,null,null,null,null,null,null,null,"53. Total Allowable Disaster Year Revenue (total from Item 24):",{"$f":"IF(AD10=LEFT('Gross Rev Wrksht'!Y29,4),'Gross Rev Wrksht'!AE29,IF(AD10=LEFT('Gross Rev Wrksht'!Y30,4),'Gross Rev Wrksht'!AE30,\"\"))","v":""},{"$f":"IF(AE10=LEFT('Gross Rev Wrksht'!Y29,4),'Gross Rev Wrksht'!AE29,IF(AE10=LEFT('Gross Rev Wrksht'!Y30,4),'Gross Rev Wrksht'!AE30))","v":""}]
[20,null,null,null,null,null,null,""]
[21,null,null,null,null,null,null,""]
[22,null,null,null,null,null,null,""]
[23,null,null,null,null,null,null,""]
[24,null,null,null,null,null,null,""]
[25,null,null,null,null,null,null,""]
[26,null,null,null,null,null,null,""]
[27,null,null,null,null,null,null,""]
[28,null,null,null,null,null,null,""]
[29,null,null,null,null,null,null,""]
[30,null,null,null,null,null,null,""]
[31,null,null,null,null,null,null,""]
[32,null,null,null,null,null,null,""]
[33,null,null,null,null,null,null,""]
[34,null,null,null,null,null,null,""]
[35,null,null,null,null,null,null,""]
[36,null,null,null,null,null,null,""]
[37,null,null,null,null,null,null,""]
[38,null,null,null,null,null,null,""]
[39,null,null,null,null,null,null,""]
[40,null,null,null,null,null,null,""]
[41,null,null,null,null,null,null,""]
[42,null,null,null,null,null,null,""]
[43,null,null,null,null,null,null,""]
[44,null,null,null,null,null,null,""]
[45,null,null,null,null,null,null,""]
[46,null,null,null,null,null,null,""]
[47,null,null,null,null,null,null,""]
[48,null,null,null,null,null,null,""]
[49,null,null,null,null,null,null,""]
[50,null,null,null,null,null,null,""]
[51,null,null,null,null,null,null,""]
[52,null,null,null,null,null,null,""]
[53,null,null,null,null,null,null,""]
[54,null,null,null,null,null,null,"",null,{"$f":"IF(H65=\"\",\"\",2)","v":""},null,null,null,null,{"$f":"IF(M65=\"\",\"\",4)","v":""},null,null,null,{"$f":"IF(R65=\"\",\"\",5)","v":""}]
[55,null,null,null,null,null,null,""]
[56,null,null,null,null,null,null,""]
[57,null,null,null,null,null,null,""]
[58,null,null,null,null,null,null,""]
[59,null,null,null,null,null,null,""]
[60,null,null,null,null,null,null,""]
[61,null,null,null,null,null,null,""]
[62,null,null,null,null,null,null,""]
[63,null,null,null,null,null,null,""]
[64,null,null,null,null,null,null,""]
[65,null,null,null,null,null,null,""]
[66,null,null,null,null,null,null,{"$f":"IF(C77=\"\",\"\",ROUND(D77*E77*G77,2))","v":""}]
[67,null,null,null,null,null,null,""]
[68,null,null,null,null,null,null,""]
[69,null,null,null,null,null,null,""]
[70,null,null,null,null,null,null,""]
[71,null,null,null,null,null,null,""]
[72,null,null,null,null,null,null,""]
[73,null,null,null,null,null,null,""]
[74,null,null,null,null,null,null,""]
[75,null,null,null,null,null,null,""]
[76,null,null,null,null,null,null,""]
[77,null,null,null,null,null,null,""]
[78,null,null,null,null,null,null,""]
[79,null,null,null,null,null,null,""]
[80,null,null,null,null,null,null,""]
[81,null,null,null,null,null,null,""]
[82,null,null,null,null,null,null,""]
[83,null,null,null,null,null,null,""]
[84,null,null,null,null,null,null,""]
[85,null,null,null,null,null,null,""]
[86,null,null,null,null,null,null,""]
[87,null,null,null,null,null,null,""]
[88,null,null,null,null,null,null,""]
[89,null,null,null,null,null,null,""]
[90,null,null,null,null,null,null,""]
[91,null,null,null,null,null,null,""]
[92,null,null,null,null,null,null,""]
[93,null,null,null,null,null,null,""]
[94,null,null,null,null,null,null,""]
[95,null,null,null,null,null,null,""]
[96,null,null,null,null,null,null,""]
[97,null,null,null,null,null,null,""]
[98,null,null,null,null,null,null,""]
[99,null,null,null,null,null,null,""]
[100,null,null,null,null,null,null,""]
[]
[]
[]
[]
[]
[]
[]
[]
[]
[]
[]
[]
[]
[]
[]
[]
[]
[]
[]
[]
[]
[]
[]
[]
[]
[]
[]
[]
[]
[]
[]
[]
[]
[]
[2020]
[]
[]
[1,{"$f":"IFERROR(INDEX($B$12:$H$111,(SMALL(IF(INDEX($B$12:$H$111,,$A$149)=$A$146,MATCH(ROW($B$12:$B$111),ROW($B$12:$B$111)),\"\"),ROWS($B$1:B1))),COLUMNS($B$1:B1)),\"\")","v":""},{"$f":"IFERROR(INDEX($B$12:$H$111,(SMALL(IF(INDEX($B$12:$H$111,,$A$149)=$A$146,MATCH(ROW($B$12:$B$111),ROW($B$12:$B$111)),\"\"),ROWS($B$1:C1))),COLUMNS($B$1:C1)),\"\")","v":""},{"$f":"IFERROR(INDEX($B$12:$H$111,(SMALL(IF(INDEX($B$12:$H$111,,$A$149)=$A$146,MATCH(ROW($B$12:$B$111),ROW($B$12:$B$111)),\"\"),ROWS($B$1:D1))),COLUMNS($B$1:D1)),\"\")","v":""},{"$f":"IFERROR(INDEX($B$12:$H$111,(SMALL(IF(INDEX($B$12:$H$111,,$A$149)=$A$146,MATCH(ROW($B$12:$B$111),ROW($B$12:$B$111)),\"\"),ROWS($B$1:E1))),COLUMNS($B$1:E1)),\"\")","v":""},{"$f":"IFERROR(INDEX($B$12:$H$111,(SMALL(IF(INDEX($B$12:$H$111,,$A$149)=$A$146,MATCH(ROW($B$12:$B$111),ROW($B$12:$B$111)),\"\"),ROWS($B$1:F1))),COLUMNS($B$1:F1)),\"\")","v":""},{"$f":"IFERROR(INDEX($B$12:$H$111,(SMALL(IF(INDEX($B$12:$H$111,,$A$149)=$A$146,MATCH(ROW($B$12:$B$111),ROW($B$12:$B$111)),\"\"),ROWS($B$1:G1))),COLUMNS($B$1:G1)),\"\")","v":""},{"$f":"IFERROR(INDEX($B$12:$H$111,(SMALL(IF(INDEX($B$12:$H$111,,$A$149)=$A$146,MATCH(ROW($B$12:$B$111),ROW($B$12:$B$111)),\"\"),ROWS($B$1:H1))),COLUMNS($B$1:H1)),\"\")","v":""},null,null,{"$f":"IFERROR(INDEX($K$12:$M$111,(SMALL(IF(INDEX($K$12:$M$111,,$A$149)=$A$146,MATCH(ROW($K$12:$K$111),ROW($K$12:$K$111)),\"\"),ROWS($B$1:B1))),COLUMNS($B$1:B1)),\"\")","v":""},{"$f":"IFERROR(INDEX($K$12:$M$111,(SMALL(IF(INDEX($K$12:$M$111,,$A$149)=$A$146,MATCH(ROW($K$12:$K$111),ROW($K$12:$K$111)),\"\"),ROWS($B$1:C1))),COLUMNS($B$1:C1)),\"\")","v":""},{"$f":"IFERROR(INDEX($K$12:$M$111,(SMALL(IF(INDEX($K$12:$M$111,,$A$149)=$A$146,MATCH(ROW($K$12:$K$111),ROW($K$12:$K$111)),\"\"),ROWS($B$1:D1))),COLUMNS($B$1:D1)),\"\")","v":""},null,null,{"$f":"IFERROR(INDEX($P$12:$R$111,(SMALL(IF(INDEX($P$12:$R$111,,$A$149)=$A$146,MATCH(ROW($P$12:$P$111),ROW($P$12:$P$111)),\"\"),ROWS($B$1:B1))),COLUMNS($B$1:B1)),\"\")","v":""},{"$f":"IFERROR(INDEX($P$12:$R$111,(SMALL(IF(INDEX($P$12:$R$111,,$A$149)=$A$146,MATCH(ROW($P$12:$P$111),ROW($P$12:$P$111)),\"\"),ROWS($B$1:C1))),COLUMNS($B$1:C1)),\"\")","v":""},{"$f":"IFERROR(INDEX($P$12:$R$111,(SMALL(IF(INDEX($P$12:$R$111,,$A$149)=$A$146,MATCH(ROW($P$12:$P$111),ROW($P$12:$P$111)),\"\"),ROWS($B$1:D1))),COLUMNS($B$1:D1)),\"\")","v":""}]
[2,{"$f":"IFERROR(INDEX($B$12:$H$111,(SMALL(IF(INDEX($B$12:$H$111,,$A$149)=$A$146,MATCH(ROW($B$12:$B$111),ROW($B$12:$B$111)),\"\"),ROWS($B$1:B2))),COLUMNS($B$1:B2)),\"\")","v":""},{"$f":"IFERROR(INDEX($B$12:$H$111,(SMALL(IF(INDEX($B$12:$H$111,,$A$149)=$A$146,MATCH(ROW($B$12:$B$111),ROW($B$12:$B$111)),\"\"),ROWS($B$1:C2))),COLUMNS($B$1:C2)),\"\")","v":""},{"$f":"IFERROR(INDEX($B$12:$H$111,(SMALL(IF(INDEX($B$12:$H$111,,$A$149)=$A$146,MATCH(ROW($B$12:$B$111),ROW($B$12:$B$111)),\"\"),ROWS($B$1:D2))),COLUMNS($B$1:D2)),\"\")","v":""},{"$f":"IFERROR(INDEX($B$12:$H$111,(SMALL(IF(INDEX($B$12:$H$111,,$A$149)=$A$146,MATCH(ROW($B$12:$B$111),ROW($B$12:$B$111)),\"\"),ROWS($B$1:E2))),COLUMNS($B$1:E2)),\"\")","v":""},{"$f":"IFERROR(INDEX($B$12:$H$111,(SMALL(IF(INDEX($B$12:$H$111,,$A$149)=$A$146,MATCH(ROW($B$12:$B$111),ROW($B$12:$B$111)),\"\"),ROWS($B$1:F2))),COLUMNS($B$1:F2)),\"\")","v":""},{"$f":"IFERROR(INDEX($B$12:$H$111,(SMALL(IF(INDEX($B$12:$H$111,,$A$149)=$A$146,MATCH(ROW($B$12:$B$111),ROW($B$12:$B$111)),\"\"),ROWS($B$1:G2))),COLUMNS($B$1:G2)),\"\")","v":""},{"$f":"IFERROR(INDEX($B$12:$H$111,(SMALL(IF(INDEX($B$12:$H$111,,$A$149)=$A$146,MATCH(ROW($B$12:$B$111),ROW($B$12:$B$111)),\"\"),ROWS($B$1:H2))),COLUMNS($B$1:H2)),\"\")","v":""},null,null,{"$f":"IFERROR(INDEX($K$12:$M$111,(SMALL(IF(INDEX($K$12:$M$111,,$A$149)=$A$146,MATCH(ROW($K$12:$K$111),ROW($K$12:$K$111)),\"\"),ROWS($B$1:B2))),COLUMNS($B$1:B2)),\"\")","v":""},{"$f":"IFERROR(INDEX($K$12:$M$111,(SMALL(IF(INDEX($K$12:$M$111,,$A$149)=$A$146,MATCH(ROW($K$12:$K$111),ROW($K$12:$K$111)),\"\"),ROWS($B$1:C2))),COLUMNS($B$1:C2)),\"\")","v":""},{"$f":"IFERROR(INDEX($K$12:$M$111,(SMALL(IF(INDEX($K$12:$M$111,,$A$149)=$A$146,MATCH(ROW($K$12:$K$111),ROW($K$12:$K$111)),\"\"),ROWS($B$1:D2))),COLUMNS($B$1:D2)),\"\")","v":""},null,null,{"$f":"IFERROR(INDEX($P$12:$R$111,(SMALL(IF(INDEX($P$12:$R$111,,$A$149)=$A$146,MATCH(ROW($P$12:$P$111),ROW($P$12:$P$111)),\"\"),ROWS($B$1:B2))),COLUMNS($B$1:B2)),\"\")","v":""},{"$f":"IFERROR(INDEX($P$12:$R$111,(SMALL(IF(INDEX($P$12:$R$111,,$A$149)=$A$146,MATCH(ROW($P$12:$P$111),ROW($P$12:$P$111)),\"\"),ROWS($B$1:C2))),COLUMNS($B$1:C2)),\"\")","v":""},{"$f":"IFERROR(INDEX($P$12:$R$111,(SMALL(IF(INDEX($P$12:$R$111,,$A$149)=$A$146,MATCH(ROW($P$12:$P$111),ROW($P$12:$P$111)),\"\"),ROWS($B$1:D2))),COLUMNS($B$1:D2)),\"\")","v":""}]
[3,{"$f":"IFERROR(INDEX($B$12:$H$111,(SMALL(IF(INDEX($B$12:$H$111,,$A$149)=$A$146,MATCH(ROW($B$12:$B$111),ROW($B$12:$B$111)),\"\"),ROWS($B$1:B3))),COLUMNS($B$1:B3)),\"\")","v":""},{"$f":"IFERROR(INDEX($B$12:$H$111,(SMALL(IF(INDEX($B$12:$H$111,,$A$149)=$A$146,MATCH(ROW($B$12:$B$111),ROW($B$12:$B$111)),\"\"),ROWS($B$1:C3))),COLUMNS($B$1:C3)),\"\")","v":""},{"$f":"IFERROR(INDEX($B$12:$H$111,(SMALL(IF(INDEX($B$12:$H$111,,$A$149)=$A$146,MATCH(ROW($B$12:$B$111),ROW($B$12:$B$111)),\"\"),ROWS($B$1:D3))),COLUMNS($B$1:D3)),\"\")","v":""},{"$f":"IFERROR(INDEX($B$12:$H$111,(SMALL(IF(INDEX($B$12:$H$111,,$A$149)=$A$146,MATCH(ROW($B$12:$B$111),ROW($B$12:$B$111)),\"\"),ROWS($B$1:E3))),COLUMNS($B$1:E3)),\"\")","v":""},{"$f":"IFERROR(INDEX($B$12:$H$111,(SMALL(IF(INDEX($B$12:$H$111,,$A$149)=$A$146,MATCH(ROW($B$12:$B$111),ROW($B$12:$B$111)),\"\"),ROWS($B$1:F3))),COLUMNS($B$1:F3)),\"\")","v":""},{"$f":"IFERROR(INDEX($B$12:$H$111,(SMALL(IF(INDEX($B$12:$H$111,,$A$149)=$A$146,MATCH(ROW($B$12:$B$111),ROW($B$12:$B$111)),\"\"),ROWS($B$1:G3))),COLUMNS($B$1:G3)),\"\")","v":""},{"$f":"IFERROR(INDEX($B$12:$H$111,(SMALL(IF(INDEX($B$12:$H$111,,$A$149)=$A$146,MATCH(ROW($B$12:$B$111),ROW($B$12:$B$111)),\"\"),ROWS($B$1:H3))),COLUMNS($B$1:H3)),\"\")","v":""},null,null,{"$f":"IFERROR(INDEX($K$12:$M$111,(SMALL(IF(INDEX($K$12:$M$111,,$A$149)=$A$146,MATCH(ROW($K$12:$K$111),ROW($K$12:$K$111)),\"\"),ROWS($B$1:B3))),COLUMNS($B$1:B3)),\"\")","v":""},{"$f":"IFERROR(INDEX($K$12:$M$111,(SMALL(IF(INDEX($K$12:$M$111,,$A$149)=$A$146,MATCH(ROW($K$12:$K$111),ROW($K$12:$K$111)),\"\"),ROWS($B$1:C3))),COLUMNS($B$1:C3)),\"\")","v":""},{"$f":"IFERROR(INDEX($K$12:$M$111,(SMALL(IF(INDEX($K$12:$M$111,,$A$149)=$A$146,MATCH(ROW($K$12:$K$111),ROW($K$12:$K$111)),\"\"),ROWS($B$1:D3))),COLUMNS($B$1:D3)),\"\")","v":""},null,null,{"$f":"IFERROR(INDEX($P$12:$R$111,(SMALL(IF(INDEX($P$12:$R$111,,$A$149)=$A$146,MATCH(ROW($P$12:$P$111),ROW($P$12:$P$111)),\"\"),ROWS($B$1:B3))),COLUMNS($B$1:B3)),\"\")","v":""},{"$f":"IFERROR(INDEX($P$12:$R$111,(SMALL(IF(INDEX($P$12:$R$111,,$A$149)=$A$146,MATCH(ROW($P$12:$P$111),ROW($P$12:$P$111)),\"\"),ROWS($B$1:C3))),COLUMNS($B$1:C3)),\"\")","v":""},{"$f":"IFERROR(INDEX($P$12:$R$111,(SMALL(IF(INDEX($P$12:$R$111,,$A$149)=$A$146,MATCH(ROW($P$12:$P$111),ROW($P$12:$P$111)),\"\"),ROWS($B$1:D3))),COLUMNS($B$1:D3)),\"\")","v":""}]
[4,{"$f":"IFERROR(INDEX($B$12:$H$111,(SMALL(IF(INDEX($B$12:$H$111,,$A$149)=$A$146,MATCH(ROW($B$12:$B$111),ROW($B$12:$B$111)),\"\"),ROWS($B$1:B4))),COLUMNS($B$1:B4)),\"\")","v":""},{"$f":"IFERROR(INDEX($B$12:$H$111,(SMALL(IF(INDEX($B$12:$H$111,,$A$149)=$A$146,MATCH(ROW($B$12:$B$111),ROW($B$12:$B$111)),\"\"),ROWS($B$1:C4))),COLUMNS($B$1:C4)),\"\")","v":""},{"$f":"IFERROR(INDEX($B$12:$H$111,(SMALL(IF(INDEX($B$12:$H$111,,$A$149)=$A$146,MATCH(ROW($B$12:$B$111),ROW($B$12:$B$111)),\"\"),ROWS($B$1:D4))),COLUMNS($B$1:D4)),\"\")","v":""},{"$f":"IFERROR(INDEX($B$12:$H$111,(SMALL(IF(INDEX($B$12:$H$111,,$A$149)=$A$146,MATCH(ROW($B$12:$B$111),ROW($B$12:$B$111)),\"\"),ROWS($B$1:E4))),COLUMNS($B$1:E4)),\"\")","v":""},{"$f":"IFERROR(INDEX($B$12:$H$111,(SMALL(IF(INDEX($B$12:$H$111,,$A$149)=$A$146,MATCH(ROW($B$12:$B$111),ROW($B$12:$B$111)),\"\"),ROWS($B$1:F4))),COLUMNS($B$1:F4)),\"\")","v":""},{"$f":"IFERROR(INDEX($B$12:$H$111,(SMALL(IF(INDEX($B$12:$H$111,,$A$149)=$A$146,MATCH(ROW($B$12:$B$111),ROW($B$12:$B$111)),\"\"),ROWS($B$1:G4))),COLUMNS($B$1:G4)),\"\")","v":""},{"$f":"IFERROR(INDEX($B$12:$H$111,(SMALL(IF(INDEX($B$12:$H$111,,$A$149)=$A$146,MATCH(ROW($B$12:$B$111),ROW($B$12:$B$111)),\"\"),ROWS($B$1:H4))),COLUMNS($B$1:H4)),\"\")","v":""},null,null,{"$f":"IFERROR(INDEX($K$12:$M$111,(SMALL(IF(INDEX($K$12:$M$111,,$A$149)=$A$146,MATCH(ROW($K$12:$K$111),ROW($K$12:$K$111)),\"\"),ROWS($B$1:B4))),COLUMNS($B$1:B4)),\"\")","v":""},{"$f":"IFERROR(INDEX($K$12:$M$111,(SMALL(IF(INDEX($K$12:$M$111,,$A$149)=$A$146,MATCH(ROW($K$12:$K$111),ROW($K$12:$K$111)),\"\"),ROWS($B$1:C4))),COLUMNS($B$1:C4)),\"\")","v":""},{"$f":"IFERROR(INDEX($K$12:$M$111,(SMALL(IF(INDEX($K$12:$M$111,,$A$149)=$A$146,MATCH(ROW($K$12:$K$111),ROW($K$12:$K$111)),\"\"),ROWS($B$1:D4))),COLUMNS($B$1:D4)),\"\")","v":""},null,null,{"$f":"IFERROR(INDEX($P$12:$R$111,(SMALL(IF(INDEX($P$12:$R$111,,$A$149)=$A$146,MATCH(ROW($P$12:$P$111),ROW($P$12:$P$111)),\"\"),ROWS($B$1:B4))),COLUMNS($B$1:B4)),\"\")","v":""},{"$f":"IFERROR(INDEX($P$12:$R$111,(SMALL(IF(INDEX($P$12:$R$111,,$A$149)=$A$146,MATCH(ROW($P$12:$P$111),ROW($P$12:$P$111)),\"\"),ROWS($B$1:C4))),COLUMNS($B$1:C4)),\"\")","v":""},{"$f":"IFERROR(INDEX($P$12:$R$111,(SMALL(IF(INDEX($P$12:$R$111,,$A$149)=$A$146,MATCH(ROW($P$12:$P$111),ROW($P$12:$P$111)),\"\"),ROWS($B$1:D4))),COLUMNS($B$1:D4)),\"\")","v":""}]
[5,{"$f":"IFERROR(INDEX($B$12:$H$111,(SMALL(IF(INDEX($B$12:$H$111,,$A$149)=$A$146,MATCH(ROW($B$12:$B$111),ROW($B$12:$B$111)),\"\"),ROWS($B$1:B5))),COLUMNS($B$1:B5)),\"\")","v":""},{"$f":"IFERROR(INDEX($B$12:$H$111,(SMALL(IF(INDEX($B$12:$H$111,,$A$149)=$A$146,MATCH(ROW($B$12:$B$111),ROW($B$12:$B$111)),\"\"),ROWS($B$1:C5))),COLUMNS($B$1:C5)),\"\")","v":""},{"$f":"IFERROR(INDEX($B$12:$H$111,(SMALL(IF(INDEX($B$12:$H$111,,$A$149)=$A$146,MATCH(ROW($B$12:$B$111),ROW($B$12:$B$111)),\"\"),ROWS($B$1:D5))),COLUMNS($B$1:D5)),\"\")","v":""},{"$f":"IFERROR(INDEX($B$12:$H$111,(SMALL(IF(INDEX($B$12:$H$111,,$A$149)=$A$146,MATCH(ROW($B$12:$B$111),ROW($B$12:$B$111)),\"\"),ROWS($B$1:E5))),COLUMNS($B$1:E5)),\"\")","v":""},{"$f":"IFERROR(INDEX($B$12:$H$111,(SMALL(IF(INDEX($B$12:$H$111,,$A$149)=$A$146,MATCH(ROW($B$12:$B$111),ROW($B$12:$B$111)),\"\"),ROWS($B$1:F5))),COLUMNS($B$1:F5)),\"\")","v":""},{"$f":"IFERROR(INDEX($B$12:$H$111,(SMALL(IF(INDEX($B$12:$H$111,,$A$149)=$A$146,MATCH(ROW($B$12:$B$111),ROW($B$12:$B$111)),\"\"),ROWS($B$1:G5))),COLUMNS($B$1:G5)),\"\")","v":""},{"$f":"IFERROR(INDEX($B$12:$H$111,(SMALL(IF(INDEX($B$12:$H$111,,$A$149)=$A$146,MATCH(ROW($B$12:$B$111),ROW($B$12:$B$111)),\"\"),ROWS($B$1:H5))),COLUMNS($B$1:H5)),\"\")","v":""},null,null,{"$f":"IFERROR(INDEX($K$12:$M$111,(SMALL(IF(INDEX($K$12:$M$111,,$A$149)=$A$146,MATCH(ROW($K$12:$K$111),ROW($K$12:$K$111)),\"\"),ROWS($B$1:B5))),COLUMNS($B$1:B5)),\"\")","v":""},{"$f":"IFERROR(INDEX($K$12:$M$111,(SMALL(IF(INDEX($K$12:$M$111,,$A$149)=$A$146,MATCH(ROW($K$12:$K$111),ROW($K$12:$K$111)),\"\"),ROWS($B$1:C5))),COLUMNS($B$1:C5)),\"\")","v":""},{"$f":"IFERROR(INDEX($K$12:$M$111,(SMALL(IF(INDEX($K$12:$M$111,,$A$149)=$A$146,MATCH(ROW($K$12:$K$111),ROW($K$12:$K$111)),\"\"),ROWS($B$1:D5))),COLUMNS($B$1:D5)),\"\")","v":""},null,null,{"$f":"IFERROR(INDEX($P$12:$R$111,(SMALL(IF(INDEX($P$12:$R$111,,$A$149)=$A$146,MATCH(ROW($P$12:$P$111),ROW($P$12:$P$111)),\"\"),ROWS($B$1:B5))),COLUMNS($B$1:B5)),\"\")","v":""},{"$f":"IFERROR(INDEX($P$12:$R$111,(SMALL(IF(INDEX($P$12:$R$111,,$A$149)=$A$146,MATCH(ROW($P$12:$P$111),ROW($P$12:$P$111)),\"\"),ROWS($B$1:C5))),COLUMNS($B$1:C5)),\"\")","v":""},{"$f":"IFERROR(INDEX($P$12:$R$111,(SMALL(IF(INDEX($P$12:$R$111,,$A$149)=$A$146,MATCH(ROW($P$12:$P$111),ROW($P$12:$P$111)),\"\"),ROWS($B$1:D5))),COLUMNS($B$1:D5)),\"\")","v":""}]
[6,{"$f":"IFERROR(INDEX($B$12:$H$111,(SMALL(IF(INDEX($B$12:$H$111,,$A$149)=$A$146,MATCH(ROW($B$12:$B$111),ROW($B$12:$B$111)),\"\"),ROWS($B$1:B6))),COLUMNS($B$1:B6)),\"\")","v":""},{"$f":"IFERROR(INDEX($B$12:$H$111,(SMALL(IF(INDEX($B$12:$H$111,,$A$149)=$A$146,MATCH(ROW($B$12:$B$111),ROW($B$12:$B$111)),\"\"),ROWS($B$1:C6))),COLUMNS($B$1:C6)),\"\")","v":""},{"$f":"IFERROR(INDEX($B$12:$H$111,(SMALL(IF(INDEX($B$12:$H$111,,$A$149)=$A$146,MATCH(ROW($B$12:$B$111),ROW($B$12:$B$111)),\"\"),ROWS($B$1:D6))),COLUMNS($B$1:D6)),\"\")","v":""},{"$f":"IFERROR(INDEX($B$12:$H$111,(SMALL(IF(INDEX($B$12:$H$111,,$A$149)=$A$146,MATCH(ROW($B$12:$B$111),ROW($B$12:$B$111)),\"\"),ROWS($B$1:E6))),COLUMNS($B$1:E6)),\"\")","v":""},{"$f":"IFERROR(INDEX($B$12:$H$111,(SMALL(IF(INDEX($B$12:$H$111,,$A$149)=$A$146,MATCH(ROW($B$12:$B$111),ROW($B$12:$B$111)),\"\"),ROWS($B$1:F6))),COLUMNS($B$1:F6)),\"\")","v":""},{"$f":"IFERROR(INDEX($B$12:$H$111,(SMALL(IF(INDEX($B$12:$H$111,,$A$149)=$A$146,MATCH(ROW($B$12:$B$111),ROW($B$12:$B$111)),\"\"),ROWS($B$1:G6))),COLUMNS($B$1:G6)),\"\")","v":""},{"$f":"IFERROR(INDEX($B$12:$H$111,(SMALL(IF(INDEX($B$12:$H$111,,$A$149)=$A$146,MATCH(ROW($B$12:$B$111),ROW($B$12:$B$111)),\"\"),ROWS($B$1:H6))),COLUMNS($B$1:H6)),\"\")","v":""},null,null,{"$f":"IFERROR(INDEX($K$12:$M$111,(SMALL(IF(INDEX($K$12:$M$111,,$A$149)=$A$146,MATCH(ROW($K$12:$K$111),ROW($K$12:$K$111)),\"\"),ROWS($B$1:B6))),COLUMNS($B$1:B6)),\"\")","v":""},{"$f":"IFERROR(INDEX($K$12:$M$111,(SMALL(IF(INDEX($K$12:$M$111,,$A$149)=$A$146,MATCH(ROW($K$12:$K$111),ROW($K$12:$K$111)),\"\"),ROWS($B$1:C6))),COLUMNS($B$1:C6)),\"\")","v":""},{"$f":"IFERROR(INDEX($K$12:$M$111,(SMALL(IF(INDEX($K$12:$M$111,,$A$149)=$A$146,MATCH(ROW($K$12:$K$111),ROW($K$12:$K$111)),\"\"),ROWS($B$1:D6))),COLUMNS($B$1:D6)),\"\")","v":""},null,null,{"$f":"IFERROR(INDEX($P$12:$R$111,(SMALL(IF(INDEX($P$12:$R$111,,$A$149)=$A$146,MATCH(ROW($P$12:$P$111),ROW($P$12:$P$111)),\"\"),ROWS($B$1:B6))),COLUMNS($B$1:B6)),\"\")","v":""},{"$f":"IFERROR(INDEX($P$12:$R$111,(SMALL(IF(INDEX($P$12:$R$111,,$A$149)=$A$146,MATCH(ROW($P$12:$P$111),ROW($P$12:$P$111)),\"\"),ROWS($B$1:C6))),COLUMNS($B$1:C6)),\"\")","v":""},{"$f":"IFERROR(INDEX($P$12:$R$111,(SMALL(IF(INDEX($P$12:$R$111,,$A$149)=$A$146,MATCH(ROW($P$12:$P$111),ROW($P$12:$P$111)),\"\"),ROWS($B$1:D6))),COLUMNS($B$1:D6)),\"\")","v":""}]
[7,{"$f":"IFERROR(INDEX($B$12:$H$111,(SMALL(IF(INDEX($B$12:$H$111,,$A$149)=$A$146,MATCH(ROW($B$12:$B$111),ROW($B$12:$B$111)),\"\"),ROWS($B$1:B7))),COLUMNS($B$1:B7)),\"\")","v":""},{"$f":"IFERROR(INDEX($B$12:$H$111,(SMALL(IF(INDEX($B$12:$H$111,,$A$149)=$A$146,MATCH(ROW($B$12:$B$111),ROW($B$12:$B$111)),\"\"),ROWS($B$1:C7))),COLUMNS($B$1:C7)),\"\")","v":""},{"$f":"IFERROR(INDEX($B$12:$H$111,(SMALL(IF(INDEX($B$12:$H$111,,$A$149)=$A$146,MATCH(ROW($B$12:$B$111),ROW($B$12:$B$111)),\"\"),ROWS($B$1:D7))),COLUMNS($B$1:D7)),\"\")","v":""},{"$f":"IFERROR(INDEX($B$12:$H$111,(SMALL(IF(INDEX($B$12:$H$111,,$A$149)=$A$146,MATCH(ROW($B$12:$B$111),ROW($B$12:$B$111)),\"\"),ROWS($B$1:E7))),COLUMNS($B$1:E7)),\"\")","v":""},{"$f":"IFERROR(INDEX($B$12:$H$111,(SMALL(IF(INDEX($B$12:$H$111,,$A$149)=$A$146,MATCH(ROW($B$12:$B$111),ROW($B$12:$B$111)),\"\"),ROWS($B$1:F7))),COLUMNS($B$1:F7)),\"\")","v":""},{"$f":"IFERROR(INDEX($B$12:$H$111,(SMALL(IF(INDEX($B$12:$H$111,,$A$149)=$A$146,MATCH(ROW($B$12:$B$111),ROW($B$12:$B$111)),\"\"),ROWS($B$1:G7))),COLUMNS($B$1:G7)),\"\")","v":""},{"$f":"IFERROR(INDEX($B$12:$H$111,(SMALL(IF(INDEX($B$12:$H$111,,$A$149)=$A$146,MATCH(ROW($B$12:$B$111),ROW($B$12:$B$111)),\"\"),ROWS($B$1:H7))),COLUMNS($B$1:H7)),\"\")","v":""},null,null,{"$f":"IFERROR(INDEX($K$12:$M$111,(SMALL(IF(INDEX($K$12:$M$111,,$A$149)=$A$146,MATCH(ROW($K$12:$K$111),ROW($K$12:$K$111)),\"\"),ROWS($B$1:B7))),COLUMNS($B$1:B7)),\"\")","v":""},{"$f":"IFERROR(INDEX($K$12:$M$111,(SMALL(IF(INDEX($K$12:$M$111,,$A$149)=$A$146,MATCH(ROW($K$12:$K$111),ROW($K$12:$K$111)),\"\"),ROWS($B$1:C7))),COLUMNS($B$1:C7)),\"\")","v":""},{"$f":"IFERROR(INDEX($K$12:$M$111,(SMALL(IF(INDEX($K$12:$M$111,,$A$149)=$A$146,MATCH(ROW($K$12:$K$111),ROW($K$12:$K$111)),\"\"),ROWS($B$1:D7))),COLUMNS($B$1:D7)),\"\")","v":""},null,null,{"$f":"IFERROR(INDEX($P$12:$R$111,(SMALL(IF(INDEX($P$12:$R$111,,$A$149)=$A$146,MATCH(ROW($P$12:$P$111),ROW($P$12:$P$111)),\"\"),ROWS($B$1:B7))),COLUMNS($B$1:B7)),\"\")","v":""},{"$f":"IFERROR(INDEX($P$12:$R$111,(SMALL(IF(INDEX($P$12:$R$111,,$A$149)=$A$146,MATCH(ROW($P$12:$P$111),ROW($P$12:$P$111)),\"\"),ROWS($B$1:C7))),COLUMNS($B$1:C7)),\"\")","v":""},{"$f":"IFERROR(INDEX($P$12:$R$111,(SMALL(IF(INDEX($P$12:$R$111,,$A$149)=$A$146,MATCH(ROW($P$12:$P$111),ROW($P$12:$P$111)),\"\"),ROWS($B$1:D7))),COLUMNS($B$1:D7)),\"\")","v":""}]
[8,{"$f":"IFERROR(INDEX($B$12:$H$111,(SMALL(IF(INDEX($B$12:$H$111,,$A$149)=$A$146,MATCH(ROW($B$12:$B$111),ROW($B$12:$B$111)),\"\"),ROWS($B$1:B8))),COLUMNS($B$1:B8)),\"\")","v":""},{"$f":"IFERROR(INDEX($B$12:$H$111,(SMALL(IF(INDEX($B$12:$H$111,,$A$149)=$A$146,MATCH(ROW($B$12:$B$111),ROW($B$12:$B$111)),\"\"),ROWS($B$1:C8))),COLUMNS($B$1:C8)),\"\")","v":""},{"$f":"IFERROR(INDEX($B$12:$H$111,(SMALL(IF(INDEX($B$12:$H$111,,$A$149)=$A$146,MATCH(ROW($B$12:$B$111),ROW($B$12:$B$111)),\"\"),ROWS($B$1:D8))),COLUMNS($B$1:D8)),\"\")","v":""},{"$f":"IFERROR(INDEX($B$12:$H$111,(SMALL(IF(INDEX($B$12:$H$111,,$A$149)=$A$146,MATCH(ROW($B$12:$B$111),ROW($B$12:$B$111)),\"\"),ROWS($B$1:E8))),COLUMNS($B$1:E8)),\"\")","v":""},{"$f":"IFERROR(INDEX($B$12:$H$111,(SMALL(IF(INDEX($B$12:$H$111,,$A$149)=$A$146,MATCH(ROW($B$12:$B$111),ROW($B$12:$B$111)),\"\"),ROWS($B$1:F8))),COLUMNS($B$1:F8)),\"\")","v":""},{"$f":"IFERROR(INDEX($B$12:$H$111,(SMALL(IF(INDEX($B$12:$H$111,,$A$149)=$A$146,MATCH(ROW($B$12:$B$111),ROW($B$12:$B$111)),\"\"),ROWS($B$1:G8))),COLUMNS($B$1:G8)),\"\")","v":""},{"$f":"IFERROR(INDEX($B$12:$H$111,(SMALL(IF(INDEX($B$12:$H$111,,$A$149)=$A$146,MATCH(ROW($B$12:$B$111),ROW($B$12:$B$111)),\"\"),ROWS($B$1:H8))),COLUMNS($B$1:H8)),\"\")","v":""},null,null,{"$f":"IFERROR(INDEX($K$12:$M$111,(SMALL(IF(INDEX($K$12:$M$111,,$A$149)=$A$146,MATCH(ROW($K$12:$K$111),ROW($K$12:$K$111)),\"\"),ROWS($B$1:B8))),COLUMNS($B$1:B8)),\"\")","v":""},{"$f":"IFERROR(INDEX($K$12:$M$111,(SMALL(IF(INDEX($K$12:$M$111,,$A$149)=$A$146,MATCH(ROW($K$12:$K$111),ROW($K$12:$K$111)),\"\"),ROWS($B$1:C8))),COLUMNS($B$1:C8)),\"\")","v":""},{"$f":"IFERROR(INDEX($K$12:$M$111,(SMALL(IF(INDEX($K$12:$M$111,,$A$149)=$A$146,MATCH(ROW($K$12:$K$111),ROW($K$12:$K$111)),\"\"),ROWS($B$1:D8))),COLUMNS($B$1:D8)),\"\")","v":""},null,null,{"$f":"IFERROR(INDEX($P$12:$R$111,(SMALL(IF(INDEX($P$12:$R$111,,$A$149)=$A$146,MATCH(ROW($P$12:$P$111),ROW($P$12:$P$111)),\"\"),ROWS($B$1:B8))),COLUMNS($B$1:B8)),\"\")","v":""},{"$f":"IFERROR(INDEX($P$12:$R$111,(SMALL(IF(INDEX($P$12:$R$111,,$A$149)=$A$146,MATCH(ROW($P$12:$P$111),ROW($P$12:$P$111)),\"\"),ROWS($B$1:C8))),COLUMNS($B$1:C8)),\"\")","v":""},{"$f":"IFERROR(INDEX($P$12:$R$111,(SMALL(IF(INDEX($P$12:$R$111,,$A$149)=$A$146,MATCH(ROW($P$12:$P$111),ROW($P$12:$P$111)),\"\"),ROWS($B$1:D8))),COLUMNS($B$1:D8)),\"\")","v":""}]
[9,{"$f":"IFERROR(INDEX($B$12:$H$111,(SMALL(IF(INDEX($B$12:$H$111,,$A$149)=$A$146,MATCH(ROW($B$12:$B$111),ROW($B$12:$B$111)),\"\"),ROWS($B$1:B9))),COLUMNS($B$1:B9)),\"\")","v":""},{"$f":"IFERROR(INDEX($B$12:$H$111,(SMALL(IF(INDEX($B$12:$H$111,,$A$149)=$A$146,MATCH(ROW($B$12:$B$111),ROW($B$12:$B$111)),\"\"),ROWS($B$1:C9))),COLUMNS($B$1:C9)),\"\")","v":""},{"$f":"IFERROR(INDEX($B$12:$H$111,(SMALL(IF(INDEX($B$12:$H$111,,$A$149)=$A$146,MATCH(ROW($B$12:$B$111),ROW($B$12:$B$111)),\"\"),ROWS($B$1:D9))),COLUMNS($B$1:D9)),\"\")","v":""},{"$f":"IFERROR(INDEX($B$12:$H$111,(SMALL(IF(INDEX($B$12:$H$111,,$A$149)=$A$146,MATCH(ROW($B$12:$B$111),ROW($B$12:$B$111)),\"\"),ROWS($B$1:E9))),COLUMNS($B$1:E9)),\"\")","v":""},{"$f":"IFERROR(INDEX($B$12:$H$111,(SMALL(IF(INDEX($B$12:$H$111,,$A$149)=$A$146,MATCH(ROW($B$12:$B$111),ROW($B$12:$B$111)),\"\"),ROWS($B$1:F9))),COLUMNS($B$1:F9)),\"\")","v":""},{"$f":"IFERROR(INDEX($B$12:$H$111,(SMALL(IF(INDEX($B$12:$H$111,,$A$149)=$A$146,MATCH(ROW($B$12:$B$111),ROW($B$12:$B$111)),\"\"),ROWS($B$1:G9))),COLUMNS($B$1:G9)),\"\")","v":""},{"$f":"IFERROR(INDEX($B$12:$H$111,(SMALL(IF(INDEX($B$12:$H$111,,$A$149)=$A$146,MATCH(ROW($B$12:$B$111),ROW($B$12:$B$111)),\"\"),ROWS($B$1:H9))),COLUMNS($B$1:H9)),\"\")","v":""},null,null,{"$f":"IFERROR(INDEX($K$12:$M$111,(SMALL(IF(INDEX($K$12:$M$111,,$A$149)=$A$146,MATCH(ROW($K$12:$K$111),ROW($K$12:$K$111)),\"\"),ROWS($B$1:B9))),COLUMNS($B$1:B9)),\"\")","v":""},{"$f":"IFERROR(INDEX($K$12:$M$111,(SMALL(IF(INDEX($K$12:$M$111,,$A$149)=$A$146,MATCH(ROW($K$12:$K$111),ROW($K$12:$K$111)),\"\"),ROWS($B$1:C9))),COLUMNS($B$1:C9)),\"\")","v":""},{"$f":"IFERROR(INDEX($K$12:$M$111,(SMALL(IF(INDEX($K$12:$M$111,,$A$149)=$A$146,MATCH(ROW($K$12:$K$111),ROW($K$12:$K$111)),\"\"),ROWS($B$1:D9))),COLUMNS($B$1:D9)),\"\")","v":""},null,null,{"$f":"IFERROR(INDEX($P$12:$R$111,(SMALL(IF(INDEX($P$12:$R$111,,$A$149)=$A$146,MATCH(ROW($P$12:$P$111),ROW($P$12:$P$111)),\"\"),ROWS($B$1:B9))),COLUMNS($B$1:B9)),\"\")","v":""},{"$f":"IFERROR(INDEX($P$12:$R$111,(SMALL(IF(INDEX($P$12:$R$111,,$A$149)=$A$146,MATCH(ROW($P$12:$P$111),ROW($P$12:$P$111)),\"\"),ROWS($B$1:C9))),COLUMNS($B$1:C9)),\"\")","v":""},{"$f":"IFERROR(INDEX($P$12:$R$111,(SMALL(IF(INDEX($P$12:$R$111,,$A$149)=$A$146,MATCH(ROW($P$12:$P$111),ROW($P$12:$P$111)),\"\"),ROWS($B$1:D9))),COLUMNS($B$1:D9)),\"\")","v":""}]
[10,{"$f":"IFERROR(INDEX($B$12:$H$111,(SMALL(IF(INDEX($B$12:$H$111,,$A$149)=$A$146,MATCH(ROW($B$12:$B$111),ROW($B$12:$B$111)),\"\"),ROWS($B$1:B10))),COLUMNS($B$1:B10)),\"\")","v":""},{"$f":"IFERROR(INDEX($B$12:$H$111,(SMALL(IF(INDEX($B$12:$H$111,,$A$149)=$A$146,MATCH(ROW($B$12:$B$111),ROW($B$12:$B$111)),\"\"),ROWS($B$1:C10))),COLUMNS($B$1:C10)),\"\")","v":""},{"$f":"IFERROR(INDEX($B$12:$H$111,(SMALL(IF(INDEX($B$12:$H$111,,$A$149)=$A$146,MATCH(ROW($B$12:$B$111),ROW($B$12:$B$111)),\"\"),ROWS($B$1:D10))),COLUMNS($B$1:D10)),\"\")","v":""},{"$f":"IFERROR(INDEX($B$12:$H$111,(SMALL(IF(INDEX($B$12:$H$111,,$A$149)=$A$146,MATCH(ROW($B$12:$B$111),ROW($B$12:$B$111)),\"\"),ROWS($B$1:E10))),COLUMNS($B$1:E10)),\"\")","v":""},{"$f":"IFERROR(INDEX($B$12:$H$111,(SMALL(IF(INDEX($B$12:$H$111,,$A$149)=$A$146,MATCH(ROW($B$12:$B$111),ROW($B$12:$B$111)),\"\"),ROWS($B$1:F10))),COLUMNS($B$1:F10)),\"\")","v":""},{"$f":"IFERROR(INDEX($B$12:$H$111,(SMALL(IF(INDEX($B$12:$H$111,,$A$149)=$A$146,MATCH(ROW($B$12:$B$111),ROW($B$12:$B$111)),\"\"),ROWS($B$1:G10))),COLUMNS($B$1:G10)),\"\")","v":""},{"$f":"IFERROR(INDEX($B$12:$H$111,(SMALL(IF(INDEX($B$12:$H$111,,$A$149)=$A$146,MATCH(ROW($B$12:$B$111),ROW($B$12:$B$111)),\"\"),ROWS($B$1:H10))),COLUMNS($B$1:H10)),\"\")","v":""},null,null,{"$f":"IFERROR(INDEX($K$12:$M$111,(SMALL(IF(INDEX($K$12:$M$111,,$A$149)=$A$146,MATCH(ROW($K$12:$K$111),ROW($K$12:$K$111)),\"\"),ROWS($B$1:B10))),COLUMNS($B$1:B10)),\"\")","v":""},{"$f":"IFERROR(INDEX($K$12:$M$111,(SMALL(IF(INDEX($K$12:$M$111,,$A$149)=$A$146,MATCH(ROW($K$12:$K$111),ROW($K$12:$K$111)),\"\"),ROWS($B$1:C10))),COLUMNS($B$1:C10)),\"\")","v":""},{"$f":"IFERROR(INDEX($K$12:$M$111,(SMALL(IF(INDEX($K$12:$M$111,,$A$149)=$A$146,MATCH(ROW($K$12:$K$111),ROW($K$12:$K$111)),\"\"),ROWS($B$1:D10))),COLUMNS($B$1:D10)),\"\")","v":""},null,null,{"$f":"IFERROR(INDEX($P$12:$R$111,(SMALL(IF(INDEX($P$12:$R$111,,$A$149)=$A$146,MATCH(ROW($P$12:$P$111),ROW($P$12:$P$111)),\"\"),ROWS($B$1:B10))),COLUMNS($B$1:B10)),\"\")","v":""},{"$f":"IFERROR(INDEX($P$12:$R$111,(SMALL(IF(INDEX($P$12:$R$111,,$A$149)=$A$146,MATCH(ROW($P$12:$P$111),ROW($P$12:$P$111)),\"\"),ROWS($B$1:C10))),COLUMNS($B$1:C10)),\"\")","v":""},{"$f":"IFERROR(INDEX($P$12:$R$111,(SMALL(IF(INDEX($P$12:$R$111,,$A$149)=$A$146,MATCH(ROW($P$12:$P$111),ROW($P$12:$P$111)),\"\"),ROWS($B$1:D10))),COLUMNS($B$1:D10)),\"\")","v":""}]
[11,{"$f":"IFERROR(INDEX($B$12:$H$111,(SMALL(IF(INDEX($B$12:$H$111,,$A$149)=$A$146,MATCH(ROW($B$12:$B$111),ROW($B$12:$B$111)),\"\"),ROWS($B$1:B11))),COLUMNS($B$1:B11)),\"\")","v":""},{"$f":"IFERROR(INDEX($B$12:$H$111,(SMALL(IF(INDEX($B$12:$H$111,,$A$149)=$A$146,MATCH(ROW($B$12:$B$111),ROW($B$12:$B$111)),\"\"),ROWS($B$1:C11))),COLUMNS($B$1:C11)),\"\")","v":""},{"$f":"IFERROR(INDEX($B$12:$H$111,(SMALL(IF(INDEX($B$12:$H$111,,$A$149)=$A$146,MATCH(ROW($B$12:$B$111),ROW($B$12:$B$111)),\"\"),ROWS($B$1:D11))),COLUMNS($B$1:D11)),\"\")","v":""},{"$f":"IFERROR(INDEX($B$12:$H$111,(SMALL(IF(INDEX($B$12:$H$111,,$A$149)=$A$146,MATCH(ROW($B$12:$B$111),ROW($B$12:$B$111)),\"\"),ROWS($B$1:E11))),COLUMNS($B$1:E11)),\"\")","v":""},{"$f":"IFERROR(INDEX($B$12:$H$111,(SMALL(IF(INDEX($B$12:$H$111,,$A$149)=$A$146,MATCH(ROW($B$12:$B$111),ROW($B$12:$B$111)),\"\"),ROWS($B$1:F11))),COLUMNS($B$1:F11)),\"\")","v":""},{"$f":"IFERROR(INDEX($B$12:$H$111,(SMALL(IF(INDEX($B$12:$H$111,,$A$149)=$A$146,MATCH(ROW($B$12:$B$111),ROW($B$12:$B$111)),\"\"),ROWS($B$1:G11))),COLUMNS($B$1:G11)),\"\")","v":""},{"$f":"IFERROR(INDEX($B$12:$H$111,(SMALL(IF(INDEX($B$12:$H$111,,$A$149)=$A$146,MATCH(ROW($B$12:$B$111),ROW($B$12:$B$111)),\"\"),ROWS($B$1:H11))),COLUMNS($B$1:H11)),\"\")","v":""},null,null,{"$f":"IFERROR(INDEX($K$12:$M$111,(SMALL(IF(INDEX($K$12:$M$111,,$A$149)=$A$146,MATCH(ROW($K$12:$K$111),ROW($K$12:$K$111)),\"\"),ROWS($B$1:B11))),COLUMNS($B$1:B11)),\"\")","v":""},{"$f":"IFERROR(INDEX($K$12:$M$111,(SMALL(IF(INDEX($K$12:$M$111,,$A$149)=$A$146,MATCH(ROW($K$12:$K$111),ROW($K$12:$K$111)),\"\"),ROWS($B$1:C11))),COLUMNS($B$1:C11)),\"\")","v":""},{"$f":"IFERROR(INDEX($K$12:$M$111,(SMALL(IF(INDEX($K$12:$M$111,,$A$149)=$A$146,MATCH(ROW($K$12:$K$111),ROW($K$12:$K$111)),\"\"),ROWS($B$1:D11))),COLUMNS($B$1:D11)),\"\")","v":""},null,null,{"$f":"IFERROR(INDEX($P$12:$R$111,(SMALL(IF(INDEX($P$12:$R$111,,$A$149)=$A$146,MATCH(ROW($P$12:$P$111),ROW($P$12:$P$111)),\"\"),ROWS($B$1:B11))),COLUMNS($B$1:B11)),\"\")","v":""},{"$f":"IFERROR(INDEX($P$12:$R$111,(SMALL(IF(INDEX($P$12:$R$111,,$A$149)=$A$146,MATCH(ROW($P$12:$P$111),ROW($P$12:$P$111)),\"\"),ROWS($B$1:C11))),COLUMNS($B$1:C11)),\"\")","v":""},{"$f":"IFERROR(INDEX($P$12:$R$111,(SMALL(IF(INDEX($P$12:$R$111,,$A$149)=$A$146,MATCH(ROW($P$12:$P$111),ROW($P$12:$P$111)),\"\"),ROWS($B$1:D11))),COLUMNS($B$1:D11)),\"\")","v":""}]
[12,{"$f":"IFERROR(INDEX($B$12:$H$111,(SMALL(IF(INDEX($B$12:$H$111,,$A$149)=$A$146,MATCH(ROW($B$12:$B$111),ROW($B$12:$B$111)),\"\"),ROWS($B$1:B12))),COLUMNS($B$1:B12)),\"\")","v":""},{"$f":"IFERROR(INDEX($B$12:$H$111,(SMALL(IF(INDEX($B$12:$H$111,,$A$149)=$A$146,MATCH(ROW($B$12:$B$111),ROW($B$12:$B$111)),\"\"),ROWS($B$1:C12))),COLUMNS($B$1:C12)),\"\")","v":""},{"$f":"IFERROR(INDEX($B$12:$H$111,(SMALL(IF(INDEX($B$12:$H$111,,$A$149)=$A$146,MATCH(ROW($B$12:$B$111),ROW($B$12:$B$111)),\"\"),ROWS($B$1:D12))),COLUMNS($B$1:D12)),\"\")","v":""},{"$f":"IFERROR(INDEX($B$12:$H$111,(SMALL(IF(INDEX($B$12:$H$111,,$A$149)=$A$146,MATCH(ROW($B$12:$B$111),ROW($B$12:$B$111)),\"\"),ROWS($B$1:E12))),COLUMNS($B$1:E12)),\"\")","v":""},{"$f":"IFERROR(INDEX($B$12:$H$111,(SMALL(IF(INDEX($B$12:$H$111,,$A$149)=$A$146,MATCH(ROW($B$12:$B$111),ROW($B$12:$B$111)),\"\"),ROWS($B$1:F12))),COLUMNS($B$1:F12)),\"\")","v":""},{"$f":"IFERROR(INDEX($B$12:$H$111,(SMALL(IF(INDEX($B$12:$H$111,,$A$149)=$A$146,MATCH(ROW($B$12:$B$111),ROW($B$12:$B$111)),\"\"),ROWS($B$1:G12))),COLUMNS($B$1:G12)),\"\")","v":""},{"$f":"IFERROR(INDEX($B$12:$H$111,(SMALL(IF(INDEX($B$12:$H$111,,$A$149)=$A$146,MATCH(ROW($B$12:$B$111),ROW($B$12:$B$111)),\"\"),ROWS($B$1:H12))),COLUMNS($B$1:H12)),\"\")","v":""},null,null,{"$f":"IFERROR(INDEX($K$12:$M$111,(SMALL(IF(INDEX($K$12:$M$111,,$A$149)=$A$146,MATCH(ROW($K$12:$K$111),ROW($K$12:$K$111)),\"\"),ROWS($B$1:B12))),COLUMNS($B$1:B12)),\"\")","v":""},{"$f":"IFERROR(INDEX($K$12:$M$111,(SMALL(IF(INDEX($K$12:$M$111,,$A$149)=$A$146,MATCH(ROW($K$12:$K$111),ROW($K$12:$K$111)),\"\"),ROWS($B$1:C12))),COLUMNS($B$1:C12)),\"\")","v":""},{"$f":"IFERROR(INDEX($K$12:$M$111,(SMALL(IF(INDEX($K$12:$M$111,,$A$149)=$A$146,MATCH(ROW($K$12:$K$111),ROW($K$12:$K$111)),\"\"),ROWS($B$1:D12))),COLUMNS($B$1:D12)),\"\")","v":""},null,null,{"$f":"IFERROR(INDEX($P$12:$R$111,(SMALL(IF(INDEX($P$12:$R$111,,$A$149)=$A$146,MATCH(ROW($P$12:$P$111),ROW($P$12:$P$111)),\"\"),ROWS($B$1:B12))),COLUMNS($B$1:B12)),\"\")","v":""},{"$f":"IFERROR(INDEX($P$12:$R$111,(SMALL(IF(INDEX($P$12:$R$111,,$A$149)=$A$146,MATCH(ROW($P$12:$P$111),ROW($P$12:$P$111)),\"\"),ROWS($B$1:C12))),COLUMNS($B$1:C12)),\"\")","v":""},{"$f":"IFERROR(INDEX($P$12:$R$111,(SMALL(IF(INDEX($P$12:$R$111,,$A$149)=$A$146,MATCH(ROW($P$12:$P$111),ROW($P$12:$P$111)),\"\"),ROWS($B$1:D12))),COLUMNS($B$1:D12)),\"\")","v":""}]
[13,{"$f":"IFERROR(INDEX($B$12:$H$111,(SMALL(IF(INDEX($B$12:$H$111,,$A$149)=$A$146,MATCH(ROW($B$12:$B$111),ROW($B$12:$B$111)),\"\"),ROWS($B$1:B13))),COLUMNS($B$1:B13)),\"\")","v":""},{"$f":"IFERROR(INDEX($B$12:$H$111,(SMALL(IF(INDEX($B$12:$H$111,,$A$149)=$A$146,MATCH(ROW($B$12:$B$111),ROW($B$12:$B$111)),\"\"),ROWS($B$1:C13))),COLUMNS($B$1:C13)),\"\")","v":""},{"$f":"IFERROR(INDEX($B$12:$H$111,(SMALL(IF(INDEX($B$12:$H$111,,$A$149)=$A$146,MATCH(ROW($B$12:$B$111),ROW($B$12:$B$111)),\"\"),ROWS($B$1:D13))),COLUMNS($B$1:D13)),\"\")","v":""},{"$f":"IFERROR(INDEX($B$12:$H$111,(SMALL(IF(INDEX($B$12:$H$111,,$A$149)=$A$146,MATCH(ROW($B$12:$B$111),ROW($B$12:$B$111)),\"\"),ROWS($B$1:E13))),COLUMNS($B$1:E13)),\"\")","v":""},{"$f":"IFERROR(INDEX($B$12:$H$111,(SMALL(IF(INDEX($B$12:$H$111,,$A$149)=$A$146,MATCH(ROW($B$12:$B$111),ROW($B$12:$B$111)),\"\"),ROWS($B$1:F13))),COLUMNS($B$1:F13)),\"\")","v":""},{"$f":"IFERROR(INDEX($B$12:$H$111,(SMALL(IF(INDEX($B$12:$H$111,,$A$149)=$A$146,MATCH(ROW($B$12:$B$111),ROW($B$12:$B$111)),\"\"),ROWS($B$1:G13))),COLUMNS($B$1:G13)),\"\")","v":""},{"$f":"IFERROR(INDEX($B$12:$H$111,(SMALL(IF(INDEX($B$12:$H$111,,$A$149)=$A$146,MATCH(ROW($B$12:$B$111),ROW($B$12:$B$111)),\"\"),ROWS($B$1:H13))),COLUMNS($B$1:H13)),\"\")","v":""},null,null,{"$f":"IFERROR(INDEX($K$12:$M$111,(SMALL(IF(INDEX($K$12:$M$111,,$A$149)=$A$146,MATCH(ROW($K$12:$K$111),ROW($K$12:$K$111)),\"\"),ROWS($B$1:B13))),COLUMNS($B$1:B13)),\"\")","v":""},{"$f":"IFERROR(INDEX($K$12:$M$111,(SMALL(IF(INDEX($K$12:$M$111,,$A$149)=$A$146,MATCH(ROW($K$12:$K$111),ROW($K$12:$K$111)),\"\"),ROWS($B$1:C13))),COLUMNS($B$1:C13)),\"\")","v":""},{"$f":"IFERROR(INDEX($K$12:$M$111,(SMALL(IF(INDEX($K$12:$M$111,,$A$149)=$A$146,MATCH(ROW($K$12:$K$111),ROW($K$12:$K$111)),\"\"),ROWS($B$1:D13))),COLUMNS($B$1:D13)),\"\")","v":""},null,null,{"$f":"IFERROR(INDEX($P$12:$R$111,(SMALL(IF(INDEX($P$12:$R$111,,$A$149)=$A$146,MATCH(ROW($P$12:$P$111),ROW($P$12:$P$111)),\"\"),ROWS($B$1:B13))),COLUMNS($B$1:B13)),\"\")","v":""},{"$f":"IFERROR(INDEX($P$12:$R$111,(SMALL(IF(INDEX($P$12:$R$111,,$A$149)=$A$146,MATCH(ROW($P$12:$P$111),ROW($P$12:$P$111)),\"\"),ROWS($B$1:C13))),COLUMNS($B$1:C13)),\"\")","v":""},{"$f":"IFERROR(INDEX($P$12:$R$111,(SMALL(IF(INDEX($P$12:$R$111,,$A$149)=$A$146,MATCH(ROW($P$12:$P$111),ROW($P$12:$P$111)),\"\"),ROWS($B$1:D13))),COLUMNS($B$1:D13)),\"\")","v":""}]
[14,{"$f":"IFERROR(INDEX($B$12:$H$111,(SMALL(IF(INDEX($B$12:$H$111,,$A$149)=$A$146,MATCH(ROW($B$12:$B$111),ROW($B$12:$B$111)),\"\"),ROWS($B$1:B14))),COLUMNS($B$1:B14)),\"\")","v":""},{"$f":"IFERROR(INDEX($B$12:$H$111,(SMALL(IF(INDEX($B$12:$H$111,,$A$149)=$A$146,MATCH(ROW($B$12:$B$111),ROW($B$12:$B$111)),\"\"),ROWS($B$1:C14))),COLUMNS($B$1:C14)),\"\")","v":""},{"$f":"IFERROR(INDEX($B$12:$H$111,(SMALL(IF(INDEX($B$12:$H$111,,$A$149)=$A$146,MATCH(ROW($B$12:$B$111),ROW($B$12:$B$111)),\"\"),ROWS($B$1:D14))),COLUMNS($B$1:D14)),\"\")","v":""},{"$f":"IFERROR(INDEX($B$12:$H$111,(SMALL(IF(INDEX($B$12:$H$111,,$A$149)=$A$146,MATCH(ROW($B$12:$B$111),ROW($B$12:$B$111)),\"\"),ROWS($B$1:E14))),COLUMNS($B$1:E14)),\"\")","v":""},{"$f":"IFERROR(INDEX($B$12:$H$111,(SMALL(IF(INDEX($B$12:$H$111,,$A$149)=$A$146,MATCH(ROW($B$12:$B$111),ROW($B$12:$B$111)),\"\"),ROWS($B$1:F14))),COLUMNS($B$1:F14)),\"\")","v":""},{"$f":"IFERROR(INDEX($B$12:$H$111,(SMALL(IF(INDEX($B$12:$H$111,,$A$149)=$A$146,MATCH(ROW($B$12:$B$111),ROW($B$12:$B$111)),\"\"),ROWS($B$1:G14))),COLUMNS($B$1:G14)),\"\")","v":""},{"$f":"IFERROR(INDEX($B$12:$H$111,(SMALL(IF(INDEX($B$12:$H$111,,$A$149)=$A$146,MATCH(ROW($B$12:$B$111),ROW($B$12:$B$111)),\"\"),ROWS($B$1:H14))),COLUMNS($B$1:H14)),\"\")","v":""},null,null,{"$f":"IFERROR(INDEX($K$12:$M$111,(SMALL(IF(INDEX($K$12:$M$111,,$A$149)=$A$146,MATCH(ROW($K$12:$K$111),ROW($K$12:$K$111)),\"\"),ROWS($B$1:B14))),COLUMNS($B$1:B14)),\"\")","v":""},{"$f":"IFERROR(INDEX($K$12:$M$111,(SMALL(IF(INDEX($K$12:$M$111,,$A$149)=$A$146,MATCH(ROW($K$12:$K$111),ROW($K$12:$K$111)),\"\"),ROWS($B$1:C14))),COLUMNS($B$1:C14)),\"\")","v":""},{"$f":"IFERROR(INDEX($K$12:$M$111,(SMALL(IF(INDEX($K$12:$M$111,,$A$149)=$A$146,MATCH(ROW($K$12:$K$111),ROW($K$12:$K$111)),\"\"),ROWS($B$1:D14))),COLUMNS($B$1:D14)),\"\")","v":""},null,null,{"$f":"IFERROR(INDEX($P$12:$R$111,(SMALL(IF(INDEX($P$12:$R$111,,$A$149)=$A$146,MATCH(ROW($P$12:$P$111),ROW($P$12:$P$111)),\"\"),ROWS($B$1:B14))),COLUMNS($B$1:B14)),\"\")","v":""},{"$f":"IFERROR(INDEX($P$12:$R$111,(SMALL(IF(INDEX($P$12:$R$111,,$A$149)=$A$146,MATCH(ROW($P$12:$P$111),ROW($P$12:$P$111)),\"\"),ROWS($B$1:C14))),COLUMNS($B$1:C14)),\"\")","v":""},{"$f":"IFERROR(INDEX($P$12:$R$111,(SMALL(IF(INDEX($P$12:$R$111,,$A$149)=$A$146,MATCH(ROW($P$12:$P$111),ROW($P$12:$P$111)),\"\"),ROWS($B$1:D14))),COLUMNS($B$1:D14)),\"\")","v":""}]
[15,{"$f":"IFERROR(INDEX($B$12:$H$111,(SMALL(IF(INDEX($B$12:$H$111,,$A$149)=$A$146,MATCH(ROW($B$12:$B$111),ROW($B$12:$B$111)),\"\"),ROWS($B$1:B15))),COLUMNS($B$1:B15)),\"\")","v":""},{"$f":"IFERROR(INDEX($B$12:$H$111,(SMALL(IF(INDEX($B$12:$H$111,,$A$149)=$A$146,MATCH(ROW($B$12:$B$111),ROW($B$12:$B$111)),\"\"),ROWS($B$1:C15))),COLUMNS($B$1:C15)),\"\")","v":""},{"$f":"IFERROR(INDEX($B$12:$H$111,(SMALL(IF(INDEX($B$12:$H$111,,$A$149)=$A$146,MATCH(ROW($B$12:$B$111),ROW($B$12:$B$111)),\"\"),ROWS($B$1:D15))),COLUMNS($B$1:D15)),\"\")","v":""},{"$f":"IFERROR(INDEX($B$12:$H$111,(SMALL(IF(INDEX($B$12:$H$111,,$A$149)=$A$146,MATCH(ROW($B$12:$B$111),ROW($B$12:$B$111)),\"\"),ROWS($B$1:E15))),COLUMNS($B$1:E15)),\"\")","v":""},{"$f":"IFERROR(INDEX($B$12:$H$111,(SMALL(IF(INDEX($B$12:$H$111,,$A$149)=$A$146,MATCH(ROW($B$12:$B$111),ROW($B$12:$B$111)),\"\"),ROWS($B$1:F15))),COLUMNS($B$1:F15)),\"\")","v":""},{"$f":"IFERROR(INDEX($B$12:$H$111,(SMALL(IF(INDEX($B$12:$H$111,,$A$149)=$A$146,MATCH(ROW($B$12:$B$111),ROW($B$12:$B$111)),\"\"),ROWS($B$1:G15))),COLUMNS($B$1:G15)),\"\")","v":""},{"$f":"IFERROR(INDEX($B$12:$H$111,(SMALL(IF(INDEX($B$12:$H$111,,$A$149)=$A$146,MATCH(ROW($B$12:$B$111),ROW($B$12:$B$111)),\"\"),ROWS($B$1:H15))),COLUMNS($B$1:H15)),\"\")","v":""},null,null,{"$f":"IFERROR(INDEX($K$12:$M$111,(SMALL(IF(INDEX($K$12:$M$111,,$A$149)=$A$146,MATCH(ROW($K$12:$K$111),ROW($K$12:$K$111)),\"\"),ROWS($B$1:B15))),COLUMNS($B$1:B15)),\"\")","v":""},{"$f":"IFERROR(INDEX($K$12:$M$111,(SMALL(IF(INDEX($K$12:$M$111,,$A$149)=$A$146,MATCH(ROW($K$12:$K$111),ROW($K$12:$K$111)),\"\"),ROWS($B$1:C15))),COLUMNS($B$1:C15)),\"\")","v":""},{"$f":"IFERROR(INDEX($K$12:$M$111,(SMALL(IF(INDEX($K$12:$M$111,,$A$149)=$A$146,MATCH(ROW($K$12:$K$111),ROW($K$12:$K$111)),\"\"),ROWS($B$1:D15))),COLUMNS($B$1:D15)),\"\")","v":""},null,null,{"$f":"IFERROR(INDEX($P$12:$R$111,(SMALL(IF(INDEX($P$12:$R$111,,$A$149)=$A$146,MATCH(ROW($P$12:$P$111),ROW($P$12:$P$111)),\"\"),ROWS($B$1:B15))),COLUMNS($B$1:B15)),\"\")","v":""},{"$f":"IFERROR(INDEX($P$12:$R$111,(SMALL(IF(INDEX($P$12:$R$111,,$A$149)=$A$146,MATCH(ROW($P$12:$P$111),ROW($P$12:$P$111)),\"\"),ROWS($B$1:C15))),COLUMNS($B$1:C15)),\"\")","v":""},{"$f":"IFERROR(INDEX($P$12:$R$111,(SMALL(IF(INDEX($P$12:$R$111,,$A$149)=$A$146,MATCH(ROW($P$12:$P$111),ROW($P$12:$P$111)),\"\"),ROWS($B$1:D15))),COLUMNS($B$1:D15)),\"\")","v":""}]
[16,{"$f":"IFERROR(INDEX($B$12:$H$111,(SMALL(IF(INDEX($B$12:$H$111,,$A$149)=$A$146,MATCH(ROW($B$12:$B$111),ROW($B$12:$B$111)),\"\"),ROWS($B$1:B16))),COLUMNS($B$1:B16)),\"\")","v":""},{"$f":"IFERROR(INDEX($B$12:$H$111,(SMALL(IF(INDEX($B$12:$H$111,,$A$149)=$A$146,MATCH(ROW($B$12:$B$111),ROW($B$12:$B$111)),\"\"),ROWS($B$1:C16))),COLUMNS($B$1:C16)),\"\")","v":""},{"$f":"IFERROR(INDEX($B$12:$H$111,(SMALL(IF(INDEX($B$12:$H$111,,$A$149)=$A$146,MATCH(ROW($B$12:$B$111),ROW($B$12:$B$111)),\"\"),ROWS($B$1:D16))),COLUMNS($B$1:D16)),\"\")","v":""},{"$f":"IFERROR(INDEX($B$12:$H$111,(SMALL(IF(INDEX($B$12:$H$111,,$A$149)=$A$146,MATCH(ROW($B$12:$B$111),ROW($B$12:$B$111)),\"\"),ROWS($B$1:E16))),COLUMNS($B$1:E16)),\"\")","v":""},{"$f":"IFERROR(INDEX($B$12:$H$111,(SMALL(IF(INDEX($B$12:$H$111,,$A$149)=$A$146,MATCH(ROW($B$12:$B$111),ROW($B$12:$B$111)),\"\"),ROWS($B$1:F16))),COLUMNS($B$1:F16)),\"\")","v":""},{"$f":"IFERROR(INDEX($B$12:$H$111,(SMALL(IF(INDEX($B$12:$H$111,,$A$149)=$A$146,MATCH(ROW($B$12:$B$111),ROW($B$12:$B$111)),\"\"),ROWS($B$1:G16))),COLUMNS($B$1:G16)),\"\")","v":""},{"$f":"IFERROR(INDEX($B$12:$H$111,(SMALL(IF(INDEX($B$12:$H$111,,$A$149)=$A$146,MATCH(ROW($B$12:$B$111),ROW($B$12:$B$111)),\"\"),ROWS($B$1:H16))),COLUMNS($B$1:H16)),\"\")","v":""},null,null,{"$f":"IFERROR(INDEX($K$12:$M$111,(SMALL(IF(INDEX($K$12:$M$111,,$A$149)=$A$146,MATCH(ROW($K$12:$K$111),ROW($K$12:$K$111)),\"\"),ROWS($B$1:B16))),COLUMNS($B$1:B16)),\"\")","v":""},{"$f":"IFERROR(INDEX($K$12:$M$111,(SMALL(IF(INDEX($K$12:$M$111,,$A$149)=$A$146,MATCH(ROW($K$12:$K$111),ROW($K$12:$K$111)),\"\"),ROWS($B$1:C16))),COLUMNS($B$1:C16)),\"\")","v":""},{"$f":"IFERROR(INDEX($K$12:$M$111,(SMALL(IF(INDEX($K$12:$M$111,,$A$149)=$A$146,MATCH(ROW($K$12:$K$111),ROW($K$12:$K$111)),\"\"),ROWS($B$1:D16))),COLUMNS($B$1:D16)),\"\")","v":""},null,null,{"$f":"IFERROR(INDEX($P$12:$R$111,(SMALL(IF(INDEX($P$12:$R$111,,$A$149)=$A$146,MATCH(ROW($P$12:$P$111),ROW($P$12:$P$111)),\"\"),ROWS($B$1:B16))),COLUMNS($B$1:B16)),\"\")","v":""},{"$f":"IFERROR(INDEX($P$12:$R$111,(SMALL(IF(INDEX($P$12:$R$111,,$A$149)=$A$146,MATCH(ROW($P$12:$P$111),ROW($P$12:$P$111)),\"\"),ROWS($B$1:C16))),COLUMNS($B$1:C16)),\"\")","v":""},{"$f":"IFERROR(INDEX($P$12:$R$111,(SMALL(IF(INDEX($P$12:$R$111,,$A$149)=$A$146,MATCH(ROW($P$12:$P$111),ROW($P$12:$P$111)),\"\"),ROWS($B$1:D16))),COLUMNS($B$1:D16)),\"\")","v":""}]
[17,{"$f":"IFERROR(INDEX($B$12:$H$111,(SMALL(IF(INDEX($B$12:$H$111,,$A$149)=$A$146,MATCH(ROW($B$12:$B$111),ROW($B$12:$B$111)),\"\"),ROWS($B$1:B17))),COLUMNS($B$1:B17)),\"\")","v":""},{"$f":"IFERROR(INDEX($B$12:$H$111,(SMALL(IF(INDEX($B$12:$H$111,,$A$149)=$A$146,MATCH(ROW($B$12:$B$111),ROW($B$12:$B$111)),\"\"),ROWS($B$1:C17))),COLUMNS($B$1:C17)),\"\")","v":""},{"$f":"IFERROR(INDEX($B$12:$H$111,(SMALL(IF(INDEX($B$12:$H$111,,$A$149)=$A$146,MATCH(ROW($B$12:$B$111),ROW($B$12:$B$111)),\"\"),ROWS($B$1:D17))),COLUMNS($B$1:D17)),\"\")","v":""},{"$f":"IFERROR(INDEX($B$12:$H$111,(SMALL(IF(INDEX($B$12:$H$111,,$A$149)=$A$146,MATCH(ROW($B$12:$B$111),ROW($B$12:$B$111)),\"\"),ROWS($B$1:E17))),COLUMNS($B$1:E17)),\"\")","v":""},{"$f":"IFERROR(INDEX($B$12:$H$111,(SMALL(IF(INDEX($B$12:$H$111,,$A$149)=$A$146,MATCH(ROW($B$12:$B$111),ROW($B$12:$B$111)),\"\"),ROWS($B$1:F17))),COLUMNS($B$1:F17)),\"\")","v":""},{"$f":"IFERROR(INDEX($B$12:$H$111,(SMALL(IF(INDEX($B$12:$H$111,,$A$149)=$A$146,MATCH(ROW($B$12:$B$111),ROW($B$12:$B$111)),\"\"),ROWS($B$1:G17))),COLUMNS($B$1:G17)),\"\")","v":""},{"$f":"IFERROR(INDEX($B$12:$H$111,(SMALL(IF(INDEX($B$12:$H$111,,$A$149)=$A$146,MATCH(ROW($B$12:$B$111),ROW($B$12:$B$111)),\"\"),ROWS($B$1:H17))),COLUMNS($B$1:H17)),\"\")","v":""},null,null,{"$f":"IFERROR(INDEX($K$12:$M$111,(SMALL(IF(INDEX($K$12:$M$111,,$A$149)=$A$146,MATCH(ROW($K$12:$K$111),ROW($K$12:$K$111)),\"\"),ROWS($B$1:B17))),COLUMNS($B$1:B17)),\"\")","v":""},{"$f":"IFERROR(INDEX($K$12:$M$111,(SMALL(IF(INDEX($K$12:$M$111,,$A$149)=$A$146,MATCH(ROW($K$12:$K$111),ROW($K$12:$K$111)),\"\"),ROWS($B$1:C17))),COLUMNS($B$1:C17)),\"\")","v":""},{"$f":"IFERROR(INDEX($K$12:$M$111,(SMALL(IF(INDEX($K$12:$M$111,,$A$149)=$A$146,MATCH(ROW($K$12:$K$111),ROW($K$12:$K$111)),\"\"),ROWS($B$1:D17))),COLUMNS($B$1:D17)),\"\")","v":""},null,null,{"$f":"IFERROR(INDEX($P$12:$R$111,(SMALL(IF(INDEX($P$12:$R$111,,$A$149)=$A$146,MATCH(ROW($P$12:$P$111),ROW($P$12:$P$111)),\"\"),ROWS($B$1:B17))),COLUMNS($B$1:B17)),\"\")","v":""},{"$f":"IFERROR(INDEX($P$12:$R$111,(SMALL(IF(INDEX($P$12:$R$111,,$A$149)=$A$146,MATCH(ROW($P$12:$P$111),ROW($P$12:$P$111)),\"\"),ROWS($B$1:C17))),COLUMNS($B$1:C17)),\"\")","v":""},{"$f":"IFERROR(INDEX($P$12:$R$111,(SMALL(IF(INDEX($P$12:$R$111,,$A$149)=$A$146,MATCH(ROW($P$12:$P$111),ROW($P$12:$P$111)),\"\"),ROWS($B$1:D17))),COLUMNS($B$1:D17)),\"\")","v":""}]
[18,{"$f":"IFERROR(INDEX($B$12:$H$111,(SMALL(IF(INDEX($B$12:$H$111,,$A$149)=$A$146,MATCH(ROW($B$12:$B$111),ROW($B$12:$B$111)),\"\"),ROWS($B$1:B18))),COLUMNS($B$1:B18)),\"\")","v":""},{"$f":"IFERROR(INDEX($B$12:$H$111,(SMALL(IF(INDEX($B$12:$H$111,,$A$149)=$A$146,MATCH(ROW($B$12:$B$111),ROW($B$12:$B$111)),\"\"),ROWS($B$1:C18))),COLUMNS($B$1:C18)),\"\")","v":""},{"$f":"IFERROR(INDEX($B$12:$H$111,(SMALL(IF(INDEX($B$12:$H$111,,$A$149)=$A$146,MATCH(ROW($B$12:$B$111),ROW($B$12:$B$111)),\"\"),ROWS($B$1:D18))),COLUMNS($B$1:D18)),\"\")","v":""},{"$f":"IFERROR(INDEX($B$12:$H$111,(SMALL(IF(INDEX($B$12:$H$111,,$A$149)=$A$146,MATCH(ROW($B$12:$B$111),ROW($B$12:$B$111)),\"\"),ROWS($B$1:E18))),COLUMNS($B$1:E18)),\"\")","v":""},{"$f":"IFERROR(INDEX($B$12:$H$111,(SMALL(IF(INDEX($B$12:$H$111,,$A$149)=$A$146,MATCH(ROW($B$12:$B$111),ROW($B$12:$B$111)),\"\"),ROWS($B$1:F18))),COLUMNS($B$1:F18)),\"\")","v":""},{"$f":"IFERROR(INDEX($B$12:$H$111,(SMALL(IF(INDEX($B$12:$H$111,,$A$149)=$A$146,MATCH(ROW($B$12:$B$111),ROW($B$12:$B$111)),\"\"),ROWS($B$1:G18))),COLUMNS($B$1:G18)),\"\")","v":""},{"$f":"IFERROR(INDEX($B$12:$H$111,(SMALL(IF(INDEX($B$12:$H$111,,$A$149)=$A$146,MATCH(ROW($B$12:$B$111),ROW($B$12:$B$111)),\"\"),ROWS($B$1:H18))),COLUMNS($B$1:H18)),\"\")","v":""},null,null,{"$f":"IFERROR(INDEX($K$12:$M$111,(SMALL(IF(INDEX($K$12:$M$111,,$A$149)=$A$146,MATCH(ROW($K$12:$K$111),ROW($K$12:$K$111)),\"\"),ROWS($B$1:B18))),COLUMNS($B$1:B18)),\"\")","v":""},{"$f":"IFERROR(INDEX($K$12:$M$111,(SMALL(IF(INDEX($K$12:$M$111,,$A$149)=$A$146,MATCH(ROW($K$12:$K$111),ROW($K$12:$K$111)),\"\"),ROWS($B$1:C18))),COLUMNS($B$1:C18)),\"\")","v":""},{"$f":"IFERROR(INDEX($K$12:$M$111,(SMALL(IF(INDEX($K$12:$M$111,,$A$149)=$A$146,MATCH(ROW($K$12:$K$111),ROW($K$12:$K$111)),\"\"),ROWS($B$1:D18))),COLUMNS($B$1:D18)),\"\")","v":""},null,null,{"$f":"IFERROR(INDEX($P$12:$R$111,(SMALL(IF(INDEX($P$12:$R$111,,$A$149)=$A$146,MATCH(ROW($P$12:$P$111),ROW($P$12:$P$111)),\"\"),ROWS($B$1:B18))),COLUMNS($B$1:B18)),\"\")","v":""},{"$f":"IFERROR(INDEX($P$12:$R$111,(SMALL(IF(INDEX($P$12:$R$111,,$A$149)=$A$146,MATCH(ROW($P$12:$P$111),ROW($P$12:$P$111)),\"\"),ROWS($B$1:C18))),COLUMNS($B$1:C18)),\"\")","v":""},{"$f":"IFERROR(INDEX($P$12:$R$111,(SMALL(IF(INDEX($P$12:$R$111,,$A$149)=$A$146,MATCH(ROW($P$12:$P$111),ROW($P$12:$P$111)),\"\"),ROWS($B$1:D18))),COLUMNS($B$1:D18)),\"\")","v":""}]
[19,{"$f":"IFERROR(INDEX($B$12:$H$111,(SMALL(IF(INDEX($B$12:$H$111,,$A$149)=$A$146,MATCH(ROW($B$12:$B$111),ROW($B$12:$B$111)),\"\"),ROWS($B$1:B19))),COLUMNS($B$1:B19)),\"\")","v":""},{"$f":"IFERROR(INDEX($B$12:$H$111,(SMALL(IF(INDEX($B$12:$H$111,,$A$149)=$A$146,MATCH(ROW($B$12:$B$111),ROW($B$12:$B$111)),\"\"),ROWS($B$1:C19))),COLUMNS($B$1:C19)),\"\")","v":""},{"$f":"IFERROR(INDEX($B$12:$H$111,(SMALL(IF(INDEX($B$12:$H$111,,$A$149)=$A$146,MATCH(ROW($B$12:$B$111),ROW($B$12:$B$111)),\"\"),ROWS($B$1:D19))),COLUMNS($B$1:D19)),\"\")","v":""},{"$f":"IFERROR(INDEX($B$12:$H$111,(SMALL(IF(INDEX($B$12:$H$111,,$A$149)=$A$146,MATCH(ROW($B$12:$B$111),ROW($B$12:$B$111)),\"\"),ROWS($B$1:E19))),COLUMNS($B$1:E19)),\"\")","v":""},{"$f":"IFERROR(INDEX($B$12:$H$111,(SMALL(IF(INDEX($B$12:$H$111,,$A$149)=$A$146,MATCH(ROW($B$12:$B$111),ROW($B$12:$B$111)),\"\"),ROWS($B$1:F19))),COLUMNS($B$1:F19)),\"\")","v":""},{"$f":"IFERROR(INDEX($B$12:$H$111,(SMALL(IF(INDEX($B$12:$H$111,,$A$149)=$A$146,MATCH(ROW($B$12:$B$111),ROW($B$12:$B$111)),\"\"),ROWS($B$1:G19))),COLUMNS($B$1:G19)),\"\")","v":""},{"$f":"IFERROR(INDEX($B$12:$H$111,(SMALL(IF(INDEX($B$12:$H$111,,$A$149)=$A$146,MATCH(ROW($B$12:$B$111),ROW($B$12:$B$111)),\"\"),ROWS($B$1:H19))),COLUMNS($B$1:H19)),\"\")","v":""},null,null,{"$f":"IFERROR(INDEX($K$12:$M$111,(SMALL(IF(INDEX($K$12:$M$111,,$A$149)=$A$146,MATCH(ROW($K$12:$K$111),ROW($K$12:$K$111)),\"\"),ROWS($B$1:B19))),COLUMNS($B$1:B19)),\"\")","v":""},{"$f":"IFERROR(INDEX($K$12:$M$111,(SMALL(IF(INDEX($K$12:$M$111,,$A$149)=$A$146,MATCH(ROW($K$12:$K$111),ROW($K$12:$K$111)),\"\"),ROWS($B$1:C19))),COLUMNS($B$1:C19)),\"\")","v":""},{"$f":"IFERROR(INDEX($K$12:$M$111,(SMALL(IF(INDEX($K$12:$M$111,,$A$149)=$A$146,MATCH(ROW($K$12:$K$111),ROW($K$12:$K$111)),\"\"),ROWS($B$1:D19))),COLUMNS($B$1:D19)),\"\")","v":""},null,null,{"$f":"IFERROR(INDEX($P$12:$R$111,(SMALL(IF(INDEX($P$12:$R$111,,$A$149)=$A$146,MATCH(ROW($P$12:$P$111),ROW($P$12:$P$111)),\"\"),ROWS($B$1:B19))),COLUMNS($B$1:B19)),\"\")","v":""},{"$f":"IFERROR(INDEX($P$12:$R$111,(SMALL(IF(INDEX($P$12:$R$111,,$A$149)=$A$146,MATCH(ROW($P$12:$P$111),ROW($P$12:$P$111)),\"\"),ROWS($B$1:C19))),COLUMNS($B$1:C19)),\"\")","v":""},{"$f":"IFERROR(INDEX($P$12:$R$111,(SMALL(IF(INDEX($P$12:$R$111,,$A$149)=$A$146,MATCH(ROW($P$12:$P$111),ROW($P$12:$P$111)),\"\"),ROWS($B$1:D19))),COLUMNS($B$1:D19)),\"\")","v":""}]
[20,{"$f":"IFERROR(INDEX($B$12:$H$111,(SMALL(IF(INDEX($B$12:$H$111,,$A$149)=$A$146,MATCH(ROW($B$12:$B$111),ROW($B$12:$B$111)),\"\"),ROWS($B$1:B20))),COLUMNS($B$1:B20)),\"\")","v":""},{"$f":"IFERROR(INDEX($B$12:$H$111,(SMALL(IF(INDEX($B$12:$H$111,,$A$149)=$A$146,MATCH(ROW($B$12:$B$111),ROW($B$12:$B$111)),\"\"),ROWS($B$1:C20))),COLUMNS($B$1:C20)),\"\")","v":""},{"$f":"IFERROR(INDEX($B$12:$H$111,(SMALL(IF(INDEX($B$12:$H$111,,$A$149)=$A$146,MATCH(ROW($B$12:$B$111),ROW($B$12:$B$111)),\"\"),ROWS($B$1:D20))),COLUMNS($B$1:D20)),\"\")","v":""},{"$f":"IFERROR(INDEX($B$12:$H$111,(SMALL(IF(INDEX($B$12:$H$111,,$A$149)=$A$146,MATCH(ROW($B$12:$B$111),ROW($B$12:$B$111)),\"\"),ROWS($B$1:E20))),COLUMNS($B$1:E20)),\"\")","v":""},{"$f":"IFERROR(INDEX($B$12:$H$111,(SMALL(IF(INDEX($B$12:$H$111,,$A$149)=$A$146,MATCH(ROW($B$12:$B$111),ROW($B$12:$B$111)),\"\"),ROWS($B$1:F20))),COLUMNS($B$1:F20)),\"\")","v":""},{"$f":"IFERROR(INDEX($B$12:$H$111,(SMALL(IF(INDEX($B$12:$H$111,,$A$149)=$A$146,MATCH(ROW($B$12:$B$111),ROW($B$12:$B$111)),\"\"),ROWS($B$1:G20))),COLUMNS($B$1:G20)),\"\")","v":""},{"$f":"IFERROR(INDEX($B$12:$H$111,(SMALL(IF(INDEX($B$12:$H$111,,$A$149)=$A$146,MATCH(ROW($B$12:$B$111),ROW($B$12:$B$111)),\"\"),ROWS($B$1:H20))),COLUMNS($B$1:H20)),\"\")","v":""},null,null,{"$f":"IFERROR(INDEX($K$12:$M$111,(SMALL(IF(INDEX($K$12:$M$111,,$A$149)=$A$146,MATCH(ROW($K$12:$K$111),ROW($K$12:$K$111)),\"\"),ROWS($B$1:B20))),COLUMNS($B$1:B20)),\"\")","v":""},{"$f":"IFERROR(INDEX($K$12:$M$111,(SMALL(IF(INDEX($K$12:$M$111,,$A$149)=$A$146,MATCH(ROW($K$12:$K$111),ROW($K$12:$K$111)),\"\"),ROWS($B$1:C20))),COLUMNS($B$1:C20)),\"\")","v":""},{"$f":"IFERROR(INDEX($K$12:$M$111,(SMALL(IF(INDEX($K$12:$M$111,,$A$149)=$A$146,MATCH(ROW($K$12:$K$111),ROW($K$12:$K$111)),\"\"),ROWS($B$1:D20))),COLUMNS($B$1:D20)),\"\")","v":""},null,null,{"$f":"IFERROR(INDEX($P$12:$R$111,(SMALL(IF(INDEX($P$12:$R$111,,$A$149)=$A$146,MATCH(ROW($P$12:$P$111),ROW($P$12:$P$111)),\"\"),ROWS($B$1:B20))),COLUMNS($B$1:B20)),\"\")","v":""},{"$f":"IFERROR(INDEX($P$12:$R$111,(SMALL(IF(INDEX($P$12:$R$111,,$A$149)=$A$146,MATCH(ROW($P$12:$P$111),ROW($P$12:$P$111)),\"\"),ROWS($B$1:C20))),COLUMNS($B$1:C20)),\"\")","v":""},{"$f":"IFERROR(INDEX($P$12:$R$111,(SMALL(IF(INDEX($P$12:$R$111,,$A$149)=$A$146,MATCH(ROW($P$12:$P$111),ROW($P$12:$P$111)),\"\"),ROWS($B$1:D20))),COLUMNS($B$1:D20)),\"\")","v":""}]
[21,{"$f":"IFERROR(INDEX($B$12:$H$111,(SMALL(IF(INDEX($B$12:$H$111,,$A$149)=$A$146,MATCH(ROW($B$12:$B$111),ROW($B$12:$B$111)),\"\"),ROWS($B$1:B21))),COLUMNS($B$1:B21)),\"\")","v":""},{"$f":"IFERROR(INDEX($B$12:$H$111,(SMALL(IF(INDEX($B$12:$H$111,,$A$149)=$A$146,MATCH(ROW($B$12:$B$111),ROW($B$12:$B$111)),\"\"),ROWS($B$1:C21))),COLUMNS($B$1:C21)),\"\")","v":""},{"$f":"IFERROR(INDEX($B$12:$H$111,(SMALL(IF(INDEX($B$12:$H$111,,$A$149)=$A$146,MATCH(ROW($B$12:$B$111),ROW($B$12:$B$111)),\"\"),ROWS($B$1:D21))),COLUMNS($B$1:D21)),\"\")","v":""},{"$f":"IFERROR(INDEX($B$12:$H$111,(SMALL(IF(INDEX($B$12:$H$111,,$A$149)=$A$146,MATCH(ROW($B$12:$B$111),ROW($B$12:$B$111)),\"\"),ROWS($B$1:E21))),COLUMNS($B$1:E21)),\"\")","v":""},{"$f":"IFERROR(INDEX($B$12:$H$111,(SMALL(IF(INDEX($B$12:$H$111,,$A$149)=$A$146,MATCH(ROW($B$12:$B$111),ROW($B$12:$B$111)),\"\"),ROWS($B$1:F21))),COLUMNS($B$1:F21)),\"\")","v":""},{"$f":"IFERROR(INDEX($B$12:$H$111,(SMALL(IF(INDEX($B$12:$H$111,,$A$149)=$A$146,MATCH(ROW($B$12:$B$111),ROW($B$12:$B$111)),\"\"),ROWS($B$1:G21))),COLUMNS($B$1:G21)),\"\")","v":""},{"$f":"IFERROR(INDEX($B$12:$H$111,(SMALL(IF(INDEX($B$12:$H$111,,$A$149)=$A$146,MATCH(ROW($B$12:$B$111),ROW($B$12:$B$111)),\"\"),ROWS($B$1:H21))),COLUMNS($B$1:H21)),\"\")","v":""},null,null,{"$f":"IFERROR(INDEX($K$12:$M$111,(SMALL(IF(INDEX($K$12:$M$111,,$A$149)=$A$146,MATCH(ROW($K$12:$K$111),ROW($K$12:$K$111)),\"\"),ROWS($B$1:B21))),COLUMNS($B$1:B21)),\"\")","v":""},{"$f":"IFERROR(INDEX($K$12:$M$111,(SMALL(IF(INDEX($K$12:$M$111,,$A$149)=$A$146,MATCH(ROW($K$12:$K$111),ROW($K$12:$K$111)),\"\"),ROWS($B$1:C21))),COLUMNS($B$1:C21)),\"\")","v":""},{"$f":"IFERROR(INDEX($K$12:$M$111,(SMALL(IF(INDEX($K$12:$M$111,,$A$149)=$A$146,MATCH(ROW($K$12:$K$111),ROW($K$12:$K$111)),\"\"),ROWS($B$1:D21))),COLUMNS($B$1:D21)),\"\")","v":""},null,null,{"$f":"IFERROR(INDEX($P$12:$R$111,(SMALL(IF(INDEX($P$12:$R$111,,$A$149)=$A$146,MATCH(ROW($P$12:$P$111),ROW($P$12:$P$111)),\"\"),ROWS($B$1:B21))),COLUMNS($B$1:B21)),\"\")","v":""},{"$f":"IFERROR(INDEX($P$12:$R$111,(SMALL(IF(INDEX($P$12:$R$111,,$A$149)=$A$146,MATCH(ROW($P$12:$P$111),ROW($P$12:$P$111)),\"\"),ROWS($B$1:C21))),COLUMNS($B$1:C21)),\"\")","v":""},{"$f":"IFERROR(INDEX($P$12:$R$111,(SMALL(IF(INDEX($P$12:$R$111,,$A$149)=$A$146,MATCH(ROW($P$12:$P$111),ROW($P$12:$P$111)),\"\"),ROWS($B$1:D21))),COLUMNS($B$1:D21)),\"\")","v":""}]
[22,{"$f":"IFERROR(INDEX($B$12:$H$111,(SMALL(IF(INDEX($B$12:$H$111,,$A$149)=$A$146,MATCH(ROW($B$12:$B$111),ROW($B$12:$B$111)),\"\"),ROWS($B$1:B22))),COLUMNS($B$1:B22)),\"\")","v":""},{"$f":"IFERROR(INDEX($B$12:$H$111,(SMALL(IF(INDEX($B$12:$H$111,,$A$149)=$A$146,MATCH(ROW($B$12:$B$111),ROW($B$12:$B$111)),\"\"),ROWS($B$1:C22))),COLUMNS($B$1:C22)),\"\")","v":""},{"$f":"IFERROR(INDEX($B$12:$H$111,(SMALL(IF(INDEX($B$12:$H$111,,$A$149)=$A$146,MATCH(ROW($B$12:$B$111),ROW($B$12:$B$111)),\"\"),ROWS($B$1:D22))),COLUMNS($B$1:D22)),\"\")","v":""},{"$f":"IFERROR(INDEX($B$12:$H$111,(SMALL(IF(INDEX($B$12:$H$111,,$A$149)=$A$146,MATCH(ROW($B$12:$B$111),ROW($B$12:$B$111)),\"\"),ROWS($B$1:E22))),COLUMNS($B$1:E22)),\"\")","v":""},{"$f":"IFERROR(INDEX($B$12:$H$111,(SMALL(IF(INDEX($B$12:$H$111,,$A$149)=$A$146,MATCH(ROW($B$12:$B$111),ROW($B$12:$B$111)),\"\"),ROWS($B$1:F22))),COLUMNS($B$1:F22)),\"\")","v":""},{"$f":"IFERROR(INDEX($B$12:$H$111,(SMALL(IF(INDEX($B$12:$H$111,,$A$149)=$A$146,MATCH(ROW($B$12:$B$111),ROW($B$12:$B$111)),\"\"),ROWS($B$1:G22))),COLUMNS($B$1:G22)),\"\")","v":""},{"$f":"IFERROR(INDEX($B$12:$H$111,(SMALL(IF(INDEX($B$12:$H$111,,$A$149)=$A$146,MATCH(ROW($B$12:$B$111),ROW($B$12:$B$111)),\"\"),ROWS($B$1:H22))),COLUMNS($B$1:H22)),\"\")","v":""},null,null,{"$f":"IFERROR(INDEX($K$12:$M$111,(SMALL(IF(INDEX($K$12:$M$111,,$A$149)=$A$146,MATCH(ROW($K$12:$K$111),ROW($K$12:$K$111)),\"\"),ROWS($B$1:B22))),COLUMNS($B$1:B22)),\"\")","v":""},{"$f":"IFERROR(INDEX($K$12:$M$111,(SMALL(IF(INDEX($K$12:$M$111,,$A$149)=$A$146,MATCH(ROW($K$12:$K$111),ROW($K$12:$K$111)),\"\"),ROWS($B$1:C22))),COLUMNS($B$1:C22)),\"\")","v":""},{"$f":"IFERROR(INDEX($K$12:$M$111,(SMALL(IF(INDEX($K$12:$M$111,,$A$149)=$A$146,MATCH(ROW($K$12:$K$111),ROW($K$12:$K$111)),\"\"),ROWS($B$1:D22))),COLUMNS($B$1:D22)),\"\")","v":""},null,null,{"$f":"IFERROR(INDEX($P$12:$R$111,(SMALL(IF(INDEX($P$12:$R$111,,$A$149)=$A$146,MATCH(ROW($P$12:$P$111),ROW($P$12:$P$111)),\"\"),ROWS($B$1:B22))),COLUMNS($B$1:B22)),\"\")","v":""},{"$f":"IFERROR(INDEX($P$12:$R$111,(SMALL(IF(INDEX($P$12:$R$111,,$A$149)=$A$146,MATCH(ROW($P$12:$P$111),ROW($P$12:$P$111)),\"\"),ROWS($B$1:C22))),COLUMNS($B$1:C22)),\"\")","v":""},{"$f":"IFERROR(INDEX($P$12:$R$111,(SMALL(IF(INDEX($P$12:$R$111,,$A$149)=$A$146,MATCH(ROW($P$12:$P$111),ROW($P$12:$P$111)),\"\"),ROWS($B$1:D22))),COLUMNS($B$1:D22)),\"\")","v":""}]
[23,{"$f":"IFERROR(INDEX($B$12:$H$111,(SMALL(IF(INDEX($B$12:$H$111,,$A$149)=$A$146,MATCH(ROW($B$12:$B$111),ROW($B$12:$B$111)),\"\"),ROWS($B$1:B23))),COLUMNS($B$1:B23)),\"\")","v":""},{"$f":"IFERROR(INDEX($B$12:$H$111,(SMALL(IF(INDEX($B$12:$H$111,,$A$149)=$A$146,MATCH(ROW($B$12:$B$111),ROW($B$12:$B$111)),\"\"),ROWS($B$1:C23))),COLUMNS($B$1:C23)),\"\")","v":""},{"$f":"IFERROR(INDEX($B$12:$H$111,(SMALL(IF(INDEX($B$12:$H$111,,$A$149)=$A$146,MATCH(ROW($B$12:$B$111),ROW($B$12:$B$111)),\"\"),ROWS($B$1:D23))),COLUMNS($B$1:D23)),\"\")","v":""},{"$f":"IFERROR(INDEX($B$12:$H$111,(SMALL(IF(INDEX($B$12:$H$111,,$A$149)=$A$146,MATCH(ROW($B$12:$B$111),ROW($B$12:$B$111)),\"\"),ROWS($B$1:E23))),COLUMNS($B$1:E23)),\"\")","v":""},{"$f":"IFERROR(INDEX($B$12:$H$111,(SMALL(IF(INDEX($B$12:$H$111,,$A$149)=$A$146,MATCH(ROW($B$12:$B$111),ROW($B$12:$B$111)),\"\"),ROWS($B$1:F23))),COLUMNS($B$1:F23)),\"\")","v":""},{"$f":"IFERROR(INDEX($B$12:$H$111,(SMALL(IF(INDEX($B$12:$H$111,,$A$149)=$A$146,MATCH(ROW($B$12:$B$111),ROW($B$12:$B$111)),\"\"),ROWS($B$1:G23))),COLUMNS($B$1:G23)),\"\")","v":""},{"$f":"IFERROR(INDEX($B$12:$H$111,(SMALL(IF(INDEX($B$12:$H$111,,$A$149)=$A$146,MATCH(ROW($B$12:$B$111),ROW($B$12:$B$111)),\"\"),ROWS($B$1:H23))),COLUMNS($B$1:H23)),\"\")","v":""},null,null,{"$f":"IFERROR(INDEX($K$12:$M$111,(SMALL(IF(INDEX($K$12:$M$111,,$A$149)=$A$146,MATCH(ROW($K$12:$K$111),ROW($K$12:$K$111)),\"\"),ROWS($B$1:B23))),COLUMNS($B$1:B23)),\"\")","v":""},{"$f":"IFERROR(INDEX($K$12:$M$111,(SMALL(IF(INDEX($K$12:$M$111,,$A$149)=$A$146,MATCH(ROW($K$12:$K$111),ROW($K$12:$K$111)),\"\"),ROWS($B$1:C23))),COLUMNS($B$1:C23)),\"\")","v":""},{"$f":"IFERROR(INDEX($K$12:$M$111,(SMALL(IF(INDEX($K$12:$M$111,,$A$149)=$A$146,MATCH(ROW($K$12:$K$111),ROW($K$12:$K$111)),\"\"),ROWS($B$1:D23))),COLUMNS($B$1:D23)),\"\")","v":""},null,null,{"$f":"IFERROR(INDEX($P$12:$R$111,(SMALL(IF(INDEX($P$12:$R$111,,$A$149)=$A$146,MATCH(ROW($P$12:$P$111),ROW($P$12:$P$111)),\"\"),ROWS($B$1:B23))),COLUMNS($B$1:B23)),\"\")","v":""},{"$f":"IFERROR(INDEX($P$12:$R$111,(SMALL(IF(INDEX($P$12:$R$111,,$A$149)=$A$146,MATCH(ROW($P$12:$P$111),ROW($P$12:$P$111)),\"\"),ROWS($B$1:C23))),COLUMNS($B$1:C23)),\"\")","v":""},{"$f":"IFERROR(INDEX($P$12:$R$111,(SMALL(IF(INDEX($P$12:$R$111,,$A$149)=$A$146,MATCH(ROW($P$12:$P$111),ROW($P$12:$P$111)),\"\"),ROWS($B$1:D23))),COLUMNS($B$1:D23)),\"\")","v":""}]
[24,{"$f":"IFERROR(INDEX($B$12:$H$111,(SMALL(IF(INDEX($B$12:$H$111,,$A$149)=$A$146,MATCH(ROW($B$12:$B$111),ROW($B$12:$B$111)),\"\"),ROWS($B$1:B24))),COLUMNS($B$1:B24)),\"\")","v":""},{"$f":"IFERROR(INDEX($B$12:$H$111,(SMALL(IF(INDEX($B$12:$H$111,,$A$149)=$A$146,MATCH(ROW($B$12:$B$111),ROW($B$12:$B$111)),\"\"),ROWS($B$1:C24))),COLUMNS($B$1:C24)),\"\")","v":""},{"$f":"IFERROR(INDEX($B$12:$H$111,(SMALL(IF(INDEX($B$12:$H$111,,$A$149)=$A$146,MATCH(ROW($B$12:$B$111),ROW($B$12:$B$111)),\"\"),ROWS($B$1:D24))),COLUMNS($B$1:D24)),\"\")","v":""},{"$f":"IFERROR(INDEX($B$12:$H$111,(SMALL(IF(INDEX($B$12:$H$111,,$A$149)=$A$146,MATCH(ROW($B$12:$B$111),ROW($B$12:$B$111)),\"\"),ROWS($B$1:E24))),COLUMNS($B$1:E24)),\"\")","v":""},{"$f":"IFERROR(INDEX($B$12:$H$111,(SMALL(IF(INDEX($B$12:$H$111,,$A$149)=$A$146,MATCH(ROW($B$12:$B$111),ROW($B$12:$B$111)),\"\"),ROWS($B$1:F24))),COLUMNS($B$1:F24)),\"\")","v":""},{"$f":"IFERROR(INDEX($B$12:$H$111,(SMALL(IF(INDEX($B$12:$H$111,,$A$149)=$A$146,MATCH(ROW($B$12:$B$111),ROW($B$12:$B$111)),\"\"),ROWS($B$1:G24))),COLUMNS($B$1:G24)),\"\")","v":""},{"$f":"IFERROR(INDEX($B$12:$H$111,(SMALL(IF(INDEX($B$12:$H$111,,$A$149)=$A$146,MATCH(ROW($B$12:$B$111),ROW($B$12:$B$111)),\"\"),ROWS($B$1:H24))),COLUMNS($B$1:H24)),\"\")","v":""},null,null,{"$f":"IFERROR(INDEX($K$12:$M$111,(SMALL(IF(INDEX($K$12:$M$111,,$A$149)=$A$146,MATCH(ROW($K$12:$K$111),ROW($K$12:$K$111)),\"\"),ROWS($B$1:B24))),COLUMNS($B$1:B24)),\"\")","v":""},{"$f":"IFERROR(INDEX($K$12:$M$111,(SMALL(IF(INDEX($K$12:$M$111,,$A$149)=$A$146,MATCH(ROW($K$12:$K$111),ROW($K$12:$K$111)),\"\"),ROWS($B$1:C24))),COLUMNS($B$1:C24)),\"\")","v":""},{"$f":"IFERROR(INDEX($K$12:$M$111,(SMALL(IF(INDEX($K$12:$M$111,,$A$149)=$A$146,MATCH(ROW($K$12:$K$111),ROW($K$12:$K$111)),\"\"),ROWS($B$1:D24))),COLUMNS($B$1:D24)),\"\")","v":""},null,null,{"$f":"IFERROR(INDEX($P$12:$R$111,(SMALL(IF(INDEX($P$12:$R$111,,$A$149)=$A$146,MATCH(ROW($P$12:$P$111),ROW($P$12:$P$111)),\"\"),ROWS($B$1:B24))),COLUMNS($B$1:B24)),\"\")","v":""},{"$f":"IFERROR(INDEX($P$12:$R$111,(SMALL(IF(INDEX($P$12:$R$111,,$A$149)=$A$146,MATCH(ROW($P$12:$P$111),ROW($P$12:$P$111)),\"\"),ROWS($B$1:C24))),COLUMNS($B$1:C24)),\"\")","v":""},{"$f":"IFERROR(INDEX($P$12:$R$111,(SMALL(IF(INDEX($P$12:$R$111,,$A$149)=$A$146,MATCH(ROW($P$12:$P$111),ROW($P$12:$P$111)),\"\"),ROWS($B$1:D24))),COLUMNS($B$1:D24)),\"\")","v":""}]
[25,{"$f":"IFERROR(INDEX($B$12:$H$111,(SMALL(IF(INDEX($B$12:$H$111,,$A$149)=$A$146,MATCH(ROW($B$12:$B$111),ROW($B$12:$B$111)),\"\"),ROWS($B$1:B25))),COLUMNS($B$1:B25)),\"\")","v":""},{"$f":"IFERROR(INDEX($B$12:$H$111,(SMALL(IF(INDEX($B$12:$H$111,,$A$149)=$A$146,MATCH(ROW($B$12:$B$111),ROW($B$12:$B$111)),\"\"),ROWS($B$1:C25))),COLUMNS($B$1:C25)),\"\")","v":""},{"$f":"IFERROR(INDEX($B$12:$H$111,(SMALL(IF(INDEX($B$12:$H$111,,$A$149)=$A$146,MATCH(ROW($B$12:$B$111),ROW($B$12:$B$111)),\"\"),ROWS($B$1:D25))),COLUMNS($B$1:D25)),\"\")","v":""},{"$f":"IFERROR(INDEX($B$12:$H$111,(SMALL(IF(INDEX($B$12:$H$111,,$A$149)=$A$146,MATCH(ROW($B$12:$B$111),ROW($B$12:$B$111)),\"\"),ROWS($B$1:E25))),COLUMNS($B$1:E25)),\"\")","v":""},{"$f":"IFERROR(INDEX($B$12:$H$111,(SMALL(IF(INDEX($B$12:$H$111,,$A$149)=$A$146,MATCH(ROW($B$12:$B$111),ROW($B$12:$B$111)),\"\"),ROWS($B$1:F25))),COLUMNS($B$1:F25)),\"\")","v":""},{"$f":"IFERROR(INDEX($B$12:$H$111,(SMALL(IF(INDEX($B$12:$H$111,,$A$149)=$A$146,MATCH(ROW($B$12:$B$111),ROW($B$12:$B$111)),\"\"),ROWS($B$1:G25))),COLUMNS($B$1:G25)),\"\")","v":""},{"$f":"IFERROR(INDEX($B$12:$H$111,(SMALL(IF(INDEX($B$12:$H$111,,$A$149)=$A$146,MATCH(ROW($B$12:$B$111),ROW($B$12:$B$111)),\"\"),ROWS($B$1:H25))),COLUMNS($B$1:H25)),\"\")","v":""},null,null,{"$f":"IFERROR(INDEX($K$12:$M$111,(SMALL(IF(INDEX($K$12:$M$111,,$A$149)=$A$146,MATCH(ROW($K$12:$K$111),ROW($K$12:$K$111)),\"\"),ROWS($B$1:B25))),COLUMNS($B$1:B25)),\"\")","v":""},{"$f":"IFERROR(INDEX($K$12:$M$111,(SMALL(IF(INDEX($K$12:$M$111,,$A$149)=$A$146,MATCH(ROW($K$12:$K$111),ROW($K$12:$K$111)),\"\"),ROWS($B$1:C25))),COLUMNS($B$1:C25)),\"\")","v":""},{"$f":"IFERROR(INDEX($K$12:$M$111,(SMALL(IF(INDEX($K$12:$M$111,,$A$149)=$A$146,MATCH(ROW($K$12:$K$111),ROW($K$12:$K$111)),\"\"),ROWS($B$1:D25))),COLUMNS($B$1:D25)),\"\")","v":""},null,null,{"$f":"IFERROR(INDEX($P$12:$R$111,(SMALL(IF(INDEX($P$12:$R$111,,$A$149)=$A$146,MATCH(ROW($P$12:$P$111),ROW($P$12:$P$111)),\"\"),ROWS($B$1:B25))),COLUMNS($B$1:B25)),\"\")","v":""},{"$f":"IFERROR(INDEX($P$12:$R$111,(SMALL(IF(INDEX($P$12:$R$111,,$A$149)=$A$146,MATCH(ROW($P$12:$P$111),ROW($P$12:$P$111)),\"\"),ROWS($B$1:C25))),COLUMNS($B$1:C25)),\"\")","v":""},{"$f":"IFERROR(INDEX($P$12:$R$111,(SMALL(IF(INDEX($P$12:$R$111,,$A$149)=$A$146,MATCH(ROW($P$12:$P$111),ROW($P$12:$P$111)),\"\"),ROWS($B$1:D25))),COLUMNS($B$1:D25)),\"\")","v":""}]
[26,{"$f":"IFERROR(INDEX($B$12:$H$111,(SMALL(IF(INDEX($B$12:$H$111,,$A$149)=$A$146,MATCH(ROW($B$12:$B$111),ROW($B$12:$B$111)),\"\"),ROWS($B$1:B26))),COLUMNS($B$1:B26)),\"\")","v":""},{"$f":"IFERROR(INDEX($B$12:$H$111,(SMALL(IF(INDEX($B$12:$H$111,,$A$149)=$A$146,MATCH(ROW($B$12:$B$111),ROW($B$12:$B$111)),\"\"),ROWS($B$1:C26))),COLUMNS($B$1:C26)),\"\")","v":""},{"$f":"IFERROR(INDEX($B$12:$H$111,(SMALL(IF(INDEX($B$12:$H$111,,$A$149)=$A$146,MATCH(ROW($B$12:$B$111),ROW($B$12:$B$111)),\"\"),ROWS($B$1:D26))),COLUMNS($B$1:D26)),\"\")","v":""},{"$f":"IFERROR(INDEX($B$12:$H$111,(SMALL(IF(INDEX($B$12:$H$111,,$A$149)=$A$146,MATCH(ROW($B$12:$B$111),ROW($B$12:$B$111)),\"\"),ROWS($B$1:E26))),COLUMNS($B$1:E26)),\"\")","v":""},{"$f":"IFERROR(INDEX($B$12:$H$111,(SMALL(IF(INDEX($B$12:$H$111,,$A$149)=$A$146,MATCH(ROW($B$12:$B$111),ROW($B$12:$B$111)),\"\"),ROWS($B$1:F26))),COLUMNS($B$1:F26)),\"\")","v":""},{"$f":"IFERROR(INDEX($B$12:$H$111,(SMALL(IF(INDEX($B$12:$H$111,,$A$149)=$A$146,MATCH(ROW($B$12:$B$111),ROW($B$12:$B$111)),\"\"),ROWS($B$1:G26))),COLUMNS($B$1:G26)),\"\")","v":""},{"$f":"IFERROR(INDEX($B$12:$H$111,(SMALL(IF(INDEX($B$12:$H$111,,$A$149)=$A$146,MATCH(ROW($B$12:$B$111),ROW($B$12:$B$111)),\"\"),ROWS($B$1:H26))),COLUMNS($B$1:H26)),\"\")","v":""},null,null,{"$f":"IFERROR(INDEX($K$12:$M$111,(SMALL(IF(INDEX($K$12:$M$111,,$A$149)=$A$146,MATCH(ROW($K$12:$K$111),ROW($K$12:$K$111)),\"\"),ROWS($B$1:B26))),COLUMNS($B$1:B26)),\"\")","v":""},{"$f":"IFERROR(INDEX($K$12:$M$111,(SMALL(IF(INDEX($K$12:$M$111,,$A$149)=$A$146,MATCH(ROW($K$12:$K$111),ROW($K$12:$K$111)),\"\"),ROWS($B$1:C26))),COLUMNS($B$1:C26)),\"\")","v":""},{"$f":"IFERROR(INDEX($K$12:$M$111,(SMALL(IF(INDEX($K$12:$M$111,,$A$149)=$A$146,MATCH(ROW($K$12:$K$111),ROW($K$12:$K$111)),\"\"),ROWS($B$1:D26))),COLUMNS($B$1:D26)),\"\")","v":""},null,null,{"$f":"IFERROR(INDEX($P$12:$R$111,(SMALL(IF(INDEX($P$12:$R$111,,$A$149)=$A$146,MATCH(ROW($P$12:$P$111),ROW($P$12:$P$111)),\"\"),ROWS($B$1:B26))),COLUMNS($B$1:B26)),\"\")","v":""},{"$f":"IFERROR(INDEX($P$12:$R$111,(SMALL(IF(INDEX($P$12:$R$111,,$A$149)=$A$146,MATCH(ROW($P$12:$P$111),ROW($P$12:$P$111)),\"\"),ROWS($B$1:C26))),COLUMNS($B$1:C26)),\"\")","v":""},{"$f":"IFERROR(INDEX($P$12:$R$111,(SMALL(IF(INDEX($P$12:$R$111,,$A$149)=$A$146,MATCH(ROW($P$12:$P$111),ROW($P$12:$P$111)),\"\"),ROWS($B$1:D26))),COLUMNS($B$1:D26)),\"\")","v":""}]
[27,{"$f":"IFERROR(INDEX($B$12:$H$111,(SMALL(IF(INDEX($B$12:$H$111,,$A$149)=$A$146,MATCH(ROW($B$12:$B$111),ROW($B$12:$B$111)),\"\"),ROWS($B$1:B27))),COLUMNS($B$1:B27)),\"\")","v":""},{"$f":"IFERROR(INDEX($B$12:$H$111,(SMALL(IF(INDEX($B$12:$H$111,,$A$149)=$A$146,MATCH(ROW($B$12:$B$111),ROW($B$12:$B$111)),\"\"),ROWS($B$1:C27))),COLUMNS($B$1:C27)),\"\")","v":""},{"$f":"IFERROR(INDEX($B$12:$H$111,(SMALL(IF(INDEX($B$12:$H$111,,$A$149)=$A$146,MATCH(ROW($B$12:$B$111),ROW($B$12:$B$111)),\"\"),ROWS($B$1:D27))),COLUMNS($B$1:D27)),\"\")","v":""},{"$f":"IFERROR(INDEX($B$12:$H$111,(SMALL(IF(INDEX($B$12:$H$111,,$A$149)=$A$146,MATCH(ROW($B$12:$B$111),ROW($B$12:$B$111)),\"\"),ROWS($B$1:E27))),COLUMNS($B$1:E27)),\"\")","v":""},{"$f":"IFERROR(INDEX($B$12:$H$111,(SMALL(IF(INDEX($B$12:$H$111,,$A$149)=$A$146,MATCH(ROW($B$12:$B$111),ROW($B$12:$B$111)),\"\"),ROWS($B$1:F27))),COLUMNS($B$1:F27)),\"\")","v":""},{"$f":"IFERROR(INDEX($B$12:$H$111,(SMALL(IF(INDEX($B$12:$H$111,,$A$149)=$A$146,MATCH(ROW($B$12:$B$111),ROW($B$12:$B$111)),\"\"),ROWS($B$1:G27))),COLUMNS($B$1:G27)),\"\")","v":""},{"$f":"IFERROR(INDEX($B$12:$H$111,(SMALL(IF(INDEX($B$12:$H$111,,$A$149)=$A$146,MATCH(ROW($B$12:$B$111),ROW($B$12:$B$111)),\"\"),ROWS($B$1:H27))),COLUMNS($B$1:H27)),\"\")","v":""},null,null,{"$f":"IFERROR(INDEX($K$12:$M$111,(SMALL(IF(INDEX($K$12:$M$111,,$A$149)=$A$146,MATCH(ROW($K$12:$K$111),ROW($K$12:$K$111)),\"\"),ROWS($B$1:B27))),COLUMNS($B$1:B27)),\"\")","v":""},{"$f":"IFERROR(INDEX($K$12:$M$111,(SMALL(IF(INDEX($K$12:$M$111,,$A$149)=$A$146,MATCH(ROW($K$12:$K$111),ROW($K$12:$K$111)),\"\"),ROWS($B$1:C27))),COLUMNS($B$1:C27)),\"\")","v":""},{"$f":"IFERROR(INDEX($K$12:$M$111,(SMALL(IF(INDEX($K$12:$M$111,,$A$149)=$A$146,MATCH(ROW($K$12:$K$111),ROW($K$12:$K$111)),\"\"),ROWS($B$1:D27))),COLUMNS($B$1:D27)),\"\")","v":""},null,null,{"$f":"IFERROR(INDEX($P$12:$R$111,(SMALL(IF(INDEX($P$12:$R$111,,$A$149)=$A$146,MATCH(ROW($P$12:$P$111),ROW($P$12:$P$111)),\"\"),ROWS($B$1:B27))),COLUMNS($B$1:B27)),\"\")","v":""},{"$f":"IFERROR(INDEX($P$12:$R$111,(SMALL(IF(INDEX($P$12:$R$111,,$A$149)=$A$146,MATCH(ROW($P$12:$P$111),ROW($P$12:$P$111)),\"\"),ROWS($B$1:C27))),COLUMNS($B$1:C27)),\"\")","v":""},{"$f":"IFERROR(INDEX($P$12:$R$111,(SMALL(IF(INDEX($P$12:$R$111,,$A$149)=$A$146,MATCH(ROW($P$12:$P$111),ROW($P$12:$P$111)),\"\"),ROWS($B$1:D27))),COLUMNS($B$1:D27)),\"\")","v":""}]
[28,{"$f":"IFERROR(INDEX($B$12:$H$111,(SMALL(IF(INDEX($B$12:$H$111,,$A$149)=$A$146,MATCH(ROW($B$12:$B$111),ROW($B$12:$B$111)),\"\"),ROWS($B$1:B28))),COLUMNS($B$1:B28)),\"\")","v":""},{"$f":"IFERROR(INDEX($B$12:$H$111,(SMALL(IF(INDEX($B$12:$H$111,,$A$149)=$A$146,MATCH(ROW($B$12:$B$111),ROW($B$12:$B$111)),\"\"),ROWS($B$1:C28))),COLUMNS($B$1:C28)),\"\")","v":""},{"$f":"IFERROR(INDEX($B$12:$H$111,(SMALL(IF(INDEX($B$12:$H$111,,$A$149)=$A$146,MATCH(ROW($B$12:$B$111),ROW($B$12:$B$111)),\"\"),ROWS($B$1:D28))),COLUMNS($B$1:D28)),\"\")","v":""},{"$f":"IFERROR(INDEX($B$12:$H$111,(SMALL(IF(INDEX($B$12:$H$111,,$A$149)=$A$146,MATCH(ROW($B$12:$B$111),ROW($B$12:$B$111)),\"\"),ROWS($B$1:E28))),COLUMNS($B$1:E28)),\"\")","v":""},{"$f":"IFERROR(INDEX($B$12:$H$111,(SMALL(IF(INDEX($B$12:$H$111,,$A$149)=$A$146,MATCH(ROW($B$12:$B$111),ROW($B$12:$B$111)),\"\"),ROWS($B$1:F28))),COLUMNS($B$1:F28)),\"\")","v":""},{"$f":"IFERROR(INDEX($B$12:$H$111,(SMALL(IF(INDEX($B$12:$H$111,,$A$149)=$A$146,MATCH(ROW($B$12:$B$111),ROW($B$12:$B$111)),\"\"),ROWS($B$1:G28))),COLUMNS($B$1:G28)),\"\")","v":""},{"$f":"IFERROR(INDEX($B$12:$H$111,(SMALL(IF(INDEX($B$12:$H$111,,$A$149)=$A$146,MATCH(ROW($B$12:$B$111),ROW($B$12:$B$111)),\"\"),ROWS($B$1:H28))),COLUMNS($B$1:H28)),\"\")","v":""},null,null,{"$f":"IFERROR(INDEX($K$12:$M$111,(SMALL(IF(INDEX($K$12:$M$111,,$A$149)=$A$146,MATCH(ROW($K$12:$K$111),ROW($K$12:$K$111)),\"\"),ROWS($B$1:B28))),COLUMNS($B$1:B28)),\"\")","v":""},{"$f":"IFERROR(INDEX($K$12:$M$111,(SMALL(IF(INDEX($K$12:$M$111,,$A$149)=$A$146,MATCH(ROW($K$12:$K$111),ROW($K$12:$K$111)),\"\"),ROWS($B$1:C28))),COLUMNS($B$1:C28)),\"\")","v":""},{"$f":"IFERROR(INDEX($K$12:$M$111,(SMALL(IF(INDEX($K$12:$M$111,,$A$149)=$A$146,MATCH(ROW($K$12:$K$111),ROW($K$12:$K$111)),\"\"),ROWS($B$1:D28))),COLUMNS($B$1:D28)),\"\")","v":""},null,null,{"$f":"IFERROR(INDEX($P$12:$R$111,(SMALL(IF(INDEX($P$12:$R$111,,$A$149)=$A$146,MATCH(ROW($P$12:$P$111),ROW($P$12:$P$111)),\"\"),ROWS($B$1:B28))),COLUMNS($B$1:B28)),\"\")","v":""},{"$f":"IFERROR(INDEX($P$12:$R$111,(SMALL(IF(INDEX($P$12:$R$111,,$A$149)=$A$146,MATCH(ROW($P$12:$P$111),ROW($P$12:$P$111)),\"\"),ROWS($B$1:C28))),COLUMNS($B$1:C28)),\"\")","v":""},{"$f":"IFERROR(INDEX($P$12:$R$111,(SMALL(IF(INDEX($P$12:$R$111,,$A$149)=$A$146,MATCH(ROW($P$12:$P$111),ROW($P$12:$P$111)),\"\"),ROWS($B$1:D28))),COLUMNS($B$1:D28)),\"\")","v":""}]
[29,{"$f":"IFERROR(INDEX($B$12:$H$111,(SMALL(IF(INDEX($B$12:$H$111,,$A$149)=$A$146,MATCH(ROW($B$12:$B$111),ROW($B$12:$B$111)),\"\"),ROWS($B$1:B29))),COLUMNS($B$1:B29)),\"\")","v":""},{"$f":"IFERROR(INDEX($B$12:$H$111,(SMALL(IF(INDEX($B$12:$H$111,,$A$149)=$A$146,MATCH(ROW($B$12:$B$111),ROW($B$12:$B$111)),\"\"),ROWS($B$1:C29))),COLUMNS($B$1:C29)),\"\")","v":""},{"$f":"IFERROR(INDEX($B$12:$H$111,(SMALL(IF(INDEX($B$12:$H$111,,$A$149)=$A$146,MATCH(ROW($B$12:$B$111),ROW($B$12:$B$111)),\"\"),ROWS($B$1:D29))),COLUMNS($B$1:D29)),\"\")","v":""},{"$f":"IFERROR(INDEX($B$12:$H$111,(SMALL(IF(INDEX($B$12:$H$111,,$A$149)=$A$146,MATCH(ROW($B$12:$B$111),ROW($B$12:$B$111)),\"\"),ROWS($B$1:E29))),COLUMNS($B$1:E29)),\"\")","v":""},{"$f":"IFERROR(INDEX($B$12:$H$111,(SMALL(IF(INDEX($B$12:$H$111,,$A$149)=$A$146,MATCH(ROW($B$12:$B$111),ROW($B$12:$B$111)),\"\"),ROWS($B$1:F29))),COLUMNS($B$1:F29)),\"\")","v":""},{"$f":"IFERROR(INDEX($B$12:$H$111,(SMALL(IF(INDEX($B$12:$H$111,,$A$149)=$A$146,MATCH(ROW($B$12:$B$111),ROW($B$12:$B$111)),\"\"),ROWS($B$1:G29))),COLUMNS($B$1:G29)),\"\")","v":""},{"$f":"IFERROR(INDEX($B$12:$H$111,(SMALL(IF(INDEX($B$12:$H$111,,$A$149)=$A$146,MATCH(ROW($B$12:$B$111),ROW($B$12:$B$111)),\"\"),ROWS($B$1:H29))),COLUMNS($B$1:H29)),\"\")","v":""},null,null,{"$f":"IFERROR(INDEX($K$12:$M$111,(SMALL(IF(INDEX($K$12:$M$111,,$A$149)=$A$146,MATCH(ROW($K$12:$K$111),ROW($K$12:$K$111)),\"\"),ROWS($B$1:B29))),COLUMNS($B$1:B29)),\"\")","v":""},{"$f":"IFERROR(INDEX($K$12:$M$111,(SMALL(IF(INDEX($K$12:$M$111,,$A$149)=$A$146,MATCH(ROW($K$12:$K$111),ROW($K$12:$K$111)),\"\"),ROWS($B$1:C29))),COLUMNS($B$1:C29)),\"\")","v":""},{"$f":"IFERROR(INDEX($K$12:$M$111,(SMALL(IF(INDEX($K$12:$M$111,,$A$149)=$A$146,MATCH(ROW($K$12:$K$111),ROW($K$12:$K$111)),\"\"),ROWS($B$1:D29))),COLUMNS($B$1:D29)),\"\")","v":""},null,null,{"$f":"IFERROR(INDEX($P$12:$R$111,(SMALL(IF(INDEX($P$12:$R$111,,$A$149)=$A$146,MATCH(ROW($P$12:$P$111),ROW($P$12:$P$111)),\"\"),ROWS($B$1:B29))),COLUMNS($B$1:B29)),\"\")","v":""},{"$f":"IFERROR(INDEX($P$12:$R$111,(SMALL(IF(INDEX($P$12:$R$111,,$A$149)=$A$146,MATCH(ROW($P$12:$P$111),ROW($P$12:$P$111)),\"\"),ROWS($B$1:C29))),COLUMNS($B$1:C29)),\"\")","v":""},{"$f":"IFERROR(INDEX($P$12:$R$111,(SMALL(IF(INDEX($P$12:$R$111,,$A$149)=$A$146,MATCH(ROW($P$12:$P$111),ROW($P$12:$P$111)),\"\"),ROWS($B$1:D29))),COLUMNS($B$1:D29)),\"\")","v":""}]
[30,{"$f":"IFERROR(INDEX($B$12:$H$111,(SMALL(IF(INDEX($B$12:$H$111,,$A$149)=$A$146,MATCH(ROW($B$12:$B$111),ROW($B$12:$B$111)),\"\"),ROWS($B$1:B30))),COLUMNS($B$1:B30)),\"\")","v":""},{"$f":"IFERROR(INDEX($B$12:$H$111,(SMALL(IF(INDEX($B$12:$H$111,,$A$149)=$A$146,MATCH(ROW($B$12:$B$111),ROW($B$12:$B$111)),\"\"),ROWS($B$1:C30))),COLUMNS($B$1:C30)),\"\")","v":""},{"$f":"IFERROR(INDEX($B$12:$H$111,(SMALL(IF(INDEX($B$12:$H$111,,$A$149)=$A$146,MATCH(ROW($B$12:$B$111),ROW($B$12:$B$111)),\"\"),ROWS($B$1:D30))),COLUMNS($B$1:D30)),\"\")","v":""},{"$f":"IFERROR(INDEX($B$12:$H$111,(SMALL(IF(INDEX($B$12:$H$111,,$A$149)=$A$146,MATCH(ROW($B$12:$B$111),ROW($B$12:$B$111)),\"\"),ROWS($B$1:E30))),COLUMNS($B$1:E30)),\"\")","v":""},{"$f":"IFERROR(INDEX($B$12:$H$111,(SMALL(IF(INDEX($B$12:$H$111,,$A$149)=$A$146,MATCH(ROW($B$12:$B$111),ROW($B$12:$B$111)),\"\"),ROWS($B$1:F30))),COLUMNS($B$1:F30)),\"\")","v":""},{"$f":"IFERROR(INDEX($B$12:$H$111,(SMALL(IF(INDEX($B$12:$H$111,,$A$149)=$A$146,MATCH(ROW($B$12:$B$111),ROW($B$12:$B$111)),\"\"),ROWS($B$1:G30))),COLUMNS($B$1:G30)),\"\")","v":""},{"$f":"IFERROR(INDEX($B$12:$H$111,(SMALL(IF(INDEX($B$12:$H$111,,$A$149)=$A$146,MATCH(ROW($B$12:$B$111),ROW($B$12:$B$111)),\"\"),ROWS($B$1:H30))),COLUMNS($B$1:H30)),\"\")","v":""},null,null,{"$f":"IFERROR(INDEX($K$12:$M$111,(SMALL(IF(INDEX($K$12:$M$111,,$A$149)=$A$146,MATCH(ROW($K$12:$K$111),ROW($K$12:$K$111)),\"\"),ROWS($B$1:B30))),COLUMNS($B$1:B30)),\"\")","v":""},{"$f":"IFERROR(INDEX($K$12:$M$111,(SMALL(IF(INDEX($K$12:$M$111,,$A$149)=$A$146,MATCH(ROW($K$12:$K$111),ROW($K$12:$K$111)),\"\"),ROWS($B$1:C30))),COLUMNS($B$1:C30)),\"\")","v":""},{"$f":"IFERROR(INDEX($K$12:$M$111,(SMALL(IF(INDEX($K$12:$M$111,,$A$149)=$A$146,MATCH(ROW($K$12:$K$111),ROW($K$12:$K$111)),\"\"),ROWS($B$1:D30))),COLUMNS($B$1:D30)),\"\")","v":""},null,null,{"$f":"IFERROR(INDEX($P$12:$R$111,(SMALL(IF(INDEX($P$12:$R$111,,$A$149)=$A$146,MATCH(ROW($P$12:$P$111),ROW($P$12:$P$111)),\"\"),ROWS($B$1:B30))),COLUMNS($B$1:B30)),\"\")","v":""},{"$f":"IFERROR(INDEX($P$12:$R$111,(SMALL(IF(INDEX($P$12:$R$111,,$A$149)=$A$146,MATCH(ROW($P$12:$P$111),ROW($P$12:$P$111)),\"\"),ROWS($B$1:C30))),COLUMNS($B$1:C30)),\"\")","v":""},{"$f":"IFERROR(INDEX($P$12:$R$111,(SMALL(IF(INDEX($P$12:$R$111,,$A$149)=$A$146,MATCH(ROW($P$12:$P$111),ROW($P$12:$P$111)),\"\"),ROWS($B$1:D30))),COLUMNS($B$1:D30)),\"\")","v":""}]
[31,{"$f":"IFERROR(INDEX($B$12:$H$111,(SMALL(IF(INDEX($B$12:$H$111,,$A$149)=$A$146,MATCH(ROW($B$12:$B$111),ROW($B$12:$B$111)),\"\"),ROWS($B$1:B31))),COLUMNS($B$1:B31)),\"\")","v":""},{"$f":"IFERROR(INDEX($B$12:$H$111,(SMALL(IF(INDEX($B$12:$H$111,,$A$149)=$A$146,MATCH(ROW($B$12:$B$111),ROW($B$12:$B$111)),\"\"),ROWS($B$1:C31))),COLUMNS($B$1:C31)),\"\")","v":""},{"$f":"IFERROR(INDEX($B$12:$H$111,(SMALL(IF(INDEX($B$12:$H$111,,$A$149)=$A$146,MATCH(ROW($B$12:$B$111),ROW($B$12:$B$111)),\"\"),ROWS($B$1:D31))),COLUMNS($B$1:D31)),\"\")","v":""},{"$f":"IFERROR(INDEX($B$12:$H$111,(SMALL(IF(INDEX($B$12:$H$111,,$A$149)=$A$146,MATCH(ROW($B$12:$B$111),ROW($B$12:$B$111)),\"\"),ROWS($B$1:E31))),COLUMNS($B$1:E31)),\"\")","v":""},{"$f":"IFERROR(INDEX($B$12:$H$111,(SMALL(IF(INDEX($B$12:$H$111,,$A$149)=$A$146,MATCH(ROW($B$12:$B$111),ROW($B$12:$B$111)),\"\"),ROWS($B$1:F31))),COLUMNS($B$1:F31)),\"\")","v":""},{"$f":"IFERROR(INDEX($B$12:$H$111,(SMALL(IF(INDEX($B$12:$H$111,,$A$149)=$A$146,MATCH(ROW($B$12:$B$111),ROW($B$12:$B$111)),\"\"),ROWS($B$1:G31))),COLUMNS($B$1:G31)),\"\")","v":""},{"$f":"IFERROR(INDEX($B$12:$H$111,(SMALL(IF(INDEX($B$12:$H$111,,$A$149)=$A$146,MATCH(ROW($B$12:$B$111),ROW($B$12:$B$111)),\"\"),ROWS($B$1:H31))),COLUMNS($B$1:H31)),\"\")","v":""},null,null,{"$f":"IFERROR(INDEX($K$12:$M$111,(SMALL(IF(INDEX($K$12:$M$111,,$A$149)=$A$146,MATCH(ROW($K$12:$K$111),ROW($K$12:$K$111)),\"\"),ROWS($B$1:B31))),COLUMNS($B$1:B31)),\"\")","v":""},{"$f":"IFERROR(INDEX($K$12:$M$111,(SMALL(IF(INDEX($K$12:$M$111,,$A$149)=$A$146,MATCH(ROW($K$12:$K$111),ROW($K$12:$K$111)),\"\"),ROWS($B$1:C31))),COLUMNS($B$1:C31)),\"\")","v":""},{"$f":"IFERROR(INDEX($K$12:$M$111,(SMALL(IF(INDEX($K$12:$M$111,,$A$149)=$A$146,MATCH(ROW($K$12:$K$111),ROW($K$12:$K$111)),\"\"),ROWS($B$1:D31))),COLUMNS($B$1:D31)),\"\")","v":""},null,null,{"$f":"IFERROR(INDEX($P$12:$R$111,(SMALL(IF(INDEX($P$12:$R$111,,$A$149)=$A$146,MATCH(ROW($P$12:$P$111),ROW($P$12:$P$111)),\"\"),ROWS($B$1:B31))),COLUMNS($B$1:B31)),\"\")","v":""},{"$f":"IFERROR(INDEX($P$12:$R$111,(SMALL(IF(INDEX($P$12:$R$111,,$A$149)=$A$146,MATCH(ROW($P$12:$P$111),ROW($P$12:$P$111)),\"\"),ROWS($B$1:C31))),COLUMNS($B$1:C31)),\"\")","v":""},{"$f":"IFERROR(INDEX($P$12:$R$111,(SMALL(IF(INDEX($P$12:$R$111,,$A$149)=$A$146,MATCH(ROW($P$12:$P$111),ROW($P$12:$P$111)),\"\"),ROWS($B$1:D31))),COLUMNS($B$1:D31)),\"\")","v":""}]
[32,{"$f":"IFERROR(INDEX($B$12:$H$111,(SMALL(IF(INDEX($B$12:$H$111,,$A$149)=$A$146,MATCH(ROW($B$12:$B$111),ROW($B$12:$B$111)),\"\"),ROWS($B$1:B32))),COLUMNS($B$1:B32)),\"\")","v":""},{"$f":"IFERROR(INDEX($B$12:$H$111,(SMALL(IF(INDEX($B$12:$H$111,,$A$149)=$A$146,MATCH(ROW($B$12:$B$111),ROW($B$12:$B$111)),\"\"),ROWS($B$1:C32))),COLUMNS($B$1:C32)),\"\")","v":""},{"$f":"IFERROR(INDEX($B$12:$H$111,(SMALL(IF(INDEX($B$12:$H$111,,$A$149)=$A$146,MATCH(ROW($B$12:$B$111),ROW($B$12:$B$111)),\"\"),ROWS($B$1:D32))),COLUMNS($B$1:D32)),\"\")","v":""},{"$f":"IFERROR(INDEX($B$12:$H$111,(SMALL(IF(INDEX($B$12:$H$111,,$A$149)=$A$146,MATCH(ROW($B$12:$B$111),ROW($B$12:$B$111)),\"\"),ROWS($B$1:E32))),COLUMNS($B$1:E32)),\"\")","v":""},{"$f":"IFERROR(INDEX($B$12:$H$111,(SMALL(IF(INDEX($B$12:$H$111,,$A$149)=$A$146,MATCH(ROW($B$12:$B$111),ROW($B$12:$B$111)),\"\"),ROWS($B$1:F32))),COLUMNS($B$1:F32)),\"\")","v":""},{"$f":"IFERROR(INDEX($B$12:$H$111,(SMALL(IF(INDEX($B$12:$H$111,,$A$149)=$A$146,MATCH(ROW($B$12:$B$111),ROW($B$12:$B$111)),\"\"),ROWS($B$1:G32))),COLUMNS($B$1:G32)),\"\")","v":""},{"$f":"IFERROR(INDEX($B$12:$H$111,(SMALL(IF(INDEX($B$12:$H$111,,$A$149)=$A$146,MATCH(ROW($B$12:$B$111),ROW($B$12:$B$111)),\"\"),ROWS($B$1:H32))),COLUMNS($B$1:H32)),\"\")","v":""},null,null,{"$f":"IFERROR(INDEX($K$12:$M$111,(SMALL(IF(INDEX($K$12:$M$111,,$A$149)=$A$146,MATCH(ROW($K$12:$K$111),ROW($K$12:$K$111)),\"\"),ROWS($B$1:B32))),COLUMNS($B$1:B32)),\"\")","v":""},{"$f":"IFERROR(INDEX($K$12:$M$111,(SMALL(IF(INDEX($K$12:$M$111,,$A$149)=$A$146,MATCH(ROW($K$12:$K$111),ROW($K$12:$K$111)),\"\"),ROWS($B$1:C32))),COLUMNS($B$1:C32)),\"\")","v":""},{"$f":"IFERROR(INDEX($K$12:$M$111,(SMALL(IF(INDEX($K$12:$M$111,,$A$149)=$A$146,MATCH(ROW($K$12:$K$111),ROW($K$12:$K$111)),\"\"),ROWS($B$1:D32))),COLUMNS($B$1:D32)),\"\")","v":""},null,null,{"$f":"IFERROR(INDEX($P$12:$R$111,(SMALL(IF(INDEX($P$12:$R$111,,$A$149)=$A$146,MATCH(ROW($P$12:$P$111),ROW($P$12:$P$111)),\"\"),ROWS($B$1:B32))),COLUMNS($B$1:B32)),\"\")","v":""},{"$f":"IFERROR(INDEX($P$12:$R$111,(SMALL(IF(INDEX($P$12:$R$111,,$A$149)=$A$146,MATCH(ROW($P$12:$P$111),ROW($P$12:$P$111)),\"\"),ROWS($B$1:C32))),COLUMNS($B$1:C32)),\"\")","v":""},{"$f":"IFERROR(INDEX($P$12:$R$111,(SMALL(IF(INDEX($P$12:$R$111,,$A$149)=$A$146,MATCH(ROW($P$12:$P$111),ROW($P$12:$P$111)),\"\"),ROWS($B$1:D32))),COLUMNS($B$1:D32)),\"\")","v":""}]
[33,{"$f":"IFERROR(INDEX($B$12:$H$111,(SMALL(IF(INDEX($B$12:$H$111,,$A$149)=$A$146,MATCH(ROW($B$12:$B$111),ROW($B$12:$B$111)),\"\"),ROWS($B$1:B33))),COLUMNS($B$1:B33)),\"\")","v":""},{"$f":"IFERROR(INDEX($B$12:$H$111,(SMALL(IF(INDEX($B$12:$H$111,,$A$149)=$A$146,MATCH(ROW($B$12:$B$111),ROW($B$12:$B$111)),\"\"),ROWS($B$1:C33))),COLUMNS($B$1:C33)),\"\")","v":""},{"$f":"IFERROR(INDEX($B$12:$H$111,(SMALL(IF(INDEX($B$12:$H$111,,$A$149)=$A$146,MATCH(ROW($B$12:$B$111),ROW($B$12:$B$111)),\"\"),ROWS($B$1:D33))),COLUMNS($B$1:D33)),\"\")","v":""},{"$f":"IFERROR(INDEX($B$12:$H$111,(SMALL(IF(INDEX($B$12:$H$111,,$A$149)=$A$146,MATCH(ROW($B$12:$B$111),ROW($B$12:$B$111)),\"\"),ROWS($B$1:E33))),COLUMNS($B$1:E33)),\"\")","v":""},{"$f":"IFERROR(INDEX($B$12:$H$111,(SMALL(IF(INDEX($B$12:$H$111,,$A$149)=$A$146,MATCH(ROW($B$12:$B$111),ROW($B$12:$B$111)),\"\"),ROWS($B$1:F33))),COLUMNS($B$1:F33)),\"\")","v":""},{"$f":"IFERROR(INDEX($B$12:$H$111,(SMALL(IF(INDEX($B$12:$H$111,,$A$149)=$A$146,MATCH(ROW($B$12:$B$111),ROW($B$12:$B$111)),\"\"),ROWS($B$1:G33))),COLUMNS($B$1:G33)),\"\")","v":""},{"$f":"IFERROR(INDEX($B$12:$H$111,(SMALL(IF(INDEX($B$12:$H$111,,$A$149)=$A$146,MATCH(ROW($B$12:$B$111),ROW($B$12:$B$111)),\"\"),ROWS($B$1:H33))),COLUMNS($B$1:H33)),\"\")","v":""},null,null,{"$f":"IFERROR(INDEX($K$12:$M$111,(SMALL(IF(INDEX($K$12:$M$111,,$A$149)=$A$146,MATCH(ROW($K$12:$K$111),ROW($K$12:$K$111)),\"\"),ROWS($B$1:B33))),COLUMNS($B$1:B33)),\"\")","v":""},{"$f":"IFERROR(INDEX($K$12:$M$111,(SMALL(IF(INDEX($K$12:$M$111,,$A$149)=$A$146,MATCH(ROW($K$12:$K$111),ROW($K$12:$K$111)),\"\"),ROWS($B$1:C33))),COLUMNS($B$1:C33)),\"\")","v":""},{"$f":"IFERROR(INDEX($K$12:$M$111,(SMALL(IF(INDEX($K$12:$M$111,,$A$149)=$A$146,MATCH(ROW($K$12:$K$111),ROW($K$12:$K$111)),\"\"),ROWS($B$1:D33))),COLUMNS($B$1:D33)),\"\")","v":""},null,null,{"$f":"IFERROR(INDEX($P$12:$R$111,(SMALL(IF(INDEX($P$12:$R$111,,$A$149)=$A$146,MATCH(ROW($P$12:$P$111),ROW($P$12:$P$111)),\"\"),ROWS($B$1:B33))),COLUMNS($B$1:B33)),\"\")","v":""},{"$f":"IFERROR(INDEX($P$12:$R$111,(SMALL(IF(INDEX($P$12:$R$111,,$A$149)=$A$146,MATCH(ROW($P$12:$P$111),ROW($P$12:$P$111)),\"\"),ROWS($B$1:C33))),COLUMNS($B$1:C33)),\"\")","v":""},{"$f":"IFERROR(INDEX($P$12:$R$111,(SMALL(IF(INDEX($P$12:$R$111,,$A$149)=$A$146,MATCH(ROW($P$12:$P$111),ROW($P$12:$P$111)),\"\"),ROWS($B$1:D33))),COLUMNS($B$1:D33)),\"\")","v":""}]
[34,{"$f":"IFERROR(INDEX($B$12:$H$111,(SMALL(IF(INDEX($B$12:$H$111,,$A$149)=$A$146,MATCH(ROW($B$12:$B$111),ROW($B$12:$B$111)),\"\"),ROWS($B$1:B34))),COLUMNS($B$1:B34)),\"\")","v":""},{"$f":"IFERROR(INDEX($B$12:$H$111,(SMALL(IF(INDEX($B$12:$H$111,,$A$149)=$A$146,MATCH(ROW($B$12:$B$111),ROW($B$12:$B$111)),\"\"),ROWS($B$1:C34))),COLUMNS($B$1:C34)),\"\")","v":""},{"$f":"IFERROR(INDEX($B$12:$H$111,(SMALL(IF(INDEX($B$12:$H$111,,$A$149)=$A$146,MATCH(ROW($B$12:$B$111),ROW($B$12:$B$111)),\"\"),ROWS($B$1:D34))),COLUMNS($B$1:D34)),\"\")","v":""},{"$f":"IFERROR(INDEX($B$12:$H$111,(SMALL(IF(INDEX($B$12:$H$111,,$A$149)=$A$146,MATCH(ROW($B$12:$B$111),ROW($B$12:$B$111)),\"\"),ROWS($B$1:E34))),COLUMNS($B$1:E34)),\"\")","v":""},{"$f":"IFERROR(INDEX($B$12:$H$111,(SMALL(IF(INDEX($B$12:$H$111,,$A$149)=$A$146,MATCH(ROW($B$12:$B$111),ROW($B$12:$B$111)),\"\"),ROWS($B$1:F34))),COLUMNS($B$1:F34)),\"\")","v":""},{"$f":"IFERROR(INDEX($B$12:$H$111,(SMALL(IF(INDEX($B$12:$H$111,,$A$149)=$A$146,MATCH(ROW($B$12:$B$111),ROW($B$12:$B$111)),\"\"),ROWS($B$1:G34))),COLUMNS($B$1:G34)),\"\")","v":""},{"$f":"IFERROR(INDEX($B$12:$H$111,(SMALL(IF(INDEX($B$12:$H$111,,$A$149)=$A$146,MATCH(ROW($B$12:$B$111),ROW($B$12:$B$111)),\"\"),ROWS($B$1:H34))),COLUMNS($B$1:H34)),\"\")","v":""},null,null,{"$f":"IFERROR(INDEX($K$12:$M$111,(SMALL(IF(INDEX($K$12:$M$111,,$A$149)=$A$146,MATCH(ROW($K$12:$K$111),ROW($K$12:$K$111)),\"\"),ROWS($B$1:B34))),COLUMNS($B$1:B34)),\"\")","v":""},{"$f":"IFERROR(INDEX($K$12:$M$111,(SMALL(IF(INDEX($K$12:$M$111,,$A$149)=$A$146,MATCH(ROW($K$12:$K$111),ROW($K$12:$K$111)),\"\"),ROWS($B$1:C34))),COLUMNS($B$1:C34)),\"\")","v":""},{"$f":"IFERROR(INDEX($K$12:$M$111,(SMALL(IF(INDEX($K$12:$M$111,,$A$149)=$A$146,MATCH(ROW($K$12:$K$111),ROW($K$12:$K$111)),\"\"),ROWS($B$1:D34))),COLUMNS($B$1:D34)),\"\")","v":""},null,null,{"$f":"IFERROR(INDEX($P$12:$R$111,(SMALL(IF(INDEX($P$12:$R$111,,$A$149)=$A$146,MATCH(ROW($P$12:$P$111),ROW($P$12:$P$111)),\"\"),ROWS($B$1:B34))),COLUMNS($B$1:B34)),\"\")","v":""},{"$f":"IFERROR(INDEX($P$12:$R$111,(SMALL(IF(INDEX($P$12:$R$111,,$A$149)=$A$146,MATCH(ROW($P$12:$P$111),ROW($P$12:$P$111)),\"\"),ROWS($B$1:C34))),COLUMNS($B$1:C34)),\"\")","v":""},{"$f":"IFERROR(INDEX($P$12:$R$111,(SMALL(IF(INDEX($P$12:$R$111,,$A$149)=$A$146,MATCH(ROW($P$12:$P$111),ROW($P$12:$P$111)),\"\"),ROWS($B$1:D34))),COLUMNS($B$1:D34)),\"\")","v":""}]
[35,{"$f":"IFERROR(INDEX($B$12:$H$111,(SMALL(IF(INDEX($B$12:$H$111,,$A$149)=$A$146,MATCH(ROW($B$12:$B$111),ROW($B$12:$B$111)),\"\"),ROWS($B$1:B35))),COLUMNS($B$1:B35)),\"\")","v":""},{"$f":"IFERROR(INDEX($B$12:$H$111,(SMALL(IF(INDEX($B$12:$H$111,,$A$149)=$A$146,MATCH(ROW($B$12:$B$111),ROW($B$12:$B$111)),\"\"),ROWS($B$1:C35))),COLUMNS($B$1:C35)),\"\")","v":""},{"$f":"IFERROR(INDEX($B$12:$H$111,(SMALL(IF(INDEX($B$12:$H$111,,$A$149)=$A$146,MATCH(ROW($B$12:$B$111),ROW($B$12:$B$111)),\"\"),ROWS($B$1:D35))),COLUMNS($B$1:D35)),\"\")","v":""},{"$f":"IFERROR(INDEX($B$12:$H$111,(SMALL(IF(INDEX($B$12:$H$111,,$A$149)=$A$146,MATCH(ROW($B$12:$B$111),ROW($B$12:$B$111)),\"\"),ROWS($B$1:E35))),COLUMNS($B$1:E35)),\"\")","v":""},{"$f":"IFERROR(INDEX($B$12:$H$111,(SMALL(IF(INDEX($B$12:$H$111,,$A$149)=$A$146,MATCH(ROW($B$12:$B$111),ROW($B$12:$B$111)),\"\"),ROWS($B$1:F35))),COLUMNS($B$1:F35)),\"\")","v":""},{"$f":"IFERROR(INDEX($B$12:$H$111,(SMALL(IF(INDEX($B$12:$H$111,,$A$149)=$A$146,MATCH(ROW($B$12:$B$111),ROW($B$12:$B$111)),\"\"),ROWS($B$1:G35))),COLUMNS($B$1:G35)),\"\")","v":""},{"$f":"IFERROR(INDEX($B$12:$H$111,(SMALL(IF(INDEX($B$12:$H$111,,$A$149)=$A$146,MATCH(ROW($B$12:$B$111),ROW($B$12:$B$111)),\"\"),ROWS($B$1:H35))),COLUMNS($B$1:H35)),\"\")","v":""},null,null,{"$f":"IFERROR(INDEX($K$12:$M$111,(SMALL(IF(INDEX($K$12:$M$111,,$A$149)=$A$146,MATCH(ROW($K$12:$K$111),ROW($K$12:$K$111)),\"\"),ROWS($B$1:B35))),COLUMNS($B$1:B35)),\"\")","v":""},{"$f":"IFERROR(INDEX($K$12:$M$111,(SMALL(IF(INDEX($K$12:$M$111,,$A$149)=$A$146,MATCH(ROW($K$12:$K$111),ROW($K$12:$K$111)),\"\"),ROWS($B$1:C35))),COLUMNS($B$1:C35)),\"\")","v":""},{"$f":"IFERROR(INDEX($K$12:$M$111,(SMALL(IF(INDEX($K$12:$M$111,,$A$149)=$A$146,MATCH(ROW($K$12:$K$111),ROW($K$12:$K$111)),\"\"),ROWS($B$1:D35))),COLUMNS($B$1:D35)),\"\")","v":""},null,null,{"$f":"IFERROR(INDEX($P$12:$R$111,(SMALL(IF(INDEX($P$12:$R$111,,$A$149)=$A$146,MATCH(ROW($P$12:$P$111),ROW($P$12:$P$111)),\"\"),ROWS($B$1:B35))),COLUMNS($B$1:B35)),\"\")","v":""},{"$f":"IFERROR(INDEX($P$12:$R$111,(SMALL(IF(INDEX($P$12:$R$111,,$A$149)=$A$146,MATCH(ROW($P$12:$P$111),ROW($P$12:$P$111)),\"\"),ROWS($B$1:C35))),COLUMNS($B$1:C35)),\"\")","v":""},{"$f":"IFERROR(INDEX($P$12:$R$111,(SMALL(IF(INDEX($P$12:$R$111,,$A$149)=$A$146,MATCH(ROW($P$12:$P$111),ROW($P$12:$P$111)),\"\"),ROWS($B$1:D35))),COLUMNS($B$1:D35)),\"\")","v":""}]
[36,{"$f":"IFERROR(INDEX($B$12:$H$111,(SMALL(IF(INDEX($B$12:$H$111,,$A$149)=$A$146,MATCH(ROW($B$12:$B$111),ROW($B$12:$B$111)),\"\"),ROWS($B$1:B36))),COLUMNS($B$1:B36)),\"\")","v":""},{"$f":"IFERROR(INDEX($B$12:$H$111,(SMALL(IF(INDEX($B$12:$H$111,,$A$149)=$A$146,MATCH(ROW($B$12:$B$111),ROW($B$12:$B$111)),\"\"),ROWS($B$1:C36))),COLUMNS($B$1:C36)),\"\")","v":""},{"$f":"IFERROR(INDEX($B$12:$H$111,(SMALL(IF(INDEX($B$12:$H$111,,$A$149)=$A$146,MATCH(ROW($B$12:$B$111),ROW($B$12:$B$111)),\"\"),ROWS($B$1:D36))),COLUMNS($B$1:D36)),\"\")","v":""},{"$f":"IFERROR(INDEX($B$12:$H$111,(SMALL(IF(INDEX($B$12:$H$111,,$A$149)=$A$146,MATCH(ROW($B$12:$B$111),ROW($B$12:$B$111)),\"\"),ROWS($B$1:E36))),COLUMNS($B$1:E36)),\"\")","v":""},{"$f":"IFERROR(INDEX($B$12:$H$111,(SMALL(IF(INDEX($B$12:$H$111,,$A$149)=$A$146,MATCH(ROW($B$12:$B$111),ROW($B$12:$B$111)),\"\"),ROWS($B$1:F36))),COLUMNS($B$1:F36)),\"\")","v":""},{"$f":"IFERROR(INDEX($B$12:$H$111,(SMALL(IF(INDEX($B$12:$H$111,,$A$149)=$A$146,MATCH(ROW($B$12:$B$111),ROW($B$12:$B$111)),\"\"),ROWS($B$1:G36))),COLUMNS($B$1:G36)),\"\")","v":""},{"$f":"IFERROR(INDEX($B$12:$H$111,(SMALL(IF(INDEX($B$12:$H$111,,$A$149)=$A$146,MATCH(ROW($B$12:$B$111),ROW($B$12:$B$111)),\"\"),ROWS($B$1:H36))),COLUMNS($B$1:H36)),\"\")","v":""},null,null,{"$f":"IFERROR(INDEX($K$12:$M$111,(SMALL(IF(INDEX($K$12:$M$111,,$A$149)=$A$146,MATCH(ROW($K$12:$K$111),ROW($K$12:$K$111)),\"\"),ROWS($B$1:B36))),COLUMNS($B$1:B36)),\"\")","v":""},{"$f":"IFERROR(INDEX($K$12:$M$111,(SMALL(IF(INDEX($K$12:$M$111,,$A$149)=$A$146,MATCH(ROW($K$12:$K$111),ROW($K$12:$K$111)),\"\"),ROWS($B$1:C36))),COLUMNS($B$1:C36)),\"\")","v":""},{"$f":"IFERROR(INDEX($K$12:$M$111,(SMALL(IF(INDEX($K$12:$M$111,,$A$149)=$A$146,MATCH(ROW($K$12:$K$111),ROW($K$12:$K$111)),\"\"),ROWS($B$1:D36))),COLUMNS($B$1:D36)),\"\")","v":""},null,null,{"$f":"IFERROR(INDEX($P$12:$R$111,(SMALL(IF(INDEX($P$12:$R$111,,$A$149)=$A$146,MATCH(ROW($P$12:$P$111),ROW($P$12:$P$111)),\"\"),ROWS($B$1:B36))),COLUMNS($B$1:B36)),\"\")","v":""},{"$f":"IFERROR(INDEX($P$12:$R$111,(SMALL(IF(INDEX($P$12:$R$111,,$A$149)=$A$146,MATCH(ROW($P$12:$P$111),ROW($P$12:$P$111)),\"\"),ROWS($B$1:C36))),COLUMNS($B$1:C36)),\"\")","v":""},{"$f":"IFERROR(INDEX($P$12:$R$111,(SMALL(IF(INDEX($P$12:$R$111,,$A$149)=$A$146,MATCH(ROW($P$12:$P$111),ROW($P$12:$P$111)),\"\"),ROWS($B$1:D36))),COLUMNS($B$1:D36)),\"\")","v":""}]
[37,{"$f":"IFERROR(INDEX($B$12:$H$111,(SMALL(IF(INDEX($B$12:$H$111,,$A$149)=$A$146,MATCH(ROW($B$12:$B$111),ROW($B$12:$B$111)),\"\"),ROWS($B$1:B37))),COLUMNS($B$1:B37)),\"\")","v":""},{"$f":"IFERROR(INDEX($B$12:$H$111,(SMALL(IF(INDEX($B$12:$H$111,,$A$149)=$A$146,MATCH(ROW($B$12:$B$111),ROW($B$12:$B$111)),\"\"),ROWS($B$1:C37))),COLUMNS($B$1:C37)),\"\")","v":""},{"$f":"IFERROR(INDEX($B$12:$H$111,(SMALL(IF(INDEX($B$12:$H$111,,$A$149)=$A$146,MATCH(ROW($B$12:$B$111),ROW($B$12:$B$111)),\"\"),ROWS($B$1:D37))),COLUMNS($B$1:D37)),\"\")","v":""},{"$f":"IFERROR(INDEX($B$12:$H$111,(SMALL(IF(INDEX($B$12:$H$111,,$A$149)=$A$146,MATCH(ROW($B$12:$B$111),ROW($B$12:$B$111)),\"\"),ROWS($B$1:E37))),COLUMNS($B$1:E37)),\"\")","v":""},{"$f":"IFERROR(INDEX($B$12:$H$111,(SMALL(IF(INDEX($B$12:$H$111,,$A$149)=$A$146,MATCH(ROW($B$12:$B$111),ROW($B$12:$B$111)),\"\"),ROWS($B$1:F37))),COLUMNS($B$1:F37)),\"\")","v":""},{"$f":"IFERROR(INDEX($B$12:$H$111,(SMALL(IF(INDEX($B$12:$H$111,,$A$149)=$A$146,MATCH(ROW($B$12:$B$111),ROW($B$12:$B$111)),\"\"),ROWS($B$1:G37))),COLUMNS($B$1:G37)),\"\")","v":""},{"$f":"IFERROR(INDEX($B$12:$H$111,(SMALL(IF(INDEX($B$12:$H$111,,$A$149)=$A$146,MATCH(ROW($B$12:$B$111),ROW($B$12:$B$111)),\"\"),ROWS($B$1:H37))),COLUMNS($B$1:H37)),\"\")","v":""},null,null,{"$f":"IFERROR(INDEX($K$12:$M$111,(SMALL(IF(INDEX($K$12:$M$111,,$A$149)=$A$146,MATCH(ROW($K$12:$K$111),ROW($K$12:$K$111)),\"\"),ROWS($B$1:B37))),COLUMNS($B$1:B37)),\"\")","v":""},{"$f":"IFERROR(INDEX($K$12:$M$111,(SMALL(IF(INDEX($K$12:$M$111,,$A$149)=$A$146,MATCH(ROW($K$12:$K$111),ROW($K$12:$K$111)),\"\"),ROWS($B$1:C37))),COLUMNS($B$1:C37)),\"\")","v":""},{"$f":"IFERROR(INDEX($K$12:$M$111,(SMALL(IF(INDEX($K$12:$M$111,,$A$149)=$A$146,MATCH(ROW($K$12:$K$111),ROW($K$12:$K$111)),\"\"),ROWS($B$1:D37))),COLUMNS($B$1:D37)),\"\")","v":""},null,null,{"$f":"IFERROR(INDEX($P$12:$R$111,(SMALL(IF(INDEX($P$12:$R$111,,$A$149)=$A$146,MATCH(ROW($P$12:$P$111),ROW($P$12:$P$111)),\"\"),ROWS($B$1:B37))),COLUMNS($B$1:B37)),\"\")","v":""},{"$f":"IFERROR(INDEX($P$12:$R$111,(SMALL(IF(INDEX($P$12:$R$111,,$A$149)=$A$146,MATCH(ROW($P$12:$P$111),ROW($P$12:$P$111)),\"\"),ROWS($B$1:C37))),COLUMNS($B$1:C37)),\"\")","v":""},{"$f":"IFERROR(INDEX($P$12:$R$111,(SMALL(IF(INDEX($P$12:$R$111,,$A$149)=$A$146,MATCH(ROW($P$12:$P$111),ROW($P$12:$P$111)),\"\"),ROWS($B$1:D37))),COLUMNS($B$1:D37)),\"\")","v":""}]
[38,{"$f":"IFERROR(INDEX($B$12:$H$111,(SMALL(IF(INDEX($B$12:$H$111,,$A$149)=$A$146,MATCH(ROW($B$12:$B$111),ROW($B$12:$B$111)),\"\"),ROWS($B$1:B38))),COLUMNS($B$1:B38)),\"\")","v":""},{"$f":"IFERROR(INDEX($B$12:$H$111,(SMALL(IF(INDEX($B$12:$H$111,,$A$149)=$A$146,MATCH(ROW($B$12:$B$111),ROW($B$12:$B$111)),\"\"),ROWS($B$1:C38))),COLUMNS($B$1:C38)),\"\")","v":""},{"$f":"IFERROR(INDEX($B$12:$H$111,(SMALL(IF(INDEX($B$12:$H$111,,$A$149)=$A$146,MATCH(ROW($B$12:$B$111),ROW($B$12:$B$111)),\"\"),ROWS($B$1:D38))),COLUMNS($B$1:D38)),\"\")","v":""},{"$f":"IFERROR(INDEX($B$12:$H$111,(SMALL(IF(INDEX($B$12:$H$111,,$A$149)=$A$146,MATCH(ROW($B$12:$B$111),ROW($B$12:$B$111)),\"\"),ROWS($B$1:E38))),COLUMNS($B$1:E38)),\"\")","v":""},{"$f":"IFERROR(INDEX($B$12:$H$111,(SMALL(IF(INDEX($B$12:$H$111,,$A$149)=$A$146,MATCH(ROW($B$12:$B$111),ROW($B$12:$B$111)),\"\"),ROWS($B$1:F38))),COLUMNS($B$1:F38)),\"\")","v":""},{"$f":"IFERROR(INDEX($B$12:$H$111,(SMALL(IF(INDEX($B$12:$H$111,,$A$149)=$A$146,MATCH(ROW($B$12:$B$111),ROW($B$12:$B$111)),\"\"),ROWS($B$1:G38))),COLUMNS($B$1:G38)),\"\")","v":""},{"$f":"IFERROR(INDEX($B$12:$H$111,(SMALL(IF(INDEX($B$12:$H$111,,$A$149)=$A$146,MATCH(ROW($B$12:$B$111),ROW($B$12:$B$111)),\"\"),ROWS($B$1:H38))),COLUMNS($B$1:H38)),\"\")","v":""},null,null,{"$f":"IFERROR(INDEX($K$12:$M$111,(SMALL(IF(INDEX($K$12:$M$111,,$A$149)=$A$146,MATCH(ROW($K$12:$K$111),ROW($K$12:$K$111)),\"\"),ROWS($B$1:B38))),COLUMNS($B$1:B38)),\"\")","v":""},{"$f":"IFERROR(INDEX($K$12:$M$111,(SMALL(IF(INDEX($K$12:$M$111,,$A$149)=$A$146,MATCH(ROW($K$12:$K$111),ROW($K$12:$K$111)),\"\"),ROWS($B$1:C38))),COLUMNS($B$1:C38)),\"\")","v":""},{"$f":"IFERROR(INDEX($K$12:$M$111,(SMALL(IF(INDEX($K$12:$M$111,,$A$149)=$A$146,MATCH(ROW($K$12:$K$111),ROW($K$12:$K$111)),\"\"),ROWS($B$1:D38))),COLUMNS($B$1:D38)),\"\")","v":""},null,null,{"$f":"IFERROR(INDEX($P$12:$R$111,(SMALL(IF(INDEX($P$12:$R$111,,$A$149)=$A$146,MATCH(ROW($P$12:$P$111),ROW($P$12:$P$111)),\"\"),ROWS($B$1:B38))),COLUMNS($B$1:B38)),\"\")","v":""},{"$f":"IFERROR(INDEX($P$12:$R$111,(SMALL(IF(INDEX($P$12:$R$111,,$A$149)=$A$146,MATCH(ROW($P$12:$P$111),ROW($P$12:$P$111)),\"\"),ROWS($B$1:C38))),COLUMNS($B$1:C38)),\"\")","v":""},{"$f":"IFERROR(INDEX($P$12:$R$111,(SMALL(IF(INDEX($P$12:$R$111,,$A$149)=$A$146,MATCH(ROW($P$12:$P$111),ROW($P$12:$P$111)),\"\"),ROWS($B$1:D38))),COLUMNS($B$1:D38)),\"\")","v":""}]
[39,{"$f":"IFERROR(INDEX($B$12:$H$111,(SMALL(IF(INDEX($B$12:$H$111,,$A$149)=$A$146,MATCH(ROW($B$12:$B$111),ROW($B$12:$B$111)),\"\"),ROWS($B$1:B39))),COLUMNS($B$1:B39)),\"\")","v":""},{"$f":"IFERROR(INDEX($B$12:$H$111,(SMALL(IF(INDEX($B$12:$H$111,,$A$149)=$A$146,MATCH(ROW($B$12:$B$111),ROW($B$12:$B$111)),\"\"),ROWS($B$1:C39))),COLUMNS($B$1:C39)),\"\")","v":""},{"$f":"IFERROR(INDEX($B$12:$H$111,(SMALL(IF(INDEX($B$12:$H$111,,$A$149)=$A$146,MATCH(ROW($B$12:$B$111),ROW($B$12:$B$111)),\"\"),ROWS($B$1:D39))),COLUMNS($B$1:D39)),\"\")","v":""},{"$f":"IFERROR(INDEX($B$12:$H$111,(SMALL(IF(INDEX($B$12:$H$111,,$A$149)=$A$146,MATCH(ROW($B$12:$B$111),ROW($B$12:$B$111)),\"\"),ROWS($B$1:E39))),COLUMNS($B$1:E39)),\"\")","v":""},{"$f":"IFERROR(INDEX($B$12:$H$111,(SMALL(IF(INDEX($B$12:$H$111,,$A$149)=$A$146,MATCH(ROW($B$12:$B$111),ROW($B$12:$B$111)),\"\"),ROWS($B$1:F39))),COLUMNS($B$1:F39)),\"\")","v":""},{"$f":"IFERROR(INDEX($B$12:$H$111,(SMALL(IF(INDEX($B$12:$H$111,,$A$149)=$A$146,MATCH(ROW($B$12:$B$111),ROW($B$12:$B$111)),\"\"),ROWS($B$1:G39))),COLUMNS($B$1:G39)),\"\")","v":""},{"$f":"IFERROR(INDEX($B$12:$H$111,(SMALL(IF(INDEX($B$12:$H$111,,$A$149)=$A$146,MATCH(ROW($B$12:$B$111),ROW($B$12:$B$111)),\"\"),ROWS($B$1:H39))),COLUMNS($B$1:H39)),\"\")","v":""},null,null,{"$f":"IFERROR(INDEX($K$12:$M$111,(SMALL(IF(INDEX($K$12:$M$111,,$A$149)=$A$146,MATCH(ROW($K$12:$K$111),ROW($K$12:$K$111)),\"\"),ROWS($B$1:B39))),COLUMNS($B$1:B39)),\"\")","v":""},{"$f":"IFERROR(INDEX($K$12:$M$111,(SMALL(IF(INDEX($K$12:$M$111,,$A$149)=$A$146,MATCH(ROW($K$12:$K$111),ROW($K$12:$K$111)),\"\"),ROWS($B$1:C39))),COLUMNS($B$1:C39)),\"\")","v":""},{"$f":"IFERROR(INDEX($K$12:$M$111,(SMALL(IF(INDEX($K$12:$M$111,,$A$149)=$A$146,MATCH(ROW($K$12:$K$111),ROW($K$12:$K$111)),\"\"),ROWS($B$1:D39))),COLUMNS($B$1:D39)),\"\")","v":""},null,null,{"$f":"IFERROR(INDEX($P$12:$R$111,(SMALL(IF(INDEX($P$12:$R$111,,$A$149)=$A$146,MATCH(ROW($P$12:$P$111),ROW($P$12:$P$111)),\"\"),ROWS($B$1:B39))),COLUMNS($B$1:B39)),\"\")","v":""},{"$f":"IFERROR(INDEX($P$12:$R$111,(SMALL(IF(INDEX($P$12:$R$111,,$A$149)=$A$146,MATCH(ROW($P$12:$P$111),ROW($P$12:$P$111)),\"\"),ROWS($B$1:C39))),COLUMNS($B$1:C39)),\"\")","v":""},{"$f":"IFERROR(INDEX($P$12:$R$111,(SMALL(IF(INDEX($P$12:$R$111,,$A$149)=$A$146,MATCH(ROW($P$12:$P$111),ROW($P$12:$P$111)),\"\"),ROWS($B$1:D39))),COLUMNS($B$1:D39)),\"\")","v":""}]
[40,{"$f":"IFERROR(INDEX($B$12:$H$111,(SMALL(IF(INDEX($B$12:$H$111,,$A$149)=$A$146,MATCH(ROW($B$12:$B$111),ROW($B$12:$B$111)),\"\"),ROWS($B$1:B40))),COLUMNS($B$1:B40)),\"\")","v":""},{"$f":"IFERROR(INDEX($B$12:$H$111,(SMALL(IF(INDEX($B$12:$H$111,,$A$149)=$A$146,MATCH(ROW($B$12:$B$111),ROW($B$12:$B$111)),\"\"),ROWS($B$1:C40))),COLUMNS($B$1:C40)),\"\")","v":""},{"$f":"IFERROR(INDEX($B$12:$H$111,(SMALL(IF(INDEX($B$12:$H$111,,$A$149)=$A$146,MATCH(ROW($B$12:$B$111),ROW($B$12:$B$111)),\"\"),ROWS($B$1:D40))),COLUMNS($B$1:D40)),\"\")","v":""},{"$f":"IFERROR(INDEX($B$12:$H$111,(SMALL(IF(INDEX($B$12:$H$111,,$A$149)=$A$146,MATCH(ROW($B$12:$B$111),ROW($B$12:$B$111)),\"\"),ROWS($B$1:E40))),COLUMNS($B$1:E40)),\"\")","v":""},{"$f":"IFERROR(INDEX($B$12:$H$111,(SMALL(IF(INDEX($B$12:$H$111,,$A$149)=$A$146,MATCH(ROW($B$12:$B$111),ROW($B$12:$B$111)),\"\"),ROWS($B$1:F40))),COLUMNS($B$1:F40)),\"\")","v":""},{"$f":"IFERROR(INDEX($B$12:$H$111,(SMALL(IF(INDEX($B$12:$H$111,,$A$149)=$A$146,MATCH(ROW($B$12:$B$111),ROW($B$12:$B$111)),\"\"),ROWS($B$1:G40))),COLUMNS($B$1:G40)),\"\")","v":""},{"$f":"IFERROR(INDEX($B$12:$H$111,(SMALL(IF(INDEX($B$12:$H$111,,$A$149)=$A$146,MATCH(ROW($B$12:$B$111),ROW($B$12:$B$111)),\"\"),ROWS($B$1:H40))),COLUMNS($B$1:H40)),\"\")","v":""},null,null,{"$f":"IFERROR(INDEX($K$12:$M$111,(SMALL(IF(INDEX($K$12:$M$111,,$A$149)=$A$146,MATCH(ROW($K$12:$K$111),ROW($K$12:$K$111)),\"\"),ROWS($B$1:B40))),COLUMNS($B$1:B40)),\"\")","v":""},{"$f":"IFERROR(INDEX($K$12:$M$111,(SMALL(IF(INDEX($K$12:$M$111,,$A$149)=$A$146,MATCH(ROW($K$12:$K$111),ROW($K$12:$K$111)),\"\"),ROWS($B$1:C40))),COLUMNS($B$1:C40)),\"\")","v":""},{"$f":"IFERROR(INDEX($K$12:$M$111,(SMALL(IF(INDEX($K$12:$M$111,,$A$149)=$A$146,MATCH(ROW($K$12:$K$111),ROW($K$12:$K$111)),\"\"),ROWS($B$1:D40))),COLUMNS($B$1:D40)),\"\")","v":""},null,null,{"$f":"IFERROR(INDEX($P$12:$R$111,(SMALL(IF(INDEX($P$12:$R$111,,$A$149)=$A$146,MATCH(ROW($P$12:$P$111),ROW($P$12:$P$111)),\"\"),ROWS($B$1:B40))),COLUMNS($B$1:B40)),\"\")","v":""},{"$f":"IFERROR(INDEX($P$12:$R$111,(SMALL(IF(INDEX($P$12:$R$111,,$A$149)=$A$146,MATCH(ROW($P$12:$P$111),ROW($P$12:$P$111)),\"\"),ROWS($B$1:C40))),COLUMNS($B$1:C40)),\"\")","v":""},{"$f":"IFERROR(INDEX($P$12:$R$111,(SMALL(IF(INDEX($P$12:$R$111,,$A$149)=$A$146,MATCH(ROW($P$12:$P$111),ROW($P$12:$P$111)),\"\"),ROWS($B$1:D40))),COLUMNS($B$1:D40)),\"\")","v":""}]
[41,{"$f":"IFERROR(INDEX($B$12:$H$111,(SMALL(IF(INDEX($B$12:$H$111,,$A$149)=$A$146,MATCH(ROW($B$12:$B$111),ROW($B$12:$B$111)),\"\"),ROWS($B$1:B41))),COLUMNS($B$1:B41)),\"\")","v":""},{"$f":"IFERROR(INDEX($B$12:$H$111,(SMALL(IF(INDEX($B$12:$H$111,,$A$149)=$A$146,MATCH(ROW($B$12:$B$111),ROW($B$12:$B$111)),\"\"),ROWS($B$1:C41))),COLUMNS($B$1:C41)),\"\")","v":""},{"$f":"IFERROR(INDEX($B$12:$H$111,(SMALL(IF(INDEX($B$12:$H$111,,$A$149)=$A$146,MATCH(ROW($B$12:$B$111),ROW($B$12:$B$111)),\"\"),ROWS($B$1:D41))),COLUMNS($B$1:D41)),\"\")","v":""},{"$f":"IFERROR(INDEX($B$12:$H$111,(SMALL(IF(INDEX($B$12:$H$111,,$A$149)=$A$146,MATCH(ROW($B$12:$B$111),ROW($B$12:$B$111)),\"\"),ROWS($B$1:E41))),COLUMNS($B$1:E41)),\"\")","v":""},{"$f":"IFERROR(INDEX($B$12:$H$111,(SMALL(IF(INDEX($B$12:$H$111,,$A$149)=$A$146,MATCH(ROW($B$12:$B$111),ROW($B$12:$B$111)),\"\"),ROWS($B$1:F41))),COLUMNS($B$1:F41)),\"\")","v":""},{"$f":"IFERROR(INDEX($B$12:$H$111,(SMALL(IF(INDEX($B$12:$H$111,,$A$149)=$A$146,MATCH(ROW($B$12:$B$111),ROW($B$12:$B$111)),\"\"),ROWS($B$1:G41))),COLUMNS($B$1:G41)),\"\")","v":""},{"$f":"IFERROR(INDEX($B$12:$H$111,(SMALL(IF(INDEX($B$12:$H$111,,$A$149)=$A$146,MATCH(ROW($B$12:$B$111),ROW($B$12:$B$111)),\"\"),ROWS($B$1:H41))),COLUMNS($B$1:H41)),\"\")","v":""},null,null,{"$f":"IFERROR(INDEX($K$12:$M$111,(SMALL(IF(INDEX($K$12:$M$111,,$A$149)=$A$146,MATCH(ROW($K$12:$K$111),ROW($K$12:$K$111)),\"\"),ROWS($B$1:B41))),COLUMNS($B$1:B41)),\"\")","v":""},{"$f":"IFERROR(INDEX($K$12:$M$111,(SMALL(IF(INDEX($K$12:$M$111,,$A$149)=$A$146,MATCH(ROW($K$12:$K$111),ROW($K$12:$K$111)),\"\"),ROWS($B$1:C41))),COLUMNS($B$1:C41)),\"\")","v":""},{"$f":"IFERROR(INDEX($K$12:$M$111,(SMALL(IF(INDEX($K$12:$M$111,,$A$149)=$A$146,MATCH(ROW($K$12:$K$111),ROW($K$12:$K$111)),\"\"),ROWS($B$1:D41))),COLUMNS($B$1:D41)),\"\")","v":""},null,null,{"$f":"IFERROR(INDEX($P$12:$R$111,(SMALL(IF(INDEX($P$12:$R$111,,$A$149)=$A$146,MATCH(ROW($P$12:$P$111),ROW($P$12:$P$111)),\"\"),ROWS($B$1:B41))),COLUMNS($B$1:B41)),\"\")","v":""},{"$f":"IFERROR(INDEX($P$12:$R$111,(SMALL(IF(INDEX($P$12:$R$111,,$A$149)=$A$146,MATCH(ROW($P$12:$P$111),ROW($P$12:$P$111)),\"\"),ROWS($B$1:C41))),COLUMNS($B$1:C41)),\"\")","v":""},{"$f":"IFERROR(INDEX($P$12:$R$111,(SMALL(IF(INDEX($P$12:$R$111,,$A$149)=$A$146,MATCH(ROW($P$12:$P$111),ROW($P$12:$P$111)),\"\"),ROWS($B$1:D41))),COLUMNS($B$1:D41)),\"\")","v":""}]
[42,{"$f":"IFERROR(INDEX($B$12:$H$111,(SMALL(IF(INDEX($B$12:$H$111,,$A$149)=$A$146,MATCH(ROW($B$12:$B$111),ROW($B$12:$B$111)),\"\"),ROWS($B$1:B42))),COLUMNS($B$1:B42)),\"\")","v":""},{"$f":"IFERROR(INDEX($B$12:$H$111,(SMALL(IF(INDEX($B$12:$H$111,,$A$149)=$A$146,MATCH(ROW($B$12:$B$111),ROW($B$12:$B$111)),\"\"),ROWS($B$1:C42))),COLUMNS($B$1:C42)),\"\")","v":""},{"$f":"IFERROR(INDEX($B$12:$H$111,(SMALL(IF(INDEX($B$12:$H$111,,$A$149)=$A$146,MATCH(ROW($B$12:$B$111),ROW($B$12:$B$111)),\"\"),ROWS($B$1:D42))),COLUMNS($B$1:D42)),\"\")","v":""},{"$f":"IFERROR(INDEX($B$12:$H$111,(SMALL(IF(INDEX($B$12:$H$111,,$A$149)=$A$146,MATCH(ROW($B$12:$B$111),ROW($B$12:$B$111)),\"\"),ROWS($B$1:E42))),COLUMNS($B$1:E42)),\"\")","v":""},{"$f":"IFERROR(INDEX($B$12:$H$111,(SMALL(IF(INDEX($B$12:$H$111,,$A$149)=$A$146,MATCH(ROW($B$12:$B$111),ROW($B$12:$B$111)),\"\"),ROWS($B$1:F42))),COLUMNS($B$1:F42)),\"\")","v":""},{"$f":"IFERROR(INDEX($B$12:$H$111,(SMALL(IF(INDEX($B$12:$H$111,,$A$149)=$A$146,MATCH(ROW($B$12:$B$111),ROW($B$12:$B$111)),\"\"),ROWS($B$1:G42))),COLUMNS($B$1:G42)),\"\")","v":""},{"$f":"IFERROR(INDEX($B$12:$H$111,(SMALL(IF(INDEX($B$12:$H$111,,$A$149)=$A$146,MATCH(ROW($B$12:$B$111),ROW($B$12:$B$111)),\"\"),ROWS($B$1:H42))),COLUMNS($B$1:H42)),\"\")","v":""},null,null,{"$f":"IFERROR(INDEX($K$12:$M$111,(SMALL(IF(INDEX($K$12:$M$111,,$A$149)=$A$146,MATCH(ROW($K$12:$K$111),ROW($K$12:$K$111)),\"\"),ROWS($B$1:B42))),COLUMNS($B$1:B42)),\"\")","v":""},{"$f":"IFERROR(INDEX($K$12:$M$111,(SMALL(IF(INDEX($K$12:$M$111,,$A$149)=$A$146,MATCH(ROW($K$12:$K$111),ROW($K$12:$K$111)),\"\"),ROWS($B$1:C42))),COLUMNS($B$1:C42)),\"\")","v":""},{"$f":"IFERROR(INDEX($K$12:$M$111,(SMALL(IF(INDEX($K$12:$M$111,,$A$149)=$A$146,MATCH(ROW($K$12:$K$111),ROW($K$12:$K$111)),\"\"),ROWS($B$1:D42))),COLUMNS($B$1:D42)),\"\")","v":""},null,null,{"$f":"IFERROR(INDEX($P$12:$R$111,(SMALL(IF(INDEX($P$12:$R$111,,$A$149)=$A$146,MATCH(ROW($P$12:$P$111),ROW($P$12:$P$111)),\"\"),ROWS($B$1:B42))),COLUMNS($B$1:B42)),\"\")","v":""},{"$f":"IFERROR(INDEX($P$12:$R$111,(SMALL(IF(INDEX($P$12:$R$111,,$A$149)=$A$146,MATCH(ROW($P$12:$P$111),ROW($P$12:$P$111)),\"\"),ROWS($B$1:C42))),COLUMNS($B$1:C42)),\"\")","v":""},{"$f":"IFERROR(INDEX($P$12:$R$111,(SMALL(IF(INDEX($P$12:$R$111,,$A$149)=$A$146,MATCH(ROW($P$12:$P$111),ROW($P$12:$P$111)),\"\"),ROWS($B$1:D42))),COLUMNS($B$1:D42)),\"\")","v":""}]
[43,{"$f":"IFERROR(INDEX($B$12:$H$111,(SMALL(IF(INDEX($B$12:$H$111,,$A$149)=$A$146,MATCH(ROW($B$12:$B$111),ROW($B$12:$B$111)),\"\"),ROWS($B$1:B43))),COLUMNS($B$1:B43)),\"\")","v":""},{"$f":"IFERROR(INDEX($B$12:$H$111,(SMALL(IF(INDEX($B$12:$H$111,,$A$149)=$A$146,MATCH(ROW($B$12:$B$111),ROW($B$12:$B$111)),\"\"),ROWS($B$1:C43))),COLUMNS($B$1:C43)),\"\")","v":""},{"$f":"IFERROR(INDEX($B$12:$H$111,(SMALL(IF(INDEX($B$12:$H$111,,$A$149)=$A$146,MATCH(ROW($B$12:$B$111),ROW($B$12:$B$111)),\"\"),ROWS($B$1:D43))),COLUMNS($B$1:D43)),\"\")","v":""},{"$f":"IFERROR(INDEX($B$12:$H$111,(SMALL(IF(INDEX($B$12:$H$111,,$A$149)=$A$146,MATCH(ROW($B$12:$B$111),ROW($B$12:$B$111)),\"\"),ROWS($B$1:E43))),COLUMNS($B$1:E43)),\"\")","v":""},{"$f":"IFERROR(INDEX($B$12:$H$111,(SMALL(IF(INDEX($B$12:$H$111,,$A$149)=$A$146,MATCH(ROW($B$12:$B$111),ROW($B$12:$B$111)),\"\"),ROWS($B$1:F43))),COLUMNS($B$1:F43)),\"\")","v":""},{"$f":"IFERROR(INDEX($B$12:$H$111,(SMALL(IF(INDEX($B$12:$H$111,,$A$149)=$A$146,MATCH(ROW($B$12:$B$111),ROW($B$12:$B$111)),\"\"),ROWS($B$1:G43))),COLUMNS($B$1:G43)),\"\")","v":""},{"$f":"IFERROR(INDEX($B$12:$H$111,(SMALL(IF(INDEX($B$12:$H$111,,$A$149)=$A$146,MATCH(ROW($B$12:$B$111),ROW($B$12:$B$111)),\"\"),ROWS($B$1:H43))),COLUMNS($B$1:H43)),\"\")","v":""},null,null,{"$f":"IFERROR(INDEX($K$12:$M$111,(SMALL(IF(INDEX($K$12:$M$111,,$A$149)=$A$146,MATCH(ROW($K$12:$K$111),ROW($K$12:$K$111)),\"\"),ROWS($B$1:B43))),COLUMNS($B$1:B43)),\"\")","v":""},{"$f":"IFERROR(INDEX($K$12:$M$111,(SMALL(IF(INDEX($K$12:$M$111,,$A$149)=$A$146,MATCH(ROW($K$12:$K$111),ROW($K$12:$K$111)),\"\"),ROWS($B$1:C43))),COLUMNS($B$1:C43)),\"\")","v":""},{"$f":"IFERROR(INDEX($K$12:$M$111,(SMALL(IF(INDEX($K$12:$M$111,,$A$149)=$A$146,MATCH(ROW($K$12:$K$111),ROW($K$12:$K$111)),\"\"),ROWS($B$1:D43))),COLUMNS($B$1:D43)),\"\")","v":""},null,null,{"$f":"IFERROR(INDEX($P$12:$R$111,(SMALL(IF(INDEX($P$12:$R$111,,$A$149)=$A$146,MATCH(ROW($P$12:$P$111),ROW($P$12:$P$111)),\"\"),ROWS($B$1:B43))),COLUMNS($B$1:B43)),\"\")","v":""},{"$f":"IFERROR(INDEX($P$12:$R$111,(SMALL(IF(INDEX($P$12:$R$111,,$A$149)=$A$146,MATCH(ROW($P$12:$P$111),ROW($P$12:$P$111)),\"\"),ROWS($B$1:C43))),COLUMNS($B$1:C43)),\"\")","v":""},{"$f":"IFERROR(INDEX($P$12:$R$111,(SMALL(IF(INDEX($P$12:$R$111,,$A$149)=$A$146,MATCH(ROW($P$12:$P$111),ROW($P$12:$P$111)),\"\"),ROWS($B$1:D43))),COLUMNS($B$1:D43)),\"\")","v":""}]
[44,{"$f":"IFERROR(INDEX($B$12:$H$111,(SMALL(IF(INDEX($B$12:$H$111,,$A$149)=$A$146,MATCH(ROW($B$12:$B$111),ROW($B$12:$B$111)),\"\"),ROWS($B$1:B44))),COLUMNS($B$1:B44)),\"\")","v":""},{"$f":"IFERROR(INDEX($B$12:$H$111,(SMALL(IF(INDEX($B$12:$H$111,,$A$149)=$A$146,MATCH(ROW($B$12:$B$111),ROW($B$12:$B$111)),\"\"),ROWS($B$1:C44))),COLUMNS($B$1:C44)),\"\")","v":""},{"$f":"IFERROR(INDEX($B$12:$H$111,(SMALL(IF(INDEX($B$12:$H$111,,$A$149)=$A$146,MATCH(ROW($B$12:$B$111),ROW($B$12:$B$111)),\"\"),ROWS($B$1:D44))),COLUMNS($B$1:D44)),\"\")","v":""},{"$f":"IFERROR(INDEX($B$12:$H$111,(SMALL(IF(INDEX($B$12:$H$111,,$A$149)=$A$146,MATCH(ROW($B$12:$B$111),ROW($B$12:$B$111)),\"\"),ROWS($B$1:E44))),COLUMNS($B$1:E44)),\"\")","v":""},{"$f":"IFERROR(INDEX($B$12:$H$111,(SMALL(IF(INDEX($B$12:$H$111,,$A$149)=$A$146,MATCH(ROW($B$12:$B$111),ROW($B$12:$B$111)),\"\"),ROWS($B$1:F44))),COLUMNS($B$1:F44)),\"\")","v":""},{"$f":"IFERROR(INDEX($B$12:$H$111,(SMALL(IF(INDEX($B$12:$H$111,,$A$149)=$A$146,MATCH(ROW($B$12:$B$111),ROW($B$12:$B$111)),\"\"),ROWS($B$1:G44))),COLUMNS($B$1:G44)),\"\")","v":""},{"$f":"IFERROR(INDEX($B$12:$H$111,(SMALL(IF(INDEX($B$12:$H$111,,$A$149)=$A$146,MATCH(ROW($B$12:$B$111),ROW($B$12:$B$111)),\"\"),ROWS($B$1:H44))),COLUMNS($B$1:H44)),\"\")","v":""},null,null,{"$f":"IFERROR(INDEX($K$12:$M$111,(SMALL(IF(INDEX($K$12:$M$111,,$A$149)=$A$146,MATCH(ROW($K$12:$K$111),ROW($K$12:$K$111)),\"\"),ROWS($B$1:B44))),COLUMNS($B$1:B44)),\"\")","v":""},{"$f":"IFERROR(INDEX($K$12:$M$111,(SMALL(IF(INDEX($K$12:$M$111,,$A$149)=$A$146,MATCH(ROW($K$12:$K$111),ROW($K$12:$K$111)),\"\"),ROWS($B$1:C44))),COLUMNS($B$1:C44)),\"\")","v":""},{"$f":"IFERROR(INDEX($K$12:$M$111,(SMALL(IF(INDEX($K$12:$M$111,,$A$149)=$A$146,MATCH(ROW($K$12:$K$111),ROW($K$12:$K$111)),\"\"),ROWS($B$1:D44))),COLUMNS($B$1:D44)),\"\")","v":""},null,null,{"$f":"IFERROR(INDEX($P$12:$R$111,(SMALL(IF(INDEX($P$12:$R$111,,$A$149)=$A$146,MATCH(ROW($P$12:$P$111),ROW($P$12:$P$111)),\"\"),ROWS($B$1:B44))),COLUMNS($B$1:B44)),\"\")","v":""},{"$f":"IFERROR(INDEX($P$12:$R$111,(SMALL(IF(INDEX($P$12:$R$111,,$A$149)=$A$146,MATCH(ROW($P$12:$P$111),ROW($P$12:$P$111)),\"\"),ROWS($B$1:C44))),COLUMNS($B$1:C44)),\"\")","v":""},{"$f":"IFERROR(INDEX($P$12:$R$111,(SMALL(IF(INDEX($P$12:$R$111,,$A$149)=$A$146,MATCH(ROW($P$12:$P$111),ROW($P$12:$P$111)),\"\"),ROWS($B$1:D44))),COLUMNS($B$1:D44)),\"\")","v":""}]
[45,{"$f":"IFERROR(INDEX($B$12:$H$111,(SMALL(IF(INDEX($B$12:$H$111,,$A$149)=$A$146,MATCH(ROW($B$12:$B$111),ROW($B$12:$B$111)),\"\"),ROWS($B$1:B45))),COLUMNS($B$1:B45)),\"\")","v":""},{"$f":"IFERROR(INDEX($B$12:$H$111,(SMALL(IF(INDEX($B$12:$H$111,,$A$149)=$A$146,MATCH(ROW($B$12:$B$111),ROW($B$12:$B$111)),\"\"),ROWS($B$1:C45))),COLUMNS($B$1:C45)),\"\")","v":""},{"$f":"IFERROR(INDEX($B$12:$H$111,(SMALL(IF(INDEX($B$12:$H$111,,$A$149)=$A$146,MATCH(ROW($B$12:$B$111),ROW($B$12:$B$111)),\"\"),ROWS($B$1:D45))),COLUMNS($B$1:D45)),\"\")","v":""},{"$f":"IFERROR(INDEX($B$12:$H$111,(SMALL(IF(INDEX($B$12:$H$111,,$A$149)=$A$146,MATCH(ROW($B$12:$B$111),ROW($B$12:$B$111)),\"\"),ROWS($B$1:E45))),COLUMNS($B$1:E45)),\"\")","v":""},{"$f":"IFERROR(INDEX($B$12:$H$111,(SMALL(IF(INDEX($B$12:$H$111,,$A$149)=$A$146,MATCH(ROW($B$12:$B$111),ROW($B$12:$B$111)),\"\"),ROWS($B$1:F45))),COLUMNS($B$1:F45)),\"\")","v":""},{"$f":"IFERROR(INDEX($B$12:$H$111,(SMALL(IF(INDEX($B$12:$H$111,,$A$149)=$A$146,MATCH(ROW($B$12:$B$111),ROW($B$12:$B$111)),\"\"),ROWS($B$1:G45))),COLUMNS($B$1:G45)),\"\")","v":""},{"$f":"IFERROR(INDEX($B$12:$H$111,(SMALL(IF(INDEX($B$12:$H$111,,$A$149)=$A$146,MATCH(ROW($B$12:$B$111),ROW($B$12:$B$111)),\"\"),ROWS($B$1:H45))),COLUMNS($B$1:H45)),\"\")","v":""},null,null,{"$f":"IFERROR(INDEX($K$12:$M$111,(SMALL(IF(INDEX($K$12:$M$111,,$A$149)=$A$146,MATCH(ROW($K$12:$K$111),ROW($K$12:$K$111)),\"\"),ROWS($B$1:B45))),COLUMNS($B$1:B45)),\"\")","v":""},{"$f":"IFERROR(INDEX($K$12:$M$111,(SMALL(IF(INDEX($K$12:$M$111,,$A$149)=$A$146,MATCH(ROW($K$12:$K$111),ROW($K$12:$K$111)),\"\"),ROWS($B$1:C45))),COLUMNS($B$1:C45)),\"\")","v":""},{"$f":"IFERROR(INDEX($K$12:$M$111,(SMALL(IF(INDEX($K$12:$M$111,,$A$149)=$A$146,MATCH(ROW($K$12:$K$111),ROW($K$12:$K$111)),\"\"),ROWS($B$1:D45))),COLUMNS($B$1:D45)),\"\")","v":""},null,null,{"$f":"IFERROR(INDEX($P$12:$R$111,(SMALL(IF(INDEX($P$12:$R$111,,$A$149)=$A$146,MATCH(ROW($P$12:$P$111),ROW($P$12:$P$111)),\"\"),ROWS($B$1:B45))),COLUMNS($B$1:B45)),\"\")","v":""},{"$f":"IFERROR(INDEX($P$12:$R$111,(SMALL(IF(INDEX($P$12:$R$111,,$A$149)=$A$146,MATCH(ROW($P$12:$P$111),ROW($P$12:$P$111)),\"\"),ROWS($B$1:C45))),COLUMNS($B$1:C45)),\"\")","v":""},{"$f":"IFERROR(INDEX($P$12:$R$111,(SMALL(IF(INDEX($P$12:$R$111,,$A$149)=$A$146,MATCH(ROW($P$12:$P$111),ROW($P$12:$P$111)),\"\"),ROWS($B$1:D45))),COLUMNS($B$1:D45)),\"\")","v":""}]
[46,{"$f":"IFERROR(INDEX($B$12:$H$111,(SMALL(IF(INDEX($B$12:$H$111,,$A$149)=$A$146,MATCH(ROW($B$12:$B$111),ROW($B$12:$B$111)),\"\"),ROWS($B$1:B46))),COLUMNS($B$1:B46)),\"\")","v":""},{"$f":"IFERROR(INDEX($B$12:$H$111,(SMALL(IF(INDEX($B$12:$H$111,,$A$149)=$A$146,MATCH(ROW($B$12:$B$111),ROW($B$12:$B$111)),\"\"),ROWS($B$1:C46))),COLUMNS($B$1:C46)),\"\")","v":""},{"$f":"IFERROR(INDEX($B$12:$H$111,(SMALL(IF(INDEX($B$12:$H$111,,$A$149)=$A$146,MATCH(ROW($B$12:$B$111),ROW($B$12:$B$111)),\"\"),ROWS($B$1:D46))),COLUMNS($B$1:D46)),\"\")","v":""},{"$f":"IFERROR(INDEX($B$12:$H$111,(SMALL(IF(INDEX($B$12:$H$111,,$A$149)=$A$146,MATCH(ROW($B$12:$B$111),ROW($B$12:$B$111)),\"\"),ROWS($B$1:E46))),COLUMNS($B$1:E46)),\"\")","v":""},{"$f":"IFERROR(INDEX($B$12:$H$111,(SMALL(IF(INDEX($B$12:$H$111,,$A$149)=$A$146,MATCH(ROW($B$12:$B$111),ROW($B$12:$B$111)),\"\"),ROWS($B$1:F46))),COLUMNS($B$1:F46)),\"\")","v":""},{"$f":"IFERROR(INDEX($B$12:$H$111,(SMALL(IF(INDEX($B$12:$H$111,,$A$149)=$A$146,MATCH(ROW($B$12:$B$111),ROW($B$12:$B$111)),\"\"),ROWS($B$1:G46))),COLUMNS($B$1:G46)),\"\")","v":""},{"$f":"IFERROR(INDEX($B$12:$H$111,(SMALL(IF(INDEX($B$12:$H$111,,$A$149)=$A$146,MATCH(ROW($B$12:$B$111),ROW($B$12:$B$111)),\"\"),ROWS($B$1:H46))),COLUMNS($B$1:H46)),\"\")","v":""},null,null,{"$f":"IFERROR(INDEX($K$12:$M$111,(SMALL(IF(INDEX($K$12:$M$111,,$A$149)=$A$146,MATCH(ROW($K$12:$K$111),ROW($K$12:$K$111)),\"\"),ROWS($B$1:B46))),COLUMNS($B$1:B46)),\"\")","v":""},{"$f":"IFERROR(INDEX($K$12:$M$111,(SMALL(IF(INDEX($K$12:$M$111,,$A$149)=$A$146,MATCH(ROW($K$12:$K$111),ROW($K$12:$K$111)),\"\"),ROWS($B$1:C46))),COLUMNS($B$1:C46)),\"\")","v":""},{"$f":"IFERROR(INDEX($K$12:$M$111,(SMALL(IF(INDEX($K$12:$M$111,,$A$149)=$A$146,MATCH(ROW($K$12:$K$111),ROW($K$12:$K$111)),\"\"),ROWS($B$1:D46))),COLUMNS($B$1:D46)),\"\")","v":""},null,null,{"$f":"IFERROR(INDEX($P$12:$R$111,(SMALL(IF(INDEX($P$12:$R$111,,$A$149)=$A$146,MATCH(ROW($P$12:$P$111),ROW($P$12:$P$111)),\"\"),ROWS($B$1:B46))),COLUMNS($B$1:B46)),\"\")","v":""},{"$f":"IFERROR(INDEX($P$12:$R$111,(SMALL(IF(INDEX($P$12:$R$111,,$A$149)=$A$146,MATCH(ROW($P$12:$P$111),ROW($P$12:$P$111)),\"\"),ROWS($B$1:C46))),COLUMNS($B$1:C46)),\"\")","v":""},{"$f":"IFERROR(INDEX($P$12:$R$111,(SMALL(IF(INDEX($P$12:$R$111,,$A$149)=$A$146,MATCH(ROW($P$12:$P$111),ROW($P$12:$P$111)),\"\"),ROWS($B$1:D46))),COLUMNS($B$1:D46)),\"\")","v":""}]
[47,{"$f":"IFERROR(INDEX($B$12:$H$111,(SMALL(IF(INDEX($B$12:$H$111,,$A$149)=$A$146,MATCH(ROW($B$12:$B$111),ROW($B$12:$B$111)),\"\"),ROWS($B$1:B47))),COLUMNS($B$1:B47)),\"\")","v":""},{"$f":"IFERROR(INDEX($B$12:$H$111,(SMALL(IF(INDEX($B$12:$H$111,,$A$149)=$A$146,MATCH(ROW($B$12:$B$111),ROW($B$12:$B$111)),\"\"),ROWS($B$1:C47))),COLUMNS($B$1:C47)),\"\")","v":""},{"$f":"IFERROR(INDEX($B$12:$H$111,(SMALL(IF(INDEX($B$12:$H$111,,$A$149)=$A$146,MATCH(ROW($B$12:$B$111),ROW($B$12:$B$111)),\"\"),ROWS($B$1:D47))),COLUMNS($B$1:D47)),\"\")","v":""},{"$f":"IFERROR(INDEX($B$12:$H$111,(SMALL(IF(INDEX($B$12:$H$111,,$A$149)=$A$146,MATCH(ROW($B$12:$B$111),ROW($B$12:$B$111)),\"\"),ROWS($B$1:E47))),COLUMNS($B$1:E47)),\"\")","v":""},{"$f":"IFERROR(INDEX($B$12:$H$111,(SMALL(IF(INDEX($B$12:$H$111,,$A$149)=$A$146,MATCH(ROW($B$12:$B$111),ROW($B$12:$B$111)),\"\"),ROWS($B$1:F47))),COLUMNS($B$1:F47)),\"\")","v":""},{"$f":"IFERROR(INDEX($B$12:$H$111,(SMALL(IF(INDEX($B$12:$H$111,,$A$149)=$A$146,MATCH(ROW($B$12:$B$111),ROW($B$12:$B$111)),\"\"),ROWS($B$1:G47))),COLUMNS($B$1:G47)),\"\")","v":""},{"$f":"IFERROR(INDEX($B$12:$H$111,(SMALL(IF(INDEX($B$12:$H$111,,$A$149)=$A$146,MATCH(ROW($B$12:$B$111),ROW($B$12:$B$111)),\"\"),ROWS($B$1:H47))),COLUMNS($B$1:H47)),\"\")","v":""},null,null,{"$f":"IFERROR(INDEX($K$12:$M$111,(SMALL(IF(INDEX($K$12:$M$111,,$A$149)=$A$146,MATCH(ROW($K$12:$K$111),ROW($K$12:$K$111)),\"\"),ROWS($B$1:B47))),COLUMNS($B$1:B47)),\"\")","v":""},{"$f":"IFERROR(INDEX($K$12:$M$111,(SMALL(IF(INDEX($K$12:$M$111,,$A$149)=$A$146,MATCH(ROW($K$12:$K$111),ROW($K$12:$K$111)),\"\"),ROWS($B$1:C47))),COLUMNS($B$1:C47)),\"\")","v":""},{"$f":"IFERROR(INDEX($K$12:$M$111,(SMALL(IF(INDEX($K$12:$M$111,,$A$149)=$A$146,MATCH(ROW($K$12:$K$111),ROW($K$12:$K$111)),\"\"),ROWS($B$1:D47))),COLUMNS($B$1:D47)),\"\")","v":""},null,null,{"$f":"IFERROR(INDEX($P$12:$R$111,(SMALL(IF(INDEX($P$12:$R$111,,$A$149)=$A$146,MATCH(ROW($P$12:$P$111),ROW($P$12:$P$111)),\"\"),ROWS($B$1:B47))),COLUMNS($B$1:B47)),\"\")","v":""},{"$f":"IFERROR(INDEX($P$12:$R$111,(SMALL(IF(INDEX($P$12:$R$111,,$A$149)=$A$146,MATCH(ROW($P$12:$P$111),ROW($P$12:$P$111)),\"\"),ROWS($B$1:C47))),COLUMNS($B$1:C47)),\"\")","v":""},{"$f":"IFERROR(INDEX($P$12:$R$111,(SMALL(IF(INDEX($P$12:$R$111,,$A$149)=$A$146,MATCH(ROW($P$12:$P$111),ROW($P$12:$P$111)),\"\"),ROWS($B$1:D47))),COLUMNS($B$1:D47)),\"\")","v":""}]
[48,{"$f":"IFERROR(INDEX($B$12:$H$111,(SMALL(IF(INDEX($B$12:$H$111,,$A$149)=$A$146,MATCH(ROW($B$12:$B$111),ROW($B$12:$B$111)),\"\"),ROWS($B$1:B48))),COLUMNS($B$1:B48)),\"\")","v":""},{"$f":"IFERROR(INDEX($B$12:$H$111,(SMALL(IF(INDEX($B$12:$H$111,,$A$149)=$A$146,MATCH(ROW($B$12:$B$111),ROW($B$12:$B$111)),\"\"),ROWS($B$1:C48))),COLUMNS($B$1:C48)),\"\")","v":""},{"$f":"IFERROR(INDEX($B$12:$H$111,(SMALL(IF(INDEX($B$12:$H$111,,$A$149)=$A$146,MATCH(ROW($B$12:$B$111),ROW($B$12:$B$111)),\"\"),ROWS($B$1:D48))),COLUMNS($B$1:D48)),\"\")","v":""},{"$f":"IFERROR(INDEX($B$12:$H$111,(SMALL(IF(INDEX($B$12:$H$111,,$A$149)=$A$146,MATCH(ROW($B$12:$B$111),ROW($B$12:$B$111)),\"\"),ROWS($B$1:E48))),COLUMNS($B$1:E48)),\"\")","v":""},{"$f":"IFERROR(INDEX($B$12:$H$111,(SMALL(IF(INDEX($B$12:$H$111,,$A$149)=$A$146,MATCH(ROW($B$12:$B$111),ROW($B$12:$B$111)),\"\"),ROWS($B$1:F48))),COLUMNS($B$1:F48)),\"\")","v":""},{"$f":"IFERROR(INDEX($B$12:$H$111,(SMALL(IF(INDEX($B$12:$H$111,,$A$149)=$A$146,MATCH(ROW($B$12:$B$111),ROW($B$12:$B$111)),\"\"),ROWS($B$1:G48))),COLUMNS($B$1:G48)),\"\")","v":""},{"$f":"IFERROR(INDEX($B$12:$H$111,(SMALL(IF(INDEX($B$12:$H$111,,$A$149)=$A$146,MATCH(ROW($B$12:$B$111),ROW($B$12:$B$111)),\"\"),ROWS($B$1:H48))),COLUMNS($B$1:H48)),\"\")","v":""},null,null,{"$f":"IFERROR(INDEX($K$12:$M$111,(SMALL(IF(INDEX($K$12:$M$111,,$A$149)=$A$146,MATCH(ROW($K$12:$K$111),ROW($K$12:$K$111)),\"\"),ROWS($B$1:B48))),COLUMNS($B$1:B48)),\"\")","v":""},{"$f":"IFERROR(INDEX($K$12:$M$111,(SMALL(IF(INDEX($K$12:$M$111,,$A$149)=$A$146,MATCH(ROW($K$12:$K$111),ROW($K$12:$K$111)),\"\"),ROWS($B$1:C48))),COLUMNS($B$1:C48)),\"\")","v":""},{"$f":"IFERROR(INDEX($K$12:$M$111,(SMALL(IF(INDEX($K$12:$M$111,,$A$149)=$A$146,MATCH(ROW($K$12:$K$111),ROW($K$12:$K$111)),\"\"),ROWS($B$1:D48))),COLUMNS($B$1:D48)),\"\")","v":""},null,null,{"$f":"IFERROR(INDEX($P$12:$R$111,(SMALL(IF(INDEX($P$12:$R$111,,$A$149)=$A$146,MATCH(ROW($P$12:$P$111),ROW($P$12:$P$111)),\"\"),ROWS($B$1:B48))),COLUMNS($B$1:B48)),\"\")","v":""},{"$f":"IFERROR(INDEX($P$12:$R$111,(SMALL(IF(INDEX($P$12:$R$111,,$A$149)=$A$146,MATCH(ROW($P$12:$P$111),ROW($P$12:$P$111)),\"\"),ROWS($B$1:C48))),COLUMNS($B$1:C48)),\"\")","v":""},{"$f":"IFERROR(INDEX($P$12:$R$111,(SMALL(IF(INDEX($P$12:$R$111,,$A$149)=$A$146,MATCH(ROW($P$12:$P$111),ROW($P$12:$P$111)),\"\"),ROWS($B$1:D48))),COLUMNS($B$1:D48)),\"\")","v":""}]
[49,{"$f":"IFERROR(INDEX($B$12:$H$111,(SMALL(IF(INDEX($B$12:$H$111,,$A$149)=$A$146,MATCH(ROW($B$12:$B$111),ROW($B$12:$B$111)),\"\"),ROWS($B$1:B49))),COLUMNS($B$1:B49)),\"\")","v":""},{"$f":"IFERROR(INDEX($B$12:$H$111,(SMALL(IF(INDEX($B$12:$H$111,,$A$149)=$A$146,MATCH(ROW($B$12:$B$111),ROW($B$12:$B$111)),\"\"),ROWS($B$1:C49))),COLUMNS($B$1:C49)),\"\")","v":""},{"$f":"IFERROR(INDEX($B$12:$H$111,(SMALL(IF(INDEX($B$12:$H$111,,$A$149)=$A$146,MATCH(ROW($B$12:$B$111),ROW($B$12:$B$111)),\"\"),ROWS($B$1:D49))),COLUMNS($B$1:D49)),\"\")","v":""},{"$f":"IFERROR(INDEX($B$12:$H$111,(SMALL(IF(INDEX($B$12:$H$111,,$A$149)=$A$146,MATCH(ROW($B$12:$B$111),ROW($B$12:$B$111)),\"\"),ROWS($B$1:E49))),COLUMNS($B$1:E49)),\"\")","v":""},{"$f":"IFERROR(INDEX($B$12:$H$111,(SMALL(IF(INDEX($B$12:$H$111,,$A$149)=$A$146,MATCH(ROW($B$12:$B$111),ROW($B$12:$B$111)),\"\"),ROWS($B$1:F49))),COLUMNS($B$1:F49)),\"\")","v":""},{"$f":"IFERROR(INDEX($B$12:$H$111,(SMALL(IF(INDEX($B$12:$H$111,,$A$149)=$A$146,MATCH(ROW($B$12:$B$111),ROW($B$12:$B$111)),\"\"),ROWS($B$1:G49))),COLUMNS($B$1:G49)),\"\")","v":""},{"$f":"IFERROR(INDEX($B$12:$H$111,(SMALL(IF(INDEX($B$12:$H$111,,$A$149)=$A$146,MATCH(ROW($B$12:$B$111),ROW($B$12:$B$111)),\"\"),ROWS($B$1:H49))),COLUMNS($B$1:H49)),\"\")","v":""},null,null,{"$f":"IFERROR(INDEX($K$12:$M$111,(SMALL(IF(INDEX($K$12:$M$111,,$A$149)=$A$146,MATCH(ROW($K$12:$K$111),ROW($K$12:$K$111)),\"\"),ROWS($B$1:B49))),COLUMNS($B$1:B49)),\"\")","v":""},{"$f":"IFERROR(INDEX($K$12:$M$111,(SMALL(IF(INDEX($K$12:$M$111,,$A$149)=$A$146,MATCH(ROW($K$12:$K$111),ROW($K$12:$K$111)),\"\"),ROWS($B$1:C49))),COLUMNS($B$1:C49)),\"\")","v":""},{"$f":"IFERROR(INDEX($K$12:$M$111,(SMALL(IF(INDEX($K$12:$M$111,,$A$149)=$A$146,MATCH(ROW($K$12:$K$111),ROW($K$12:$K$111)),\"\"),ROWS($B$1:D49))),COLUMNS($B$1:D49)),\"\")","v":""},null,null,{"$f":"IFERROR(INDEX($P$12:$R$111,(SMALL(IF(INDEX($P$12:$R$111,,$A$149)=$A$146,MATCH(ROW($P$12:$P$111),ROW($P$12:$P$111)),\"\"),ROWS($B$1:B49))),COLUMNS($B$1:B49)),\"\")","v":""},{"$f":"IFERROR(INDEX($P$12:$R$111,(SMALL(IF(INDEX($P$12:$R$111,,$A$149)=$A$146,MATCH(ROW($P$12:$P$111),ROW($P$12:$P$111)),\"\"),ROWS($B$1:C49))),COLUMNS($B$1:C49)),\"\")","v":""},{"$f":"IFERROR(INDEX($P$12:$R$111,(SMALL(IF(INDEX($P$12:$R$111,,$A$149)=$A$146,MATCH(ROW($P$12:$P$111),ROW($P$12:$P$111)),\"\"),ROWS($B$1:D49))),COLUMNS($B$1:D49)),\"\")","v":""}]
[50,{"$f":"IFERROR(INDEX($B$12:$H$111,(SMALL(IF(INDEX($B$12:$H$111,,$A$149)=$A$146,MATCH(ROW($B$12:$B$111),ROW($B$12:$B$111)),\"\"),ROWS($B$1:B50))),COLUMNS($B$1:B50)),\"\")","v":""},{"$f":"IFERROR(INDEX($B$12:$H$111,(SMALL(IF(INDEX($B$12:$H$111,,$A$149)=$A$146,MATCH(ROW($B$12:$B$111),ROW($B$12:$B$111)),\"\"),ROWS($B$1:C50))),COLUMNS($B$1:C50)),\"\")","v":""},{"$f":"IFERROR(INDEX($B$12:$H$111,(SMALL(IF(INDEX($B$12:$H$111,,$A$149)=$A$146,MATCH(ROW($B$12:$B$111),ROW($B$12:$B$111)),\"\"),ROWS($B$1:D50))),COLUMNS($B$1:D50)),\"\")","v":""},{"$f":"IFERROR(INDEX($B$12:$H$111,(SMALL(IF(INDEX($B$12:$H$111,,$A$149)=$A$146,MATCH(ROW($B$12:$B$111),ROW($B$12:$B$111)),\"\"),ROWS($B$1:E50))),COLUMNS($B$1:E50)),\"\")","v":""},{"$f":"IFERROR(INDEX($B$12:$H$111,(SMALL(IF(INDEX($B$12:$H$111,,$A$149)=$A$146,MATCH(ROW($B$12:$B$111),ROW($B$12:$B$111)),\"\"),ROWS($B$1:F50))),COLUMNS($B$1:F50)),\"\")","v":""},{"$f":"IFERROR(INDEX($B$12:$H$111,(SMALL(IF(INDEX($B$12:$H$111,,$A$149)=$A$146,MATCH(ROW($B$12:$B$111),ROW($B$12:$B$111)),\"\"),ROWS($B$1:G50))),COLUMNS($B$1:G50)),\"\")","v":""},{"$f":"IFERROR(INDEX($B$12:$H$111,(SMALL(IF(INDEX($B$12:$H$111,,$A$149)=$A$146,MATCH(ROW($B$12:$B$111),ROW($B$12:$B$111)),\"\"),ROWS($B$1:H50))),COLUMNS($B$1:H50)),\"\")","v":""},null,null,{"$f":"IFERROR(INDEX($K$12:$M$111,(SMALL(IF(INDEX($K$12:$M$111,,$A$149)=$A$146,MATCH(ROW($K$12:$K$111),ROW($K$12:$K$111)),\"\"),ROWS($B$1:B50))),COLUMNS($B$1:B50)),\"\")","v":""},{"$f":"IFERROR(INDEX($K$12:$M$111,(SMALL(IF(INDEX($K$12:$M$111,,$A$149)=$A$146,MATCH(ROW($K$12:$K$111),ROW($K$12:$K$111)),\"\"),ROWS($B$1:C50))),COLUMNS($B$1:C50)),\"\")","v":""},{"$f":"IFERROR(INDEX($K$12:$M$111,(SMALL(IF(INDEX($K$12:$M$111,,$A$149)=$A$146,MATCH(ROW($K$12:$K$111),ROW($K$12:$K$111)),\"\"),ROWS($B$1:D50))),COLUMNS($B$1:D50)),\"\")","v":""},null,null,{"$f":"IFERROR(INDEX($P$12:$R$111,(SMALL(IF(INDEX($P$12:$R$111,,$A$149)=$A$146,MATCH(ROW($P$12:$P$111),ROW($P$12:$P$111)),\"\"),ROWS($B$1:B50))),COLUMNS($B$1:B50)),\"\")","v":""},{"$f":"IFERROR(INDEX($P$12:$R$111,(SMALL(IF(INDEX($P$12:$R$111,,$A$149)=$A$146,MATCH(ROW($P$12:$P$111),ROW($P$12:$P$111)),\"\"),ROWS($B$1:C50))),COLUMNS($B$1:C50)),\"\")","v":""},{"$f":"IFERROR(INDEX($P$12:$R$111,(SMALL(IF(INDEX($P$12:$R$111,,$A$149)=$A$146,MATCH(ROW($P$12:$P$111),ROW($P$12:$P$111)),\"\"),ROWS($B$1:D50))),COLUMNS($B$1:D50)),\"\")","v":""}]
[51,{"$f":"IFERROR(INDEX($B$12:$H$111,(SMALL(IF(INDEX($B$12:$H$111,,$A$149)=$A$146,MATCH(ROW($B$12:$B$111),ROW($B$12:$B$111)),\"\"),ROWS($B$1:B51))),COLUMNS($B$1:B51)),\"\")","v":""},{"$f":"IFERROR(INDEX($B$12:$H$111,(SMALL(IF(INDEX($B$12:$H$111,,$A$149)=$A$146,MATCH(ROW($B$12:$B$111),ROW($B$12:$B$111)),\"\"),ROWS($B$1:C51))),COLUMNS($B$1:C51)),\"\")","v":""},{"$f":"IFERROR(INDEX($B$12:$H$111,(SMALL(IF(INDEX($B$12:$H$111,,$A$149)=$A$146,MATCH(ROW($B$12:$B$111),ROW($B$12:$B$111)),\"\"),ROWS($B$1:D51))),COLUMNS($B$1:D51)),\"\")","v":""},{"$f":"IFERROR(INDEX($B$12:$H$111,(SMALL(IF(INDEX($B$12:$H$111,,$A$149)=$A$146,MATCH(ROW($B$12:$B$111),ROW($B$12:$B$111)),\"\"),ROWS($B$1:E51))),COLUMNS($B$1:E51)),\"\")","v":""},{"$f":"IFERROR(INDEX($B$12:$H$111,(SMALL(IF(INDEX($B$12:$H$111,,$A$149)=$A$146,MATCH(ROW($B$12:$B$111),ROW($B$12:$B$111)),\"\"),ROWS($B$1:F51))),COLUMNS($B$1:F51)),\"\")","v":""},{"$f":"IFERROR(INDEX($B$12:$H$111,(SMALL(IF(INDEX($B$12:$H$111,,$A$149)=$A$146,MATCH(ROW($B$12:$B$111),ROW($B$12:$B$111)),\"\"),ROWS($B$1:G51))),COLUMNS($B$1:G51)),\"\")","v":""},{"$f":"IFERROR(INDEX($B$12:$H$111,(SMALL(IF(INDEX($B$12:$H$111,,$A$149)=$A$146,MATCH(ROW($B$12:$B$111),ROW($B$12:$B$111)),\"\"),ROWS($B$1:H51))),COLUMNS($B$1:H51)),\"\")","v":""},null,null,{"$f":"IFERROR(INDEX($K$12:$M$111,(SMALL(IF(INDEX($K$12:$M$111,,$A$149)=$A$146,MATCH(ROW($K$12:$K$111),ROW($K$12:$K$111)),\"\"),ROWS($B$1:B51))),COLUMNS($B$1:B51)),\"\")","v":""},{"$f":"IFERROR(INDEX($K$12:$M$111,(SMALL(IF(INDEX($K$12:$M$111,,$A$149)=$A$146,MATCH(ROW($K$12:$K$111),ROW($K$12:$K$111)),\"\"),ROWS($B$1:C51))),COLUMNS($B$1:C51)),\"\")","v":""},{"$f":"IFERROR(INDEX($K$12:$M$111,(SMALL(IF(INDEX($K$12:$M$111,,$A$149)=$A$146,MATCH(ROW($K$12:$K$111),ROW($K$12:$K$111)),\"\"),ROWS($B$1:D51))),COLUMNS($B$1:D51)),\"\")","v":""},null,null,{"$f":"IFERROR(INDEX($P$12:$R$111,(SMALL(IF(INDEX($P$12:$R$111,,$A$149)=$A$146,MATCH(ROW($P$12:$P$111),ROW($P$12:$P$111)),\"\"),ROWS($B$1:B51))),COLUMNS($B$1:B51)),\"\")","v":""},{"$f":"IFERROR(INDEX($P$12:$R$111,(SMALL(IF(INDEX($P$12:$R$111,,$A$149)=$A$146,MATCH(ROW($P$12:$P$111),ROW($P$12:$P$111)),\"\"),ROWS($B$1:C51))),COLUMNS($B$1:C51)),\"\")","v":""},{"$f":"IFERROR(INDEX($P$12:$R$111,(SMALL(IF(INDEX($P$12:$R$111,,$A$149)=$A$146,MATCH(ROW($P$12:$P$111),ROW($P$12:$P$111)),\"\"),ROWS($B$1:D51))),COLUMNS($B$1:D51)),\"\")","v":""}]
[52,{"$f":"IFERROR(INDEX($B$12:$H$111,(SMALL(IF(INDEX($B$12:$H$111,,$A$149)=$A$146,MATCH(ROW($B$12:$B$111),ROW($B$12:$B$111)),\"\"),ROWS($B$1:B52))),COLUMNS($B$1:B52)),\"\")","v":""},{"$f":"IFERROR(INDEX($B$12:$H$111,(SMALL(IF(INDEX($B$12:$H$111,,$A$149)=$A$146,MATCH(ROW($B$12:$B$111),ROW($B$12:$B$111)),\"\"),ROWS($B$1:C52))),COLUMNS($B$1:C52)),\"\")","v":""},{"$f":"IFERROR(INDEX($B$12:$H$111,(SMALL(IF(INDEX($B$12:$H$111,,$A$149)=$A$146,MATCH(ROW($B$12:$B$111),ROW($B$12:$B$111)),\"\"),ROWS($B$1:D52))),COLUMNS($B$1:D52)),\"\")","v":""},{"$f":"IFERROR(INDEX($B$12:$H$111,(SMALL(IF(INDEX($B$12:$H$111,,$A$149)=$A$146,MATCH(ROW($B$12:$B$111),ROW($B$12:$B$111)),\"\"),ROWS($B$1:E52))),COLUMNS($B$1:E52)),\"\")","v":""},{"$f":"IFERROR(INDEX($B$12:$H$111,(SMALL(IF(INDEX($B$12:$H$111,,$A$149)=$A$146,MATCH(ROW($B$12:$B$111),ROW($B$12:$B$111)),\"\"),ROWS($B$1:F52))),COLUMNS($B$1:F52)),\"\")","v":""},{"$f":"IFERROR(INDEX($B$12:$H$111,(SMALL(IF(INDEX($B$12:$H$111,,$A$149)=$A$146,MATCH(ROW($B$12:$B$111),ROW($B$12:$B$111)),\"\"),ROWS($B$1:G52))),COLUMNS($B$1:G52)),\"\")","v":""},{"$f":"IFERROR(INDEX($B$12:$H$111,(SMALL(IF(INDEX($B$12:$H$111,,$A$149)=$A$146,MATCH(ROW($B$12:$B$111),ROW($B$12:$B$111)),\"\"),ROWS($B$1:H52))),COLUMNS($B$1:H52)),\"\")","v":""},null,null,{"$f":"IFERROR(INDEX($K$12:$M$111,(SMALL(IF(INDEX($K$12:$M$111,,$A$149)=$A$146,MATCH(ROW($K$12:$K$111),ROW($K$12:$K$111)),\"\"),ROWS($B$1:B52))),COLUMNS($B$1:B52)),\"\")","v":""},{"$f":"IFERROR(INDEX($K$12:$M$111,(SMALL(IF(INDEX($K$12:$M$111,,$A$149)=$A$146,MATCH(ROW($K$12:$K$111),ROW($K$12:$K$111)),\"\"),ROWS($B$1:C52))),COLUMNS($B$1:C52)),\"\")","v":""},{"$f":"IFERROR(INDEX($K$12:$M$111,(SMALL(IF(INDEX($K$12:$M$111,,$A$149)=$A$146,MATCH(ROW($K$12:$K$111),ROW($K$12:$K$111)),\"\"),ROWS($B$1:D52))),COLUMNS($B$1:D52)),\"\")","v":""},null,null,{"$f":"IFERROR(INDEX($P$12:$R$111,(SMALL(IF(INDEX($P$12:$R$111,,$A$149)=$A$146,MATCH(ROW($P$12:$P$111),ROW($P$12:$P$111)),\"\"),ROWS($B$1:B52))),COLUMNS($B$1:B52)),\"\")","v":""},{"$f":"IFERROR(INDEX($P$12:$R$111,(SMALL(IF(INDEX($P$12:$R$111,,$A$149)=$A$146,MATCH(ROW($P$12:$P$111),ROW($P$12:$P$111)),\"\"),ROWS($B$1:C52))),COLUMNS($B$1:C52)),\"\")","v":""},{"$f":"IFERROR(INDEX($P$12:$R$111,(SMALL(IF(INDEX($P$12:$R$111,,$A$149)=$A$146,MATCH(ROW($P$12:$P$111),ROW($P$12:$P$111)),\"\"),ROWS($B$1:D52))),COLUMNS($B$1:D52)),\"\")","v":""}]
[53,{"$f":"IFERROR(INDEX($B$12:$H$111,(SMALL(IF(INDEX($B$12:$H$111,,$A$149)=$A$146,MATCH(ROW($B$12:$B$111),ROW($B$12:$B$111)),\"\"),ROWS($B$1:B53))),COLUMNS($B$1:B53)),\"\")","v":""},{"$f":"IFERROR(INDEX($B$12:$H$111,(SMALL(IF(INDEX($B$12:$H$111,,$A$149)=$A$146,MATCH(ROW($B$12:$B$111),ROW($B$12:$B$111)),\"\"),ROWS($B$1:C53))),COLUMNS($B$1:C53)),\"\")","v":""},{"$f":"IFERROR(INDEX($B$12:$H$111,(SMALL(IF(INDEX($B$12:$H$111,,$A$149)=$A$146,MATCH(ROW($B$12:$B$111),ROW($B$12:$B$111)),\"\"),ROWS($B$1:D53))),COLUMNS($B$1:D53)),\"\")","v":""},{"$f":"IFERROR(INDEX($B$12:$H$111,(SMALL(IF(INDEX($B$12:$H$111,,$A$149)=$A$146,MATCH(ROW($B$12:$B$111),ROW($B$12:$B$111)),\"\"),ROWS($B$1:E53))),COLUMNS($B$1:E53)),\"\")","v":""},{"$f":"IFERROR(INDEX($B$12:$H$111,(SMALL(IF(INDEX($B$12:$H$111,,$A$149)=$A$146,MATCH(ROW($B$12:$B$111),ROW($B$12:$B$111)),\"\"),ROWS($B$1:F53))),COLUMNS($B$1:F53)),\"\")","v":""},{"$f":"IFERROR(INDEX($B$12:$H$111,(SMALL(IF(INDEX($B$12:$H$111,,$A$149)=$A$146,MATCH(ROW($B$12:$B$111),ROW($B$12:$B$111)),\"\"),ROWS($B$1:G53))),COLUMNS($B$1:G53)),\"\")","v":""},{"$f":"IFERROR(INDEX($B$12:$H$111,(SMALL(IF(INDEX($B$12:$H$111,,$A$149)=$A$146,MATCH(ROW($B$12:$B$111),ROW($B$12:$B$111)),\"\"),ROWS($B$1:H53))),COLUMNS($B$1:H53)),\"\")","v":""},null,null,{"$f":"IFERROR(INDEX($K$12:$M$111,(SMALL(IF(INDEX($K$12:$M$111,,$A$149)=$A$146,MATCH(ROW($K$12:$K$111),ROW($K$12:$K$111)),\"\"),ROWS($B$1:B53))),COLUMNS($B$1:B53)),\"\")","v":""},{"$f":"IFERROR(INDEX($K$12:$M$111,(SMALL(IF(INDEX($K$12:$M$111,,$A$149)=$A$146,MATCH(ROW($K$12:$K$111),ROW($K$12:$K$111)),\"\"),ROWS($B$1:C53))),COLUMNS($B$1:C53)),\"\")","v":""},{"$f":"IFERROR(INDEX($K$12:$M$111,(SMALL(IF(INDEX($K$12:$M$111,,$A$149)=$A$146,MATCH(ROW($K$12:$K$111),ROW($K$12:$K$111)),\"\"),ROWS($B$1:D53))),COLUMNS($B$1:D53)),\"\")","v":""},null,null,{"$f":"IFERROR(INDEX($P$12:$R$111,(SMALL(IF(INDEX($P$12:$R$111,,$A$149)=$A$146,MATCH(ROW($P$12:$P$111),ROW($P$12:$P$111)),\"\"),ROWS($B$1:B53))),COLUMNS($B$1:B53)),\"\")","v":""},{"$f":"IFERROR(INDEX($P$12:$R$111,(SMALL(IF(INDEX($P$12:$R$111,,$A$149)=$A$146,MATCH(ROW($P$12:$P$111),ROW($P$12:$P$111)),\"\"),ROWS($B$1:C53))),COLUMNS($B$1:C53)),\"\")","v":""},{"$f":"IFERROR(INDEX($P$12:$R$111,(SMALL(IF(INDEX($P$12:$R$111,,$A$149)=$A$146,MATCH(ROW($P$12:$P$111),ROW($P$12:$P$111)),\"\"),ROWS($B$1:D53))),COLUMNS($B$1:D53)),\"\")","v":""}]
[54,{"$f":"IFERROR(INDEX($B$12:$H$111,(SMALL(IF(INDEX($B$12:$H$111,,$A$149)=$A$146,MATCH(ROW($B$12:$B$111),ROW($B$12:$B$111)),\"\"),ROWS($B$1:B54))),COLUMNS($B$1:B54)),\"\")","v":""},{"$f":"IFERROR(INDEX($B$12:$H$111,(SMALL(IF(INDEX($B$12:$H$111,,$A$149)=$A$146,MATCH(ROW($B$12:$B$111),ROW($B$12:$B$111)),\"\"),ROWS($B$1:C54))),COLUMNS($B$1:C54)),\"\")","v":""},{"$f":"IFERROR(INDEX($B$12:$H$111,(SMALL(IF(INDEX($B$12:$H$111,,$A$149)=$A$146,MATCH(ROW($B$12:$B$111),ROW($B$12:$B$111)),\"\"),ROWS($B$1:D54))),COLUMNS($B$1:D54)),\"\")","v":""},{"$f":"IFERROR(INDEX($B$12:$H$111,(SMALL(IF(INDEX($B$12:$H$111,,$A$149)=$A$146,MATCH(ROW($B$12:$B$111),ROW($B$12:$B$111)),\"\"),ROWS($B$1:E54))),COLUMNS($B$1:E54)),\"\")","v":""},{"$f":"IFERROR(INDEX($B$12:$H$111,(SMALL(IF(INDEX($B$12:$H$111,,$A$149)=$A$146,MATCH(ROW($B$12:$B$111),ROW($B$12:$B$111)),\"\"),ROWS($B$1:F54))),COLUMNS($B$1:F54)),\"\")","v":""},{"$f":"IFERROR(INDEX($B$12:$H$111,(SMALL(IF(INDEX($B$12:$H$111,,$A$149)=$A$146,MATCH(ROW($B$12:$B$111),ROW($B$12:$B$111)),\"\"),ROWS($B$1:G54))),COLUMNS($B$1:G54)),\"\")","v":""},{"$f":"IFERROR(INDEX($B$12:$H$111,(SMALL(IF(INDEX($B$12:$H$111,,$A$149)=$A$146,MATCH(ROW($B$12:$B$111),ROW($B$12:$B$111)),\"\"),ROWS($B$1:H54))),COLUMNS($B$1:H54)),\"\")","v":""},null,null,{"$f":"IFERROR(INDEX($K$12:$M$111,(SMALL(IF(INDEX($K$12:$M$111,,$A$149)=$A$146,MATCH(ROW($K$12:$K$111),ROW($K$12:$K$111)),\"\"),ROWS($B$1:B54))),COLUMNS($B$1:B54)),\"\")","v":""},{"$f":"IFERROR(INDEX($K$12:$M$111,(SMALL(IF(INDEX($K$12:$M$111,,$A$149)=$A$146,MATCH(ROW($K$12:$K$111),ROW($K$12:$K$111)),\"\"),ROWS($B$1:C54))),COLUMNS($B$1:C54)),\"\")","v":""},{"$f":"IFERROR(INDEX($K$12:$M$111,(SMALL(IF(INDEX($K$12:$M$111,,$A$149)=$A$146,MATCH(ROW($K$12:$K$111),ROW($K$12:$K$111)),\"\"),ROWS($B$1:D54))),COLUMNS($B$1:D54)),\"\")","v":""},null,null,{"$f":"IFERROR(INDEX($P$12:$R$111,(SMALL(IF(INDEX($P$12:$R$111,,$A$149)=$A$146,MATCH(ROW($P$12:$P$111),ROW($P$12:$P$111)),\"\"),ROWS($B$1:B54))),COLUMNS($B$1:B54)),\"\")","v":""},{"$f":"IFERROR(INDEX($P$12:$R$111,(SMALL(IF(INDEX($P$12:$R$111,,$A$149)=$A$146,MATCH(ROW($P$12:$P$111),ROW($P$12:$P$111)),\"\"),ROWS($B$1:C54))),COLUMNS($B$1:C54)),\"\")","v":""},{"$f":"IFERROR(INDEX($P$12:$R$111,(SMALL(IF(INDEX($P$12:$R$111,,$A$149)=$A$146,MATCH(ROW($P$12:$P$111),ROW($P$12:$P$111)),\"\"),ROWS($B$1:D54))),COLUMNS($B$1:D54)),\"\")","v":""}]
[55,{"$f":"IFERROR(INDEX($B$12:$H$111,(SMALL(IF(INDEX($B$12:$H$111,,$A$149)=$A$146,MATCH(ROW($B$12:$B$111),ROW($B$12:$B$111)),\"\"),ROWS($B$1:B55))),COLUMNS($B$1:B55)),\"\")","v":""},{"$f":"IFERROR(INDEX($B$12:$H$111,(SMALL(IF(INDEX($B$12:$H$111,,$A$149)=$A$146,MATCH(ROW($B$12:$B$111),ROW($B$12:$B$111)),\"\"),ROWS($B$1:C55))),COLUMNS($B$1:C55)),\"\")","v":""},{"$f":"IFERROR(INDEX($B$12:$H$111,(SMALL(IF(INDEX($B$12:$H$111,,$A$149)=$A$146,MATCH(ROW($B$12:$B$111),ROW($B$12:$B$111)),\"\"),ROWS($B$1:D55))),COLUMNS($B$1:D55)),\"\")","v":""},{"$f":"IFERROR(INDEX($B$12:$H$111,(SMALL(IF(INDEX($B$12:$H$111,,$A$149)=$A$146,MATCH(ROW($B$12:$B$111),ROW($B$12:$B$111)),\"\"),ROWS($B$1:E55))),COLUMNS($B$1:E55)),\"\")","v":""},{"$f":"IFERROR(INDEX($B$12:$H$111,(SMALL(IF(INDEX($B$12:$H$111,,$A$149)=$A$146,MATCH(ROW($B$12:$B$111),ROW($B$12:$B$111)),\"\"),ROWS($B$1:F55))),COLUMNS($B$1:F55)),\"\")","v":""},{"$f":"IFERROR(INDEX($B$12:$H$111,(SMALL(IF(INDEX($B$12:$H$111,,$A$149)=$A$146,MATCH(ROW($B$12:$B$111),ROW($B$12:$B$111)),\"\"),ROWS($B$1:G55))),COLUMNS($B$1:G55)),\"\")","v":""},{"$f":"IFERROR(INDEX($B$12:$H$111,(SMALL(IF(INDEX($B$12:$H$111,,$A$149)=$A$146,MATCH(ROW($B$12:$B$111),ROW($B$12:$B$111)),\"\"),ROWS($B$1:H55))),COLUMNS($B$1:H55)),\"\")","v":""},null,null,{"$f":"IFERROR(INDEX($K$12:$M$111,(SMALL(IF(INDEX($K$12:$M$111,,$A$149)=$A$146,MATCH(ROW($K$12:$K$111),ROW($K$12:$K$111)),\"\"),ROWS($B$1:B55))),COLUMNS($B$1:B55)),\"\")","v":""},{"$f":"IFERROR(INDEX($K$12:$M$111,(SMALL(IF(INDEX($K$12:$M$111,,$A$149)=$A$146,MATCH(ROW($K$12:$K$111),ROW($K$12:$K$111)),\"\"),ROWS($B$1:C55))),COLUMNS($B$1:C55)),\"\")","v":""},{"$f":"IFERROR(INDEX($K$12:$M$111,(SMALL(IF(INDEX($K$12:$M$111,,$A$149)=$A$146,MATCH(ROW($K$12:$K$111),ROW($K$12:$K$111)),\"\"),ROWS($B$1:D55))),COLUMNS($B$1:D55)),\"\")","v":""},null,null,{"$f":"IFERROR(INDEX($P$12:$R$111,(SMALL(IF(INDEX($P$12:$R$111,,$A$149)=$A$146,MATCH(ROW($P$12:$P$111),ROW($P$12:$P$111)),\"\"),ROWS($B$1:B55))),COLUMNS($B$1:B55)),\"\")","v":""},{"$f":"IFERROR(INDEX($P$12:$R$111,(SMALL(IF(INDEX($P$12:$R$111,,$A$149)=$A$146,MATCH(ROW($P$12:$P$111),ROW($P$12:$P$111)),\"\"),ROWS($B$1:C55))),COLUMNS($B$1:C55)),\"\")","v":""},{"$f":"IFERROR(INDEX($P$12:$R$111,(SMALL(IF(INDEX($P$12:$R$111,,$A$149)=$A$146,MATCH(ROW($P$12:$P$111),ROW($P$12:$P$111)),\"\"),ROWS($B$1:D55))),COLUMNS($B$1:D55)),\"\")","v":""}]
[56,{"$f":"IFERROR(INDEX($B$12:$H$111,(SMALL(IF(INDEX($B$12:$H$111,,$A$149)=$A$146,MATCH(ROW($B$12:$B$111),ROW($B$12:$B$111)),\"\"),ROWS($B$1:B56))),COLUMNS($B$1:B56)),\"\")","v":""},{"$f":"IFERROR(INDEX($B$12:$H$111,(SMALL(IF(INDEX($B$12:$H$111,,$A$149)=$A$146,MATCH(ROW($B$12:$B$111),ROW($B$12:$B$111)),\"\"),ROWS($B$1:C56))),COLUMNS($B$1:C56)),\"\")","v":""},{"$f":"IFERROR(INDEX($B$12:$H$111,(SMALL(IF(INDEX($B$12:$H$111,,$A$149)=$A$146,MATCH(ROW($B$12:$B$111),ROW($B$12:$B$111)),\"\"),ROWS($B$1:D56))),COLUMNS($B$1:D56)),\"\")","v":""},{"$f":"IFERROR(INDEX($B$12:$H$111,(SMALL(IF(INDEX($B$12:$H$111,,$A$149)=$A$146,MATCH(ROW($B$12:$B$111),ROW($B$12:$B$111)),\"\"),ROWS($B$1:E56))),COLUMNS($B$1:E56)),\"\")","v":""},{"$f":"IFERROR(INDEX($B$12:$H$111,(SMALL(IF(INDEX($B$12:$H$111,,$A$149)=$A$146,MATCH(ROW($B$12:$B$111),ROW($B$12:$B$111)),\"\"),ROWS($B$1:F56))),COLUMNS($B$1:F56)),\"\")","v":""},{"$f":"IFERROR(INDEX($B$12:$H$111,(SMALL(IF(INDEX($B$12:$H$111,,$A$149)=$A$146,MATCH(ROW($B$12:$B$111),ROW($B$12:$B$111)),\"\"),ROWS($B$1:G56))),COLUMNS($B$1:G56)),\"\")","v":""},{"$f":"IFERROR(INDEX($B$12:$H$111,(SMALL(IF(INDEX($B$12:$H$111,,$A$149)=$A$146,MATCH(ROW($B$12:$B$111),ROW($B$12:$B$111)),\"\"),ROWS($B$1:H56))),COLUMNS($B$1:H56)),\"\")","v":""},null,null,{"$f":"IFERROR(INDEX($K$12:$M$111,(SMALL(IF(INDEX($K$12:$M$111,,$A$149)=$A$146,MATCH(ROW($K$12:$K$111),ROW($K$12:$K$111)),\"\"),ROWS($B$1:B56))),COLUMNS($B$1:B56)),\"\")","v":""},{"$f":"IFERROR(INDEX($K$12:$M$111,(SMALL(IF(INDEX($K$12:$M$111,,$A$149)=$A$146,MATCH(ROW($K$12:$K$111),ROW($K$12:$K$111)),\"\"),ROWS($B$1:C56))),COLUMNS($B$1:C56)),\"\")","v":""},{"$f":"IFERROR(INDEX($K$12:$M$111,(SMALL(IF(INDEX($K$12:$M$111,,$A$149)=$A$146,MATCH(ROW($K$12:$K$111),ROW($K$12:$K$111)),\"\"),ROWS($B$1:D56))),COLUMNS($B$1:D56)),\"\")","v":""},null,null,{"$f":"IFERROR(INDEX($P$12:$R$111,(SMALL(IF(INDEX($P$12:$R$111,,$A$149)=$A$146,MATCH(ROW($P$12:$P$111),ROW($P$12:$P$111)),\"\"),ROWS($B$1:B56))),COLUMNS($B$1:B56)),\"\")","v":""},{"$f":"IFERROR(INDEX($P$12:$R$111,(SMALL(IF(INDEX($P$12:$R$111,,$A$149)=$A$146,MATCH(ROW($P$12:$P$111),ROW($P$12:$P$111)),\"\"),ROWS($B$1:C56))),COLUMNS($B$1:C56)),\"\")","v":""},{"$f":"IFERROR(INDEX($P$12:$R$111,(SMALL(IF(INDEX($P$12:$R$111,,$A$149)=$A$146,MATCH(ROW($P$12:$P$111),ROW($P$12:$P$111)),\"\"),ROWS($B$1:D56))),COLUMNS($B$1:D56)),\"\")","v":""}]
[57,{"$f":"IFERROR(INDEX($B$12:$H$111,(SMALL(IF(INDEX($B$12:$H$111,,$A$149)=$A$146,MATCH(ROW($B$12:$B$111),ROW($B$12:$B$111)),\"\"),ROWS($B$1:B57))),COLUMNS($B$1:B57)),\"\")","v":""},{"$f":"IFERROR(INDEX($B$12:$H$111,(SMALL(IF(INDEX($B$12:$H$111,,$A$149)=$A$146,MATCH(ROW($B$12:$B$111),ROW($B$12:$B$111)),\"\"),ROWS($B$1:C57))),COLUMNS($B$1:C57)),\"\")","v":""},{"$f":"IFERROR(INDEX($B$12:$H$111,(SMALL(IF(INDEX($B$12:$H$111,,$A$149)=$A$146,MATCH(ROW($B$12:$B$111),ROW($B$12:$B$111)),\"\"),ROWS($B$1:D57))),COLUMNS($B$1:D57)),\"\")","v":""},{"$f":"IFERROR(INDEX($B$12:$H$111,(SMALL(IF(INDEX($B$12:$H$111,,$A$149)=$A$146,MATCH(ROW($B$12:$B$111),ROW($B$12:$B$111)),\"\"),ROWS($B$1:E57))),COLUMNS($B$1:E57)),\"\")","v":""},{"$f":"IFERROR(INDEX($B$12:$H$111,(SMALL(IF(INDEX($B$12:$H$111,,$A$149)=$A$146,MATCH(ROW($B$12:$B$111),ROW($B$12:$B$111)),\"\"),ROWS($B$1:F57))),COLUMNS($B$1:F57)),\"\")","v":""},{"$f":"IFERROR(INDEX($B$12:$H$111,(SMALL(IF(INDEX($B$12:$H$111,,$A$149)=$A$146,MATCH(ROW($B$12:$B$111),ROW($B$12:$B$111)),\"\"),ROWS($B$1:G57))),COLUMNS($B$1:G57)),\"\")","v":""},{"$f":"IFERROR(INDEX($B$12:$H$111,(SMALL(IF(INDEX($B$12:$H$111,,$A$149)=$A$146,MATCH(ROW($B$12:$B$111),ROW($B$12:$B$111)),\"\"),ROWS($B$1:H57))),COLUMNS($B$1:H57)),\"\")","v":""},null,null,{"$f":"IFERROR(INDEX($K$12:$M$111,(SMALL(IF(INDEX($K$12:$M$111,,$A$149)=$A$146,MATCH(ROW($K$12:$K$111),ROW($K$12:$K$111)),\"\"),ROWS($B$1:B57))),COLUMNS($B$1:B57)),\"\")","v":""},{"$f":"IFERROR(INDEX($K$12:$M$111,(SMALL(IF(INDEX($K$12:$M$111,,$A$149)=$A$146,MATCH(ROW($K$12:$K$111),ROW($K$12:$K$111)),\"\"),ROWS($B$1:C57))),COLUMNS($B$1:C57)),\"\")","v":""},{"$f":"IFERROR(INDEX($K$12:$M$111,(SMALL(IF(INDEX($K$12:$M$111,,$A$149)=$A$146,MATCH(ROW($K$12:$K$111),ROW($K$12:$K$111)),\"\"),ROWS($B$1:D57))),COLUMNS($B$1:D57)),\"\")","v":""},null,null,{"$f":"IFERROR(INDEX($P$12:$R$111,(SMALL(IF(INDEX($P$12:$R$111,,$A$149)=$A$146,MATCH(ROW($P$12:$P$111),ROW($P$12:$P$111)),\"\"),ROWS($B$1:B57))),COLUMNS($B$1:B57)),\"\")","v":""},{"$f":"IFERROR(INDEX($P$12:$R$111,(SMALL(IF(INDEX($P$12:$R$111,,$A$149)=$A$146,MATCH(ROW($P$12:$P$111),ROW($P$12:$P$111)),\"\"),ROWS($B$1:C57))),COLUMNS($B$1:C57)),\"\")","v":""},{"$f":"IFERROR(INDEX($P$12:$R$111,(SMALL(IF(INDEX($P$12:$R$111,,$A$149)=$A$146,MATCH(ROW($P$12:$P$111),ROW($P$12:$P$111)),\"\"),ROWS($B$1:D57))),COLUMNS($B$1:D57)),\"\")","v":""}]
[58,{"$f":"IFERROR(INDEX($B$12:$H$111,(SMALL(IF(INDEX($B$12:$H$111,,$A$149)=$A$146,MATCH(ROW($B$12:$B$111),ROW($B$12:$B$111)),\"\"),ROWS($B$1:B58))),COLUMNS($B$1:B58)),\"\")","v":""},{"$f":"IFERROR(INDEX($B$12:$H$111,(SMALL(IF(INDEX($B$12:$H$111,,$A$149)=$A$146,MATCH(ROW($B$12:$B$111),ROW($B$12:$B$111)),\"\"),ROWS($B$1:C58))),COLUMNS($B$1:C58)),\"\")","v":""},{"$f":"IFERROR(INDEX($B$12:$H$111,(SMALL(IF(INDEX($B$12:$H$111,,$A$149)=$A$146,MATCH(ROW($B$12:$B$111),ROW($B$12:$B$111)),\"\"),ROWS($B$1:D58))),COLUMNS($B$1:D58)),\"\")","v":""},{"$f":"IFERROR(INDEX($B$12:$H$111,(SMALL(IF(INDEX($B$12:$H$111,,$A$149)=$A$146,MATCH(ROW($B$12:$B$111),ROW($B$12:$B$111)),\"\"),ROWS($B$1:E58))),COLUMNS($B$1:E58)),\"\")","v":""},{"$f":"IFERROR(INDEX($B$12:$H$111,(SMALL(IF(INDEX($B$12:$H$111,,$A$149)=$A$146,MATCH(ROW($B$12:$B$111),ROW($B$12:$B$111)),\"\"),ROWS($B$1:F58))),COLUMNS($B$1:F58)),\"\")","v":""},{"$f":"IFERROR(INDEX($B$12:$H$111,(SMALL(IF(INDEX($B$12:$H$111,,$A$149)=$A$146,MATCH(ROW($B$12:$B$111),ROW($B$12:$B$111)),\"\"),ROWS($B$1:G58))),COLUMNS($B$1:G58)),\"\")","v":""},{"$f":"IFERROR(INDEX($B$12:$H$111,(SMALL(IF(INDEX($B$12:$H$111,,$A$149)=$A$146,MATCH(ROW($B$12:$B$111),ROW($B$12:$B$111)),\"\"),ROWS($B$1:H58))),COLUMNS($B$1:H58)),\"\")","v":""},null,null,{"$f":"IFERROR(INDEX($K$12:$M$111,(SMALL(IF(INDEX($K$12:$M$111,,$A$149)=$A$146,MATCH(ROW($K$12:$K$111),ROW($K$12:$K$111)),\"\"),ROWS($B$1:B58))),COLUMNS($B$1:B58)),\"\")","v":""},{"$f":"IFERROR(INDEX($K$12:$M$111,(SMALL(IF(INDEX($K$12:$M$111,,$A$149)=$A$146,MATCH(ROW($K$12:$K$111),ROW($K$12:$K$111)),\"\"),ROWS($B$1:C58))),COLUMNS($B$1:C58)),\"\")","v":""},{"$f":"IFERROR(INDEX($K$12:$M$111,(SMALL(IF(INDEX($K$12:$M$111,,$A$149)=$A$146,MATCH(ROW($K$12:$K$111),ROW($K$12:$K$111)),\"\"),ROWS($B$1:D58))),COLUMNS($B$1:D58)),\"\")","v":""},null,null,{"$f":"IFERROR(INDEX($P$12:$R$111,(SMALL(IF(INDEX($P$12:$R$111,,$A$149)=$A$146,MATCH(ROW($P$12:$P$111),ROW($P$12:$P$111)),\"\"),ROWS($B$1:B58))),COLUMNS($B$1:B58)),\"\")","v":""},{"$f":"IFERROR(INDEX($P$12:$R$111,(SMALL(IF(INDEX($P$12:$R$111,,$A$149)=$A$146,MATCH(ROW($P$12:$P$111),ROW($P$12:$P$111)),\"\"),ROWS($B$1:C58))),COLUMNS($B$1:C58)),\"\")","v":""},{"$f":"IFERROR(INDEX($P$12:$R$111,(SMALL(IF(INDEX($P$12:$R$111,,$A$149)=$A$146,MATCH(ROW($P$12:$P$111),ROW($P$12:$P$111)),\"\"),ROWS($B$1:D58))),COLUMNS($B$1:D58)),\"\")","v":""}]
[59,{"$f":"IFERROR(INDEX($B$12:$H$111,(SMALL(IF(INDEX($B$12:$H$111,,$A$149)=$A$146,MATCH(ROW($B$12:$B$111),ROW($B$12:$B$111)),\"\"),ROWS($B$1:B59))),COLUMNS($B$1:B59)),\"\")","v":""},{"$f":"IFERROR(INDEX($B$12:$H$111,(SMALL(IF(INDEX($B$12:$H$111,,$A$149)=$A$146,MATCH(ROW($B$12:$B$111),ROW($B$12:$B$111)),\"\"),ROWS($B$1:C59))),COLUMNS($B$1:C59)),\"\")","v":""},{"$f":"IFERROR(INDEX($B$12:$H$111,(SMALL(IF(INDEX($B$12:$H$111,,$A$149)=$A$146,MATCH(ROW($B$12:$B$111),ROW($B$12:$B$111)),\"\"),ROWS($B$1:D59))),COLUMNS($B$1:D59)),\"\")","v":""},{"$f":"IFERROR(INDEX($B$12:$H$111,(SMALL(IF(INDEX($B$12:$H$111,,$A$149)=$A$146,MATCH(ROW($B$12:$B$111),ROW($B$12:$B$111)),\"\"),ROWS($B$1:E59))),COLUMNS($B$1:E59)),\"\")","v":""},{"$f":"IFERROR(INDEX($B$12:$H$111,(SMALL(IF(INDEX($B$12:$H$111,,$A$149)=$A$146,MATCH(ROW($B$12:$B$111),ROW($B$12:$B$111)),\"\"),ROWS($B$1:F59))),COLUMNS($B$1:F59)),\"\")","v":""},{"$f":"IFERROR(INDEX($B$12:$H$111,(SMALL(IF(INDEX($B$12:$H$111,,$A$149)=$A$146,MATCH(ROW($B$12:$B$111),ROW($B$12:$B$111)),\"\"),ROWS($B$1:G59))),COLUMNS($B$1:G59)),\"\")","v":""},{"$f":"IFERROR(INDEX($B$12:$H$111,(SMALL(IF(INDEX($B$12:$H$111,,$A$149)=$A$146,MATCH(ROW($B$12:$B$111),ROW($B$12:$B$111)),\"\"),ROWS($B$1:H59))),COLUMNS($B$1:H59)),\"\")","v":""},null,null,{"$f":"IFERROR(INDEX($K$12:$M$111,(SMALL(IF(INDEX($K$12:$M$111,,$A$149)=$A$146,MATCH(ROW($K$12:$K$111),ROW($K$12:$K$111)),\"\"),ROWS($B$1:B59))),COLUMNS($B$1:B59)),\"\")","v":""},{"$f":"IFERROR(INDEX($K$12:$M$111,(SMALL(IF(INDEX($K$12:$M$111,,$A$149)=$A$146,MATCH(ROW($K$12:$K$111),ROW($K$12:$K$111)),\"\"),ROWS($B$1:C59))),COLUMNS($B$1:C59)),\"\")","v":""},{"$f":"IFERROR(INDEX($K$12:$M$111,(SMALL(IF(INDEX($K$12:$M$111,,$A$149)=$A$146,MATCH(ROW($K$12:$K$111),ROW($K$12:$K$111)),\"\"),ROWS($B$1:D59))),COLUMNS($B$1:D59)),\"\")","v":""},null,null,{"$f":"IFERROR(INDEX($P$12:$R$111,(SMALL(IF(INDEX($P$12:$R$111,,$A$149)=$A$146,MATCH(ROW($P$12:$P$111),ROW($P$12:$P$111)),\"\"),ROWS($B$1:B59))),COLUMNS($B$1:B59)),\"\")","v":""},{"$f":"IFERROR(INDEX($P$12:$R$111,(SMALL(IF(INDEX($P$12:$R$111,,$A$149)=$A$146,MATCH(ROW($P$12:$P$111),ROW($P$12:$P$111)),\"\"),ROWS($B$1:C59))),COLUMNS($B$1:C59)),\"\")","v":""},{"$f":"IFERROR(INDEX($P$12:$R$111,(SMALL(IF(INDEX($P$12:$R$111,,$A$149)=$A$146,MATCH(ROW($P$12:$P$111),ROW($P$12:$P$111)),\"\"),ROWS($B$1:D59))),COLUMNS($B$1:D59)),\"\")","v":""}]
[60,{"$f":"IFERROR(INDEX($B$12:$H$111,(SMALL(IF(INDEX($B$12:$H$111,,$A$149)=$A$146,MATCH(ROW($B$12:$B$111),ROW($B$12:$B$111)),\"\"),ROWS($B$1:B60))),COLUMNS($B$1:B60)),\"\")","v":""},{"$f":"IFERROR(INDEX($B$12:$H$111,(SMALL(IF(INDEX($B$12:$H$111,,$A$149)=$A$146,MATCH(ROW($B$12:$B$111),ROW($B$12:$B$111)),\"\"),ROWS($B$1:C60))),COLUMNS($B$1:C60)),\"\")","v":""},{"$f":"IFERROR(INDEX($B$12:$H$111,(SMALL(IF(INDEX($B$12:$H$111,,$A$149)=$A$146,MATCH(ROW($B$12:$B$111),ROW($B$12:$B$111)),\"\"),ROWS($B$1:D60))),COLUMNS($B$1:D60)),\"\")","v":""},{"$f":"IFERROR(INDEX($B$12:$H$111,(SMALL(IF(INDEX($B$12:$H$111,,$A$149)=$A$146,MATCH(ROW($B$12:$B$111),ROW($B$12:$B$111)),\"\"),ROWS($B$1:E60))),COLUMNS($B$1:E60)),\"\")","v":""},{"$f":"IFERROR(INDEX($B$12:$H$111,(SMALL(IF(INDEX($B$12:$H$111,,$A$149)=$A$146,MATCH(ROW($B$12:$B$111),ROW($B$12:$B$111)),\"\"),ROWS($B$1:F60))),COLUMNS($B$1:F60)),\"\")","v":""},{"$f":"IFERROR(INDEX($B$12:$H$111,(SMALL(IF(INDEX($B$12:$H$111,,$A$149)=$A$146,MATCH(ROW($B$12:$B$111),ROW($B$12:$B$111)),\"\"),ROWS($B$1:G60))),COLUMNS($B$1:G60)),\"\")","v":""},{"$f":"IFERROR(INDEX($B$12:$H$111,(SMALL(IF(INDEX($B$12:$H$111,,$A$149)=$A$146,MATCH(ROW($B$12:$B$111),ROW($B$12:$B$111)),\"\"),ROWS($B$1:H60))),COLUMNS($B$1:H60)),\"\")","v":""},null,null,{"$f":"IFERROR(INDEX($K$12:$M$111,(SMALL(IF(INDEX($K$12:$M$111,,$A$149)=$A$146,MATCH(ROW($K$12:$K$111),ROW($K$12:$K$111)),\"\"),ROWS($B$1:B60))),COLUMNS($B$1:B60)),\"\")","v":""},{"$f":"IFERROR(INDEX($K$12:$M$111,(SMALL(IF(INDEX($K$12:$M$111,,$A$149)=$A$146,MATCH(ROW($K$12:$K$111),ROW($K$12:$K$111)),\"\"),ROWS($B$1:C60))),COLUMNS($B$1:C60)),\"\")","v":""},{"$f":"IFERROR(INDEX($K$12:$M$111,(SMALL(IF(INDEX($K$12:$M$111,,$A$149)=$A$146,MATCH(ROW($K$12:$K$111),ROW($K$12:$K$111)),\"\"),ROWS($B$1:D60))),COLUMNS($B$1:D60)),\"\")","v":""},null,null,{"$f":"IFERROR(INDEX($P$12:$R$111,(SMALL(IF(INDEX($P$12:$R$111,,$A$149)=$A$146,MATCH(ROW($P$12:$P$111),ROW($P$12:$P$111)),\"\"),ROWS($B$1:B60))),COLUMNS($B$1:B60)),\"\")","v":""},{"$f":"IFERROR(INDEX($P$12:$R$111,(SMALL(IF(INDEX($P$12:$R$111,,$A$149)=$A$146,MATCH(ROW($P$12:$P$111),ROW($P$12:$P$111)),\"\"),ROWS($B$1:C60))),COLUMNS($B$1:C60)),\"\")","v":""},{"$f":"IFERROR(INDEX($P$12:$R$111,(SMALL(IF(INDEX($P$12:$R$111,,$A$149)=$A$146,MATCH(ROW($P$12:$P$111),ROW($P$12:$P$111)),\"\"),ROWS($B$1:D60))),COLUMNS($B$1:D60)),\"\")","v":""}]
[61,{"$f":"IFERROR(INDEX($B$12:$H$111,(SMALL(IF(INDEX($B$12:$H$111,,$A$149)=$A$146,MATCH(ROW($B$12:$B$111),ROW($B$12:$B$111)),\"\"),ROWS($B$1:B61))),COLUMNS($B$1:B61)),\"\")","v":""},{"$f":"IFERROR(INDEX($B$12:$H$111,(SMALL(IF(INDEX($B$12:$H$111,,$A$149)=$A$146,MATCH(ROW($B$12:$B$111),ROW($B$12:$B$111)),\"\"),ROWS($B$1:C61))),COLUMNS($B$1:C61)),\"\")","v":""},{"$f":"IFERROR(INDEX($B$12:$H$111,(SMALL(IF(INDEX($B$12:$H$111,,$A$149)=$A$146,MATCH(ROW($B$12:$B$111),ROW($B$12:$B$111)),\"\"),ROWS($B$1:D61))),COLUMNS($B$1:D61)),\"\")","v":""},{"$f":"IFERROR(INDEX($B$12:$H$111,(SMALL(IF(INDEX($B$12:$H$111,,$A$149)=$A$146,MATCH(ROW($B$12:$B$111),ROW($B$12:$B$111)),\"\"),ROWS($B$1:E61))),COLUMNS($B$1:E61)),\"\")","v":""},{"$f":"IFERROR(INDEX($B$12:$H$111,(SMALL(IF(INDEX($B$12:$H$111,,$A$149)=$A$146,MATCH(ROW($B$12:$B$111),ROW($B$12:$B$111)),\"\"),ROWS($B$1:F61))),COLUMNS($B$1:F61)),\"\")","v":""},{"$f":"IFERROR(INDEX($B$12:$H$111,(SMALL(IF(INDEX($B$12:$H$111,,$A$149)=$A$146,MATCH(ROW($B$12:$B$111),ROW($B$12:$B$111)),\"\"),ROWS($B$1:G61))),COLUMNS($B$1:G61)),\"\")","v":""},{"$f":"IFERROR(INDEX($B$12:$H$111,(SMALL(IF(INDEX($B$12:$H$111,,$A$149)=$A$146,MATCH(ROW($B$12:$B$111),ROW($B$12:$B$111)),\"\"),ROWS($B$1:H61))),COLUMNS($B$1:H61)),\"\")","v":""},null,null,{"$f":"IFERROR(INDEX($K$12:$M$111,(SMALL(IF(INDEX($K$12:$M$111,,$A$149)=$A$146,MATCH(ROW($K$12:$K$111),ROW($K$12:$K$111)),\"\"),ROWS($B$1:B61))),COLUMNS($B$1:B61)),\"\")","v":""},{"$f":"IFERROR(INDEX($K$12:$M$111,(SMALL(IF(INDEX($K$12:$M$111,,$A$149)=$A$146,MATCH(ROW($K$12:$K$111),ROW($K$12:$K$111)),\"\"),ROWS($B$1:C61))),COLUMNS($B$1:C61)),\"\")","v":""},{"$f":"IFERROR(INDEX($K$12:$M$111,(SMALL(IF(INDEX($K$12:$M$111,,$A$149)=$A$146,MATCH(ROW($K$12:$K$111),ROW($K$12:$K$111)),\"\"),ROWS($B$1:D61))),COLUMNS($B$1:D61)),\"\")","v":""},null,null,{"$f":"IFERROR(INDEX($P$12:$R$111,(SMALL(IF(INDEX($P$12:$R$111,,$A$149)=$A$146,MATCH(ROW($P$12:$P$111),ROW($P$12:$P$111)),\"\"),ROWS($B$1:B61))),COLUMNS($B$1:B61)),\"\")","v":""},{"$f":"IFERROR(INDEX($P$12:$R$111,(SMALL(IF(INDEX($P$12:$R$111,,$A$149)=$A$146,MATCH(ROW($P$12:$P$111),ROW($P$12:$P$111)),\"\"),ROWS($B$1:C61))),COLUMNS($B$1:C61)),\"\")","v":""},{"$f":"IFERROR(INDEX($P$12:$R$111,(SMALL(IF(INDEX($P$12:$R$111,,$A$149)=$A$146,MATCH(ROW($P$12:$P$111),ROW($P$12:$P$111)),\"\"),ROWS($B$1:D61))),COLUMNS($B$1:D61)),\"\")","v":""}]
[62,{"$f":"IFERROR(INDEX($B$12:$H$111,(SMALL(IF(INDEX($B$12:$H$111,,$A$149)=$A$146,MATCH(ROW($B$12:$B$111),ROW($B$12:$B$111)),\"\"),ROWS($B$1:B62))),COLUMNS($B$1:B62)),\"\")","v":""},{"$f":"IFERROR(INDEX($B$12:$H$111,(SMALL(IF(INDEX($B$12:$H$111,,$A$149)=$A$146,MATCH(ROW($B$12:$B$111),ROW($B$12:$B$111)),\"\"),ROWS($B$1:C62))),COLUMNS($B$1:C62)),\"\")","v":""},{"$f":"IFERROR(INDEX($B$12:$H$111,(SMALL(IF(INDEX($B$12:$H$111,,$A$149)=$A$146,MATCH(ROW($B$12:$B$111),ROW($B$12:$B$111)),\"\"),ROWS($B$1:D62))),COLUMNS($B$1:D62)),\"\")","v":""},{"$f":"IFERROR(INDEX($B$12:$H$111,(SMALL(IF(INDEX($B$12:$H$111,,$A$149)=$A$146,MATCH(ROW($B$12:$B$111),ROW($B$12:$B$111)),\"\"),ROWS($B$1:E62))),COLUMNS($B$1:E62)),\"\")","v":""},{"$f":"IFERROR(INDEX($B$12:$H$111,(SMALL(IF(INDEX($B$12:$H$111,,$A$149)=$A$146,MATCH(ROW($B$12:$B$111),ROW($B$12:$B$111)),\"\"),ROWS($B$1:F62))),COLUMNS($B$1:F62)),\"\")","v":""},{"$f":"IFERROR(INDEX($B$12:$H$111,(SMALL(IF(INDEX($B$12:$H$111,,$A$149)=$A$146,MATCH(ROW($B$12:$B$111),ROW($B$12:$B$111)),\"\"),ROWS($B$1:G62))),COLUMNS($B$1:G62)),\"\")","v":""},{"$f":"IFERROR(INDEX($B$12:$H$111,(SMALL(IF(INDEX($B$12:$H$111,,$A$149)=$A$146,MATCH(ROW($B$12:$B$111),ROW($B$12:$B$111)),\"\"),ROWS($B$1:H62))),COLUMNS($B$1:H62)),\"\")","v":""},null,null,{"$f":"IFERROR(INDEX($K$12:$M$111,(SMALL(IF(INDEX($K$12:$M$111,,$A$149)=$A$146,MATCH(ROW($K$12:$K$111),ROW($K$12:$K$111)),\"\"),ROWS($B$1:B62))),COLUMNS($B$1:B62)),\"\")","v":""},{"$f":"IFERROR(INDEX($K$12:$M$111,(SMALL(IF(INDEX($K$12:$M$111,,$A$149)=$A$146,MATCH(ROW($K$12:$K$111),ROW($K$12:$K$111)),\"\"),ROWS($B$1:C62))),COLUMNS($B$1:C62)),\"\")","v":""},{"$f":"IFERROR(INDEX($K$12:$M$111,(SMALL(IF(INDEX($K$12:$M$111,,$A$149)=$A$146,MATCH(ROW($K$12:$K$111),ROW($K$12:$K$111)),\"\"),ROWS($B$1:D62))),COLUMNS($B$1:D62)),\"\")","v":""},null,null,{"$f":"IFERROR(INDEX($P$12:$R$111,(SMALL(IF(INDEX($P$12:$R$111,,$A$149)=$A$146,MATCH(ROW($P$12:$P$111),ROW($P$12:$P$111)),\"\"),ROWS($B$1:B62))),COLUMNS($B$1:B62)),\"\")","v":""},{"$f":"IFERROR(INDEX($P$12:$R$111,(SMALL(IF(INDEX($P$12:$R$111,,$A$149)=$A$146,MATCH(ROW($P$12:$P$111),ROW($P$12:$P$111)),\"\"),ROWS($B$1:C62))),COLUMNS($B$1:C62)),\"\")","v":""},{"$f":"IFERROR(INDEX($P$12:$R$111,(SMALL(IF(INDEX($P$12:$R$111,,$A$149)=$A$146,MATCH(ROW($P$12:$P$111),ROW($P$12:$P$111)),\"\"),ROWS($B$1:D62))),COLUMNS($B$1:D62)),\"\")","v":""}]
[63,{"$f":"IFERROR(INDEX($B$12:$H$111,(SMALL(IF(INDEX($B$12:$H$111,,$A$149)=$A$146,MATCH(ROW($B$12:$B$111),ROW($B$12:$B$111)),\"\"),ROWS($B$1:B63))),COLUMNS($B$1:B63)),\"\")","v":""},{"$f":"IFERROR(INDEX($B$12:$H$111,(SMALL(IF(INDEX($B$12:$H$111,,$A$149)=$A$146,MATCH(ROW($B$12:$B$111),ROW($B$12:$B$111)),\"\"),ROWS($B$1:C63))),COLUMNS($B$1:C63)),\"\")","v":""},{"$f":"IFERROR(INDEX($B$12:$H$111,(SMALL(IF(INDEX($B$12:$H$111,,$A$149)=$A$146,MATCH(ROW($B$12:$B$111),ROW($B$12:$B$111)),\"\"),ROWS($B$1:D63))),COLUMNS($B$1:D63)),\"\")","v":""},{"$f":"IFERROR(INDEX($B$12:$H$111,(SMALL(IF(INDEX($B$12:$H$111,,$A$149)=$A$146,MATCH(ROW($B$12:$B$111),ROW($B$12:$B$111)),\"\"),ROWS($B$1:E63))),COLUMNS($B$1:E63)),\"\")","v":""},{"$f":"IFERROR(INDEX($B$12:$H$111,(SMALL(IF(INDEX($B$12:$H$111,,$A$149)=$A$146,MATCH(ROW($B$12:$B$111),ROW($B$12:$B$111)),\"\"),ROWS($B$1:F63))),COLUMNS($B$1:F63)),\"\")","v":""},{"$f":"IFERROR(INDEX($B$12:$H$111,(SMALL(IF(INDEX($B$12:$H$111,,$A$149)=$A$146,MATCH(ROW($B$12:$B$111),ROW($B$12:$B$111)),\"\"),ROWS($B$1:G63))),COLUMNS($B$1:G63)),\"\")","v":""},{"$f":"IFERROR(INDEX($B$12:$H$111,(SMALL(IF(INDEX($B$12:$H$111,,$A$149)=$A$146,MATCH(ROW($B$12:$B$111),ROW($B$12:$B$111)),\"\"),ROWS($B$1:H63))),COLUMNS($B$1:H63)),\"\")","v":""},null,null,{"$f":"IFERROR(INDEX($K$12:$M$111,(SMALL(IF(INDEX($K$12:$M$111,,$A$149)=$A$146,MATCH(ROW($K$12:$K$111),ROW($K$12:$K$111)),\"\"),ROWS($B$1:B63))),COLUMNS($B$1:B63)),\"\")","v":""},{"$f":"IFERROR(INDEX($K$12:$M$111,(SMALL(IF(INDEX($K$12:$M$111,,$A$149)=$A$146,MATCH(ROW($K$12:$K$111),ROW($K$12:$K$111)),\"\"),ROWS($B$1:C63))),COLUMNS($B$1:C63)),\"\")","v":""},{"$f":"IFERROR(INDEX($K$12:$M$111,(SMALL(IF(INDEX($K$12:$M$111,,$A$149)=$A$146,MATCH(ROW($K$12:$K$111),ROW($K$12:$K$111)),\"\"),ROWS($B$1:D63))),COLUMNS($B$1:D63)),\"\")","v":""},null,null,{"$f":"IFERROR(INDEX($P$12:$R$111,(SMALL(IF(INDEX($P$12:$R$111,,$A$149)=$A$146,MATCH(ROW($P$12:$P$111),ROW($P$12:$P$111)),\"\"),ROWS($B$1:B63))),COLUMNS($B$1:B63)),\"\")","v":""},{"$f":"IFERROR(INDEX($P$12:$R$111,(SMALL(IF(INDEX($P$12:$R$111,,$A$149)=$A$146,MATCH(ROW($P$12:$P$111),ROW($P$12:$P$111)),\"\"),ROWS($B$1:C63))),COLUMNS($B$1:C63)),\"\")","v":""},{"$f":"IFERROR(INDEX($P$12:$R$111,(SMALL(IF(INDEX($P$12:$R$111,,$A$149)=$A$146,MATCH(ROW($P$12:$P$111),ROW($P$12:$P$111)),\"\"),ROWS($B$1:D63))),COLUMNS($B$1:D63)),\"\")","v":""}]
[64,{"$f":"IFERROR(INDEX($B$12:$H$111,(SMALL(IF(INDEX($B$12:$H$111,,$A$149)=$A$146,MATCH(ROW($B$12:$B$111),ROW($B$12:$B$111)),\"\"),ROWS($B$1:B64))),COLUMNS($B$1:B64)),\"\")","v":""},{"$f":"IFERROR(INDEX($B$12:$H$111,(SMALL(IF(INDEX($B$12:$H$111,,$A$149)=$A$146,MATCH(ROW($B$12:$B$111),ROW($B$12:$B$111)),\"\"),ROWS($B$1:C64))),COLUMNS($B$1:C64)),\"\")","v":""},{"$f":"IFERROR(INDEX($B$12:$H$111,(SMALL(IF(INDEX($B$12:$H$111,,$A$149)=$A$146,MATCH(ROW($B$12:$B$111),ROW($B$12:$B$111)),\"\"),ROWS($B$1:D64))),COLUMNS($B$1:D64)),\"\")","v":""},{"$f":"IFERROR(INDEX($B$12:$H$111,(SMALL(IF(INDEX($B$12:$H$111,,$A$149)=$A$146,MATCH(ROW($B$12:$B$111),ROW($B$12:$B$111)),\"\"),ROWS($B$1:E64))),COLUMNS($B$1:E64)),\"\")","v":""},{"$f":"IFERROR(INDEX($B$12:$H$111,(SMALL(IF(INDEX($B$12:$H$111,,$A$149)=$A$146,MATCH(ROW($B$12:$B$111),ROW($B$12:$B$111)),\"\"),ROWS($B$1:F64))),COLUMNS($B$1:F64)),\"\")","v":""},{"$f":"IFERROR(INDEX($B$12:$H$111,(SMALL(IF(INDEX($B$12:$H$111,,$A$149)=$A$146,MATCH(ROW($B$12:$B$111),ROW($B$12:$B$111)),\"\"),ROWS($B$1:G64))),COLUMNS($B$1:G64)),\"\")","v":""},{"$f":"IFERROR(INDEX($B$12:$H$111,(SMALL(IF(INDEX($B$12:$H$111,,$A$149)=$A$146,MATCH(ROW($B$12:$B$111),ROW($B$12:$B$111)),\"\"),ROWS($B$1:H64))),COLUMNS($B$1:H64)),\"\")","v":""},null,null,{"$f":"IFERROR(INDEX($K$12:$M$111,(SMALL(IF(INDEX($K$12:$M$111,,$A$149)=$A$146,MATCH(ROW($K$12:$K$111),ROW($K$12:$K$111)),\"\"),ROWS($B$1:B64))),COLUMNS($B$1:B64)),\"\")","v":""},{"$f":"IFERROR(INDEX($K$12:$M$111,(SMALL(IF(INDEX($K$12:$M$111,,$A$149)=$A$146,MATCH(ROW($K$12:$K$111),ROW($K$12:$K$111)),\"\"),ROWS($B$1:C64))),COLUMNS($B$1:C64)),\"\")","v":""},{"$f":"IFERROR(INDEX($K$12:$M$111,(SMALL(IF(INDEX($K$12:$M$111,,$A$149)=$A$146,MATCH(ROW($K$12:$K$111),ROW($K$12:$K$111)),\"\"),ROWS($B$1:D64))),COLUMNS($B$1:D64)),\"\")","v":""},null,null,{"$f":"IFERROR(INDEX($P$12:$R$111,(SMALL(IF(INDEX($P$12:$R$111,,$A$149)=$A$146,MATCH(ROW($P$12:$P$111),ROW($P$12:$P$111)),\"\"),ROWS($B$1:B64))),COLUMNS($B$1:B64)),\"\")","v":""},{"$f":"IFERROR(INDEX($P$12:$R$111,(SMALL(IF(INDEX($P$12:$R$111,,$A$149)=$A$146,MATCH(ROW($P$12:$P$111),ROW($P$12:$P$111)),\"\"),ROWS($B$1:C64))),COLUMNS($B$1:C64)),\"\")","v":""},{"$f":"IFERROR(INDEX($P$12:$R$111,(SMALL(IF(INDEX($P$12:$R$111,,$A$149)=$A$146,MATCH(ROW($P$12:$P$111),ROW($P$12:$P$111)),\"\"),ROWS($B$1:D64))),COLUMNS($B$1:D64)),\"\")","v":""}]
[65,{"$f":"IFERROR(INDEX($B$12:$H$111,(SMALL(IF(INDEX($B$12:$H$111,,$A$149)=$A$146,MATCH(ROW($B$12:$B$111),ROW($B$12:$B$111)),\"\"),ROWS($B$1:B65))),COLUMNS($B$1:B65)),\"\")","v":""},{"$f":"IFERROR(INDEX($B$12:$H$111,(SMALL(IF(INDEX($B$12:$H$111,,$A$149)=$A$146,MATCH(ROW($B$12:$B$111),ROW($B$12:$B$111)),\"\"),ROWS($B$1:C65))),COLUMNS($B$1:C65)),\"\")","v":""},{"$f":"IFERROR(INDEX($B$12:$H$111,(SMALL(IF(INDEX($B$12:$H$111,,$A$149)=$A$146,MATCH(ROW($B$12:$B$111),ROW($B$12:$B$111)),\"\"),ROWS($B$1:D65))),COLUMNS($B$1:D65)),\"\")","v":""},{"$f":"IFERROR(INDEX($B$12:$H$111,(SMALL(IF(INDEX($B$12:$H$111,,$A$149)=$A$146,MATCH(ROW($B$12:$B$111),ROW($B$12:$B$111)),\"\"),ROWS($B$1:E65))),COLUMNS($B$1:E65)),\"\")","v":""},{"$f":"IFERROR(INDEX($B$12:$H$111,(SMALL(IF(INDEX($B$12:$H$111,,$A$149)=$A$146,MATCH(ROW($B$12:$B$111),ROW($B$12:$B$111)),\"\"),ROWS($B$1:F65))),COLUMNS($B$1:F65)),\"\")","v":""},{"$f":"IFERROR(INDEX($B$12:$H$111,(SMALL(IF(INDEX($B$12:$H$111,,$A$149)=$A$146,MATCH(ROW($B$12:$B$111),ROW($B$12:$B$111)),\"\"),ROWS($B$1:G65))),COLUMNS($B$1:G65)),\"\")","v":""},{"$f":"IFERROR(INDEX($B$12:$H$111,(SMALL(IF(INDEX($B$12:$H$111,,$A$149)=$A$146,MATCH(ROW($B$12:$B$111),ROW($B$12:$B$111)),\"\"),ROWS($B$1:H65))),COLUMNS($B$1:H65)),\"\")","v":""},null,null,{"$f":"IFERROR(INDEX($K$12:$M$111,(SMALL(IF(INDEX($K$12:$M$111,,$A$149)=$A$146,MATCH(ROW($K$12:$K$111),ROW($K$12:$K$111)),\"\"),ROWS($B$1:B65))),COLUMNS($B$1:B65)),\"\")","v":""},{"$f":"IFERROR(INDEX($K$12:$M$111,(SMALL(IF(INDEX($K$12:$M$111,,$A$149)=$A$146,MATCH(ROW($K$12:$K$111),ROW($K$12:$K$111)),\"\"),ROWS($B$1:C65))),COLUMNS($B$1:C65)),\"\")","v":""},{"$f":"IFERROR(INDEX($K$12:$M$111,(SMALL(IF(INDEX($K$12:$M$111,,$A$149)=$A$146,MATCH(ROW($K$12:$K$111),ROW($K$12:$K$111)),\"\"),ROWS($B$1:D65))),COLUMNS($B$1:D65)),\"\")","v":""},null,null,{"$f":"IFERROR(INDEX($P$12:$R$111,(SMALL(IF(INDEX($P$12:$R$111,,$A$149)=$A$146,MATCH(ROW($P$12:$P$111),ROW($P$12:$P$111)),\"\"),ROWS($B$1:B65))),COLUMNS($B$1:B65)),\"\")","v":""},{"$f":"IFERROR(INDEX($P$12:$R$111,(SMALL(IF(INDEX($P$12:$R$111,,$A$149)=$A$146,MATCH(ROW($P$12:$P$111),ROW($P$12:$P$111)),\"\"),ROWS($B$1:C65))),COLUMNS($B$1:C65)),\"\")","v":""},{"$f":"IFERROR(INDEX($P$12:$R$111,(SMALL(IF(INDEX($P$12:$R$111,,$A$149)=$A$146,MATCH(ROW($P$12:$P$111),ROW($P$12:$P$111)),\"\"),ROWS($B$1:D65))),COLUMNS($B$1:D65)),\"\")","v":""}]
[66,{"$f":"IFERROR(INDEX($B$12:$H$111,(SMALL(IF(INDEX($B$12:$H$111,,$A$149)=$A$146,MATCH(ROW($B$12:$B$111),ROW($B$12:$B$111)),\"\"),ROWS($B$1:B66))),COLUMNS($B$1:B66)),\"\")","v":""},{"$f":"IFERROR(INDEX($B$12:$H$111,(SMALL(IF(INDEX($B$12:$H$111,,$A$149)=$A$146,MATCH(ROW($B$12:$B$111),ROW($B$12:$B$111)),\"\"),ROWS($B$1:C66))),COLUMNS($B$1:C66)),\"\")","v":""},{"$f":"IFERROR(INDEX($B$12:$H$111,(SMALL(IF(INDEX($B$12:$H$111,,$A$149)=$A$146,MATCH(ROW($B$12:$B$111),ROW($B$12:$B$111)),\"\"),ROWS($B$1:D66))),COLUMNS($B$1:D66)),\"\")","v":""},{"$f":"IFERROR(INDEX($B$12:$H$111,(SMALL(IF(INDEX($B$12:$H$111,,$A$149)=$A$146,MATCH(ROW($B$12:$B$111),ROW($B$12:$B$111)),\"\"),ROWS($B$1:E66))),COLUMNS($B$1:E66)),\"\")","v":""},{"$f":"IFERROR(INDEX($B$12:$H$111,(SMALL(IF(INDEX($B$12:$H$111,,$A$149)=$A$146,MATCH(ROW($B$12:$B$111),ROW($B$12:$B$111)),\"\"),ROWS($B$1:F66))),COLUMNS($B$1:F66)),\"\")","v":""},{"$f":"IFERROR(INDEX($B$12:$H$111,(SMALL(IF(INDEX($B$12:$H$111,,$A$149)=$A$146,MATCH(ROW($B$12:$B$111),ROW($B$12:$B$111)),\"\"),ROWS($B$1:G66))),COLUMNS($B$1:G66)),\"\")","v":""},{"$f":"IFERROR(INDEX($B$12:$H$111,(SMALL(IF(INDEX($B$12:$H$111,,$A$149)=$A$146,MATCH(ROW($B$12:$B$111),ROW($B$12:$B$111)),\"\"),ROWS($B$1:H66))),COLUMNS($B$1:H66)),\"\")","v":""},null,null,{"$f":"IFERROR(INDEX($K$12:$M$111,(SMALL(IF(INDEX($K$12:$M$111,,$A$149)=$A$146,MATCH(ROW($K$12:$K$111),ROW($K$12:$K$111)),\"\"),ROWS($B$1:B66))),COLUMNS($B$1:B66)),\"\")","v":""},{"$f":"IFERROR(INDEX($K$12:$M$111,(SMALL(IF(INDEX($K$12:$M$111,,$A$149)=$A$146,MATCH(ROW($K$12:$K$111),ROW($K$12:$K$111)),\"\"),ROWS($B$1:C66))),COLUMNS($B$1:C66)),\"\")","v":""},{"$f":"IFERROR(INDEX($K$12:$M$111,(SMALL(IF(INDEX($K$12:$M$111,,$A$149)=$A$146,MATCH(ROW($K$12:$K$111),ROW($K$12:$K$111)),\"\"),ROWS($B$1:D66))),COLUMNS($B$1:D66)),\"\")","v":""},null,null,{"$f":"IFERROR(INDEX($P$12:$R$111,(SMALL(IF(INDEX($P$12:$R$111,,$A$149)=$A$146,MATCH(ROW($P$12:$P$111),ROW($P$12:$P$111)),\"\"),ROWS($B$1:B66))),COLUMNS($B$1:B66)),\"\")","v":""},{"$f":"IFERROR(INDEX($P$12:$R$111,(SMALL(IF(INDEX($P$12:$R$111,,$A$149)=$A$146,MATCH(ROW($P$12:$P$111),ROW($P$12:$P$111)),\"\"),ROWS($B$1:C66))),COLUMNS($B$1:C66)),\"\")","v":""},{"$f":"IFERROR(INDEX($P$12:$R$111,(SMALL(IF(INDEX($P$12:$R$111,,$A$149)=$A$146,MATCH(ROW($P$12:$P$111),ROW($P$12:$P$111)),\"\"),ROWS($B$1:D66))),COLUMNS($B$1:D66)),\"\")","v":""}]
[67,{"$f":"IFERROR(INDEX($B$12:$H$111,(SMALL(IF(INDEX($B$12:$H$111,,$A$149)=$A$146,MATCH(ROW($B$12:$B$111),ROW($B$12:$B$111)),\"\"),ROWS($B$1:B67))),COLUMNS($B$1:B67)),\"\")","v":""},{"$f":"IFERROR(INDEX($B$12:$H$111,(SMALL(IF(INDEX($B$12:$H$111,,$A$149)=$A$146,MATCH(ROW($B$12:$B$111),ROW($B$12:$B$111)),\"\"),ROWS($B$1:C67))),COLUMNS($B$1:C67)),\"\")","v":""},{"$f":"IFERROR(INDEX($B$12:$H$111,(SMALL(IF(INDEX($B$12:$H$111,,$A$149)=$A$146,MATCH(ROW($B$12:$B$111),ROW($B$12:$B$111)),\"\"),ROWS($B$1:D67))),COLUMNS($B$1:D67)),\"\")","v":""},{"$f":"IFERROR(INDEX($B$12:$H$111,(SMALL(IF(INDEX($B$12:$H$111,,$A$149)=$A$146,MATCH(ROW($B$12:$B$111),ROW($B$12:$B$111)),\"\"),ROWS($B$1:E67))),COLUMNS($B$1:E67)),\"\")","v":""},{"$f":"IFERROR(INDEX($B$12:$H$111,(SMALL(IF(INDEX($B$12:$H$111,,$A$149)=$A$146,MATCH(ROW($B$12:$B$111),ROW($B$12:$B$111)),\"\"),ROWS($B$1:F67))),COLUMNS($B$1:F67)),\"\")","v":""},{"$f":"IFERROR(INDEX($B$12:$H$111,(SMALL(IF(INDEX($B$12:$H$111,,$A$149)=$A$146,MATCH(ROW($B$12:$B$111),ROW($B$12:$B$111)),\"\"),ROWS($B$1:G67))),COLUMNS($B$1:G67)),\"\")","v":""},{"$f":"IFERROR(INDEX($B$12:$H$111,(SMALL(IF(INDEX($B$12:$H$111,,$A$149)=$A$146,MATCH(ROW($B$12:$B$111),ROW($B$12:$B$111)),\"\"),ROWS($B$1:H67))),COLUMNS($B$1:H67)),\"\")","v":""},null,null,{"$f":"IFERROR(INDEX($K$12:$M$111,(SMALL(IF(INDEX($K$12:$M$111,,$A$149)=$A$146,MATCH(ROW($K$12:$K$111),ROW($K$12:$K$111)),\"\"),ROWS($B$1:B67))),COLUMNS($B$1:B67)),\"\")","v":""},{"$f":"IFERROR(INDEX($K$12:$M$111,(SMALL(IF(INDEX($K$12:$M$111,,$A$149)=$A$146,MATCH(ROW($K$12:$K$111),ROW($K$12:$K$111)),\"\"),ROWS($B$1:C67))),COLUMNS($B$1:C67)),\"\")","v":""},{"$f":"IFERROR(INDEX($K$12:$M$111,(SMALL(IF(INDEX($K$12:$M$111,,$A$149)=$A$146,MATCH(ROW($K$12:$K$111),ROW($K$12:$K$111)),\"\"),ROWS($B$1:D67))),COLUMNS($B$1:D67)),\"\")","v":""},null,null,{"$f":"IFERROR(INDEX($P$12:$R$111,(SMALL(IF(INDEX($P$12:$R$111,,$A$149)=$A$146,MATCH(ROW($P$12:$P$111),ROW($P$12:$P$111)),\"\"),ROWS($B$1:B67))),COLUMNS($B$1:B67)),\"\")","v":""},{"$f":"IFERROR(INDEX($P$12:$R$111,(SMALL(IF(INDEX($P$12:$R$111,,$A$149)=$A$146,MATCH(ROW($P$12:$P$111),ROW($P$12:$P$111)),\"\"),ROWS($B$1:C67))),COLUMNS($B$1:C67)),\"\")","v":""},{"$f":"IFERROR(INDEX($P$12:$R$111,(SMALL(IF(INDEX($P$12:$R$111,,$A$149)=$A$146,MATCH(ROW($P$12:$P$111),ROW($P$12:$P$111)),\"\"),ROWS($B$1:D67))),COLUMNS($B$1:D67)),\"\")","v":""}]
[68,{"$f":"IFERROR(INDEX($B$12:$H$111,(SMALL(IF(INDEX($B$12:$H$111,,$A$149)=$A$146,MATCH(ROW($B$12:$B$111),ROW($B$12:$B$111)),\"\"),ROWS($B$1:B68))),COLUMNS($B$1:B68)),\"\")","v":""},{"$f":"IFERROR(INDEX($B$12:$H$111,(SMALL(IF(INDEX($B$12:$H$111,,$A$149)=$A$146,MATCH(ROW($B$12:$B$111),ROW($B$12:$B$111)),\"\"),ROWS($B$1:C68))),COLUMNS($B$1:C68)),\"\")","v":""},{"$f":"IFERROR(INDEX($B$12:$H$111,(SMALL(IF(INDEX($B$12:$H$111,,$A$149)=$A$146,MATCH(ROW($B$12:$B$111),ROW($B$12:$B$111)),\"\"),ROWS($B$1:D68))),COLUMNS($B$1:D68)),\"\")","v":""},{"$f":"IFERROR(INDEX($B$12:$H$111,(SMALL(IF(INDEX($B$12:$H$111,,$A$149)=$A$146,MATCH(ROW($B$12:$B$111),ROW($B$12:$B$111)),\"\"),ROWS($B$1:E68))),COLUMNS($B$1:E68)),\"\")","v":""},{"$f":"IFERROR(INDEX($B$12:$H$111,(SMALL(IF(INDEX($B$12:$H$111,,$A$149)=$A$146,MATCH(ROW($B$12:$B$111),ROW($B$12:$B$111)),\"\"),ROWS($B$1:F68))),COLUMNS($B$1:F68)),\"\")","v":""},{"$f":"IFERROR(INDEX($B$12:$H$111,(SMALL(IF(INDEX($B$12:$H$111,,$A$149)=$A$146,MATCH(ROW($B$12:$B$111),ROW($B$12:$B$111)),\"\"),ROWS($B$1:G68))),COLUMNS($B$1:G68)),\"\")","v":""},{"$f":"IFERROR(INDEX($B$12:$H$111,(SMALL(IF(INDEX($B$12:$H$111,,$A$149)=$A$146,MATCH(ROW($B$12:$B$111),ROW($B$12:$B$111)),\"\"),ROWS($B$1:H68))),COLUMNS($B$1:H68)),\"\")","v":""},null,null,{"$f":"IFERROR(INDEX($K$12:$M$111,(SMALL(IF(INDEX($K$12:$M$111,,$A$149)=$A$146,MATCH(ROW($K$12:$K$111),ROW($K$12:$K$111)),\"\"),ROWS($B$1:B68))),COLUMNS($B$1:B68)),\"\")","v":""},{"$f":"IFERROR(INDEX($K$12:$M$111,(SMALL(IF(INDEX($K$12:$M$111,,$A$149)=$A$146,MATCH(ROW($K$12:$K$111),ROW($K$12:$K$111)),\"\"),ROWS($B$1:C68))),COLUMNS($B$1:C68)),\"\")","v":""},{"$f":"IFERROR(INDEX($K$12:$M$111,(SMALL(IF(INDEX($K$12:$M$111,,$A$149)=$A$146,MATCH(ROW($K$12:$K$111),ROW($K$12:$K$111)),\"\"),ROWS($B$1:D68))),COLUMNS($B$1:D68)),\"\")","v":""},null,null,{"$f":"IFERROR(INDEX($P$12:$R$111,(SMALL(IF(INDEX($P$12:$R$111,,$A$149)=$A$146,MATCH(ROW($P$12:$P$111),ROW($P$12:$P$111)),\"\"),ROWS($B$1:B68))),COLUMNS($B$1:B68)),\"\")","v":""},{"$f":"IFERROR(INDEX($P$12:$R$111,(SMALL(IF(INDEX($P$12:$R$111,,$A$149)=$A$146,MATCH(ROW($P$12:$P$111),ROW($P$12:$P$111)),\"\"),ROWS($B$1:C68))),COLUMNS($B$1:C68)),\"\")","v":""},{"$f":"IFERROR(INDEX($P$12:$R$111,(SMALL(IF(INDEX($P$12:$R$111,,$A$149)=$A$146,MATCH(ROW($P$12:$P$111),ROW($P$12:$P$111)),\"\"),ROWS($B$1:D68))),COLUMNS($B$1:D68)),\"\")","v":""}]
[69,{"$f":"IFERROR(INDEX($B$12:$H$111,(SMALL(IF(INDEX($B$12:$H$111,,$A$149)=$A$146,MATCH(ROW($B$12:$B$111),ROW($B$12:$B$111)),\"\"),ROWS($B$1:B69))),COLUMNS($B$1:B69)),\"\")","v":""},{"$f":"IFERROR(INDEX($B$12:$H$111,(SMALL(IF(INDEX($B$12:$H$111,,$A$149)=$A$146,MATCH(ROW($B$12:$B$111),ROW($B$12:$B$111)),\"\"),ROWS($B$1:C69))),COLUMNS($B$1:C69)),\"\")","v":""},{"$f":"IFERROR(INDEX($B$12:$H$111,(SMALL(IF(INDEX($B$12:$H$111,,$A$149)=$A$146,MATCH(ROW($B$12:$B$111),ROW($B$12:$B$111)),\"\"),ROWS($B$1:D69))),COLUMNS($B$1:D69)),\"\")","v":""},{"$f":"IFERROR(INDEX($B$12:$H$111,(SMALL(IF(INDEX($B$12:$H$111,,$A$149)=$A$146,MATCH(ROW($B$12:$B$111),ROW($B$12:$B$111)),\"\"),ROWS($B$1:E69))),COLUMNS($B$1:E69)),\"\")","v":""},{"$f":"IFERROR(INDEX($B$12:$H$111,(SMALL(IF(INDEX($B$12:$H$111,,$A$149)=$A$146,MATCH(ROW($B$12:$B$111),ROW($B$12:$B$111)),\"\"),ROWS($B$1:F69))),COLUMNS($B$1:F69)),\"\")","v":""},{"$f":"IFERROR(INDEX($B$12:$H$111,(SMALL(IF(INDEX($B$12:$H$111,,$A$149)=$A$146,MATCH(ROW($B$12:$B$111),ROW($B$12:$B$111)),\"\"),ROWS($B$1:G69))),COLUMNS($B$1:G69)),\"\")","v":""},{"$f":"IFERROR(INDEX($B$12:$H$111,(SMALL(IF(INDEX($B$12:$H$111,,$A$149)=$A$146,MATCH(ROW($B$12:$B$111),ROW($B$12:$B$111)),\"\"),ROWS($B$1:H69))),COLUMNS($B$1:H69)),\"\")","v":""},null,null,{"$f":"IFERROR(INDEX($K$12:$M$111,(SMALL(IF(INDEX($K$12:$M$111,,$A$149)=$A$146,MATCH(ROW($K$12:$K$111),ROW($K$12:$K$111)),\"\"),ROWS($B$1:B69))),COLUMNS($B$1:B69)),\"\")","v":""},{"$f":"IFERROR(INDEX($K$12:$M$111,(SMALL(IF(INDEX($K$12:$M$111,,$A$149)=$A$146,MATCH(ROW($K$12:$K$111),ROW($K$12:$K$111)),\"\"),ROWS($B$1:C69))),COLUMNS($B$1:C69)),\"\")","v":""},{"$f":"IFERROR(INDEX($K$12:$M$111,(SMALL(IF(INDEX($K$12:$M$111,,$A$149)=$A$146,MATCH(ROW($K$12:$K$111),ROW($K$12:$K$111)),\"\"),ROWS($B$1:D69))),COLUMNS($B$1:D69)),\"\")","v":""},null,null,{"$f":"IFERROR(INDEX($P$12:$R$111,(SMALL(IF(INDEX($P$12:$R$111,,$A$149)=$A$146,MATCH(ROW($P$12:$P$111),ROW($P$12:$P$111)),\"\"),ROWS($B$1:B69))),COLUMNS($B$1:B69)),\"\")","v":""},{"$f":"IFERROR(INDEX($P$12:$R$111,(SMALL(IF(INDEX($P$12:$R$111,,$A$149)=$A$146,MATCH(ROW($P$12:$P$111),ROW($P$12:$P$111)),\"\"),ROWS($B$1:C69))),COLUMNS($B$1:C69)),\"\")","v":""},{"$f":"IFERROR(INDEX($P$12:$R$111,(SMALL(IF(INDEX($P$12:$R$111,,$A$149)=$A$146,MATCH(ROW($P$12:$P$111),ROW($P$12:$P$111)),\"\"),ROWS($B$1:D69))),COLUMNS($B$1:D69)),\"\")","v":""}]
[70,{"$f":"IFERROR(INDEX($B$12:$H$111,(SMALL(IF(INDEX($B$12:$H$111,,$A$149)=$A$146,MATCH(ROW($B$12:$B$111),ROW($B$12:$B$111)),\"\"),ROWS($B$1:B70))),COLUMNS($B$1:B70)),\"\")","v":""},{"$f":"IFERROR(INDEX($B$12:$H$111,(SMALL(IF(INDEX($B$12:$H$111,,$A$149)=$A$146,MATCH(ROW($B$12:$B$111),ROW($B$12:$B$111)),\"\"),ROWS($B$1:C70))),COLUMNS($B$1:C70)),\"\")","v":""},{"$f":"IFERROR(INDEX($B$12:$H$111,(SMALL(IF(INDEX($B$12:$H$111,,$A$149)=$A$146,MATCH(ROW($B$12:$B$111),ROW($B$12:$B$111)),\"\"),ROWS($B$1:D70))),COLUMNS($B$1:D70)),\"\")","v":""},{"$f":"IFERROR(INDEX($B$12:$H$111,(SMALL(IF(INDEX($B$12:$H$111,,$A$149)=$A$146,MATCH(ROW($B$12:$B$111),ROW($B$12:$B$111)),\"\"),ROWS($B$1:E70))),COLUMNS($B$1:E70)),\"\")","v":""},{"$f":"IFERROR(INDEX($B$12:$H$111,(SMALL(IF(INDEX($B$12:$H$111,,$A$149)=$A$146,MATCH(ROW($B$12:$B$111),ROW($B$12:$B$111)),\"\"),ROWS($B$1:F70))),COLUMNS($B$1:F70)),\"\")","v":""},{"$f":"IFERROR(INDEX($B$12:$H$111,(SMALL(IF(INDEX($B$12:$H$111,,$A$149)=$A$146,MATCH(ROW($B$12:$B$111),ROW($B$12:$B$111)),\"\"),ROWS($B$1:G70))),COLUMNS($B$1:G70)),\"\")","v":""},{"$f":"IFERROR(INDEX($B$12:$H$111,(SMALL(IF(INDEX($B$12:$H$111,,$A$149)=$A$146,MATCH(ROW($B$12:$B$111),ROW($B$12:$B$111)),\"\"),ROWS($B$1:H70))),COLUMNS($B$1:H70)),\"\")","v":""},null,null,{"$f":"IFERROR(INDEX($K$12:$M$111,(SMALL(IF(INDEX($K$12:$M$111,,$A$149)=$A$146,MATCH(ROW($K$12:$K$111),ROW($K$12:$K$111)),\"\"),ROWS($B$1:B70))),COLUMNS($B$1:B70)),\"\")","v":""},{"$f":"IFERROR(INDEX($K$12:$M$111,(SMALL(IF(INDEX($K$12:$M$111,,$A$149)=$A$146,MATCH(ROW($K$12:$K$111),ROW($K$12:$K$111)),\"\"),ROWS($B$1:C70))),COLUMNS($B$1:C70)),\"\")","v":""},{"$f":"IFERROR(INDEX($K$12:$M$111,(SMALL(IF(INDEX($K$12:$M$111,,$A$149)=$A$146,MATCH(ROW($K$12:$K$111),ROW($K$12:$K$111)),\"\"),ROWS($B$1:D70))),COLUMNS($B$1:D70)),\"\")","v":""},null,null,{"$f":"IFERROR(INDEX($P$12:$R$111,(SMALL(IF(INDEX($P$12:$R$111,,$A$149)=$A$146,MATCH(ROW($P$12:$P$111),ROW($P$12:$P$111)),\"\"),ROWS($B$1:B70))),COLUMNS($B$1:B70)),\"\")","v":""},{"$f":"IFERROR(INDEX($P$12:$R$111,(SMALL(IF(INDEX($P$12:$R$111,,$A$149)=$A$146,MATCH(ROW($P$12:$P$111),ROW($P$12:$P$111)),\"\"),ROWS($B$1:C70))),COLUMNS($B$1:C70)),\"\")","v":""},{"$f":"IFERROR(INDEX($P$12:$R$111,(SMALL(IF(INDEX($P$12:$R$111,,$A$149)=$A$146,MATCH(ROW($P$12:$P$111),ROW($P$12:$P$111)),\"\"),ROWS($B$1:D70))),COLUMNS($B$1:D70)),\"\")","v":""}]
[71,{"$f":"IFERROR(INDEX($B$12:$H$111,(SMALL(IF(INDEX($B$12:$H$111,,$A$149)=$A$146,MATCH(ROW($B$12:$B$111),ROW($B$12:$B$111)),\"\"),ROWS($B$1:B71))),COLUMNS($B$1:B71)),\"\")","v":""},{"$f":"IFERROR(INDEX($B$12:$H$111,(SMALL(IF(INDEX($B$12:$H$111,,$A$149)=$A$146,MATCH(ROW($B$12:$B$111),ROW($B$12:$B$111)),\"\"),ROWS($B$1:C71))),COLUMNS($B$1:C71)),\"\")","v":""},{"$f":"IFERROR(INDEX($B$12:$H$111,(SMALL(IF(INDEX($B$12:$H$111,,$A$149)=$A$146,MATCH(ROW($B$12:$B$111),ROW($B$12:$B$111)),\"\"),ROWS($B$1:D71))),COLUMNS($B$1:D71)),\"\")","v":""},{"$f":"IFERROR(INDEX($B$12:$H$111,(SMALL(IF(INDEX($B$12:$H$111,,$A$149)=$A$146,MATCH(ROW($B$12:$B$111),ROW($B$12:$B$111)),\"\"),ROWS($B$1:E71))),COLUMNS($B$1:E71)),\"\")","v":""},{"$f":"IFERROR(INDEX($B$12:$H$111,(SMALL(IF(INDEX($B$12:$H$111,,$A$149)=$A$146,MATCH(ROW($B$12:$B$111),ROW($B$12:$B$111)),\"\"),ROWS($B$1:F71))),COLUMNS($B$1:F71)),\"\")","v":""},{"$f":"IFERROR(INDEX($B$12:$H$111,(SMALL(IF(INDEX($B$12:$H$111,,$A$149)=$A$146,MATCH(ROW($B$12:$B$111),ROW($B$12:$B$111)),\"\"),ROWS($B$1:G71))),COLUMNS($B$1:G71)),\"\")","v":""},{"$f":"IFERROR(INDEX($B$12:$H$111,(SMALL(IF(INDEX($B$12:$H$111,,$A$149)=$A$146,MATCH(ROW($B$12:$B$111),ROW($B$12:$B$111)),\"\"),ROWS($B$1:H71))),COLUMNS($B$1:H71)),\"\")","v":""},null,null,{"$f":"IFERROR(INDEX($K$12:$M$111,(SMALL(IF(INDEX($K$12:$M$111,,$A$149)=$A$146,MATCH(ROW($K$12:$K$111),ROW($K$12:$K$111)),\"\"),ROWS($B$1:B71))),COLUMNS($B$1:B71)),\"\")","v":""},{"$f":"IFERROR(INDEX($K$12:$M$111,(SMALL(IF(INDEX($K$12:$M$111,,$A$149)=$A$146,MATCH(ROW($K$12:$K$111),ROW($K$12:$K$111)),\"\"),ROWS($B$1:C71))),COLUMNS($B$1:C71)),\"\")","v":""},{"$f":"IFERROR(INDEX($K$12:$M$111,(SMALL(IF(INDEX($K$12:$M$111,,$A$149)=$A$146,MATCH(ROW($K$12:$K$111),ROW($K$12:$K$111)),\"\"),ROWS($B$1:D71))),COLUMNS($B$1:D71)),\"\")","v":""},null,null,{"$f":"IFERROR(INDEX($P$12:$R$111,(SMALL(IF(INDEX($P$12:$R$111,,$A$149)=$A$146,MATCH(ROW($P$12:$P$111),ROW($P$12:$P$111)),\"\"),ROWS($B$1:B71))),COLUMNS($B$1:B71)),\"\")","v":""},{"$f":"IFERROR(INDEX($P$12:$R$111,(SMALL(IF(INDEX($P$12:$R$111,,$A$149)=$A$146,MATCH(ROW($P$12:$P$111),ROW($P$12:$P$111)),\"\"),ROWS($B$1:C71))),COLUMNS($B$1:C71)),\"\")","v":""},{"$f":"IFERROR(INDEX($P$12:$R$111,(SMALL(IF(INDEX($P$12:$R$111,,$A$149)=$A$146,MATCH(ROW($P$12:$P$111),ROW($P$12:$P$111)),\"\"),ROWS($B$1:D71))),COLUMNS($B$1:D71)),\"\")","v":""}]
[72,{"$f":"IFERROR(INDEX($B$12:$H$111,(SMALL(IF(INDEX($B$12:$H$111,,$A$149)=$A$146,MATCH(ROW($B$12:$B$111),ROW($B$12:$B$111)),\"\"),ROWS($B$1:B72))),COLUMNS($B$1:B72)),\"\")","v":""},{"$f":"IFERROR(INDEX($B$12:$H$111,(SMALL(IF(INDEX($B$12:$H$111,,$A$149)=$A$146,MATCH(ROW($B$12:$B$111),ROW($B$12:$B$111)),\"\"),ROWS($B$1:C72))),COLUMNS($B$1:C72)),\"\")","v":""},{"$f":"IFERROR(INDEX($B$12:$H$111,(SMALL(IF(INDEX($B$12:$H$111,,$A$149)=$A$146,MATCH(ROW($B$12:$B$111),ROW($B$12:$B$111)),\"\"),ROWS($B$1:D72))),COLUMNS($B$1:D72)),\"\")","v":""},{"$f":"IFERROR(INDEX($B$12:$H$111,(SMALL(IF(INDEX($B$12:$H$111,,$A$149)=$A$146,MATCH(ROW($B$12:$B$111),ROW($B$12:$B$111)),\"\"),ROWS($B$1:E72))),COLUMNS($B$1:E72)),\"\")","v":""},{"$f":"IFERROR(INDEX($B$12:$H$111,(SMALL(IF(INDEX($B$12:$H$111,,$A$149)=$A$146,MATCH(ROW($B$12:$B$111),ROW($B$12:$B$111)),\"\"),ROWS($B$1:F72))),COLUMNS($B$1:F72)),\"\")","v":""},{"$f":"IFERROR(INDEX($B$12:$H$111,(SMALL(IF(INDEX($B$12:$H$111,,$A$149)=$A$146,MATCH(ROW($B$12:$B$111),ROW($B$12:$B$111)),\"\"),ROWS($B$1:G72))),COLUMNS($B$1:G72)),\"\")","v":""},{"$f":"IFERROR(INDEX($B$12:$H$111,(SMALL(IF(INDEX($B$12:$H$111,,$A$149)=$A$146,MATCH(ROW($B$12:$B$111),ROW($B$12:$B$111)),\"\"),ROWS($B$1:H72))),COLUMNS($B$1:H72)),\"\")","v":""},null,null,{"$f":"IFERROR(INDEX($K$12:$M$111,(SMALL(IF(INDEX($K$12:$M$111,,$A$149)=$A$146,MATCH(ROW($K$12:$K$111),ROW($K$12:$K$111)),\"\"),ROWS($B$1:B72))),COLUMNS($B$1:B72)),\"\")","v":""},{"$f":"IFERROR(INDEX($K$12:$M$111,(SMALL(IF(INDEX($K$12:$M$111,,$A$149)=$A$146,MATCH(ROW($K$12:$K$111),ROW($K$12:$K$111)),\"\"),ROWS($B$1:C72))),COLUMNS($B$1:C72)),\"\")","v":""},{"$f":"IFERROR(INDEX($K$12:$M$111,(SMALL(IF(INDEX($K$12:$M$111,,$A$149)=$A$146,MATCH(ROW($K$12:$K$111),ROW($K$12:$K$111)),\"\"),ROWS($B$1:D72))),COLUMNS($B$1:D72)),\"\")","v":""},null,null,{"$f":"IFERROR(INDEX($P$12:$R$111,(SMALL(IF(INDEX($P$12:$R$111,,$A$149)=$A$146,MATCH(ROW($P$12:$P$111),ROW($P$12:$P$111)),\"\"),ROWS($B$1:B72))),COLUMNS($B$1:B72)),\"\")","v":""},{"$f":"IFERROR(INDEX($P$12:$R$111,(SMALL(IF(INDEX($P$12:$R$111,,$A$149)=$A$146,MATCH(ROW($P$12:$P$111),ROW($P$12:$P$111)),\"\"),ROWS($B$1:C72))),COLUMNS($B$1:C72)),\"\")","v":""},{"$f":"IFERROR(INDEX($P$12:$R$111,(SMALL(IF(INDEX($P$12:$R$111,,$A$149)=$A$146,MATCH(ROW($P$12:$P$111),ROW($P$12:$P$111)),\"\"),ROWS($B$1:D72))),COLUMNS($B$1:D72)),\"\")","v":""}]
[73,{"$f":"IFERROR(INDEX($B$12:$H$111,(SMALL(IF(INDEX($B$12:$H$111,,$A$149)=$A$146,MATCH(ROW($B$12:$B$111),ROW($B$12:$B$111)),\"\"),ROWS($B$1:B73))),COLUMNS($B$1:B73)),\"\")","v":""},{"$f":"IFERROR(INDEX($B$12:$H$111,(SMALL(IF(INDEX($B$12:$H$111,,$A$149)=$A$146,MATCH(ROW($B$12:$B$111),ROW($B$12:$B$111)),\"\"),ROWS($B$1:C73))),COLUMNS($B$1:C73)),\"\")","v":""},{"$f":"IFERROR(INDEX($B$12:$H$111,(SMALL(IF(INDEX($B$12:$H$111,,$A$149)=$A$146,MATCH(ROW($B$12:$B$111),ROW($B$12:$B$111)),\"\"),ROWS($B$1:D73))),COLUMNS($B$1:D73)),\"\")","v":""},{"$f":"IFERROR(INDEX($B$12:$H$111,(SMALL(IF(INDEX($B$12:$H$111,,$A$149)=$A$146,MATCH(ROW($B$12:$B$111),ROW($B$12:$B$111)),\"\"),ROWS($B$1:E73))),COLUMNS($B$1:E73)),\"\")","v":""},{"$f":"IFERROR(INDEX($B$12:$H$111,(SMALL(IF(INDEX($B$12:$H$111,,$A$149)=$A$146,MATCH(ROW($B$12:$B$111),ROW($B$12:$B$111)),\"\"),ROWS($B$1:F73))),COLUMNS($B$1:F73)),\"\")","v":""},{"$f":"IFERROR(INDEX($B$12:$H$111,(SMALL(IF(INDEX($B$12:$H$111,,$A$149)=$A$146,MATCH(ROW($B$12:$B$111),ROW($B$12:$B$111)),\"\"),ROWS($B$1:G73))),COLUMNS($B$1:G73)),\"\")","v":""},{"$f":"IFERROR(INDEX($B$12:$H$111,(SMALL(IF(INDEX($B$12:$H$111,,$A$149)=$A$146,MATCH(ROW($B$12:$B$111),ROW($B$12:$B$111)),\"\"),ROWS($B$1:H73))),COLUMNS($B$1:H73)),\"\")","v":""},null,null,{"$f":"IFERROR(INDEX($K$12:$M$111,(SMALL(IF(INDEX($K$12:$M$111,,$A$149)=$A$146,MATCH(ROW($K$12:$K$111),ROW($K$12:$K$111)),\"\"),ROWS($B$1:B73))),COLUMNS($B$1:B73)),\"\")","v":""},{"$f":"IFERROR(INDEX($K$12:$M$111,(SMALL(IF(INDEX($K$12:$M$111,,$A$149)=$A$146,MATCH(ROW($K$12:$K$111),ROW($K$12:$K$111)),\"\"),ROWS($B$1:C73))),COLUMNS($B$1:C73)),\"\")","v":""},{"$f":"IFERROR(INDEX($K$12:$M$111,(SMALL(IF(INDEX($K$12:$M$111,,$A$149)=$A$146,MATCH(ROW($K$12:$K$111),ROW($K$12:$K$111)),\"\"),ROWS($B$1:D73))),COLUMNS($B$1:D73)),\"\")","v":""},null,null,{"$f":"IFERROR(INDEX($P$12:$R$111,(SMALL(IF(INDEX($P$12:$R$111,,$A$149)=$A$146,MATCH(ROW($P$12:$P$111),ROW($P$12:$P$111)),\"\"),ROWS($B$1:B73))),COLUMNS($B$1:B73)),\"\")","v":""},{"$f":"IFERROR(INDEX($P$12:$R$111,(SMALL(IF(INDEX($P$12:$R$111,,$A$149)=$A$146,MATCH(ROW($P$12:$P$111),ROW($P$12:$P$111)),\"\"),ROWS($B$1:C73))),COLUMNS($B$1:C73)),\"\")","v":""},{"$f":"IFERROR(INDEX($P$12:$R$111,(SMALL(IF(INDEX($P$12:$R$111,,$A$149)=$A$146,MATCH(ROW($P$12:$P$111),ROW($P$12:$P$111)),\"\"),ROWS($B$1:D73))),COLUMNS($B$1:D73)),\"\")","v":""}]
[74,{"$f":"IFERROR(INDEX($B$12:$H$111,(SMALL(IF(INDEX($B$12:$H$111,,$A$149)=$A$146,MATCH(ROW($B$12:$B$111),ROW($B$12:$B$111)),\"\"),ROWS($B$1:B74))),COLUMNS($B$1:B74)),\"\")","v":""},{"$f":"IFERROR(INDEX($B$12:$H$111,(SMALL(IF(INDEX($B$12:$H$111,,$A$149)=$A$146,MATCH(ROW($B$12:$B$111),ROW($B$12:$B$111)),\"\"),ROWS($B$1:C74))),COLUMNS($B$1:C74)),\"\")","v":""},{"$f":"IFERROR(INDEX($B$12:$H$111,(SMALL(IF(INDEX($B$12:$H$111,,$A$149)=$A$146,MATCH(ROW($B$12:$B$111),ROW($B$12:$B$111)),\"\"),ROWS($B$1:D74))),COLUMNS($B$1:D74)),\"\")","v":""},{"$f":"IFERROR(INDEX($B$12:$H$111,(SMALL(IF(INDEX($B$12:$H$111,,$A$149)=$A$146,MATCH(ROW($B$12:$B$111),ROW($B$12:$B$111)),\"\"),ROWS($B$1:E74))),COLUMNS($B$1:E74)),\"\")","v":""},{"$f":"IFERROR(INDEX($B$12:$H$111,(SMALL(IF(INDEX($B$12:$H$111,,$A$149)=$A$146,MATCH(ROW($B$12:$B$111),ROW($B$12:$B$111)),\"\"),ROWS($B$1:F74))),COLUMNS($B$1:F74)),\"\")","v":""},{"$f":"IFERROR(INDEX($B$12:$H$111,(SMALL(IF(INDEX($B$12:$H$111,,$A$149)=$A$146,MATCH(ROW($B$12:$B$111),ROW($B$12:$B$111)),\"\"),ROWS($B$1:G74))),COLUMNS($B$1:G74)),\"\")","v":""},{"$f":"IFERROR(INDEX($B$12:$H$111,(SMALL(IF(INDEX($B$12:$H$111,,$A$149)=$A$146,MATCH(ROW($B$12:$B$111),ROW($B$12:$B$111)),\"\"),ROWS($B$1:H74))),COLUMNS($B$1:H74)),\"\")","v":""},null,null,{"$f":"IFERROR(INDEX($K$12:$M$111,(SMALL(IF(INDEX($K$12:$M$111,,$A$149)=$A$146,MATCH(ROW($K$12:$K$111),ROW($K$12:$K$111)),\"\"),ROWS($B$1:B74))),COLUMNS($B$1:B74)),\"\")","v":""},{"$f":"IFERROR(INDEX($K$12:$M$111,(SMALL(IF(INDEX($K$12:$M$111,,$A$149)=$A$146,MATCH(ROW($K$12:$K$111),ROW($K$12:$K$111)),\"\"),ROWS($B$1:C74))),COLUMNS($B$1:C74)),\"\")","v":""},{"$f":"IFERROR(INDEX($K$12:$M$111,(SMALL(IF(INDEX($K$12:$M$111,,$A$149)=$A$146,MATCH(ROW($K$12:$K$111),ROW($K$12:$K$111)),\"\"),ROWS($B$1:D74))),COLUMNS($B$1:D74)),\"\")","v":""},null,null,{"$f":"IFERROR(INDEX($P$12:$R$111,(SMALL(IF(INDEX($P$12:$R$111,,$A$149)=$A$146,MATCH(ROW($P$12:$P$111),ROW($P$12:$P$111)),\"\"),ROWS($B$1:B74))),COLUMNS($B$1:B74)),\"\")","v":""},{"$f":"IFERROR(INDEX($P$12:$R$111,(SMALL(IF(INDEX($P$12:$R$111,,$A$149)=$A$146,MATCH(ROW($P$12:$P$111),ROW($P$12:$P$111)),\"\"),ROWS($B$1:C74))),COLUMNS($B$1:C74)),\"\")","v":""},{"$f":"IFERROR(INDEX($P$12:$R$111,(SMALL(IF(INDEX($P$12:$R$111,,$A$149)=$A$146,MATCH(ROW($P$12:$P$111),ROW($P$12:$P$111)),\"\"),ROWS($B$1:D74))),COLUMNS($B$1:D74)),\"\")","v":""}]
[75,{"$f":"IFERROR(INDEX($B$12:$H$111,(SMALL(IF(INDEX($B$12:$H$111,,$A$149)=$A$146,MATCH(ROW($B$12:$B$111),ROW($B$12:$B$111)),\"\"),ROWS($B$1:B75))),COLUMNS($B$1:B75)),\"\")","v":""},{"$f":"IFERROR(INDEX($B$12:$H$111,(SMALL(IF(INDEX($B$12:$H$111,,$A$149)=$A$146,MATCH(ROW($B$12:$B$111),ROW($B$12:$B$111)),\"\"),ROWS($B$1:C75))),COLUMNS($B$1:C75)),\"\")","v":""},{"$f":"IFERROR(INDEX($B$12:$H$111,(SMALL(IF(INDEX($B$12:$H$111,,$A$149)=$A$146,MATCH(ROW($B$12:$B$111),ROW($B$12:$B$111)),\"\"),ROWS($B$1:D75))),COLUMNS($B$1:D75)),\"\")","v":""},{"$f":"IFERROR(INDEX($B$12:$H$111,(SMALL(IF(INDEX($B$12:$H$111,,$A$149)=$A$146,MATCH(ROW($B$12:$B$111),ROW($B$12:$B$111)),\"\"),ROWS($B$1:E75))),COLUMNS($B$1:E75)),\"\")","v":""},{"$f":"IFERROR(INDEX($B$12:$H$111,(SMALL(IF(INDEX($B$12:$H$111,,$A$149)=$A$146,MATCH(ROW($B$12:$B$111),ROW($B$12:$B$111)),\"\"),ROWS($B$1:F75))),COLUMNS($B$1:F75)),\"\")","v":""},{"$f":"IFERROR(INDEX($B$12:$H$111,(SMALL(IF(INDEX($B$12:$H$111,,$A$149)=$A$146,MATCH(ROW($B$12:$B$111),ROW($B$12:$B$111)),\"\"),ROWS($B$1:G75))),COLUMNS($B$1:G75)),\"\")","v":""},{"$f":"IFERROR(INDEX($B$12:$H$111,(SMALL(IF(INDEX($B$12:$H$111,,$A$149)=$A$146,MATCH(ROW($B$12:$B$111),ROW($B$12:$B$111)),\"\"),ROWS($B$1:H75))),COLUMNS($B$1:H75)),\"\")","v":""},null,null,{"$f":"IFERROR(INDEX($K$12:$M$111,(SMALL(IF(INDEX($K$12:$M$111,,$A$149)=$A$146,MATCH(ROW($K$12:$K$111),ROW($K$12:$K$111)),\"\"),ROWS($B$1:B75))),COLUMNS($B$1:B75)),\"\")","v":""},{"$f":"IFERROR(INDEX($K$12:$M$111,(SMALL(IF(INDEX($K$12:$M$111,,$A$149)=$A$146,MATCH(ROW($K$12:$K$111),ROW($K$12:$K$111)),\"\"),ROWS($B$1:C75))),COLUMNS($B$1:C75)),\"\")","v":""},{"$f":"IFERROR(INDEX($K$12:$M$111,(SMALL(IF(INDEX($K$12:$M$111,,$A$149)=$A$146,MATCH(ROW($K$12:$K$111),ROW($K$12:$K$111)),\"\"),ROWS($B$1:D75))),COLUMNS($B$1:D75)),\"\")","v":""},null,null,{"$f":"IFERROR(INDEX($P$12:$R$111,(SMALL(IF(INDEX($P$12:$R$111,,$A$149)=$A$146,MATCH(ROW($P$12:$P$111),ROW($P$12:$P$111)),\"\"),ROWS($B$1:B75))),COLUMNS($B$1:B75)),\"\")","v":""},{"$f":"IFERROR(INDEX($P$12:$R$111,(SMALL(IF(INDEX($P$12:$R$111,,$A$149)=$A$146,MATCH(ROW($P$12:$P$111),ROW($P$12:$P$111)),\"\"),ROWS($B$1:C75))),COLUMNS($B$1:C75)),\"\")","v":""},{"$f":"IFERROR(INDEX($P$12:$R$111,(SMALL(IF(INDEX($P$12:$R$111,,$A$149)=$A$146,MATCH(ROW($P$12:$P$111),ROW($P$12:$P$111)),\"\"),ROWS($B$1:D75))),COLUMNS($B$1:D75)),\"\")","v":""}]
[76,{"$f":"IFERROR(INDEX($B$12:$H$111,(SMALL(IF(INDEX($B$12:$H$111,,$A$149)=$A$146,MATCH(ROW($B$12:$B$111),ROW($B$12:$B$111)),\"\"),ROWS($B$1:B76))),COLUMNS($B$1:B76)),\"\")","v":""},{"$f":"IFERROR(INDEX($B$12:$H$111,(SMALL(IF(INDEX($B$12:$H$111,,$A$149)=$A$146,MATCH(ROW($B$12:$B$111),ROW($B$12:$B$111)),\"\"),ROWS($B$1:C76))),COLUMNS($B$1:C76)),\"\")","v":""},{"$f":"IFERROR(INDEX($B$12:$H$111,(SMALL(IF(INDEX($B$12:$H$111,,$A$149)=$A$146,MATCH(ROW($B$12:$B$111),ROW($B$12:$B$111)),\"\"),ROWS($B$1:D76))),COLUMNS($B$1:D76)),\"\")","v":""},{"$f":"IFERROR(INDEX($B$12:$H$111,(SMALL(IF(INDEX($B$12:$H$111,,$A$149)=$A$146,MATCH(ROW($B$12:$B$111),ROW($B$12:$B$111)),\"\"),ROWS($B$1:E76))),COLUMNS($B$1:E76)),\"\")","v":""},{"$f":"IFERROR(INDEX($B$12:$H$111,(SMALL(IF(INDEX($B$12:$H$111,,$A$149)=$A$146,MATCH(ROW($B$12:$B$111),ROW($B$12:$B$111)),\"\"),ROWS($B$1:F76))),COLUMNS($B$1:F76)),\"\")","v":""},{"$f":"IFERROR(INDEX($B$12:$H$111,(SMALL(IF(INDEX($B$12:$H$111,,$A$149)=$A$146,MATCH(ROW($B$12:$B$111),ROW($B$12:$B$111)),\"\"),ROWS($B$1:G76))),COLUMNS($B$1:G76)),\"\")","v":""},{"$f":"IFERROR(INDEX($B$12:$H$111,(SMALL(IF(INDEX($B$12:$H$111,,$A$149)=$A$146,MATCH(ROW($B$12:$B$111),ROW($B$12:$B$111)),\"\"),ROWS($B$1:H76))),COLUMNS($B$1:H76)),\"\")","v":""},null,null,{"$f":"IFERROR(INDEX($K$12:$M$111,(SMALL(IF(INDEX($K$12:$M$111,,$A$149)=$A$146,MATCH(ROW($K$12:$K$111),ROW($K$12:$K$111)),\"\"),ROWS($B$1:B76))),COLUMNS($B$1:B76)),\"\")","v":""},{"$f":"IFERROR(INDEX($K$12:$M$111,(SMALL(IF(INDEX($K$12:$M$111,,$A$149)=$A$146,MATCH(ROW($K$12:$K$111),ROW($K$12:$K$111)),\"\"),ROWS($B$1:C76))),COLUMNS($B$1:C76)),\"\")","v":""},{"$f":"IFERROR(INDEX($K$12:$M$111,(SMALL(IF(INDEX($K$12:$M$111,,$A$149)=$A$146,MATCH(ROW($K$12:$K$111),ROW($K$12:$K$111)),\"\"),ROWS($B$1:D76))),COLUMNS($B$1:D76)),\"\")","v":""},null,null,{"$f":"IFERROR(INDEX($P$12:$R$111,(SMALL(IF(INDEX($P$12:$R$111,,$A$149)=$A$146,MATCH(ROW($P$12:$P$111),ROW($P$12:$P$111)),\"\"),ROWS($B$1:B76))),COLUMNS($B$1:B76)),\"\")","v":""},{"$f":"IFERROR(INDEX($P$12:$R$111,(SMALL(IF(INDEX($P$12:$R$111,,$A$149)=$A$146,MATCH(ROW($P$12:$P$111),ROW($P$12:$P$111)),\"\"),ROWS($B$1:C76))),COLUMNS($B$1:C76)),\"\")","v":""},{"$f":"IFERROR(INDEX($P$12:$R$111,(SMALL(IF(INDEX($P$12:$R$111,,$A$149)=$A$146,MATCH(ROW($P$12:$P$111),ROW($P$12:$P$111)),\"\"),ROWS($B$1:D76))),COLUMNS($B$1:D76)),\"\")","v":""}]
[77,{"$f":"IFERROR(INDEX($B$12:$H$111,(SMALL(IF(INDEX($B$12:$H$111,,$A$149)=$A$146,MATCH(ROW($B$12:$B$111),ROW($B$12:$B$111)),\"\"),ROWS($B$1:B77))),COLUMNS($B$1:B77)),\"\")","v":""},{"$f":"IFERROR(INDEX($B$12:$H$111,(SMALL(IF(INDEX($B$12:$H$111,,$A$149)=$A$146,MATCH(ROW($B$12:$B$111),ROW($B$12:$B$111)),\"\"),ROWS($B$1:C77))),COLUMNS($B$1:C77)),\"\")","v":""},{"$f":"IFERROR(INDEX($B$12:$H$111,(SMALL(IF(INDEX($B$12:$H$111,,$A$149)=$A$146,MATCH(ROW($B$12:$B$111),ROW($B$12:$B$111)),\"\"),ROWS($B$1:D77))),COLUMNS($B$1:D77)),\"\")","v":""},{"$f":"IFERROR(INDEX($B$12:$H$111,(SMALL(IF(INDEX($B$12:$H$111,,$A$149)=$A$146,MATCH(ROW($B$12:$B$111),ROW($B$12:$B$111)),\"\"),ROWS($B$1:E77))),COLUMNS($B$1:E77)),\"\")","v":""},{"$f":"IFERROR(INDEX($B$12:$H$111,(SMALL(IF(INDEX($B$12:$H$111,,$A$149)=$A$146,MATCH(ROW($B$12:$B$111),ROW($B$12:$B$111)),\"\"),ROWS($B$1:F77))),COLUMNS($B$1:F77)),\"\")","v":""},{"$f":"IFERROR(INDEX($B$12:$H$111,(SMALL(IF(INDEX($B$12:$H$111,,$A$149)=$A$146,MATCH(ROW($B$12:$B$111),ROW($B$12:$B$111)),\"\"),ROWS($B$1:G77))),COLUMNS($B$1:G77)),\"\")","v":""},{"$f":"IFERROR(INDEX($B$12:$H$111,(SMALL(IF(INDEX($B$12:$H$111,,$A$149)=$A$146,MATCH(ROW($B$12:$B$111),ROW($B$12:$B$111)),\"\"),ROWS($B$1:H77))),COLUMNS($B$1:H77)),\"\")","v":""},null,null,{"$f":"IFERROR(INDEX($K$12:$M$111,(SMALL(IF(INDEX($K$12:$M$111,,$A$149)=$A$146,MATCH(ROW($K$12:$K$111),ROW($K$12:$K$111)),\"\"),ROWS($B$1:B77))),COLUMNS($B$1:B77)),\"\")","v":""},{"$f":"IFERROR(INDEX($K$12:$M$111,(SMALL(IF(INDEX($K$12:$M$111,,$A$149)=$A$146,MATCH(ROW($K$12:$K$111),ROW($K$12:$K$111)),\"\"),ROWS($B$1:C77))),COLUMNS($B$1:C77)),\"\")","v":""},{"$f":"IFERROR(INDEX($K$12:$M$111,(SMALL(IF(INDEX($K$12:$M$111,,$A$149)=$A$146,MATCH(ROW($K$12:$K$111),ROW($K$12:$K$111)),\"\"),ROWS($B$1:D77))),COLUMNS($B$1:D77)),\"\")","v":""},null,null,{"$f":"IFERROR(INDEX($P$12:$R$111,(SMALL(IF(INDEX($P$12:$R$111,,$A$149)=$A$146,MATCH(ROW($P$12:$P$111),ROW($P$12:$P$111)),\"\"),ROWS($B$1:B77))),COLUMNS($B$1:B77)),\"\")","v":""},{"$f":"IFERROR(INDEX($P$12:$R$111,(SMALL(IF(INDEX($P$12:$R$111,,$A$149)=$A$146,MATCH(ROW($P$12:$P$111),ROW($P$12:$P$111)),\"\"),ROWS($B$1:C77))),COLUMNS($B$1:C77)),\"\")","v":""},{"$f":"IFERROR(INDEX($P$12:$R$111,(SMALL(IF(INDEX($P$12:$R$111,,$A$149)=$A$146,MATCH(ROW($P$12:$P$111),ROW($P$12:$P$111)),\"\"),ROWS($B$1:D77))),COLUMNS($B$1:D77)),\"\")","v":""}]
[78,{"$f":"IFERROR(INDEX($B$12:$H$111,(SMALL(IF(INDEX($B$12:$H$111,,$A$149)=$A$146,MATCH(ROW($B$12:$B$111),ROW($B$12:$B$111)),\"\"),ROWS($B$1:B78))),COLUMNS($B$1:B78)),\"\")","v":""},{"$f":"IFERROR(INDEX($B$12:$H$111,(SMALL(IF(INDEX($B$12:$H$111,,$A$149)=$A$146,MATCH(ROW($B$12:$B$111),ROW($B$12:$B$111)),\"\"),ROWS($B$1:C78))),COLUMNS($B$1:C78)),\"\")","v":""},{"$f":"IFERROR(INDEX($B$12:$H$111,(SMALL(IF(INDEX($B$12:$H$111,,$A$149)=$A$146,MATCH(ROW($B$12:$B$111),ROW($B$12:$B$111)),\"\"),ROWS($B$1:D78))),COLUMNS($B$1:D78)),\"\")","v":""},{"$f":"IFERROR(INDEX($B$12:$H$111,(SMALL(IF(INDEX($B$12:$H$111,,$A$149)=$A$146,MATCH(ROW($B$12:$B$111),ROW($B$12:$B$111)),\"\"),ROWS($B$1:E78))),COLUMNS($B$1:E78)),\"\")","v":""},{"$f":"IFERROR(INDEX($B$12:$H$111,(SMALL(IF(INDEX($B$12:$H$111,,$A$149)=$A$146,MATCH(ROW($B$12:$B$111),ROW($B$12:$B$111)),\"\"),ROWS($B$1:F78))),COLUMNS($B$1:F78)),\"\")","v":""},{"$f":"IFERROR(INDEX($B$12:$H$111,(SMALL(IF(INDEX($B$12:$H$111,,$A$149)=$A$146,MATCH(ROW($B$12:$B$111),ROW($B$12:$B$111)),\"\"),ROWS($B$1:G78))),COLUMNS($B$1:G78)),\"\")","v":""},{"$f":"IFERROR(INDEX($B$12:$H$111,(SMALL(IF(INDEX($B$12:$H$111,,$A$149)=$A$146,MATCH(ROW($B$12:$B$111),ROW($B$12:$B$111)),\"\"),ROWS($B$1:H78))),COLUMNS($B$1:H78)),\"\")","v":""},null,null,{"$f":"IFERROR(INDEX($K$12:$M$111,(SMALL(IF(INDEX($K$12:$M$111,,$A$149)=$A$146,MATCH(ROW($K$12:$K$111),ROW($K$12:$K$111)),\"\"),ROWS($B$1:B78))),COLUMNS($B$1:B78)),\"\")","v":""},{"$f":"IFERROR(INDEX($K$12:$M$111,(SMALL(IF(INDEX($K$12:$M$111,,$A$149)=$A$146,MATCH(ROW($K$12:$K$111),ROW($K$12:$K$111)),\"\"),ROWS($B$1:C78))),COLUMNS($B$1:C78)),\"\")","v":""},{"$f":"IFERROR(INDEX($K$12:$M$111,(SMALL(IF(INDEX($K$12:$M$111,,$A$149)=$A$146,MATCH(ROW($K$12:$K$111),ROW($K$12:$K$111)),\"\"),ROWS($B$1:D78))),COLUMNS($B$1:D78)),\"\")","v":""},null,null,{"$f":"IFERROR(INDEX($P$12:$R$111,(SMALL(IF(INDEX($P$12:$R$111,,$A$149)=$A$146,MATCH(ROW($P$12:$P$111),ROW($P$12:$P$111)),\"\"),ROWS($B$1:B78))),COLUMNS($B$1:B78)),\"\")","v":""},{"$f":"IFERROR(INDEX($P$12:$R$111,(SMALL(IF(INDEX($P$12:$R$111,,$A$149)=$A$146,MATCH(ROW($P$12:$P$111),ROW($P$12:$P$111)),\"\"),ROWS($B$1:C78))),COLUMNS($B$1:C78)),\"\")","v":""},{"$f":"IFERROR(INDEX($P$12:$R$111,(SMALL(IF(INDEX($P$12:$R$111,,$A$149)=$A$146,MATCH(ROW($P$12:$P$111),ROW($P$12:$P$111)),\"\"),ROWS($B$1:D78))),COLUMNS($B$1:D78)),\"\")","v":""}]
[79,{"$f":"IFERROR(INDEX($B$12:$H$111,(SMALL(IF(INDEX($B$12:$H$111,,$A$149)=$A$146,MATCH(ROW($B$12:$B$111),ROW($B$12:$B$111)),\"\"),ROWS($B$1:B79))),COLUMNS($B$1:B79)),\"\")","v":""},{"$f":"IFERROR(INDEX($B$12:$H$111,(SMALL(IF(INDEX($B$12:$H$111,,$A$149)=$A$146,MATCH(ROW($B$12:$B$111),ROW($B$12:$B$111)),\"\"),ROWS($B$1:C79))),COLUMNS($B$1:C79)),\"\")","v":""},{"$f":"IFERROR(INDEX($B$12:$H$111,(SMALL(IF(INDEX($B$12:$H$111,,$A$149)=$A$146,MATCH(ROW($B$12:$B$111),ROW($B$12:$B$111)),\"\"),ROWS($B$1:D79))),COLUMNS($B$1:D79)),\"\")","v":""},{"$f":"IFERROR(INDEX($B$12:$H$111,(SMALL(IF(INDEX($B$12:$H$111,,$A$149)=$A$146,MATCH(ROW($B$12:$B$111),ROW($B$12:$B$111)),\"\"),ROWS($B$1:E79))),COLUMNS($B$1:E79)),\"\")","v":""},{"$f":"IFERROR(INDEX($B$12:$H$111,(SMALL(IF(INDEX($B$12:$H$111,,$A$149)=$A$146,MATCH(ROW($B$12:$B$111),ROW($B$12:$B$111)),\"\"),ROWS($B$1:F79))),COLUMNS($B$1:F79)),\"\")","v":""},{"$f":"IFERROR(INDEX($B$12:$H$111,(SMALL(IF(INDEX($B$12:$H$111,,$A$149)=$A$146,MATCH(ROW($B$12:$B$111),ROW($B$12:$B$111)),\"\"),ROWS($B$1:G79))),COLUMNS($B$1:G79)),\"\")","v":""},{"$f":"IFERROR(INDEX($B$12:$H$111,(SMALL(IF(INDEX($B$12:$H$111,,$A$149)=$A$146,MATCH(ROW($B$12:$B$111),ROW($B$12:$B$111)),\"\"),ROWS($B$1:H79))),COLUMNS($B$1:H79)),\"\")","v":""},null,null,{"$f":"IFERROR(INDEX($K$12:$M$111,(SMALL(IF(INDEX($K$12:$M$111,,$A$149)=$A$146,MATCH(ROW($K$12:$K$111),ROW($K$12:$K$111)),\"\"),ROWS($B$1:B79))),COLUMNS($B$1:B79)),\"\")","v":""},{"$f":"IFERROR(INDEX($K$12:$M$111,(SMALL(IF(INDEX($K$12:$M$111,,$A$149)=$A$146,MATCH(ROW($K$12:$K$111),ROW($K$12:$K$111)),\"\"),ROWS($B$1:C79))),COLUMNS($B$1:C79)),\"\")","v":""},{"$f":"IFERROR(INDEX($K$12:$M$111,(SMALL(IF(INDEX($K$12:$M$111,,$A$149)=$A$146,MATCH(ROW($K$12:$K$111),ROW($K$12:$K$111)),\"\"),ROWS($B$1:D79))),COLUMNS($B$1:D79)),\"\")","v":""},null,null,{"$f":"IFERROR(INDEX($P$12:$R$111,(SMALL(IF(INDEX($P$12:$R$111,,$A$149)=$A$146,MATCH(ROW($P$12:$P$111),ROW($P$12:$P$111)),\"\"),ROWS($B$1:B79))),COLUMNS($B$1:B79)),\"\")","v":""},{"$f":"IFERROR(INDEX($P$12:$R$111,(SMALL(IF(INDEX($P$12:$R$111,,$A$149)=$A$146,MATCH(ROW($P$12:$P$111),ROW($P$12:$P$111)),\"\"),ROWS($B$1:C79))),COLUMNS($B$1:C79)),\"\")","v":""},{"$f":"IFERROR(INDEX($P$12:$R$111,(SMALL(IF(INDEX($P$12:$R$111,,$A$149)=$A$146,MATCH(ROW($P$12:$P$111),ROW($P$12:$P$111)),\"\"),ROWS($B$1:D79))),COLUMNS($B$1:D79)),\"\")","v":""}]
[80,{"$f":"IFERROR(INDEX($B$12:$H$111,(SMALL(IF(INDEX($B$12:$H$111,,$A$149)=$A$146,MATCH(ROW($B$12:$B$111),ROW($B$12:$B$111)),\"\"),ROWS($B$1:B80))),COLUMNS($B$1:B80)),\"\")","v":""},{"$f":"IFERROR(INDEX($B$12:$H$111,(SMALL(IF(INDEX($B$12:$H$111,,$A$149)=$A$146,MATCH(ROW($B$12:$B$111),ROW($B$12:$B$111)),\"\"),ROWS($B$1:C80))),COLUMNS($B$1:C80)),\"\")","v":""},{"$f":"IFERROR(INDEX($B$12:$H$111,(SMALL(IF(INDEX($B$12:$H$111,,$A$149)=$A$146,MATCH(ROW($B$12:$B$111),ROW($B$12:$B$111)),\"\"),ROWS($B$1:D80))),COLUMNS($B$1:D80)),\"\")","v":""},{"$f":"IFERROR(INDEX($B$12:$H$111,(SMALL(IF(INDEX($B$12:$H$111,,$A$149)=$A$146,MATCH(ROW($B$12:$B$111),ROW($B$12:$B$111)),\"\"),ROWS($B$1:E80))),COLUMNS($B$1:E80)),\"\")","v":""},{"$f":"IFERROR(INDEX($B$12:$H$111,(SMALL(IF(INDEX($B$12:$H$111,,$A$149)=$A$146,MATCH(ROW($B$12:$B$111),ROW($B$12:$B$111)),\"\"),ROWS($B$1:F80))),COLUMNS($B$1:F80)),\"\")","v":""},{"$f":"IFERROR(INDEX($B$12:$H$111,(SMALL(IF(INDEX($B$12:$H$111,,$A$149)=$A$146,MATCH(ROW($B$12:$B$111),ROW($B$12:$B$111)),\"\"),ROWS($B$1:G80))),COLUMNS($B$1:G80)),\"\")","v":""},{"$f":"IFERROR(INDEX($B$12:$H$111,(SMALL(IF(INDEX($B$12:$H$111,,$A$149)=$A$146,MATCH(ROW($B$12:$B$111),ROW($B$12:$B$111)),\"\"),ROWS($B$1:H80))),COLUMNS($B$1:H80)),\"\")","v":""},null,null,{"$f":"IFERROR(INDEX($K$12:$M$111,(SMALL(IF(INDEX($K$12:$M$111,,$A$149)=$A$146,MATCH(ROW($K$12:$K$111),ROW($K$12:$K$111)),\"\"),ROWS($B$1:B80))),COLUMNS($B$1:B80)),\"\")","v":""},{"$f":"IFERROR(INDEX($K$12:$M$111,(SMALL(IF(INDEX($K$12:$M$111,,$A$149)=$A$146,MATCH(ROW($K$12:$K$111),ROW($K$12:$K$111)),\"\"),ROWS($B$1:C80))),COLUMNS($B$1:C80)),\"\")","v":""},{"$f":"IFERROR(INDEX($K$12:$M$111,(SMALL(IF(INDEX($K$12:$M$111,,$A$149)=$A$146,MATCH(ROW($K$12:$K$111),ROW($K$12:$K$111)),\"\"),ROWS($B$1:D80))),COLUMNS($B$1:D80)),\"\")","v":""},null,null,{"$f":"IFERROR(INDEX($P$12:$R$111,(SMALL(IF(INDEX($P$12:$R$111,,$A$149)=$A$146,MATCH(ROW($P$12:$P$111),ROW($P$12:$P$111)),\"\"),ROWS($B$1:B80))),COLUMNS($B$1:B80)),\"\")","v":""},{"$f":"IFERROR(INDEX($P$12:$R$111,(SMALL(IF(INDEX($P$12:$R$111,,$A$149)=$A$146,MATCH(ROW($P$12:$P$111),ROW($P$12:$P$111)),\"\"),ROWS($B$1:C80))),COLUMNS($B$1:C80)),\"\")","v":""},{"$f":"IFERROR(INDEX($P$12:$R$111,(SMALL(IF(INDEX($P$12:$R$111,,$A$149)=$A$146,MATCH(ROW($P$12:$P$111),ROW($P$12:$P$111)),\"\"),ROWS($B$1:D80))),COLUMNS($B$1:D80)),\"\")","v":""}]
[81,{"$f":"IFERROR(INDEX($B$12:$H$111,(SMALL(IF(INDEX($B$12:$H$111,,$A$149)=$A$146,MATCH(ROW($B$12:$B$111),ROW($B$12:$B$111)),\"\"),ROWS($B$1:B81))),COLUMNS($B$1:B81)),\"\")","v":""},{"$f":"IFERROR(INDEX($B$12:$H$111,(SMALL(IF(INDEX($B$12:$H$111,,$A$149)=$A$146,MATCH(ROW($B$12:$B$111),ROW($B$12:$B$111)),\"\"),ROWS($B$1:C81))),COLUMNS($B$1:C81)),\"\")","v":""},{"$f":"IFERROR(INDEX($B$12:$H$111,(SMALL(IF(INDEX($B$12:$H$111,,$A$149)=$A$146,MATCH(ROW($B$12:$B$111),ROW($B$12:$B$111)),\"\"),ROWS($B$1:D81))),COLUMNS($B$1:D81)),\"\")","v":""},{"$f":"IFERROR(INDEX($B$12:$H$111,(SMALL(IF(INDEX($B$12:$H$111,,$A$149)=$A$146,MATCH(ROW($B$12:$B$111),ROW($B$12:$B$111)),\"\"),ROWS($B$1:E81))),COLUMNS($B$1:E81)),\"\")","v":""},{"$f":"IFERROR(INDEX($B$12:$H$111,(SMALL(IF(INDEX($B$12:$H$111,,$A$149)=$A$146,MATCH(ROW($B$12:$B$111),ROW($B$12:$B$111)),\"\"),ROWS($B$1:F81))),COLUMNS($B$1:F81)),\"\")","v":""},{"$f":"IFERROR(INDEX($B$12:$H$111,(SMALL(IF(INDEX($B$12:$H$111,,$A$149)=$A$146,MATCH(ROW($B$12:$B$111),ROW($B$12:$B$111)),\"\"),ROWS($B$1:G81))),COLUMNS($B$1:G81)),\"\")","v":""},{"$f":"IFERROR(INDEX($B$12:$H$111,(SMALL(IF(INDEX($B$12:$H$111,,$A$149)=$A$146,MATCH(ROW($B$12:$B$111),ROW($B$12:$B$111)),\"\"),ROWS($B$1:H81))),COLUMNS($B$1:H81)),\"\")","v":""},null,null,{"$f":"IFERROR(INDEX($K$12:$M$111,(SMALL(IF(INDEX($K$12:$M$111,,$A$149)=$A$146,MATCH(ROW($K$12:$K$111),ROW($K$12:$K$111)),\"\"),ROWS($B$1:B81))),COLUMNS($B$1:B81)),\"\")","v":""},{"$f":"IFERROR(INDEX($K$12:$M$111,(SMALL(IF(INDEX($K$12:$M$111,,$A$149)=$A$146,MATCH(ROW($K$12:$K$111),ROW($K$12:$K$111)),\"\"),ROWS($B$1:C81))),COLUMNS($B$1:C81)),\"\")","v":""},{"$f":"IFERROR(INDEX($K$12:$M$111,(SMALL(IF(INDEX($K$12:$M$111,,$A$149)=$A$146,MATCH(ROW($K$12:$K$111),ROW($K$12:$K$111)),\"\"),ROWS($B$1:D81))),COLUMNS($B$1:D81)),\"\")","v":""},null,null,{"$f":"IFERROR(INDEX($P$12:$R$111,(SMALL(IF(INDEX($P$12:$R$111,,$A$149)=$A$146,MATCH(ROW($P$12:$P$111),ROW($P$12:$P$111)),\"\"),ROWS($B$1:B81))),COLUMNS($B$1:B81)),\"\")","v":""},{"$f":"IFERROR(INDEX($P$12:$R$111,(SMALL(IF(INDEX($P$12:$R$111,,$A$149)=$A$146,MATCH(ROW($P$12:$P$111),ROW($P$12:$P$111)),\"\"),ROWS($B$1:C81))),COLUMNS($B$1:C81)),\"\")","v":""},{"$f":"IFERROR(INDEX($P$12:$R$111,(SMALL(IF(INDEX($P$12:$R$111,,$A$149)=$A$146,MATCH(ROW($P$12:$P$111),ROW($P$12:$P$111)),\"\"),ROWS($B$1:D81))),COLUMNS($B$1:D81)),\"\")","v":""}]
[82,{"$f":"IFERROR(INDEX($B$12:$H$111,(SMALL(IF(INDEX($B$12:$H$111,,$A$149)=$A$146,MATCH(ROW($B$12:$B$111),ROW($B$12:$B$111)),\"\"),ROWS($B$1:B82))),COLUMNS($B$1:B82)),\"\")","v":""},{"$f":"IFERROR(INDEX($B$12:$H$111,(SMALL(IF(INDEX($B$12:$H$111,,$A$149)=$A$146,MATCH(ROW($B$12:$B$111),ROW($B$12:$B$111)),\"\"),ROWS($B$1:C82))),COLUMNS($B$1:C82)),\"\")","v":""},{"$f":"IFERROR(INDEX($B$12:$H$111,(SMALL(IF(INDEX($B$12:$H$111,,$A$149)=$A$146,MATCH(ROW($B$12:$B$111),ROW($B$12:$B$111)),\"\"),ROWS($B$1:D82))),COLUMNS($B$1:D82)),\"\")","v":""},{"$f":"IFERROR(INDEX($B$12:$H$111,(SMALL(IF(INDEX($B$12:$H$111,,$A$149)=$A$146,MATCH(ROW($B$12:$B$111),ROW($B$12:$B$111)),\"\"),ROWS($B$1:E82))),COLUMNS($B$1:E82)),\"\")","v":""},{"$f":"IFERROR(INDEX($B$12:$H$111,(SMALL(IF(INDEX($B$12:$H$111,,$A$149)=$A$146,MATCH(ROW($B$12:$B$111),ROW($B$12:$B$111)),\"\"),ROWS($B$1:F82))),COLUMNS($B$1:F82)),\"\")","v":""},{"$f":"IFERROR(INDEX($B$12:$H$111,(SMALL(IF(INDEX($B$12:$H$111,,$A$149)=$A$146,MATCH(ROW($B$12:$B$111),ROW($B$12:$B$111)),\"\"),ROWS($B$1:G82))),COLUMNS($B$1:G82)),\"\")","v":""},{"$f":"IFERROR(INDEX($B$12:$H$111,(SMALL(IF(INDEX($B$12:$H$111,,$A$149)=$A$146,MATCH(ROW($B$12:$B$111),ROW($B$12:$B$111)),\"\"),ROWS($B$1:H82))),COLUMNS($B$1:H82)),\"\")","v":""},null,null,{"$f":"IFERROR(INDEX($K$12:$M$111,(SMALL(IF(INDEX($K$12:$M$111,,$A$149)=$A$146,MATCH(ROW($K$12:$K$111),ROW($K$12:$K$111)),\"\"),ROWS($B$1:B82))),COLUMNS($B$1:B82)),\"\")","v":""},{"$f":"IFERROR(INDEX($K$12:$M$111,(SMALL(IF(INDEX($K$12:$M$111,,$A$149)=$A$146,MATCH(ROW($K$12:$K$111),ROW($K$12:$K$111)),\"\"),ROWS($B$1:C82))),COLUMNS($B$1:C82)),\"\")","v":""},{"$f":"IFERROR(INDEX($K$12:$M$111,(SMALL(IF(INDEX($K$12:$M$111,,$A$149)=$A$146,MATCH(ROW($K$12:$K$111),ROW($K$12:$K$111)),\"\"),ROWS($B$1:D82))),COLUMNS($B$1:D82)),\"\")","v":""},null,null,{"$f":"IFERROR(INDEX($P$12:$R$111,(SMALL(IF(INDEX($P$12:$R$111,,$A$149)=$A$146,MATCH(ROW($P$12:$P$111),ROW($P$12:$P$111)),\"\"),ROWS($B$1:B82))),COLUMNS($B$1:B82)),\"\")","v":""},{"$f":"IFERROR(INDEX($P$12:$R$111,(SMALL(IF(INDEX($P$12:$R$111,,$A$149)=$A$146,MATCH(ROW($P$12:$P$111),ROW($P$12:$P$111)),\"\"),ROWS($B$1:C82))),COLUMNS($B$1:C82)),\"\")","v":""},{"$f":"IFERROR(INDEX($P$12:$R$111,(SMALL(IF(INDEX($P$12:$R$111,,$A$149)=$A$146,MATCH(ROW($P$12:$P$111),ROW($P$12:$P$111)),\"\"),ROWS($B$1:D82))),COLUMNS($B$1:D82)),\"\")","v":""}]
[83,{"$f":"IFERROR(INDEX($B$12:$H$111,(SMALL(IF(INDEX($B$12:$H$111,,$A$149)=$A$146,MATCH(ROW($B$12:$B$111),ROW($B$12:$B$111)),\"\"),ROWS($B$1:B83))),COLUMNS($B$1:B83)),\"\")","v":""},{"$f":"IFERROR(INDEX($B$12:$H$111,(SMALL(IF(INDEX($B$12:$H$111,,$A$149)=$A$146,MATCH(ROW($B$12:$B$111),ROW($B$12:$B$111)),\"\"),ROWS($B$1:C83))),COLUMNS($B$1:C83)),\"\")","v":""},{"$f":"IFERROR(INDEX($B$12:$H$111,(SMALL(IF(INDEX($B$12:$H$111,,$A$149)=$A$146,MATCH(ROW($B$12:$B$111),ROW($B$12:$B$111)),\"\"),ROWS($B$1:D83))),COLUMNS($B$1:D83)),\"\")","v":""},{"$f":"IFERROR(INDEX($B$12:$H$111,(SMALL(IF(INDEX($B$12:$H$111,,$A$149)=$A$146,MATCH(ROW($B$12:$B$111),ROW($B$12:$B$111)),\"\"),ROWS($B$1:E83))),COLUMNS($B$1:E83)),\"\")","v":""},{"$f":"IFERROR(INDEX($B$12:$H$111,(SMALL(IF(INDEX($B$12:$H$111,,$A$149)=$A$146,MATCH(ROW($B$12:$B$111),ROW($B$12:$B$111)),\"\"),ROWS($B$1:F83))),COLUMNS($B$1:F83)),\"\")","v":""},{"$f":"IFERROR(INDEX($B$12:$H$111,(SMALL(IF(INDEX($B$12:$H$111,,$A$149)=$A$146,MATCH(ROW($B$12:$B$111),ROW($B$12:$B$111)),\"\"),ROWS($B$1:G83))),COLUMNS($B$1:G83)),\"\")","v":""},{"$f":"IFERROR(INDEX($B$12:$H$111,(SMALL(IF(INDEX($B$12:$H$111,,$A$149)=$A$146,MATCH(ROW($B$12:$B$111),ROW($B$12:$B$111)),\"\"),ROWS($B$1:H83))),COLUMNS($B$1:H83)),\"\")","v":""},null,null,{"$f":"IFERROR(INDEX($K$12:$M$111,(SMALL(IF(INDEX($K$12:$M$111,,$A$149)=$A$146,MATCH(ROW($K$12:$K$111),ROW($K$12:$K$111)),\"\"),ROWS($B$1:B83))),COLUMNS($B$1:B83)),\"\")","v":""},{"$f":"IFERROR(INDEX($K$12:$M$111,(SMALL(IF(INDEX($K$12:$M$111,,$A$149)=$A$146,MATCH(ROW($K$12:$K$111),ROW($K$12:$K$111)),\"\"),ROWS($B$1:C83))),COLUMNS($B$1:C83)),\"\")","v":""},{"$f":"IFERROR(INDEX($K$12:$M$111,(SMALL(IF(INDEX($K$12:$M$111,,$A$149)=$A$146,MATCH(ROW($K$12:$K$111),ROW($K$12:$K$111)),\"\"),ROWS($B$1:D83))),COLUMNS($B$1:D83)),\"\")","v":""},null,null,{"$f":"IFERROR(INDEX($P$12:$R$111,(SMALL(IF(INDEX($P$12:$R$111,,$A$149)=$A$146,MATCH(ROW($P$12:$P$111),ROW($P$12:$P$111)),\"\"),ROWS($B$1:B83))),COLUMNS($B$1:B83)),\"\")","v":""},{"$f":"IFERROR(INDEX($P$12:$R$111,(SMALL(IF(INDEX($P$12:$R$111,,$A$149)=$A$146,MATCH(ROW($P$12:$P$111),ROW($P$12:$P$111)),\"\"),ROWS($B$1:C83))),COLUMNS($B$1:C83)),\"\")","v":""},{"$f":"IFERROR(INDEX($P$12:$R$111,(SMALL(IF(INDEX($P$12:$R$111,,$A$149)=$A$146,MATCH(ROW($P$12:$P$111),ROW($P$12:$P$111)),\"\"),ROWS($B$1:D83))),COLUMNS($B$1:D83)),\"\")","v":""}]
[84,{"$f":"IFERROR(INDEX($B$12:$H$111,(SMALL(IF(INDEX($B$12:$H$111,,$A$149)=$A$146,MATCH(ROW($B$12:$B$111),ROW($B$12:$B$111)),\"\"),ROWS($B$1:B84))),COLUMNS($B$1:B84)),\"\")","v":""},{"$f":"IFERROR(INDEX($B$12:$H$111,(SMALL(IF(INDEX($B$12:$H$111,,$A$149)=$A$146,MATCH(ROW($B$12:$B$111),ROW($B$12:$B$111)),\"\"),ROWS($B$1:C84))),COLUMNS($B$1:C84)),\"\")","v":""},{"$f":"IFERROR(INDEX($B$12:$H$111,(SMALL(IF(INDEX($B$12:$H$111,,$A$149)=$A$146,MATCH(ROW($B$12:$B$111),ROW($B$12:$B$111)),\"\"),ROWS($B$1:D84))),COLUMNS($B$1:D84)),\"\")","v":""},{"$f":"IFERROR(INDEX($B$12:$H$111,(SMALL(IF(INDEX($B$12:$H$111,,$A$149)=$A$146,MATCH(ROW($B$12:$B$111),ROW($B$12:$B$111)),\"\"),ROWS($B$1:E84))),COLUMNS($B$1:E84)),\"\")","v":""},{"$f":"IFERROR(INDEX($B$12:$H$111,(SMALL(IF(INDEX($B$12:$H$111,,$A$149)=$A$146,MATCH(ROW($B$12:$B$111),ROW($B$12:$B$111)),\"\"),ROWS($B$1:F84))),COLUMNS($B$1:F84)),\"\")","v":""},{"$f":"IFERROR(INDEX($B$12:$H$111,(SMALL(IF(INDEX($B$12:$H$111,,$A$149)=$A$146,MATCH(ROW($B$12:$B$111),ROW($B$12:$B$111)),\"\"),ROWS($B$1:G84))),COLUMNS($B$1:G84)),\"\")","v":""},{"$f":"IFERROR(INDEX($B$12:$H$111,(SMALL(IF(INDEX($B$12:$H$111,,$A$149)=$A$146,MATCH(ROW($B$12:$B$111),ROW($B$12:$B$111)),\"\"),ROWS($B$1:H84))),COLUMNS($B$1:H84)),\"\")","v":""},null,null,{"$f":"IFERROR(INDEX($K$12:$M$111,(SMALL(IF(INDEX($K$12:$M$111,,$A$149)=$A$146,MATCH(ROW($K$12:$K$111),ROW($K$12:$K$111)),\"\"),ROWS($B$1:B84))),COLUMNS($B$1:B84)),\"\")","v":""},{"$f":"IFERROR(INDEX($K$12:$M$111,(SMALL(IF(INDEX($K$12:$M$111,,$A$149)=$A$146,MATCH(ROW($K$12:$K$111),ROW($K$12:$K$111)),\"\"),ROWS($B$1:C84))),COLUMNS($B$1:C84)),\"\")","v":""},{"$f":"IFERROR(INDEX($K$12:$M$111,(SMALL(IF(INDEX($K$12:$M$111,,$A$149)=$A$146,MATCH(ROW($K$12:$K$111),ROW($K$12:$K$111)),\"\"),ROWS($B$1:D84))),COLUMNS($B$1:D84)),\"\")","v":""},null,null,{"$f":"IFERROR(INDEX($P$12:$R$111,(SMALL(IF(INDEX($P$12:$R$111,,$A$149)=$A$146,MATCH(ROW($P$12:$P$111),ROW($P$12:$P$111)),\"\"),ROWS($B$1:B84))),COLUMNS($B$1:B84)),\"\")","v":""},{"$f":"IFERROR(INDEX($P$12:$R$111,(SMALL(IF(INDEX($P$12:$R$111,,$A$149)=$A$146,MATCH(ROW($P$12:$P$111),ROW($P$12:$P$111)),\"\"),ROWS($B$1:C84))),COLUMNS($B$1:C84)),\"\")","v":""},{"$f":"IFERROR(INDEX($P$12:$R$111,(SMALL(IF(INDEX($P$12:$R$111,,$A$149)=$A$146,MATCH(ROW($P$12:$P$111),ROW($P$12:$P$111)),\"\"),ROWS($B$1:D84))),COLUMNS($B$1:D84)),\"\")","v":""}]
[85,{"$f":"IFERROR(INDEX($B$12:$H$111,(SMALL(IF(INDEX($B$12:$H$111,,$A$149)=$A$146,MATCH(ROW($B$12:$B$111),ROW($B$12:$B$111)),\"\"),ROWS($B$1:B85))),COLUMNS($B$1:B85)),\"\")","v":""},{"$f":"IFERROR(INDEX($B$12:$H$111,(SMALL(IF(INDEX($B$12:$H$111,,$A$149)=$A$146,MATCH(ROW($B$12:$B$111),ROW($B$12:$B$111)),\"\"),ROWS($B$1:C85))),COLUMNS($B$1:C85)),\"\")","v":""},{"$f":"IFERROR(INDEX($B$12:$H$111,(SMALL(IF(INDEX($B$12:$H$111,,$A$149)=$A$146,MATCH(ROW($B$12:$B$111),ROW($B$12:$B$111)),\"\"),ROWS($B$1:D85))),COLUMNS($B$1:D85)),\"\")","v":""},{"$f":"IFERROR(INDEX($B$12:$H$111,(SMALL(IF(INDEX($B$12:$H$111,,$A$149)=$A$146,MATCH(ROW($B$12:$B$111),ROW($B$12:$B$111)),\"\"),ROWS($B$1:E85))),COLUMNS($B$1:E85)),\"\")","v":""},{"$f":"IFERROR(INDEX($B$12:$H$111,(SMALL(IF(INDEX($B$12:$H$111,,$A$149)=$A$146,MATCH(ROW($B$12:$B$111),ROW($B$12:$B$111)),\"\"),ROWS($B$1:F85))),COLUMNS($B$1:F85)),\"\")","v":""},{"$f":"IFERROR(INDEX($B$12:$H$111,(SMALL(IF(INDEX($B$12:$H$111,,$A$149)=$A$146,MATCH(ROW($B$12:$B$111),ROW($B$12:$B$111)),\"\"),ROWS($B$1:G85))),COLUMNS($B$1:G85)),\"\")","v":""},{"$f":"IFERROR(INDEX($B$12:$H$111,(SMALL(IF(INDEX($B$12:$H$111,,$A$149)=$A$146,MATCH(ROW($B$12:$B$111),ROW($B$12:$B$111)),\"\"),ROWS($B$1:H85))),COLUMNS($B$1:H85)),\"\")","v":""},null,null,{"$f":"IFERROR(INDEX($K$12:$M$111,(SMALL(IF(INDEX($K$12:$M$111,,$A$149)=$A$146,MATCH(ROW($K$12:$K$111),ROW($K$12:$K$111)),\"\"),ROWS($B$1:B85))),COLUMNS($B$1:B85)),\"\")","v":""},{"$f":"IFERROR(INDEX($K$12:$M$111,(SMALL(IF(INDEX($K$12:$M$111,,$A$149)=$A$146,MATCH(ROW($K$12:$K$111),ROW($K$12:$K$111)),\"\"),ROWS($B$1:C85))),COLUMNS($B$1:C85)),\"\")","v":""},{"$f":"IFERROR(INDEX($K$12:$M$111,(SMALL(IF(INDEX($K$12:$M$111,,$A$149)=$A$146,MATCH(ROW($K$12:$K$111),ROW($K$12:$K$111)),\"\"),ROWS($B$1:D85))),COLUMNS($B$1:D85)),\"\")","v":""},null,null,{"$f":"IFERROR(INDEX($P$12:$R$111,(SMALL(IF(INDEX($P$12:$R$111,,$A$149)=$A$146,MATCH(ROW($P$12:$P$111),ROW($P$12:$P$111)),\"\"),ROWS($B$1:B85))),COLUMNS($B$1:B85)),\"\")","v":""},{"$f":"IFERROR(INDEX($P$12:$R$111,(SMALL(IF(INDEX($P$12:$R$111,,$A$149)=$A$146,MATCH(ROW($P$12:$P$111),ROW($P$12:$P$111)),\"\"),ROWS($B$1:C85))),COLUMNS($B$1:C85)),\"\")","v":""},{"$f":"IFERROR(INDEX($P$12:$R$111,(SMALL(IF(INDEX($P$12:$R$111,,$A$149)=$A$146,MATCH(ROW($P$12:$P$111),ROW($P$12:$P$111)),\"\"),ROWS($B$1:D85))),COLUMNS($B$1:D85)),\"\")","v":""}]
[86,{"$f":"IFERROR(INDEX($B$12:$H$111,(SMALL(IF(INDEX($B$12:$H$111,,$A$149)=$A$146,MATCH(ROW($B$12:$B$111),ROW($B$12:$B$111)),\"\"),ROWS($B$1:B86))),COLUMNS($B$1:B86)),\"\")","v":""},{"$f":"IFERROR(INDEX($B$12:$H$111,(SMALL(IF(INDEX($B$12:$H$111,,$A$149)=$A$146,MATCH(ROW($B$12:$B$111),ROW($B$12:$B$111)),\"\"),ROWS($B$1:C86))),COLUMNS($B$1:C86)),\"\")","v":""},{"$f":"IFERROR(INDEX($B$12:$H$111,(SMALL(IF(INDEX($B$12:$H$111,,$A$149)=$A$146,MATCH(ROW($B$12:$B$111),ROW($B$12:$B$111)),\"\"),ROWS($B$1:D86))),COLUMNS($B$1:D86)),\"\")","v":""},{"$f":"IFERROR(INDEX($B$12:$H$111,(SMALL(IF(INDEX($B$12:$H$111,,$A$149)=$A$146,MATCH(ROW($B$12:$B$111),ROW($B$12:$B$111)),\"\"),ROWS($B$1:E86))),COLUMNS($B$1:E86)),\"\")","v":""},{"$f":"IFERROR(INDEX($B$12:$H$111,(SMALL(IF(INDEX($B$12:$H$111,,$A$149)=$A$146,MATCH(ROW($B$12:$B$111),ROW($B$12:$B$111)),\"\"),ROWS($B$1:F86))),COLUMNS($B$1:F86)),\"\")","v":""},{"$f":"IFERROR(INDEX($B$12:$H$111,(SMALL(IF(INDEX($B$12:$H$111,,$A$149)=$A$146,MATCH(ROW($B$12:$B$111),ROW($B$12:$B$111)),\"\"),ROWS($B$1:G86))),COLUMNS($B$1:G86)),\"\")","v":""},{"$f":"IFERROR(INDEX($B$12:$H$111,(SMALL(IF(INDEX($B$12:$H$111,,$A$149)=$A$146,MATCH(ROW($B$12:$B$111),ROW($B$12:$B$111)),\"\"),ROWS($B$1:H86))),COLUMNS($B$1:H86)),\"\")","v":""},null,null,{"$f":"IFERROR(INDEX($K$12:$M$111,(SMALL(IF(INDEX($K$12:$M$111,,$A$149)=$A$146,MATCH(ROW($K$12:$K$111),ROW($K$12:$K$111)),\"\"),ROWS($B$1:B86))),COLUMNS($B$1:B86)),\"\")","v":""},{"$f":"IFERROR(INDEX($K$12:$M$111,(SMALL(IF(INDEX($K$12:$M$111,,$A$149)=$A$146,MATCH(ROW($K$12:$K$111),ROW($K$12:$K$111)),\"\"),ROWS($B$1:C86))),COLUMNS($B$1:C86)),\"\")","v":""},{"$f":"IFERROR(INDEX($K$12:$M$111,(SMALL(IF(INDEX($K$12:$M$111,,$A$149)=$A$146,MATCH(ROW($K$12:$K$111),ROW($K$12:$K$111)),\"\"),ROWS($B$1:D86))),COLUMNS($B$1:D86)),\"\")","v":""},null,null,{"$f":"IFERROR(INDEX($P$12:$R$111,(SMALL(IF(INDEX($P$12:$R$111,,$A$149)=$A$146,MATCH(ROW($P$12:$P$111),ROW($P$12:$P$111)),\"\"),ROWS($B$1:B86))),COLUMNS($B$1:B86)),\"\")","v":""},{"$f":"IFERROR(INDEX($P$12:$R$111,(SMALL(IF(INDEX($P$12:$R$111,,$A$149)=$A$146,MATCH(ROW($P$12:$P$111),ROW($P$12:$P$111)),\"\"),ROWS($B$1:C86))),COLUMNS($B$1:C86)),\"\")","v":""},{"$f":"IFERROR(INDEX($P$12:$R$111,(SMALL(IF(INDEX($P$12:$R$111,,$A$149)=$A$146,MATCH(ROW($P$12:$P$111),ROW($P$12:$P$111)),\"\"),ROWS($B$1:D86))),COLUMNS($B$1:D86)),\"\")","v":""}]
[87,{"$f":"IFERROR(INDEX($B$12:$H$111,(SMALL(IF(INDEX($B$12:$H$111,,$A$149)=$A$146,MATCH(ROW($B$12:$B$111),ROW($B$12:$B$111)),\"\"),ROWS($B$1:B87))),COLUMNS($B$1:B87)),\"\")","v":""},{"$f":"IFERROR(INDEX($B$12:$H$111,(SMALL(IF(INDEX($B$12:$H$111,,$A$149)=$A$146,MATCH(ROW($B$12:$B$111),ROW($B$12:$B$111)),\"\"),ROWS($B$1:C87))),COLUMNS($B$1:C87)),\"\")","v":""},{"$f":"IFERROR(INDEX($B$12:$H$111,(SMALL(IF(INDEX($B$12:$H$111,,$A$149)=$A$146,MATCH(ROW($B$12:$B$111),ROW($B$12:$B$111)),\"\"),ROWS($B$1:D87))),COLUMNS($B$1:D87)),\"\")","v":""},{"$f":"IFERROR(INDEX($B$12:$H$111,(SMALL(IF(INDEX($B$12:$H$111,,$A$149)=$A$146,MATCH(ROW($B$12:$B$111),ROW($B$12:$B$111)),\"\"),ROWS($B$1:E87))),COLUMNS($B$1:E87)),\"\")","v":""},{"$f":"IFERROR(INDEX($B$12:$H$111,(SMALL(IF(INDEX($B$12:$H$111,,$A$149)=$A$146,MATCH(ROW($B$12:$B$111),ROW($B$12:$B$111)),\"\"),ROWS($B$1:F87))),COLUMNS($B$1:F87)),\"\")","v":""},{"$f":"IFERROR(INDEX($B$12:$H$111,(SMALL(IF(INDEX($B$12:$H$111,,$A$149)=$A$146,MATCH(ROW($B$12:$B$111),ROW($B$12:$B$111)),\"\"),ROWS($B$1:G87))),COLUMNS($B$1:G87)),\"\")","v":""},{"$f":"IFERROR(INDEX($B$12:$H$111,(SMALL(IF(INDEX($B$12:$H$111,,$A$149)=$A$146,MATCH(ROW($B$12:$B$111),ROW($B$12:$B$111)),\"\"),ROWS($B$1:H87))),COLUMNS($B$1:H87)),\"\")","v":""},null,null,{"$f":"IFERROR(INDEX($K$12:$M$111,(SMALL(IF(INDEX($K$12:$M$111,,$A$149)=$A$146,MATCH(ROW($K$12:$K$111),ROW($K$12:$K$111)),\"\"),ROWS($B$1:B87))),COLUMNS($B$1:B87)),\"\")","v":""},{"$f":"IFERROR(INDEX($K$12:$M$111,(SMALL(IF(INDEX($K$12:$M$111,,$A$149)=$A$146,MATCH(ROW($K$12:$K$111),ROW($K$12:$K$111)),\"\"),ROWS($B$1:C87))),COLUMNS($B$1:C87)),\"\")","v":""},{"$f":"IFERROR(INDEX($K$12:$M$111,(SMALL(IF(INDEX($K$12:$M$111,,$A$149)=$A$146,MATCH(ROW($K$12:$K$111),ROW($K$12:$K$111)),\"\"),ROWS($B$1:D87))),COLUMNS($B$1:D87)),\"\")","v":""},null,null,{"$f":"IFERROR(INDEX($P$12:$R$111,(SMALL(IF(INDEX($P$12:$R$111,,$A$149)=$A$146,MATCH(ROW($P$12:$P$111),ROW($P$12:$P$111)),\"\"),ROWS($B$1:B87))),COLUMNS($B$1:B87)),\"\")","v":""},{"$f":"IFERROR(INDEX($P$12:$R$111,(SMALL(IF(INDEX($P$12:$R$111,,$A$149)=$A$146,MATCH(ROW($P$12:$P$111),ROW($P$12:$P$111)),\"\"),ROWS($B$1:C87))),COLUMNS($B$1:C87)),\"\")","v":""},{"$f":"IFERROR(INDEX($P$12:$R$111,(SMALL(IF(INDEX($P$12:$R$111,,$A$149)=$A$146,MATCH(ROW($P$12:$P$111),ROW($P$12:$P$111)),\"\"),ROWS($B$1:D87))),COLUMNS($B$1:D87)),\"\")","v":""}]
[88,{"$f":"IFERROR(INDEX($B$12:$H$111,(SMALL(IF(INDEX($B$12:$H$111,,$A$149)=$A$146,MATCH(ROW($B$12:$B$111),ROW($B$12:$B$111)),\"\"),ROWS($B$1:B88))),COLUMNS($B$1:B88)),\"\")","v":""},{"$f":"IFERROR(INDEX($B$12:$H$111,(SMALL(IF(INDEX($B$12:$H$111,,$A$149)=$A$146,MATCH(ROW($B$12:$B$111),ROW($B$12:$B$111)),\"\"),ROWS($B$1:C88))),COLUMNS($B$1:C88)),\"\")","v":""},{"$f":"IFERROR(INDEX($B$12:$H$111,(SMALL(IF(INDEX($B$12:$H$111,,$A$149)=$A$146,MATCH(ROW($B$12:$B$111),ROW($B$12:$B$111)),\"\"),ROWS($B$1:D88))),COLUMNS($B$1:D88)),\"\")","v":""},{"$f":"IFERROR(INDEX($B$12:$H$111,(SMALL(IF(INDEX($B$12:$H$111,,$A$149)=$A$146,MATCH(ROW($B$12:$B$111),ROW($B$12:$B$111)),\"\"),ROWS($B$1:E88))),COLUMNS($B$1:E88)),\"\")","v":""},{"$f":"IFERROR(INDEX($B$12:$H$111,(SMALL(IF(INDEX($B$12:$H$111,,$A$149)=$A$146,MATCH(ROW($B$12:$B$111),ROW($B$12:$B$111)),\"\"),ROWS($B$1:F88))),COLUMNS($B$1:F88)),\"\")","v":""},{"$f":"IFERROR(INDEX($B$12:$H$111,(SMALL(IF(INDEX($B$12:$H$111,,$A$149)=$A$146,MATCH(ROW($B$12:$B$111),ROW($B$12:$B$111)),\"\"),ROWS($B$1:G88))),COLUMNS($B$1:G88)),\"\")","v":""},{"$f":"IFERROR(INDEX($B$12:$H$111,(SMALL(IF(INDEX($B$12:$H$111,,$A$149)=$A$146,MATCH(ROW($B$12:$B$111),ROW($B$12:$B$111)),\"\"),ROWS($B$1:H88))),COLUMNS($B$1:H88)),\"\")","v":""},null,null,{"$f":"IFERROR(INDEX($K$12:$M$111,(SMALL(IF(INDEX($K$12:$M$111,,$A$149)=$A$146,MATCH(ROW($K$12:$K$111),ROW($K$12:$K$111)),\"\"),ROWS($B$1:B88))),COLUMNS($B$1:B88)),\"\")","v":""},{"$f":"IFERROR(INDEX($K$12:$M$111,(SMALL(IF(INDEX($K$12:$M$111,,$A$149)=$A$146,MATCH(ROW($K$12:$K$111),ROW($K$12:$K$111)),\"\"),ROWS($B$1:C88))),COLUMNS($B$1:C88)),\"\")","v":""},{"$f":"IFERROR(INDEX($K$12:$M$111,(SMALL(IF(INDEX($K$12:$M$111,,$A$149)=$A$146,MATCH(ROW($K$12:$K$111),ROW($K$12:$K$111)),\"\"),ROWS($B$1:D88))),COLUMNS($B$1:D88)),\"\")","v":""},null,null,{"$f":"IFERROR(INDEX($P$12:$R$111,(SMALL(IF(INDEX($P$12:$R$111,,$A$149)=$A$146,MATCH(ROW($P$12:$P$111),ROW($P$12:$P$111)),\"\"),ROWS($B$1:B88))),COLUMNS($B$1:B88)),\"\")","v":""},{"$f":"IFERROR(INDEX($P$12:$R$111,(SMALL(IF(INDEX($P$12:$R$111,,$A$149)=$A$146,MATCH(ROW($P$12:$P$111),ROW($P$12:$P$111)),\"\"),ROWS($B$1:C88))),COLUMNS($B$1:C88)),\"\")","v":""},{"$f":"IFERROR(INDEX($P$12:$R$111,(SMALL(IF(INDEX($P$12:$R$111,,$A$149)=$A$146,MATCH(ROW($P$12:$P$111),ROW($P$12:$P$111)),\"\"),ROWS($B$1:D88))),COLUMNS($B$1:D88)),\"\")","v":""}]
[89,{"$f":"IFERROR(INDEX($B$12:$H$111,(SMALL(IF(INDEX($B$12:$H$111,,$A$149)=$A$146,MATCH(ROW($B$12:$B$111),ROW($B$12:$B$111)),\"\"),ROWS($B$1:B89))),COLUMNS($B$1:B89)),\"\")","v":""},{"$f":"IFERROR(INDEX($B$12:$H$111,(SMALL(IF(INDEX($B$12:$H$111,,$A$149)=$A$146,MATCH(ROW($B$12:$B$111),ROW($B$12:$B$111)),\"\"),ROWS($B$1:C89))),COLUMNS($B$1:C89)),\"\")","v":""},{"$f":"IFERROR(INDEX($B$12:$H$111,(SMALL(IF(INDEX($B$12:$H$111,,$A$149)=$A$146,MATCH(ROW($B$12:$B$111),ROW($B$12:$B$111)),\"\"),ROWS($B$1:D89))),COLUMNS($B$1:D89)),\"\")","v":""},{"$f":"IFERROR(INDEX($B$12:$H$111,(SMALL(IF(INDEX($B$12:$H$111,,$A$149)=$A$146,MATCH(ROW($B$12:$B$111),ROW($B$12:$B$111)),\"\"),ROWS($B$1:E89))),COLUMNS($B$1:E89)),\"\")","v":""},{"$f":"IFERROR(INDEX($B$12:$H$111,(SMALL(IF(INDEX($B$12:$H$111,,$A$149)=$A$146,MATCH(ROW($B$12:$B$111),ROW($B$12:$B$111)),\"\"),ROWS($B$1:F89))),COLUMNS($B$1:F89)),\"\")","v":""},{"$f":"IFERROR(INDEX($B$12:$H$111,(SMALL(IF(INDEX($B$12:$H$111,,$A$149)=$A$146,MATCH(ROW($B$12:$B$111),ROW($B$12:$B$111)),\"\"),ROWS($B$1:G89))),COLUMNS($B$1:G89)),\"\")","v":""},{"$f":"IFERROR(INDEX($B$12:$H$111,(SMALL(IF(INDEX($B$12:$H$111,,$A$149)=$A$146,MATCH(ROW($B$12:$B$111),ROW($B$12:$B$111)),\"\"),ROWS($B$1:H89))),COLUMNS($B$1:H89)),\"\")","v":""},null,null,{"$f":"IFERROR(INDEX($K$12:$M$111,(SMALL(IF(INDEX($K$12:$M$111,,$A$149)=$A$146,MATCH(ROW($K$12:$K$111),ROW($K$12:$K$111)),\"\"),ROWS($B$1:B89))),COLUMNS($B$1:B89)),\"\")","v":""},{"$f":"IFERROR(INDEX($K$12:$M$111,(SMALL(IF(INDEX($K$12:$M$111,,$A$149)=$A$146,MATCH(ROW($K$12:$K$111),ROW($K$12:$K$111)),\"\"),ROWS($B$1:C89))),COLUMNS($B$1:C89)),\"\")","v":""},{"$f":"IFERROR(INDEX($K$12:$M$111,(SMALL(IF(INDEX($K$12:$M$111,,$A$149)=$A$146,MATCH(ROW($K$12:$K$111),ROW($K$12:$K$111)),\"\"),ROWS($B$1:D89))),COLUMNS($B$1:D89)),\"\")","v":""},null,null,{"$f":"IFERROR(INDEX($P$12:$R$111,(SMALL(IF(INDEX($P$12:$R$111,,$A$149)=$A$146,MATCH(ROW($P$12:$P$111),ROW($P$12:$P$111)),\"\"),ROWS($B$1:B89))),COLUMNS($B$1:B89)),\"\")","v":""},{"$f":"IFERROR(INDEX($P$12:$R$111,(SMALL(IF(INDEX($P$12:$R$111,,$A$149)=$A$146,MATCH(ROW($P$12:$P$111),ROW($P$12:$P$111)),\"\"),ROWS($B$1:C89))),COLUMNS($B$1:C89)),\"\")","v":""},{"$f":"IFERROR(INDEX($P$12:$R$111,(SMALL(IF(INDEX($P$12:$R$111,,$A$149)=$A$146,MATCH(ROW($P$12:$P$111),ROW($P$12:$P$111)),\"\"),ROWS($B$1:D89))),COLUMNS($B$1:D89)),\"\")","v":""}]
[90,{"$f":"IFERROR(INDEX($B$12:$H$111,(SMALL(IF(INDEX($B$12:$H$111,,$A$149)=$A$146,MATCH(ROW($B$12:$B$111),ROW($B$12:$B$111)),\"\"),ROWS($B$1:B90))),COLUMNS($B$1:B90)),\"\")","v":""},{"$f":"IFERROR(INDEX($B$12:$H$111,(SMALL(IF(INDEX($B$12:$H$111,,$A$149)=$A$146,MATCH(ROW($B$12:$B$111),ROW($B$12:$B$111)),\"\"),ROWS($B$1:C90))),COLUMNS($B$1:C90)),\"\")","v":""},{"$f":"IFERROR(INDEX($B$12:$H$111,(SMALL(IF(INDEX($B$12:$H$111,,$A$149)=$A$146,MATCH(ROW($B$12:$B$111),ROW($B$12:$B$111)),\"\"),ROWS($B$1:D90))),COLUMNS($B$1:D90)),\"\")","v":""},{"$f":"IFERROR(INDEX($B$12:$H$111,(SMALL(IF(INDEX($B$12:$H$111,,$A$149)=$A$146,MATCH(ROW($B$12:$B$111),ROW($B$12:$B$111)),\"\"),ROWS($B$1:E90))),COLUMNS($B$1:E90)),\"\")","v":""},{"$f":"IFERROR(INDEX($B$12:$H$111,(SMALL(IF(INDEX($B$12:$H$111,,$A$149)=$A$146,MATCH(ROW($B$12:$B$111),ROW($B$12:$B$111)),\"\"),ROWS($B$1:F90))),COLUMNS($B$1:F90)),\"\")","v":""},{"$f":"IFERROR(INDEX($B$12:$H$111,(SMALL(IF(INDEX($B$12:$H$111,,$A$149)=$A$146,MATCH(ROW($B$12:$B$111),ROW($B$12:$B$111)),\"\"),ROWS($B$1:G90))),COLUMNS($B$1:G90)),\"\")","v":""},{"$f":"IFERROR(INDEX($B$12:$H$111,(SMALL(IF(INDEX($B$12:$H$111,,$A$149)=$A$146,MATCH(ROW($B$12:$B$111),ROW($B$12:$B$111)),\"\"),ROWS($B$1:H90))),COLUMNS($B$1:H90)),\"\")","v":""},null,null,{"$f":"IFERROR(INDEX($K$12:$M$111,(SMALL(IF(INDEX($K$12:$M$111,,$A$149)=$A$146,MATCH(ROW($K$12:$K$111),ROW($K$12:$K$111)),\"\"),ROWS($B$1:B90))),COLUMNS($B$1:B90)),\"\")","v":""},{"$f":"IFERROR(INDEX($K$12:$M$111,(SMALL(IF(INDEX($K$12:$M$111,,$A$149)=$A$146,MATCH(ROW($K$12:$K$111),ROW($K$12:$K$111)),\"\"),ROWS($B$1:C90))),COLUMNS($B$1:C90)),\"\")","v":""},{"$f":"IFERROR(INDEX($K$12:$M$111,(SMALL(IF(INDEX($K$12:$M$111,,$A$149)=$A$146,MATCH(ROW($K$12:$K$111),ROW($K$12:$K$111)),\"\"),ROWS($B$1:D90))),COLUMNS($B$1:D90)),\"\")","v":""},null,null,{"$f":"IFERROR(INDEX($P$12:$R$111,(SMALL(IF(INDEX($P$12:$R$111,,$A$149)=$A$146,MATCH(ROW($P$12:$P$111),ROW($P$12:$P$111)),\"\"),ROWS($B$1:B90))),COLUMNS($B$1:B90)),\"\")","v":""},{"$f":"IFERROR(INDEX($P$12:$R$111,(SMALL(IF(INDEX($P$12:$R$111,,$A$149)=$A$146,MATCH(ROW($P$12:$P$111),ROW($P$12:$P$111)),\"\"),ROWS($B$1:C90))),COLUMNS($B$1:C90)),\"\")","v":""},{"$f":"IFERROR(INDEX($P$12:$R$111,(SMALL(IF(INDEX($P$12:$R$111,,$A$149)=$A$146,MATCH(ROW($P$12:$P$111),ROW($P$12:$P$111)),\"\"),ROWS($B$1:D90))),COLUMNS($B$1:D90)),\"\")","v":""}]
[91,{"$f":"IFERROR(INDEX($B$12:$H$111,(SMALL(IF(INDEX($B$12:$H$111,,$A$149)=$A$146,MATCH(ROW($B$12:$B$111),ROW($B$12:$B$111)),\"\"),ROWS($B$1:B91))),COLUMNS($B$1:B91)),\"\")","v":""},{"$f":"IFERROR(INDEX($B$12:$H$111,(SMALL(IF(INDEX($B$12:$H$111,,$A$149)=$A$146,MATCH(ROW($B$12:$B$111),ROW($B$12:$B$111)),\"\"),ROWS($B$1:C91))),COLUMNS($B$1:C91)),\"\")","v":""},{"$f":"IFERROR(INDEX($B$12:$H$111,(SMALL(IF(INDEX($B$12:$H$111,,$A$149)=$A$146,MATCH(ROW($B$12:$B$111),ROW($B$12:$B$111)),\"\"),ROWS($B$1:D91))),COLUMNS($B$1:D91)),\"\")","v":""},{"$f":"IFERROR(INDEX($B$12:$H$111,(SMALL(IF(INDEX($B$12:$H$111,,$A$149)=$A$146,MATCH(ROW($B$12:$B$111),ROW($B$12:$B$111)),\"\"),ROWS($B$1:E91))),COLUMNS($B$1:E91)),\"\")","v":""},{"$f":"IFERROR(INDEX($B$12:$H$111,(SMALL(IF(INDEX($B$12:$H$111,,$A$149)=$A$146,MATCH(ROW($B$12:$B$111),ROW($B$12:$B$111)),\"\"),ROWS($B$1:F91))),COLUMNS($B$1:F91)),\"\")","v":""},{"$f":"IFERROR(INDEX($B$12:$H$111,(SMALL(IF(INDEX($B$12:$H$111,,$A$149)=$A$146,MATCH(ROW($B$12:$B$111),ROW($B$12:$B$111)),\"\"),ROWS($B$1:G91))),COLUMNS($B$1:G91)),\"\")","v":""},{"$f":"IFERROR(INDEX($B$12:$H$111,(SMALL(IF(INDEX($B$12:$H$111,,$A$149)=$A$146,MATCH(ROW($B$12:$B$111),ROW($B$12:$B$111)),\"\"),ROWS($B$1:H91))),COLUMNS($B$1:H91)),\"\")","v":""},null,null,{"$f":"IFERROR(INDEX($K$12:$M$111,(SMALL(IF(INDEX($K$12:$M$111,,$A$149)=$A$146,MATCH(ROW($K$12:$K$111),ROW($K$12:$K$111)),\"\"),ROWS($B$1:B91))),COLUMNS($B$1:B91)),\"\")","v":""},{"$f":"IFERROR(INDEX($K$12:$M$111,(SMALL(IF(INDEX($K$12:$M$111,,$A$149)=$A$146,MATCH(ROW($K$12:$K$111),ROW($K$12:$K$111)),\"\"),ROWS($B$1:C91))),COLUMNS($B$1:C91)),\"\")","v":""},{"$f":"IFERROR(INDEX($K$12:$M$111,(SMALL(IF(INDEX($K$12:$M$111,,$A$149)=$A$146,MATCH(ROW($K$12:$K$111),ROW($K$12:$K$111)),\"\"),ROWS($B$1:D91))),COLUMNS($B$1:D91)),\"\")","v":""},null,null,{"$f":"IFERROR(INDEX($P$12:$R$111,(SMALL(IF(INDEX($P$12:$R$111,,$A$149)=$A$146,MATCH(ROW($P$12:$P$111),ROW($P$12:$P$111)),\"\"),ROWS($B$1:B91))),COLUMNS($B$1:B91)),\"\")","v":""},{"$f":"IFERROR(INDEX($P$12:$R$111,(SMALL(IF(INDEX($P$12:$R$111,,$A$149)=$A$146,MATCH(ROW($P$12:$P$111),ROW($P$12:$P$111)),\"\"),ROWS($B$1:C91))),COLUMNS($B$1:C91)),\"\")","v":""},{"$f":"IFERROR(INDEX($P$12:$R$111,(SMALL(IF(INDEX($P$12:$R$111,,$A$149)=$A$146,MATCH(ROW($P$12:$P$111),ROW($P$12:$P$111)),\"\"),ROWS($B$1:D91))),COLUMNS($B$1:D91)),\"\")","v":""}]
[92,{"$f":"IFERROR(INDEX($B$12:$H$111,(SMALL(IF(INDEX($B$12:$H$111,,$A$149)=$A$146,MATCH(ROW($B$12:$B$111),ROW($B$12:$B$111)),\"\"),ROWS($B$1:B92))),COLUMNS($B$1:B92)),\"\")","v":""},{"$f":"IFERROR(INDEX($B$12:$H$111,(SMALL(IF(INDEX($B$12:$H$111,,$A$149)=$A$146,MATCH(ROW($B$12:$B$111),ROW($B$12:$B$111)),\"\"),ROWS($B$1:C92))),COLUMNS($B$1:C92)),\"\")","v":""},{"$f":"IFERROR(INDEX($B$12:$H$111,(SMALL(IF(INDEX($B$12:$H$111,,$A$149)=$A$146,MATCH(ROW($B$12:$B$111),ROW($B$12:$B$111)),\"\"),ROWS($B$1:D92))),COLUMNS($B$1:D92)),\"\")","v":""},{"$f":"IFERROR(INDEX($B$12:$H$111,(SMALL(IF(INDEX($B$12:$H$111,,$A$149)=$A$146,MATCH(ROW($B$12:$B$111),ROW($B$12:$B$111)),\"\"),ROWS($B$1:E92))),COLUMNS($B$1:E92)),\"\")","v":""},{"$f":"IFERROR(INDEX($B$12:$H$111,(SMALL(IF(INDEX($B$12:$H$111,,$A$149)=$A$146,MATCH(ROW($B$12:$B$111),ROW($B$12:$B$111)),\"\"),ROWS($B$1:F92))),COLUMNS($B$1:F92)),\"\")","v":""},{"$f":"IFERROR(INDEX($B$12:$H$111,(SMALL(IF(INDEX($B$12:$H$111,,$A$149)=$A$146,MATCH(ROW($B$12:$B$111),ROW($B$12:$B$111)),\"\"),ROWS($B$1:G92))),COLUMNS($B$1:G92)),\"\")","v":""},{"$f":"IFERROR(INDEX($B$12:$H$111,(SMALL(IF(INDEX($B$12:$H$111,,$A$149)=$A$146,MATCH(ROW($B$12:$B$111),ROW($B$12:$B$111)),\"\"),ROWS($B$1:H92))),COLUMNS($B$1:H92)),\"\")","v":""},null,null,{"$f":"IFERROR(INDEX($K$12:$M$111,(SMALL(IF(INDEX($K$12:$M$111,,$A$149)=$A$146,MATCH(ROW($K$12:$K$111),ROW($K$12:$K$111)),\"\"),ROWS($B$1:B92))),COLUMNS($B$1:B92)),\"\")","v":""},{"$f":"IFERROR(INDEX($K$12:$M$111,(SMALL(IF(INDEX($K$12:$M$111,,$A$149)=$A$146,MATCH(ROW($K$12:$K$111),ROW($K$12:$K$111)),\"\"),ROWS($B$1:C92))),COLUMNS($B$1:C92)),\"\")","v":""},{"$f":"IFERROR(INDEX($K$12:$M$111,(SMALL(IF(INDEX($K$12:$M$111,,$A$149)=$A$146,MATCH(ROW($K$12:$K$111),ROW($K$12:$K$111)),\"\"),ROWS($B$1:D92))),COLUMNS($B$1:D92)),\"\")","v":""},null,null,{"$f":"IFERROR(INDEX($P$12:$R$111,(SMALL(IF(INDEX($P$12:$R$111,,$A$149)=$A$146,MATCH(ROW($P$12:$P$111),ROW($P$12:$P$111)),\"\"),ROWS($B$1:B92))),COLUMNS($B$1:B92)),\"\")","v":""},{"$f":"IFERROR(INDEX($P$12:$R$111,(SMALL(IF(INDEX($P$12:$R$111,,$A$149)=$A$146,MATCH(ROW($P$12:$P$111),ROW($P$12:$P$111)),\"\"),ROWS($B$1:C92))),COLUMNS($B$1:C92)),\"\")","v":""},{"$f":"IFERROR(INDEX($P$12:$R$111,(SMALL(IF(INDEX($P$12:$R$111,,$A$149)=$A$146,MATCH(ROW($P$12:$P$111),ROW($P$12:$P$111)),\"\"),ROWS($B$1:D92))),COLUMNS($B$1:D92)),\"\")","v":""}]
[93,{"$f":"IFERROR(INDEX($B$12:$H$111,(SMALL(IF(INDEX($B$12:$H$111,,$A$149)=$A$146,MATCH(ROW($B$12:$B$111),ROW($B$12:$B$111)),\"\"),ROWS($B$1:B93))),COLUMNS($B$1:B93)),\"\")","v":""},{"$f":"IFERROR(INDEX($B$12:$H$111,(SMALL(IF(INDEX($B$12:$H$111,,$A$149)=$A$146,MATCH(ROW($B$12:$B$111),ROW($B$12:$B$111)),\"\"),ROWS($B$1:C93))),COLUMNS($B$1:C93)),\"\")","v":""},{"$f":"IFERROR(INDEX($B$12:$H$111,(SMALL(IF(INDEX($B$12:$H$111,,$A$149)=$A$146,MATCH(ROW($B$12:$B$111),ROW($B$12:$B$111)),\"\"),ROWS($B$1:D93))),COLUMNS($B$1:D93)),\"\")","v":""},{"$f":"IFERROR(INDEX($B$12:$H$111,(SMALL(IF(INDEX($B$12:$H$111,,$A$149)=$A$146,MATCH(ROW($B$12:$B$111),ROW($B$12:$B$111)),\"\"),ROWS($B$1:E93))),COLUMNS($B$1:E93)),\"\")","v":""},{"$f":"IFERROR(INDEX($B$12:$H$111,(SMALL(IF(INDEX($B$12:$H$111,,$A$149)=$A$146,MATCH(ROW($B$12:$B$111),ROW($B$12:$B$111)),\"\"),ROWS($B$1:F93))),COLUMNS($B$1:F93)),\"\")","v":""},{"$f":"IFERROR(INDEX($B$12:$H$111,(SMALL(IF(INDEX($B$12:$H$111,,$A$149)=$A$146,MATCH(ROW($B$12:$B$111),ROW($B$12:$B$111)),\"\"),ROWS($B$1:G93))),COLUMNS($B$1:G93)),\"\")","v":""},{"$f":"IFERROR(INDEX($B$12:$H$111,(SMALL(IF(INDEX($B$12:$H$111,,$A$149)=$A$146,MATCH(ROW($B$12:$B$111),ROW($B$12:$B$111)),\"\"),ROWS($B$1:H93))),COLUMNS($B$1:H93)),\"\")","v":""},null,null,{"$f":"IFERROR(INDEX($K$12:$M$111,(SMALL(IF(INDEX($K$12:$M$111,,$A$149)=$A$146,MATCH(ROW($K$12:$K$111),ROW($K$12:$K$111)),\"\"),ROWS($B$1:B93))),COLUMNS($B$1:B93)),\"\")","v":""},{"$f":"IFERROR(INDEX($K$12:$M$111,(SMALL(IF(INDEX($K$12:$M$111,,$A$149)=$A$146,MATCH(ROW($K$12:$K$111),ROW($K$12:$K$111)),\"\"),ROWS($B$1:C93))),COLUMNS($B$1:C93)),\"\")","v":""},{"$f":"IFERROR(INDEX($K$12:$M$111,(SMALL(IF(INDEX($K$12:$M$111,,$A$149)=$A$146,MATCH(ROW($K$12:$K$111),ROW($K$12:$K$111)),\"\"),ROWS($B$1:D93))),COLUMNS($B$1:D93)),\"\")","v":""},null,null,{"$f":"IFERROR(INDEX($P$12:$R$111,(SMALL(IF(INDEX($P$12:$R$111,,$A$149)=$A$146,MATCH(ROW($P$12:$P$111),ROW($P$12:$P$111)),\"\"),ROWS($B$1:B93))),COLUMNS($B$1:B93)),\"\")","v":""},{"$f":"IFERROR(INDEX($P$12:$R$111,(SMALL(IF(INDEX($P$12:$R$111,,$A$149)=$A$146,MATCH(ROW($P$12:$P$111),ROW($P$12:$P$111)),\"\"),ROWS($B$1:C93))),COLUMNS($B$1:C93)),\"\")","v":""},{"$f":"IFERROR(INDEX($P$12:$R$111,(SMALL(IF(INDEX($P$12:$R$111,,$A$149)=$A$146,MATCH(ROW($P$12:$P$111),ROW($P$12:$P$111)),\"\"),ROWS($B$1:D93))),COLUMNS($B$1:D93)),\"\")","v":""}]
[94,{"$f":"IFERROR(INDEX($B$12:$H$111,(SMALL(IF(INDEX($B$12:$H$111,,$A$149)=$A$146,MATCH(ROW($B$12:$B$111),ROW($B$12:$B$111)),\"\"),ROWS($B$1:B94))),COLUMNS($B$1:B94)),\"\")","v":""},{"$f":"IFERROR(INDEX($B$12:$H$111,(SMALL(IF(INDEX($B$12:$H$111,,$A$149)=$A$146,MATCH(ROW($B$12:$B$111),ROW($B$12:$B$111)),\"\"),ROWS($B$1:C94))),COLUMNS($B$1:C94)),\"\")","v":""},{"$f":"IFERROR(INDEX($B$12:$H$111,(SMALL(IF(INDEX($B$12:$H$111,,$A$149)=$A$146,MATCH(ROW($B$12:$B$111),ROW($B$12:$B$111)),\"\"),ROWS($B$1:D94))),COLUMNS($B$1:D94)),\"\")","v":""},{"$f":"IFERROR(INDEX($B$12:$H$111,(SMALL(IF(INDEX($B$12:$H$111,,$A$149)=$A$146,MATCH(ROW($B$12:$B$111),ROW($B$12:$B$111)),\"\"),ROWS($B$1:E94))),COLUMNS($B$1:E94)),\"\")","v":""},{"$f":"IFERROR(INDEX($B$12:$H$111,(SMALL(IF(INDEX($B$12:$H$111,,$A$149)=$A$146,MATCH(ROW($B$12:$B$111),ROW($B$12:$B$111)),\"\"),ROWS($B$1:F94))),COLUMNS($B$1:F94)),\"\")","v":""},{"$f":"IFERROR(INDEX($B$12:$H$111,(SMALL(IF(INDEX($B$12:$H$111,,$A$149)=$A$146,MATCH(ROW($B$12:$B$111),ROW($B$12:$B$111)),\"\"),ROWS($B$1:G94))),COLUMNS($B$1:G94)),\"\")","v":""},{"$f":"IFERROR(INDEX($B$12:$H$111,(SMALL(IF(INDEX($B$12:$H$111,,$A$149)=$A$146,MATCH(ROW($B$12:$B$111),ROW($B$12:$B$111)),\"\"),ROWS($B$1:H94))),COLUMNS($B$1:H94)),\"\")","v":""},null,null,{"$f":"IFERROR(INDEX($K$12:$M$111,(SMALL(IF(INDEX($K$12:$M$111,,$A$149)=$A$146,MATCH(ROW($K$12:$K$111),ROW($K$12:$K$111)),\"\"),ROWS($B$1:B94))),COLUMNS($B$1:B94)),\"\")","v":""},{"$f":"IFERROR(INDEX($K$12:$M$111,(SMALL(IF(INDEX($K$12:$M$111,,$A$149)=$A$146,MATCH(ROW($K$12:$K$111),ROW($K$12:$K$111)),\"\"),ROWS($B$1:C94))),COLUMNS($B$1:C94)),\"\")","v":""},{"$f":"IFERROR(INDEX($K$12:$M$111,(SMALL(IF(INDEX($K$12:$M$111,,$A$149)=$A$146,MATCH(ROW($K$12:$K$111),ROW($K$12:$K$111)),\"\"),ROWS($B$1:D94))),COLUMNS($B$1:D94)),\"\")","v":""},null,null,{"$f":"IFERROR(INDEX($P$12:$R$111,(SMALL(IF(INDEX($P$12:$R$111,,$A$149)=$A$146,MATCH(ROW($P$12:$P$111),ROW($P$12:$P$111)),\"\"),ROWS($B$1:B94))),COLUMNS($B$1:B94)),\"\")","v":""},{"$f":"IFERROR(INDEX($P$12:$R$111,(SMALL(IF(INDEX($P$12:$R$111,,$A$149)=$A$146,MATCH(ROW($P$12:$P$111),ROW($P$12:$P$111)),\"\"),ROWS($B$1:C94))),COLUMNS($B$1:C94)),\"\")","v":""},{"$f":"IFERROR(INDEX($P$12:$R$111,(SMALL(IF(INDEX($P$12:$R$111,,$A$149)=$A$146,MATCH(ROW($P$12:$P$111),ROW($P$12:$P$111)),\"\"),ROWS($B$1:D94))),COLUMNS($B$1:D94)),\"\")","v":""}]
[95,{"$f":"IFERROR(INDEX($B$12:$H$111,(SMALL(IF(INDEX($B$12:$H$111,,$A$149)=$A$146,MATCH(ROW($B$12:$B$111),ROW($B$12:$B$111)),\"\"),ROWS($B$1:B95))),COLUMNS($B$1:B95)),\"\")","v":""},{"$f":"IFERROR(INDEX($B$12:$H$111,(SMALL(IF(INDEX($B$12:$H$111,,$A$149)=$A$146,MATCH(ROW($B$12:$B$111),ROW($B$12:$B$111)),\"\"),ROWS($B$1:C95))),COLUMNS($B$1:C95)),\"\")","v":""},{"$f":"IFERROR(INDEX($B$12:$H$111,(SMALL(IF(INDEX($B$12:$H$111,,$A$149)=$A$146,MATCH(ROW($B$12:$B$111),ROW($B$12:$B$111)),\"\"),ROWS($B$1:D95))),COLUMNS($B$1:D95)),\"\")","v":""},{"$f":"IFERROR(INDEX($B$12:$H$111,(SMALL(IF(INDEX($B$12:$H$111,,$A$149)=$A$146,MATCH(ROW($B$12:$B$111),ROW($B$12:$B$111)),\"\"),ROWS($B$1:E95))),COLUMNS($B$1:E95)),\"\")","v":""},{"$f":"IFERROR(INDEX($B$12:$H$111,(SMALL(IF(INDEX($B$12:$H$111,,$A$149)=$A$146,MATCH(ROW($B$12:$B$111),ROW($B$12:$B$111)),\"\"),ROWS($B$1:F95))),COLUMNS($B$1:F95)),\"\")","v":""},{"$f":"IFERROR(INDEX($B$12:$H$111,(SMALL(IF(INDEX($B$12:$H$111,,$A$149)=$A$146,MATCH(ROW($B$12:$B$111),ROW($B$12:$B$111)),\"\"),ROWS($B$1:G95))),COLUMNS($B$1:G95)),\"\")","v":""},{"$f":"IFERROR(INDEX($B$12:$H$111,(SMALL(IF(INDEX($B$12:$H$111,,$A$149)=$A$146,MATCH(ROW($B$12:$B$111),ROW($B$12:$B$111)),\"\"),ROWS($B$1:H95))),COLUMNS($B$1:H95)),\"\")","v":""},null,null,{"$f":"IFERROR(INDEX($K$12:$M$111,(SMALL(IF(INDEX($K$12:$M$111,,$A$149)=$A$146,MATCH(ROW($K$12:$K$111),ROW($K$12:$K$111)),\"\"),ROWS($B$1:B95))),COLUMNS($B$1:B95)),\"\")","v":""},{"$f":"IFERROR(INDEX($K$12:$M$111,(SMALL(IF(INDEX($K$12:$M$111,,$A$149)=$A$146,MATCH(ROW($K$12:$K$111),ROW($K$12:$K$111)),\"\"),ROWS($B$1:C95))),COLUMNS($B$1:C95)),\"\")","v":""},{"$f":"IFERROR(INDEX($K$12:$M$111,(SMALL(IF(INDEX($K$12:$M$111,,$A$149)=$A$146,MATCH(ROW($K$12:$K$111),ROW($K$12:$K$111)),\"\"),ROWS($B$1:D95))),COLUMNS($B$1:D95)),\"\")","v":""},null,null,{"$f":"IFERROR(INDEX($P$12:$R$111,(SMALL(IF(INDEX($P$12:$R$111,,$A$149)=$A$146,MATCH(ROW($P$12:$P$111),ROW($P$12:$P$111)),\"\"),ROWS($B$1:B95))),COLUMNS($B$1:B95)),\"\")","v":""},{"$f":"IFERROR(INDEX($P$12:$R$111,(SMALL(IF(INDEX($P$12:$R$111,,$A$149)=$A$146,MATCH(ROW($P$12:$P$111),ROW($P$12:$P$111)),\"\"),ROWS($B$1:C95))),COLUMNS($B$1:C95)),\"\")","v":""},{"$f":"IFERROR(INDEX($P$12:$R$111,(SMALL(IF(INDEX($P$12:$R$111,,$A$149)=$A$146,MATCH(ROW($P$12:$P$111),ROW($P$12:$P$111)),\"\"),ROWS($B$1:D95))),COLUMNS($B$1:D95)),\"\")","v":""}]
[96,{"$f":"IFERROR(INDEX($B$12:$H$111,(SMALL(IF(INDEX($B$12:$H$111,,$A$149)=$A$146,MATCH(ROW($B$12:$B$111),ROW($B$12:$B$111)),\"\"),ROWS($B$1:B96))),COLUMNS($B$1:B96)),\"\")","v":""},{"$f":"IFERROR(INDEX($B$12:$H$111,(SMALL(IF(INDEX($B$12:$H$111,,$A$149)=$A$146,MATCH(ROW($B$12:$B$111),ROW($B$12:$B$111)),\"\"),ROWS($B$1:C96))),COLUMNS($B$1:C96)),\"\")","v":""},{"$f":"IFERROR(INDEX($B$12:$H$111,(SMALL(IF(INDEX($B$12:$H$111,,$A$149)=$A$146,MATCH(ROW($B$12:$B$111),ROW($B$12:$B$111)),\"\"),ROWS($B$1:D96))),COLUMNS($B$1:D96)),\"\")","v":""},{"$f":"IFERROR(INDEX($B$12:$H$111,(SMALL(IF(INDEX($B$12:$H$111,,$A$149)=$A$146,MATCH(ROW($B$12:$B$111),ROW($B$12:$B$111)),\"\"),ROWS($B$1:E96))),COLUMNS($B$1:E96)),\"\")","v":""},{"$f":"IFERROR(INDEX($B$12:$H$111,(SMALL(IF(INDEX($B$12:$H$111,,$A$149)=$A$146,MATCH(ROW($B$12:$B$111),ROW($B$12:$B$111)),\"\"),ROWS($B$1:F96))),COLUMNS($B$1:F96)),\"\")","v":""},{"$f":"IFERROR(INDEX($B$12:$H$111,(SMALL(IF(INDEX($B$12:$H$111,,$A$149)=$A$146,MATCH(ROW($B$12:$B$111),ROW($B$12:$B$111)),\"\"),ROWS($B$1:G96))),COLUMNS($B$1:G96)),\"\")","v":""},{"$f":"IFERROR(INDEX($B$12:$H$111,(SMALL(IF(INDEX($B$12:$H$111,,$A$149)=$A$146,MATCH(ROW($B$12:$B$111),ROW($B$12:$B$111)),\"\"),ROWS($B$1:H96))),COLUMNS($B$1:H96)),\"\")","v":""},null,null,{"$f":"IFERROR(INDEX($K$12:$M$111,(SMALL(IF(INDEX($K$12:$M$111,,$A$149)=$A$146,MATCH(ROW($K$12:$K$111),ROW($K$12:$K$111)),\"\"),ROWS($B$1:B96))),COLUMNS($B$1:B96)),\"\")","v":""},{"$f":"IFERROR(INDEX($K$12:$M$111,(SMALL(IF(INDEX($K$12:$M$111,,$A$149)=$A$146,MATCH(ROW($K$12:$K$111),ROW($K$12:$K$111)),\"\"),ROWS($B$1:C96))),COLUMNS($B$1:C96)),\"\")","v":""},{"$f":"IFERROR(INDEX($K$12:$M$111,(SMALL(IF(INDEX($K$12:$M$111,,$A$149)=$A$146,MATCH(ROW($K$12:$K$111),ROW($K$12:$K$111)),\"\"),ROWS($B$1:D96))),COLUMNS($B$1:D96)),\"\")","v":""},null,null,{"$f":"IFERROR(INDEX($P$12:$R$111,(SMALL(IF(INDEX($P$12:$R$111,,$A$149)=$A$146,MATCH(ROW($P$12:$P$111),ROW($P$12:$P$111)),\"\"),ROWS($B$1:B96))),COLUMNS($B$1:B96)),\"\")","v":""},{"$f":"IFERROR(INDEX($P$12:$R$111,(SMALL(IF(INDEX($P$12:$R$111,,$A$149)=$A$146,MATCH(ROW($P$12:$P$111),ROW($P$12:$P$111)),\"\"),ROWS($B$1:C96))),COLUMNS($B$1:C96)),\"\")","v":""},{"$f":"IFERROR(INDEX($P$12:$R$111,(SMALL(IF(INDEX($P$12:$R$111,,$A$149)=$A$146,MATCH(ROW($P$12:$P$111),ROW($P$12:$P$111)),\"\"),ROWS($B$1:D96))),COLUMNS($B$1:D96)),\"\")","v":""}]
[97,{"$f":"IFERROR(INDEX($B$12:$H$111,(SMALL(IF(INDEX($B$12:$H$111,,$A$149)=$A$146,MATCH(ROW($B$12:$B$111),ROW($B$12:$B$111)),\"\"),ROWS($B$1:B97))),COLUMNS($B$1:B97)),\"\")","v":""},{"$f":"IFERROR(INDEX($B$12:$H$111,(SMALL(IF(INDEX($B$12:$H$111,,$A$149)=$A$146,MATCH(ROW($B$12:$B$111),ROW($B$12:$B$111)),\"\"),ROWS($B$1:C97))),COLUMNS($B$1:C97)),\"\")","v":""},{"$f":"IFERROR(INDEX($B$12:$H$111,(SMALL(IF(INDEX($B$12:$H$111,,$A$149)=$A$146,MATCH(ROW($B$12:$B$111),ROW($B$12:$B$111)),\"\"),ROWS($B$1:D97))),COLUMNS($B$1:D97)),\"\")","v":""},{"$f":"IFERROR(INDEX($B$12:$H$111,(SMALL(IF(INDEX($B$12:$H$111,,$A$149)=$A$146,MATCH(ROW($B$12:$B$111),ROW($B$12:$B$111)),\"\"),ROWS($B$1:E97))),COLUMNS($B$1:E97)),\"\")","v":""},{"$f":"IFERROR(INDEX($B$12:$H$111,(SMALL(IF(INDEX($B$12:$H$111,,$A$149)=$A$146,MATCH(ROW($B$12:$B$111),ROW($B$12:$B$111)),\"\"),ROWS($B$1:F97))),COLUMNS($B$1:F97)),\"\")","v":""},{"$f":"IFERROR(INDEX($B$12:$H$111,(SMALL(IF(INDEX($B$12:$H$111,,$A$149)=$A$146,MATCH(ROW($B$12:$B$111),ROW($B$12:$B$111)),\"\"),ROWS($B$1:G97))),COLUMNS($B$1:G97)),\"\")","v":""},{"$f":"IFERROR(INDEX($B$12:$H$111,(SMALL(IF(INDEX($B$12:$H$111,,$A$149)=$A$146,MATCH(ROW($B$12:$B$111),ROW($B$12:$B$111)),\"\"),ROWS($B$1:H97))),COLUMNS($B$1:H97)),\"\")","v":""},null,null,{"$f":"IFERROR(INDEX($K$12:$M$111,(SMALL(IF(INDEX($K$12:$M$111,,$A$149)=$A$146,MATCH(ROW($K$12:$K$111),ROW($K$12:$K$111)),\"\"),ROWS($B$1:B97))),COLUMNS($B$1:B97)),\"\")","v":""},{"$f":"IFERROR(INDEX($K$12:$M$111,(SMALL(IF(INDEX($K$12:$M$111,,$A$149)=$A$146,MATCH(ROW($K$12:$K$111),ROW($K$12:$K$111)),\"\"),ROWS($B$1:C97))),COLUMNS($B$1:C97)),\"\")","v":""},{"$f":"IFERROR(INDEX($K$12:$M$111,(SMALL(IF(INDEX($K$12:$M$111,,$A$149)=$A$146,MATCH(ROW($K$12:$K$111),ROW($K$12:$K$111)),\"\"),ROWS($B$1:D97))),COLUMNS($B$1:D97)),\"\")","v":""},null,null,{"$f":"IFERROR(INDEX($P$12:$R$111,(SMALL(IF(INDEX($P$12:$R$111,,$A$149)=$A$146,MATCH(ROW($P$12:$P$111),ROW($P$12:$P$111)),\"\"),ROWS($B$1:B97))),COLUMNS($B$1:B97)),\"\")","v":""},{"$f":"IFERROR(INDEX($P$12:$R$111,(SMALL(IF(INDEX($P$12:$R$111,,$A$149)=$A$146,MATCH(ROW($P$12:$P$111),ROW($P$12:$P$111)),\"\"),ROWS($B$1:C97))),COLUMNS($B$1:C97)),\"\")","v":""},{"$f":"IFERROR(INDEX($P$12:$R$111,(SMALL(IF(INDEX($P$12:$R$111,,$A$149)=$A$146,MATCH(ROW($P$12:$P$111),ROW($P$12:$P$111)),\"\"),ROWS($B$1:D97))),COLUMNS($B$1:D97)),\"\")","v":""}]
[98,{"$f":"IFERROR(INDEX($B$12:$H$111,(SMALL(IF(INDEX($B$12:$H$111,,$A$149)=$A$146,MATCH(ROW($B$12:$B$111),ROW($B$12:$B$111)),\"\"),ROWS($B$1:B98))),COLUMNS($B$1:B98)),\"\")","v":""},{"$f":"IFERROR(INDEX($B$12:$H$111,(SMALL(IF(INDEX($B$12:$H$111,,$A$149)=$A$146,MATCH(ROW($B$12:$B$111),ROW($B$12:$B$111)),\"\"),ROWS($B$1:C98))),COLUMNS($B$1:C98)),\"\")","v":""},{"$f":"IFERROR(INDEX($B$12:$H$111,(SMALL(IF(INDEX($B$12:$H$111,,$A$149)=$A$146,MATCH(ROW($B$12:$B$111),ROW($B$12:$B$111)),\"\"),ROWS($B$1:D98))),COLUMNS($B$1:D98)),\"\")","v":""},{"$f":"IFERROR(INDEX($B$12:$H$111,(SMALL(IF(INDEX($B$12:$H$111,,$A$149)=$A$146,MATCH(ROW($B$12:$B$111),ROW($B$12:$B$111)),\"\"),ROWS($B$1:E98))),COLUMNS($B$1:E98)),\"\")","v":""},{"$f":"IFERROR(INDEX($B$12:$H$111,(SMALL(IF(INDEX($B$12:$H$111,,$A$149)=$A$146,MATCH(ROW($B$12:$B$111),ROW($B$12:$B$111)),\"\"),ROWS($B$1:F98))),COLUMNS($B$1:F98)),\"\")","v":""},{"$f":"IFERROR(INDEX($B$12:$H$111,(SMALL(IF(INDEX($B$12:$H$111,,$A$149)=$A$146,MATCH(ROW($B$12:$B$111),ROW($B$12:$B$111)),\"\"),ROWS($B$1:G98))),COLUMNS($B$1:G98)),\"\")","v":""},{"$f":"IFERROR(INDEX($B$12:$H$111,(SMALL(IF(INDEX($B$12:$H$111,,$A$149)=$A$146,MATCH(ROW($B$12:$B$111),ROW($B$12:$B$111)),\"\"),ROWS($B$1:H98))),COLUMNS($B$1:H98)),\"\")","v":""},null,null,{"$f":"IFERROR(INDEX($K$12:$M$111,(SMALL(IF(INDEX($K$12:$M$111,,$A$149)=$A$146,MATCH(ROW($K$12:$K$111),ROW($K$12:$K$111)),\"\"),ROWS($B$1:B98))),COLUMNS($B$1:B98)),\"\")","v":""},{"$f":"IFERROR(INDEX($K$12:$M$111,(SMALL(IF(INDEX($K$12:$M$111,,$A$149)=$A$146,MATCH(ROW($K$12:$K$111),ROW($K$12:$K$111)),\"\"),ROWS($B$1:C98))),COLUMNS($B$1:C98)),\"\")","v":""},{"$f":"IFERROR(INDEX($K$12:$M$111,(SMALL(IF(INDEX($K$12:$M$111,,$A$149)=$A$146,MATCH(ROW($K$12:$K$111),ROW($K$12:$K$111)),\"\"),ROWS($B$1:D98))),COLUMNS($B$1:D98)),\"\")","v":""},null,null,{"$f":"IFERROR(INDEX($P$12:$R$111,(SMALL(IF(INDEX($P$12:$R$111,,$A$149)=$A$146,MATCH(ROW($P$12:$P$111),ROW($P$12:$P$111)),\"\"),ROWS($B$1:B98))),COLUMNS($B$1:B98)),\"\")","v":""},{"$f":"IFERROR(INDEX($P$12:$R$111,(SMALL(IF(INDEX($P$12:$R$111,,$A$149)=$A$146,MATCH(ROW($P$12:$P$111),ROW($P$12:$P$111)),\"\"),ROWS($B$1:C98))),COLUMNS($B$1:C98)),\"\")","v":""},{"$f":"IFERROR(INDEX($P$12:$R$111,(SMALL(IF(INDEX($P$12:$R$111,,$A$149)=$A$146,MATCH(ROW($P$12:$P$111),ROW($P$12:$P$111)),\"\"),ROWS($B$1:D98))),COLUMNS($B$1:D98)),\"\")","v":""}]
[99,{"$f":"IFERROR(INDEX($B$12:$H$111,(SMALL(IF(INDEX($B$12:$H$111,,$A$149)=$A$146,MATCH(ROW($B$12:$B$111),ROW($B$12:$B$111)),\"\"),ROWS($B$1:B99))),COLUMNS($B$1:B99)),\"\")","v":""},{"$f":"IFERROR(INDEX($B$12:$H$111,(SMALL(IF(INDEX($B$12:$H$111,,$A$149)=$A$146,MATCH(ROW($B$12:$B$111),ROW($B$12:$B$111)),\"\"),ROWS($B$1:C99))),COLUMNS($B$1:C99)),\"\")","v":""},{"$f":"IFERROR(INDEX($B$12:$H$111,(SMALL(IF(INDEX($B$12:$H$111,,$A$149)=$A$146,MATCH(ROW($B$12:$B$111),ROW($B$12:$B$111)),\"\"),ROWS($B$1:D99))),COLUMNS($B$1:D99)),\"\")","v":""},{"$f":"IFERROR(INDEX($B$12:$H$111,(SMALL(IF(INDEX($B$12:$H$111,,$A$149)=$A$146,MATCH(ROW($B$12:$B$111),ROW($B$12:$B$111)),\"\"),ROWS($B$1:E99))),COLUMNS($B$1:E99)),\"\")","v":""},{"$f":"IFERROR(INDEX($B$12:$H$111,(SMALL(IF(INDEX($B$12:$H$111,,$A$149)=$A$146,MATCH(ROW($B$12:$B$111),ROW($B$12:$B$111)),\"\"),ROWS($B$1:F99))),COLUMNS($B$1:F99)),\"\")","v":""},{"$f":"IFERROR(INDEX($B$12:$H$111,(SMALL(IF(INDEX($B$12:$H$111,,$A$149)=$A$146,MATCH(ROW($B$12:$B$111),ROW($B$12:$B$111)),\"\"),ROWS($B$1:G99))),COLUMNS($B$1:G99)),\"\")","v":""},{"$f":"IFERROR(INDEX($B$12:$H$111,(SMALL(IF(INDEX($B$12:$H$111,,$A$149)=$A$146,MATCH(ROW($B$12:$B$111),ROW($B$12:$B$111)),\"\"),ROWS($B$1:H99))),COLUMNS($B$1:H99)),\"\")","v":""},null,null,{"$f":"IFERROR(INDEX($K$12:$M$111,(SMALL(IF(INDEX($K$12:$M$111,,$A$149)=$A$146,MATCH(ROW($K$12:$K$111),ROW($K$12:$K$111)),\"\"),ROWS($B$1:B99))),COLUMNS($B$1:B99)),\"\")","v":""},{"$f":"IFERROR(INDEX($K$12:$M$111,(SMALL(IF(INDEX($K$12:$M$111,,$A$149)=$A$146,MATCH(ROW($K$12:$K$111),ROW($K$12:$K$111)),\"\"),ROWS($B$1:C99))),COLUMNS($B$1:C99)),\"\")","v":""},{"$f":"IFERROR(INDEX($K$12:$M$111,(SMALL(IF(INDEX($K$12:$M$111,,$A$149)=$A$146,MATCH(ROW($K$12:$K$111),ROW($K$12:$K$111)),\"\"),ROWS($B$1:D99))),COLUMNS($B$1:D99)),\"\")","v":""},null,null,{"$f":"IFERROR(INDEX($P$12:$R$111,(SMALL(IF(INDEX($P$12:$R$111,,$A$149)=$A$146,MATCH(ROW($P$12:$P$111),ROW($P$12:$P$111)),\"\"),ROWS($B$1:B99))),COLUMNS($B$1:B99)),\"\")","v":""},{"$f":"IFERROR(INDEX($P$12:$R$111,(SMALL(IF(INDEX($P$12:$R$111,,$A$149)=$A$146,MATCH(ROW($P$12:$P$111),ROW($P$12:$P$111)),\"\"),ROWS($B$1:C99))),COLUMNS($B$1:C99)),\"\")","v":""},{"$f":"IFERROR(INDEX($P$12:$R$111,(SMALL(IF(INDEX($P$12:$R$111,,$A$149)=$A$146,MATCH(ROW($P$12:$P$111),ROW($P$12:$P$111)),\"\"),ROWS($B$1:D99))),COLUMNS($B$1:D99)),\"\")","v":""}]
[100,{"$f":"IFERROR(INDEX($B$12:$H$111,(SMALL(IF(INDEX($B$12:$H$111,,$A$149)=$A$146,MATCH(ROW($B$12:$B$111),ROW($B$12:$B$111)),\"\"),ROWS($B$1:B100))),COLUMNS($B$1:B100)),\"\")","v":""},{"$f":"IFERROR(INDEX($B$12:$H$111,(SMALL(IF(INDEX($B$12:$H$111,,$A$149)=$A$146,MATCH(ROW($B$12:$B$111),ROW($B$12:$B$111)),\"\"),ROWS($B$1:C100))),COLUMNS($B$1:C100)),\"\")","v":""},{"$f":"IFERROR(INDEX($B$12:$H$111,(SMALL(IF(INDEX($B$12:$H$111,,$A$149)=$A$146,MATCH(ROW($B$12:$B$111),ROW($B$12:$B$111)),\"\"),ROWS($B$1:D100))),COLUMNS($B$1:D100)),\"\")","v":""},{"$f":"IFERROR(INDEX($B$12:$H$111,(SMALL(IF(INDEX($B$12:$H$111,,$A$149)=$A$146,MATCH(ROW($B$12:$B$111),ROW($B$12:$B$111)),\"\"),ROWS($B$1:E100))),COLUMNS($B$1:E100)),\"\")","v":""},{"$f":"IFERROR(INDEX($B$12:$H$111,(SMALL(IF(INDEX($B$12:$H$111,,$A$149)=$A$146,MATCH(ROW($B$12:$B$111),ROW($B$12:$B$111)),\"\"),ROWS($B$1:F100))),COLUMNS($B$1:F100)),\"\")","v":""},{"$f":"IFERROR(INDEX($B$12:$H$111,(SMALL(IF(INDEX($B$12:$H$111,,$A$149)=$A$146,MATCH(ROW($B$12:$B$111),ROW($B$12:$B$111)),\"\"),ROWS($B$1:G100))),COLUMNS($B$1:G100)),\"\")","v":""},{"$f":"IFERROR(INDEX($B$12:$H$111,(SMALL(IF(INDEX($B$12:$H$111,,$A$149)=$A$146,MATCH(ROW($B$12:$B$111),ROW($B$12:$B$111)),\"\"),ROWS($B$1:H100))),COLUMNS($B$1:H100)),\"\")","v":""},null,null,{"$f":"IFERROR(INDEX($K$12:$M$111,(SMALL(IF(INDEX($K$12:$M$111,,$A$149)=$A$146,MATCH(ROW($K$12:$K$111),ROW($K$12:$K$111)),\"\"),ROWS($B$1:B100))),COLUMNS($B$1:B100)),\"\")","v":""},{"$f":"IFERROR(INDEX($K$12:$M$111,(SMALL(IF(INDEX($K$12:$M$111,,$A$149)=$A$146,MATCH(ROW($K$12:$K$111),ROW($K$12:$K$111)),\"\"),ROWS($B$1:C100))),COLUMNS($B$1:C100)),\"\")","v":""},{"$f":"IFERROR(INDEX($K$12:$M$111,(SMALL(IF(INDEX($K$12:$M$111,,$A$149)=$A$146,MATCH(ROW($K$12:$K$111),ROW($K$12:$K$111)),\"\"),ROWS($B$1:D100))),COLUMNS($B$1:D100)),\"\")","v":""},null,null,{"$f":"IFERROR(INDEX($P$12:$R$111,(SMALL(IF(INDEX($P$12:$R$111,,$A$149)=$A$146,MATCH(ROW($P$12:$P$111),ROW($P$12:$P$111)),\"\"),ROWS($B$1:B100))),COLUMNS($B$1:B100)),\"\")","v":""},{"$f":"IFERROR(INDEX($P$12:$R$111,(SMALL(IF(INDEX($P$12:$R$111,,$A$149)=$A$146,MATCH(ROW($P$12:$P$111),ROW($P$12:$P$111)),\"\"),ROWS($B$1:C100))),COLUMNS($B$1:C100)),\"\")","v":""},{"$f":"IFERROR(INDEX($P$12:$R$111,(SMALL(IF(INDEX($P$12:$R$111,,$A$149)=$A$146,MATCH(ROW($P$12:$P$111),ROW($P$12:$P$111)),\"\"),ROWS($B$1:D100))),COLUMNS($B$1:D100)),\"\")","v":""}]
[101,{"$f":"IFERROR(INDEX($B$12:$H$111,(SMALL(IF(INDEX($B$12:$H$111,,$A$149)=$A$146,MATCH(ROW($B$12:$B$111),ROW($B$12:$B$111)),\"\"),ROWS($B$1:B101))),COLUMNS($B$1:B101)),\"\")","v":""},{"$f":"IFERROR(INDEX($B$12:$H$111,(SMALL(IF(INDEX($B$12:$H$111,,$A$149)=$A$146,MATCH(ROW($B$12:$B$111),ROW($B$12:$B$111)),\"\"),ROWS($B$1:C101))),COLUMNS($B$1:C101)),\"\")","v":""},{"$f":"IFERROR(INDEX($B$12:$H$111,(SMALL(IF(INDEX($B$12:$H$111,,$A$149)=$A$146,MATCH(ROW($B$12:$B$111),ROW($B$12:$B$111)),\"\"),ROWS($B$1:D101))),COLUMNS($B$1:D101)),\"\")","v":""},{"$f":"IFERROR(INDEX($B$12:$H$111,(SMALL(IF(INDEX($B$12:$H$111,,$A$149)=$A$146,MATCH(ROW($B$12:$B$111),ROW($B$12:$B$111)),\"\"),ROWS($B$1:E101))),COLUMNS($B$1:E101)),\"\")","v":""},{"$f":"IFERROR(INDEX($B$12:$H$111,(SMALL(IF(INDEX($B$12:$H$111,,$A$149)=$A$146,MATCH(ROW($B$12:$B$111),ROW($B$12:$B$111)),\"\"),ROWS($B$1:F101))),COLUMNS($B$1:F101)),\"\")","v":""},{"$f":"IFERROR(INDEX($B$12:$H$111,(SMALL(IF(INDEX($B$12:$H$111,,$A$149)=$A$146,MATCH(ROW($B$12:$B$111),ROW($B$12:$B$111)),\"\"),ROWS($B$1:G101))),COLUMNS($B$1:G101)),\"\")","v":""},{"$f":"IFERROR(INDEX($B$12:$H$111,(SMALL(IF(INDEX($B$12:$H$111,,$A$149)=$A$146,MATCH(ROW($B$12:$B$111),ROW($B$12:$B$111)),\"\"),ROWS($B$1:H101))),COLUMNS($B$1:H101)),\"\")","v":""},null,null,{"$f":"IFERROR(INDEX($K$12:$M$111,(SMALL(IF(INDEX($K$12:$M$111,,$A$149)=$A$146,MATCH(ROW($K$12:$K$111),ROW($K$12:$K$111)),\"\"),ROWS($B$1:B101))),COLUMNS($B$1:B101)),\"\")","v":""},{"$f":"IFERROR(INDEX($K$12:$M$111,(SMALL(IF(INDEX($K$12:$M$111,,$A$149)=$A$146,MATCH(ROW($K$12:$K$111),ROW($K$12:$K$111)),\"\"),ROWS($B$1:C101))),COLUMNS($B$1:C101)),\"\")","v":""},{"$f":"IFERROR(INDEX($K$12:$M$111,(SMALL(IF(INDEX($K$12:$M$111,,$A$149)=$A$146,MATCH(ROW($K$12:$K$111),ROW($K$12:$K$111)),\"\"),ROWS($B$1:D101))),COLUMNS($B$1:D101)),\"\")","v":""},null,null,{"$f":"IFERROR(INDEX($P$12:$R$111,(SMALL(IF(INDEX($P$12:$R$111,,$A$149)=$A$146,MATCH(ROW($P$12:$P$111),ROW($P$12:$P$111)),\"\"),ROWS($B$1:B101))),COLUMNS($B$1:B101)),\"\")","v":""},{"$f":"IFERROR(INDEX($P$12:$R$111,(SMALL(IF(INDEX($P$12:$R$111,,$A$149)=$A$146,MATCH(ROW($P$12:$P$111),ROW($P$12:$P$111)),\"\"),ROWS($B$1:C101))),COLUMNS($B$1:C101)),\"\")","v":""},{"$f":"IFERROR(INDEX($P$12:$R$111,(SMALL(IF(INDEX($P$12:$R$111,,$A$149)=$A$146,MATCH(ROW($P$12:$P$111),ROW($P$12:$P$111)),\"\"),ROWS($B$1:D101))),COLUMNS($B$1:D101)),\"\")","v":""}]
[]
[null,null,null,null,null,{"$f":"IFERROR(INDEX($B$12:$H$50,(SMALL(IF(INDEX($B$12:$H$50,,$A$149)=$A$146,MATCH(ROW($B$12:$B$50),ROW($B$12:$B$50)),\"\"),ROWS($B$1:B103))),COLUMNS($B$1:B103)),\"\")","v":""},"total",{"$f":"SUM(H149:H249)","v":0},null,null,null,null,{"$f":"SUM(M149:M249)","v":0},null,null,null,null,{"$f":"SUM(R149:R249)","v":0}]
[null,null,null,null,null,{"$f":"IFERROR(INDEX($B$12:$H$50,(SMALL(IF(INDEX($B$12:$H$50,,$A$149)=$A$146,MATCH(ROW($B$12:$B$50),ROW($B$12:$B$50)),\"\"),ROWS($B$1:B104))),COLUMNS($B$1:B104)),\"\")","v":""},{"$f":"IFERROR(INDEX($B$12:$H$50,(SMALL(IF(INDEX($B$12:$H$50,,$A$149)=$A$146,MATCH(ROW($B$12:$B$50),ROW($B$12:$B$50)),\"\"),ROWS($B$1:C104))),COLUMNS($B$1:C104)),\"\")","v":""},{"$f":"IFERROR(INDEX($B$12:$H$50,(SMALL(IF(INDEX($B$12:$H$50,,$A$149)=$A$146,MATCH(ROW($B$12:$B$50),ROW($B$12:$B$50)),\"\"),ROWS($B$1:D104))),COLUMNS($B$1:D104)),\"\")","v":""},{"$f":"IFERROR(INDEX($B$12:$H$50,(SMALL(IF(INDEX($B$12:$H$50,,$A$149)=$A$146,MATCH(ROW($B$12:$B$50),ROW($B$12:$B$50)),\"\"),ROWS($B$1:E104))),COLUMNS($B$1:E104)),\"\")","v":""},null,{"$f":"IFERROR(INDEX($B$12:$H$50,(SMALL(IF(INDEX($B$12:$H$50,,$A$149)=$A$146,MATCH(ROW($B$12:$B$50),ROW($B$12:$B$50)),\"\"),ROWS($B$1:F104))),COLUMNS($B$1:F104)),\"\")","v":""},{"$f":"IFERROR(INDEX($B$12:$H$50,(SMALL(IF(INDEX($B$12:$H$50,,$A$149)=$A$146,MATCH(ROW($B$12:$B$50),ROW($B$12:$B$50)),\"\"),ROWS($B$1:G104))),COLUMNS($B$1:G104)),\"\")","v":""},{"$f":"IFERROR(INDEX($B$12:$H$50,(SMALL(IF(INDEX($B$12:$H$50,,$A$149)=$A$146,MATCH(ROW($B$12:$B$50),ROW($B$12:$B$50)),\"\"),ROWS($B$1:H104))),COLUMNS($B$1:H104)),\"\")","v":""}]
[null,null,null,null,null,{"$f":"IFERROR(INDEX($B$12:$H$50,(SMALL(IF(INDEX($B$12:$H$50,,$A$149)=$A$146,MATCH(ROW($B$12:$B$50),ROW($B$12:$B$50)),\"\"),ROWS($B$1:B105))),COLUMNS($B$1:B105)),\"\")","v":""},{"$f":"IFERROR(INDEX($B$12:$H$50,(SMALL(IF(INDEX($B$12:$H$50,,$A$149)=$A$146,MATCH(ROW($B$12:$B$50),ROW($B$12:$B$50)),\"\"),ROWS($B$1:C105))),COLUMNS($B$1:C105)),\"\")","v":""},{"$f":"IFERROR(INDEX($B$12:$H$50,(SMALL(IF(INDEX($B$12:$H$50,,$A$149)=$A$146,MATCH(ROW($B$12:$B$50),ROW($B$12:$B$50)),\"\"),ROWS($B$1:D105))),COLUMNS($B$1:D105)),\"\")","v":""},{"$f":"IFERROR(INDEX($B$12:$H$50,(SMALL(IF(INDEX($B$12:$H$50,,$A$149)=$A$146,MATCH(ROW($B$12:$B$50),ROW($B$12:$B$50)),\"\"),ROWS($B$1:E105))),COLUMNS($B$1:E105)),\"\")","v":""},null,{"$f":"IFERROR(INDEX($B$12:$H$50,(SMALL(IF(INDEX($B$12:$H$50,,$A$149)=$A$146,MATCH(ROW($B$12:$B$50),ROW($B$12:$B$50)),\"\"),ROWS($B$1:F105))),COLUMNS($B$1:F105)),\"\")","v":""},{"$f":"IFERROR(INDEX($B$12:$H$50,(SMALL(IF(INDEX($B$12:$H$50,,$A$149)=$A$146,MATCH(ROW($B$12:$B$50),ROW($B$12:$B$50)),\"\"),ROWS($B$1:G105))),COLUMNS($B$1:G105)),\"\")","v":""},{"$f":"IFERROR(INDEX($B$12:$H$50,(SMALL(IF(INDEX($B$12:$H$50,,$A$149)=$A$146,MATCH(ROW($B$12:$B$50),ROW($B$12:$B$50)),\"\"),ROWS($B$1:H105))),COLUMNS($B$1:H105)),\"\")","v":""}]
[null,null,null,null,null,{"$f":"IFERROR(INDEX($B$12:$H$50,(SMALL(IF(INDEX($B$12:$H$50,,$A$149)=$A$146,MATCH(ROW($B$12:$B$50),ROW($B$12:$B$50)),\"\"),ROWS($B$1:B106))),COLUMNS($B$1:B106)),\"\")","v":""},{"$f":"IFERROR(INDEX($B$12:$H$50,(SMALL(IF(INDEX($B$12:$H$50,,$A$149)=$A$146,MATCH(ROW($B$12:$B$50),ROW($B$12:$B$50)),\"\"),ROWS($B$1:C106))),COLUMNS($B$1:C106)),\"\")","v":""},{"$f":"IFERROR(INDEX($B$12:$H$50,(SMALL(IF(INDEX($B$12:$H$50,,$A$149)=$A$146,MATCH(ROW($B$12:$B$50),ROW($B$12:$B$50)),\"\"),ROWS($B$1:D106))),COLUMNS($B$1:D106)),\"\")","v":""},{"$f":"IFERROR(INDEX($B$12:$H$50,(SMALL(IF(INDEX($B$12:$H$50,,$A$149)=$A$146,MATCH(ROW($B$12:$B$50),ROW($B$12:$B$50)),\"\"),ROWS($B$1:E106))),COLUMNS($B$1:E106)),\"\")","v":""},null,{"$f":"IFERROR(INDEX($B$12:$H$50,(SMALL(IF(INDEX($B$12:$H$50,,$A$149)=$A$146,MATCH(ROW($B$12:$B$50),ROW($B$12:$B$50)),\"\"),ROWS($B$1:F106))),COLUMNS($B$1:F106)),\"\")","v":""},{"$f":"IFERROR(INDEX($B$12:$H$50,(SMALL(IF(INDEX($B$12:$H$50,,$A$149)=$A$146,MATCH(ROW($B$12:$B$50),ROW($B$12:$B$50)),\"\"),ROWS($B$1:G106))),COLUMNS($B$1:G106)),\"\")","v":""},{"$f":"IFERROR(INDEX($B$12:$H$50,(SMALL(IF(INDEX($B$12:$H$50,,$A$149)=$A$146,MATCH(ROW($B$12:$B$50),ROW($B$12:$B$50)),\"\"),ROWS($B$1:H106))),COLUMNS($B$1:H106)),\"\")","v":""}]
[2021]
[]
[]
[1,{"$f":"IFERROR(INDEX($B$12:$H$111,(SMALL(IF(INDEX($B$12:$H$111,,$A$149)=$A$255,MATCH(ROW($B$12:$B$111),ROW($B$12:$B$111)),\"\"),ROWS($B$1:B1))),COLUMNS($B$1:B1)),\"\")","v":""},{"$f":"IFERROR(INDEX($B$12:$H$111,(SMALL(IF(INDEX($B$12:$H$111,,$A$149)=$A$255,MATCH(ROW($B$12:$B$111),ROW($B$12:$B$111)),\"\"),ROWS($B$1:C1))),COLUMNS($B$1:C1)),\"\")","v":""},{"$f":"IFERROR(INDEX($B$12:$H$111,(SMALL(IF(INDEX($B$12:$H$111,,$A$149)=$A$255,MATCH(ROW($B$12:$B$111),ROW($B$12:$B$111)),\"\"),ROWS($B$1:D1))),COLUMNS($B$1:D1)),\"\")","v":""},{"$f":"IFERROR(INDEX($B$12:$H$111,(SMALL(IF(INDEX($B$12:$H$111,,$A$149)=$A$255,MATCH(ROW($B$12:$B$111),ROW($B$12:$B$111)),\"\"),ROWS($B$1:E1))),COLUMNS($B$1:E1)),\"\")","v":""},{"$f":"IFERROR(INDEX($B$12:$H$111,(SMALL(IF(INDEX($B$12:$H$111,,$A$149)=$A$255,MATCH(ROW($B$12:$B$111),ROW($B$12:$B$111)),\"\"),ROWS($B$1:F1))),COLUMNS($B$1:F1)),\"\")","v":""},{"$f":"IFERROR(INDEX($B$12:$H$111,(SMALL(IF(INDEX($B$12:$H$111,,$A$149)=$A$255,MATCH(ROW($B$12:$B$111),ROW($B$12:$B$111)),\"\"),ROWS($B$1:G1))),COLUMNS($B$1:G1)),\"\")","v":""},{"$f":"IFERROR(INDEX($B$12:$H$111,(SMALL(IF(INDEX($B$12:$H$111,,$A$149)=$A$255,MATCH(ROW($B$12:$B$111),ROW($B$12:$B$111)),\"\"),ROWS($B$1:H1))),COLUMNS($B$1:H1)),\"\")","v":""},null,null,{"$f":"IFERROR(INDEX($K$12:$M$111,(SMALL(IF(INDEX($K$12:$M$111,,$A$149)=$A$255,MATCH(ROW($K$12:$K$111),ROW($K$12:$K$111)),\"\"),ROWS($B$1:B1))),COLUMNS($B$1:B1)),\"\")","v":""},{"$f":"IFERROR(INDEX($K$12:$M$111,(SMALL(IF(INDEX($K$12:$M$111,,$A$149)=$A$255,MATCH(ROW($K$12:$K$111),ROW($K$12:$K$111)),\"\"),ROWS($B$1:C1))),COLUMNS($B$1:C1)),\"\")","v":""},{"$f":"IFERROR(INDEX($K$12:$M$111,(SMALL(IF(INDEX($K$12:$M$111,,$A$149)=$A$255,MATCH(ROW($K$12:$K$111),ROW($K$12:$K$111)),\"\"),ROWS($B$1:D1))),COLUMNS($B$1:D1)),\"\")","v":""},null,null,{"$f":"IFERROR(INDEX($P$12:$R$111,(SMALL(IF(INDEX($P$12:$R$111,,$A$149)=$A$255,MATCH(ROW($P$12:$P$111),ROW($P$12:$P$111)),\"\"),ROWS($B$1:B1))),COLUMNS($B$1:B1)),\"\")","v":""},{"$f":"IFERROR(INDEX($P$12:$R$111,(SMALL(IF(INDEX($P$12:$R$111,,$A$149)=$A$255,MATCH(ROW($P$12:$P$111),ROW($P$12:$P$111)),\"\"),ROWS($B$1:C1))),COLUMNS($B$1:C1)),\"\")","v":""},{"$f":"IFERROR(INDEX($P$12:$R$111,(SMALL(IF(INDEX($P$12:$R$111,,$A$149)=$A$255,MATCH(ROW($P$12:$P$111),ROW($P$12:$P$111)),\"\"),ROWS($B$1:D1))),COLUMNS($B$1:D1)),\"\")","v":""}]
[2,{"$f":"IFERROR(INDEX($B$12:$H$111,(SMALL(IF(INDEX($B$12:$H$111,,$A$149)=$A$255,MATCH(ROW($B$12:$B$111),ROW($B$12:$B$111)),\"\"),ROWS($B$1:B2))),COLUMNS($B$1:B2)),\"\")","v":""},{"$f":"IFERROR(INDEX($B$12:$H$111,(SMALL(IF(INDEX($B$12:$H$111,,$A$149)=$A$255,MATCH(ROW($B$12:$B$111),ROW($B$12:$B$111)),\"\"),ROWS($B$1:C2))),COLUMNS($B$1:C2)),\"\")","v":""},{"$f":"IFERROR(INDEX($B$12:$H$111,(SMALL(IF(INDEX($B$12:$H$111,,$A$149)=$A$255,MATCH(ROW($B$12:$B$111),ROW($B$12:$B$111)),\"\"),ROWS($B$1:D2))),COLUMNS($B$1:D2)),\"\")","v":""},{"$f":"IFERROR(INDEX($B$12:$H$111,(SMALL(IF(INDEX($B$12:$H$111,,$A$149)=$A$255,MATCH(ROW($B$12:$B$111),ROW($B$12:$B$111)),\"\"),ROWS($B$1:E2))),COLUMNS($B$1:E2)),\"\")","v":""},{"$f":"IFERROR(INDEX($B$12:$H$111,(SMALL(IF(INDEX($B$12:$H$111,,$A$149)=$A$255,MATCH(ROW($B$12:$B$111),ROW($B$12:$B$111)),\"\"),ROWS($B$1:F2))),COLUMNS($B$1:F2)),\"\")","v":""},{"$f":"IFERROR(INDEX($B$12:$H$111,(SMALL(IF(INDEX($B$12:$H$111,,$A$149)=$A$255,MATCH(ROW($B$12:$B$111),ROW($B$12:$B$111)),\"\"),ROWS($B$1:G2))),COLUMNS($B$1:G2)),\"\")","v":""},{"$f":"IFERROR(INDEX($B$12:$H$111,(SMALL(IF(INDEX($B$12:$H$111,,$A$149)=$A$255,MATCH(ROW($B$12:$B$111),ROW($B$12:$B$111)),\"\"),ROWS($B$1:H2))),COLUMNS($B$1:H2)),\"\")","v":""},null,null,{"$f":"IFERROR(INDEX($K$12:$M$111,(SMALL(IF(INDEX($K$12:$M$111,,$A$149)=$A$255,MATCH(ROW($K$12:$K$111),ROW($K$12:$K$111)),\"\"),ROWS($B$1:B2))),COLUMNS($B$1:B2)),\"\")","v":""},{"$f":"IFERROR(INDEX($K$12:$M$111,(SMALL(IF(INDEX($K$12:$M$111,,$A$149)=$A$255,MATCH(ROW($K$12:$K$111),ROW($K$12:$K$111)),\"\"),ROWS($B$1:C2))),COLUMNS($B$1:C2)),\"\")","v":""},{"$f":"IFERROR(INDEX($K$12:$M$111,(SMALL(IF(INDEX($K$12:$M$111,,$A$149)=$A$255,MATCH(ROW($K$12:$K$111),ROW($K$12:$K$111)),\"\"),ROWS($B$1:D2))),COLUMNS($B$1:D2)),\"\")","v":""},null,null,{"$f":"IFERROR(INDEX($P$12:$R$111,(SMALL(IF(INDEX($P$12:$R$111,,$A$149)=$A$255,MATCH(ROW($P$12:$P$111),ROW($P$12:$P$111)),\"\"),ROWS($B$1:B2))),COLUMNS($B$1:B2)),\"\")","v":""},{"$f":"IFERROR(INDEX($P$12:$R$111,(SMALL(IF(INDEX($P$12:$R$111,,$A$149)=$A$255,MATCH(ROW($P$12:$P$111),ROW($P$12:$P$111)),\"\"),ROWS($B$1:C2))),COLUMNS($B$1:C2)),\"\")","v":""},{"$f":"IFERROR(INDEX($P$12:$R$111,(SMALL(IF(INDEX($P$12:$R$111,,$A$149)=$A$255,MATCH(ROW($P$12:$P$111),ROW($P$12:$P$111)),\"\"),ROWS($B$1:D2))),COLUMNS($B$1:D2)),\"\")","v":""}]
[3,{"$f":"IFERROR(INDEX($B$12:$H$111,(SMALL(IF(INDEX($B$12:$H$111,,$A$149)=$A$255,MATCH(ROW($B$12:$B$111),ROW($B$12:$B$111)),\"\"),ROWS($B$1:B3))),COLUMNS($B$1:B3)),\"\")","v":""},{"$f":"IFERROR(INDEX($B$12:$H$111,(SMALL(IF(INDEX($B$12:$H$111,,$A$149)=$A$255,MATCH(ROW($B$12:$B$111),ROW($B$12:$B$111)),\"\"),ROWS($B$1:C3))),COLUMNS($B$1:C3)),\"\")","v":""},{"$f":"IFERROR(INDEX($B$12:$H$111,(SMALL(IF(INDEX($B$12:$H$111,,$A$149)=$A$255,MATCH(ROW($B$12:$B$111),ROW($B$12:$B$111)),\"\"),ROWS($B$1:D3))),COLUMNS($B$1:D3)),\"\")","v":""},{"$f":"IFERROR(INDEX($B$12:$H$111,(SMALL(IF(INDEX($B$12:$H$111,,$A$149)=$A$255,MATCH(ROW($B$12:$B$111),ROW($B$12:$B$111)),\"\"),ROWS($B$1:E3))),COLUMNS($B$1:E3)),\"\")","v":""},{"$f":"IFERROR(INDEX($B$12:$H$111,(SMALL(IF(INDEX($B$12:$H$111,,$A$149)=$A$255,MATCH(ROW($B$12:$B$111),ROW($B$12:$B$111)),\"\"),ROWS($B$1:F3))),COLUMNS($B$1:F3)),\"\")","v":""},{"$f":"IFERROR(INDEX($B$12:$H$111,(SMALL(IF(INDEX($B$12:$H$111,,$A$149)=$A$255,MATCH(ROW($B$12:$B$111),ROW($B$12:$B$111)),\"\"),ROWS($B$1:G3))),COLUMNS($B$1:G3)),\"\")","v":""},{"$f":"IFERROR(INDEX($B$12:$H$111,(SMALL(IF(INDEX($B$12:$H$111,,$A$149)=$A$255,MATCH(ROW($B$12:$B$111),ROW($B$12:$B$111)),\"\"),ROWS($B$1:H3))),COLUMNS($B$1:H3)),\"\")","v":""},null,null,{"$f":"IFERROR(INDEX($K$12:$M$111,(SMALL(IF(INDEX($K$12:$M$111,,$A$149)=$A$255,MATCH(ROW($K$12:$K$111),ROW($K$12:$K$111)),\"\"),ROWS($B$1:B3))),COLUMNS($B$1:B3)),\"\")","v":""},{"$f":"IFERROR(INDEX($K$12:$M$111,(SMALL(IF(INDEX($K$12:$M$111,,$A$149)=$A$255,MATCH(ROW($K$12:$K$111),ROW($K$12:$K$111)),\"\"),ROWS($B$1:C3))),COLUMNS($B$1:C3)),\"\")","v":""},{"$f":"IFERROR(INDEX($K$12:$M$111,(SMALL(IF(INDEX($K$12:$M$111,,$A$149)=$A$255,MATCH(ROW($K$12:$K$111),ROW($K$12:$K$111)),\"\"),ROWS($B$1:D3))),COLUMNS($B$1:D3)),\"\")","v":""},null,null,{"$f":"IFERROR(INDEX($P$12:$R$111,(SMALL(IF(INDEX($P$12:$R$111,,$A$149)=$A$255,MATCH(ROW($P$12:$P$111),ROW($P$12:$P$111)),\"\"),ROWS($B$1:B3))),COLUMNS($B$1:B3)),\"\")","v":""},{"$f":"IFERROR(INDEX($P$12:$R$111,(SMALL(IF(INDEX($P$12:$R$111,,$A$149)=$A$255,MATCH(ROW($P$12:$P$111),ROW($P$12:$P$111)),\"\"),ROWS($B$1:C3))),COLUMNS($B$1:C3)),\"\")","v":""},{"$f":"IFERROR(INDEX($P$12:$R$111,(SMALL(IF(INDEX($P$12:$R$111,,$A$149)=$A$255,MATCH(ROW($P$12:$P$111),ROW($P$12:$P$111)),\"\"),ROWS($B$1:D3))),COLUMNS($B$1:D3)),\"\")","v":""}]
[4,{"$f":"IFERROR(INDEX($B$12:$H$111,(SMALL(IF(INDEX($B$12:$H$111,,$A$149)=$A$255,MATCH(ROW($B$12:$B$111),ROW($B$12:$B$111)),\"\"),ROWS($B$1:B4))),COLUMNS($B$1:B4)),\"\")","v":""},{"$f":"IFERROR(INDEX($B$12:$H$111,(SMALL(IF(INDEX($B$12:$H$111,,$A$149)=$A$255,MATCH(ROW($B$12:$B$111),ROW($B$12:$B$111)),\"\"),ROWS($B$1:C4))),COLUMNS($B$1:C4)),\"\")","v":""},{"$f":"IFERROR(INDEX($B$12:$H$111,(SMALL(IF(INDEX($B$12:$H$111,,$A$149)=$A$255,MATCH(ROW($B$12:$B$111),ROW($B$12:$B$111)),\"\"),ROWS($B$1:D4))),COLUMNS($B$1:D4)),\"\")","v":""},{"$f":"IFERROR(INDEX($B$12:$H$111,(SMALL(IF(INDEX($B$12:$H$111,,$A$149)=$A$255,MATCH(ROW($B$12:$B$111),ROW($B$12:$B$111)),\"\"),ROWS($B$1:E4))),COLUMNS($B$1:E4)),\"\")","v":""},{"$f":"IFERROR(INDEX($B$12:$H$111,(SMALL(IF(INDEX($B$12:$H$111,,$A$149)=$A$255,MATCH(ROW($B$12:$B$111),ROW($B$12:$B$111)),\"\"),ROWS($B$1:F4))),COLUMNS($B$1:F4)),\"\")","v":""},{"$f":"IFERROR(INDEX($B$12:$H$111,(SMALL(IF(INDEX($B$12:$H$111,,$A$149)=$A$255,MATCH(ROW($B$12:$B$111),ROW($B$12:$B$111)),\"\"),ROWS($B$1:G4))),COLUMNS($B$1:G4)),\"\")","v":""},{"$f":"IFERROR(INDEX($B$12:$H$111,(SMALL(IF(INDEX($B$12:$H$111,,$A$149)=$A$255,MATCH(ROW($B$12:$B$111),ROW($B$12:$B$111)),\"\"),ROWS($B$1:H4))),COLUMNS($B$1:H4)),\"\")","v":""},null,null,{"$f":"IFERROR(INDEX($K$12:$M$111,(SMALL(IF(INDEX($K$12:$M$111,,$A$149)=$A$255,MATCH(ROW($K$12:$K$111),ROW($K$12:$K$111)),\"\"),ROWS($B$1:B4))),COLUMNS($B$1:B4)),\"\")","v":""},{"$f":"IFERROR(INDEX($K$12:$M$111,(SMALL(IF(INDEX($K$12:$M$111,,$A$149)=$A$255,MATCH(ROW($K$12:$K$111),ROW($K$12:$K$111)),\"\"),ROWS($B$1:C4))),COLUMNS($B$1:C4)),\"\")","v":""},{"$f":"IFERROR(INDEX($K$12:$M$111,(SMALL(IF(INDEX($K$12:$M$111,,$A$149)=$A$255,MATCH(ROW($K$12:$K$111),ROW($K$12:$K$111)),\"\"),ROWS($B$1:D4))),COLUMNS($B$1:D4)),\"\")","v":""},null,null,{"$f":"IFERROR(INDEX($P$12:$R$111,(SMALL(IF(INDEX($P$12:$R$111,,$A$149)=$A$255,MATCH(ROW($P$12:$P$111),ROW($P$12:$P$111)),\"\"),ROWS($B$1:B4))),COLUMNS($B$1:B4)),\"\")","v":""},{"$f":"IFERROR(INDEX($P$12:$R$111,(SMALL(IF(INDEX($P$12:$R$111,,$A$149)=$A$255,MATCH(ROW($P$12:$P$111),ROW($P$12:$P$111)),\"\"),ROWS($B$1:C4))),COLUMNS($B$1:C4)),\"\")","v":""},{"$f":"IFERROR(INDEX($P$12:$R$111,(SMALL(IF(INDEX($P$12:$R$111,,$A$149)=$A$255,MATCH(ROW($P$12:$P$111),ROW($P$12:$P$111)),\"\"),ROWS($B$1:D4))),COLUMNS($B$1:D4)),\"\")","v":""}]
[5,{"$f":"IFERROR(INDEX($B$12:$H$111,(SMALL(IF(INDEX($B$12:$H$111,,$A$149)=$A$255,MATCH(ROW($B$12:$B$111),ROW($B$12:$B$111)),\"\"),ROWS($B$1:B5))),COLUMNS($B$1:B5)),\"\")","v":""},{"$f":"IFERROR(INDEX($B$12:$H$111,(SMALL(IF(INDEX($B$12:$H$111,,$A$149)=$A$255,MATCH(ROW($B$12:$B$111),ROW($B$12:$B$111)),\"\"),ROWS($B$1:C5))),COLUMNS($B$1:C5)),\"\")","v":""},{"$f":"IFERROR(INDEX($B$12:$H$111,(SMALL(IF(INDEX($B$12:$H$111,,$A$149)=$A$255,MATCH(ROW($B$12:$B$111),ROW($B$12:$B$111)),\"\"),ROWS($B$1:D5))),COLUMNS($B$1:D5)),\"\")","v":""},{"$f":"IFERROR(INDEX($B$12:$H$111,(SMALL(IF(INDEX($B$12:$H$111,,$A$149)=$A$255,MATCH(ROW($B$12:$B$111),ROW($B$12:$B$111)),\"\"),ROWS($B$1:E5))),COLUMNS($B$1:E5)),\"\")","v":""},{"$f":"IFERROR(INDEX($B$12:$H$111,(SMALL(IF(INDEX($B$12:$H$111,,$A$149)=$A$255,MATCH(ROW($B$12:$B$111),ROW($B$12:$B$111)),\"\"),ROWS($B$1:F5))),COLUMNS($B$1:F5)),\"\")","v":""},{"$f":"IFERROR(INDEX($B$12:$H$111,(SMALL(IF(INDEX($B$12:$H$111,,$A$149)=$A$255,MATCH(ROW($B$12:$B$111),ROW($B$12:$B$111)),\"\"),ROWS($B$1:G5))),COLUMNS($B$1:G5)),\"\")","v":""},{"$f":"IFERROR(INDEX($B$12:$H$111,(SMALL(IF(INDEX($B$12:$H$111,,$A$149)=$A$255,MATCH(ROW($B$12:$B$111),ROW($B$12:$B$111)),\"\"),ROWS($B$1:H5))),COLUMNS($B$1:H5)),\"\")","v":""},null,null,{"$f":"IFERROR(INDEX($K$12:$M$111,(SMALL(IF(INDEX($K$12:$M$111,,$A$149)=$A$255,MATCH(ROW($K$12:$K$111),ROW($K$12:$K$111)),\"\"),ROWS($B$1:B5))),COLUMNS($B$1:B5)),\"\")","v":""},{"$f":"IFERROR(INDEX($K$12:$M$111,(SMALL(IF(INDEX($K$12:$M$111,,$A$149)=$A$255,MATCH(ROW($K$12:$K$111),ROW($K$12:$K$111)),\"\"),ROWS($B$1:C5))),COLUMNS($B$1:C5)),\"\")","v":""},{"$f":"IFERROR(INDEX($K$12:$M$111,(SMALL(IF(INDEX($K$12:$M$111,,$A$149)=$A$255,MATCH(ROW($K$12:$K$111),ROW($K$12:$K$111)),\"\"),ROWS($B$1:D5))),COLUMNS($B$1:D5)),\"\")","v":""},null,null,{"$f":"IFERROR(INDEX($P$12:$R$111,(SMALL(IF(INDEX($P$12:$R$111,,$A$149)=$A$255,MATCH(ROW($P$12:$P$111),ROW($P$12:$P$111)),\"\"),ROWS($B$1:B5))),COLUMNS($B$1:B5)),\"\")","v":""},{"$f":"IFERROR(INDEX($P$12:$R$111,(SMALL(IF(INDEX($P$12:$R$111,,$A$149)=$A$255,MATCH(ROW($P$12:$P$111),ROW($P$12:$P$111)),\"\"),ROWS($B$1:C5))),COLUMNS($B$1:C5)),\"\")","v":""},{"$f":"IFERROR(INDEX($P$12:$R$111,(SMALL(IF(INDEX($P$12:$R$111,,$A$149)=$A$255,MATCH(ROW($P$12:$P$111),ROW($P$12:$P$111)),\"\"),ROWS($B$1:D5))),COLUMNS($B$1:D5)),\"\")","v":""}]
[6,{"$f":"IFERROR(INDEX($B$12:$H$111,(SMALL(IF(INDEX($B$12:$H$111,,$A$149)=$A$255,MATCH(ROW($B$12:$B$111),ROW($B$12:$B$111)),\"\"),ROWS($B$1:B6))),COLUMNS($B$1:B6)),\"\")","v":""},{"$f":"IFERROR(INDEX($B$12:$H$111,(SMALL(IF(INDEX($B$12:$H$111,,$A$149)=$A$255,MATCH(ROW($B$12:$B$111),ROW($B$12:$B$111)),\"\"),ROWS($B$1:C6))),COLUMNS($B$1:C6)),\"\")","v":""},{"$f":"IFERROR(INDEX($B$12:$H$111,(SMALL(IF(INDEX($B$12:$H$111,,$A$149)=$A$255,MATCH(ROW($B$12:$B$111),ROW($B$12:$B$111)),\"\"),ROWS($B$1:D6))),COLUMNS($B$1:D6)),\"\")","v":""},{"$f":"IFERROR(INDEX($B$12:$H$111,(SMALL(IF(INDEX($B$12:$H$111,,$A$149)=$A$255,MATCH(ROW($B$12:$B$111),ROW($B$12:$B$111)),\"\"),ROWS($B$1:E6))),COLUMNS($B$1:E6)),\"\")","v":""},{"$f":"IFERROR(INDEX($B$12:$H$111,(SMALL(IF(INDEX($B$12:$H$111,,$A$149)=$A$255,MATCH(ROW($B$12:$B$111),ROW($B$12:$B$111)),\"\"),ROWS($B$1:F6))),COLUMNS($B$1:F6)),\"\")","v":""},{"$f":"IFERROR(INDEX($B$12:$H$111,(SMALL(IF(INDEX($B$12:$H$111,,$A$149)=$A$255,MATCH(ROW($B$12:$B$111),ROW($B$12:$B$111)),\"\"),ROWS($B$1:G6))),COLUMNS($B$1:G6)),\"\")","v":""},{"$f":"IFERROR(INDEX($B$12:$H$111,(SMALL(IF(INDEX($B$12:$H$111,,$A$149)=$A$255,MATCH(ROW($B$12:$B$111),ROW($B$12:$B$111)),\"\"),ROWS($B$1:H6))),COLUMNS($B$1:H6)),\"\")","v":""},null,null,{"$f":"IFERROR(INDEX($K$12:$M$111,(SMALL(IF(INDEX($K$12:$M$111,,$A$149)=$A$255,MATCH(ROW($K$12:$K$111),ROW($K$12:$K$111)),\"\"),ROWS($B$1:B6))),COLUMNS($B$1:B6)),\"\")","v":""},{"$f":"IFERROR(INDEX($K$12:$M$111,(SMALL(IF(INDEX($K$12:$M$111,,$A$149)=$A$255,MATCH(ROW($K$12:$K$111),ROW($K$12:$K$111)),\"\"),ROWS($B$1:C6))),COLUMNS($B$1:C6)),\"\")","v":""},{"$f":"IFERROR(INDEX($K$12:$M$111,(SMALL(IF(INDEX($K$12:$M$111,,$A$149)=$A$255,MATCH(ROW($K$12:$K$111),ROW($K$12:$K$111)),\"\"),ROWS($B$1:D6))),COLUMNS($B$1:D6)),\"\")","v":""},null,null,{"$f":"IFERROR(INDEX($P$12:$R$111,(SMALL(IF(INDEX($P$12:$R$111,,$A$149)=$A$255,MATCH(ROW($P$12:$P$111),ROW($P$12:$P$111)),\"\"),ROWS($B$1:B6))),COLUMNS($B$1:B6)),\"\")","v":""},{"$f":"IFERROR(INDEX($P$12:$R$111,(SMALL(IF(INDEX($P$12:$R$111,,$A$149)=$A$255,MATCH(ROW($P$12:$P$111),ROW($P$12:$P$111)),\"\"),ROWS($B$1:C6))),COLUMNS($B$1:C6)),\"\")","v":""},{"$f":"IFERROR(INDEX($P$12:$R$111,(SMALL(IF(INDEX($P$12:$R$111,,$A$149)=$A$255,MATCH(ROW($P$12:$P$111),ROW($P$12:$P$111)),\"\"),ROWS($B$1:D6))),COLUMNS($B$1:D6)),\"\")","v":""}]
[7,{"$f":"IFERROR(INDEX($B$12:$H$111,(SMALL(IF(INDEX($B$12:$H$111,,$A$149)=$A$255,MATCH(ROW($B$12:$B$111),ROW($B$12:$B$111)),\"\"),ROWS($B$1:B7))),COLUMNS($B$1:B7)),\"\")","v":""},{"$f":"IFERROR(INDEX($B$12:$H$111,(SMALL(IF(INDEX($B$12:$H$111,,$A$149)=$A$255,MATCH(ROW($B$12:$B$111),ROW($B$12:$B$111)),\"\"),ROWS($B$1:C7))),COLUMNS($B$1:C7)),\"\")","v":""},{"$f":"IFERROR(INDEX($B$12:$H$111,(SMALL(IF(INDEX($B$12:$H$111,,$A$149)=$A$255,MATCH(ROW($B$12:$B$111),ROW($B$12:$B$111)),\"\"),ROWS($B$1:D7))),COLUMNS($B$1:D7)),\"\")","v":""},{"$f":"IFERROR(INDEX($B$12:$H$111,(SMALL(IF(INDEX($B$12:$H$111,,$A$149)=$A$255,MATCH(ROW($B$12:$B$111),ROW($B$12:$B$111)),\"\"),ROWS($B$1:E7))),COLUMNS($B$1:E7)),\"\")","v":""},{"$f":"IFERROR(INDEX($B$12:$H$111,(SMALL(IF(INDEX($B$12:$H$111,,$A$149)=$A$255,MATCH(ROW($B$12:$B$111),ROW($B$12:$B$111)),\"\"),ROWS($B$1:F7))),COLUMNS($B$1:F7)),\"\")","v":""},{"$f":"IFERROR(INDEX($B$12:$H$111,(SMALL(IF(INDEX($B$12:$H$111,,$A$149)=$A$255,MATCH(ROW($B$12:$B$111),ROW($B$12:$B$111)),\"\"),ROWS($B$1:G7))),COLUMNS($B$1:G7)),\"\")","v":""},{"$f":"IFERROR(INDEX($B$12:$H$111,(SMALL(IF(INDEX($B$12:$H$111,,$A$149)=$A$255,MATCH(ROW($B$12:$B$111),ROW($B$12:$B$111)),\"\"),ROWS($B$1:H7))),COLUMNS($B$1:H7)),\"\")","v":""},null,null,{"$f":"IFERROR(INDEX($K$12:$M$111,(SMALL(IF(INDEX($K$12:$M$111,,$A$149)=$A$255,MATCH(ROW($K$12:$K$111),ROW($K$12:$K$111)),\"\"),ROWS($B$1:B7))),COLUMNS($B$1:B7)),\"\")","v":""},{"$f":"IFERROR(INDEX($K$12:$M$111,(SMALL(IF(INDEX($K$12:$M$111,,$A$149)=$A$255,MATCH(ROW($K$12:$K$111),ROW($K$12:$K$111)),\"\"),ROWS($B$1:C7))),COLUMNS($B$1:C7)),\"\")","v":""},{"$f":"IFERROR(INDEX($K$12:$M$111,(SMALL(IF(INDEX($K$12:$M$111,,$A$149)=$A$255,MATCH(ROW($K$12:$K$111),ROW($K$12:$K$111)),\"\"),ROWS($B$1:D7))),COLUMNS($B$1:D7)),\"\")","v":""},null,null,{"$f":"IFERROR(INDEX($P$12:$R$111,(SMALL(IF(INDEX($P$12:$R$111,,$A$149)=$A$255,MATCH(ROW($P$12:$P$111),ROW($P$12:$P$111)),\"\"),ROWS($B$1:B7))),COLUMNS($B$1:B7)),\"\")","v":""},{"$f":"IFERROR(INDEX($P$12:$R$111,(SMALL(IF(INDEX($P$12:$R$111,,$A$149)=$A$255,MATCH(ROW($P$12:$P$111),ROW($P$12:$P$111)),\"\"),ROWS($B$1:C7))),COLUMNS($B$1:C7)),\"\")","v":""},{"$f":"IFERROR(INDEX($P$12:$R$111,(SMALL(IF(INDEX($P$12:$R$111,,$A$149)=$A$255,MATCH(ROW($P$12:$P$111),ROW($P$12:$P$111)),\"\"),ROWS($B$1:D7))),COLUMNS($B$1:D7)),\"\")","v":""}]
[8,{"$f":"IFERROR(INDEX($B$12:$H$111,(SMALL(IF(INDEX($B$12:$H$111,,$A$149)=$A$255,MATCH(ROW($B$12:$B$111),ROW($B$12:$B$111)),\"\"),ROWS($B$1:B8))),COLUMNS($B$1:B8)),\"\")","v":""},{"$f":"IFERROR(INDEX($B$12:$H$111,(SMALL(IF(INDEX($B$12:$H$111,,$A$149)=$A$255,MATCH(ROW($B$12:$B$111),ROW($B$12:$B$111)),\"\"),ROWS($B$1:C8))),COLUMNS($B$1:C8)),\"\")","v":""},{"$f":"IFERROR(INDEX($B$12:$H$111,(SMALL(IF(INDEX($B$12:$H$111,,$A$149)=$A$255,MATCH(ROW($B$12:$B$111),ROW($B$12:$B$111)),\"\"),ROWS($B$1:D8))),COLUMNS($B$1:D8)),\"\")","v":""},{"$f":"IFERROR(INDEX($B$12:$H$111,(SMALL(IF(INDEX($B$12:$H$111,,$A$149)=$A$255,MATCH(ROW($B$12:$B$111),ROW($B$12:$B$111)),\"\"),ROWS($B$1:E8))),COLUMNS($B$1:E8)),\"\")","v":""},{"$f":"IFERROR(INDEX($B$12:$H$111,(SMALL(IF(INDEX($B$12:$H$111,,$A$149)=$A$255,MATCH(ROW($B$12:$B$111),ROW($B$12:$B$111)),\"\"),ROWS($B$1:F8))),COLUMNS($B$1:F8)),\"\")","v":""},{"$f":"IFERROR(INDEX($B$12:$H$111,(SMALL(IF(INDEX($B$12:$H$111,,$A$149)=$A$255,MATCH(ROW($B$12:$B$111),ROW($B$12:$B$111)),\"\"),ROWS($B$1:G8))),COLUMNS($B$1:G8)),\"\")","v":""},{"$f":"IFERROR(INDEX($B$12:$H$111,(SMALL(IF(INDEX($B$12:$H$111,,$A$149)=$A$255,MATCH(ROW($B$12:$B$111),ROW($B$12:$B$111)),\"\"),ROWS($B$1:H8))),COLUMNS($B$1:H8)),\"\")","v":""},null,null,{"$f":"IFERROR(INDEX($K$12:$M$111,(SMALL(IF(INDEX($K$12:$M$111,,$A$149)=$A$255,MATCH(ROW($K$12:$K$111),ROW($K$12:$K$111)),\"\"),ROWS($B$1:B8))),COLUMNS($B$1:B8)),\"\")","v":""},{"$f":"IFERROR(INDEX($K$12:$M$111,(SMALL(IF(INDEX($K$12:$M$111,,$A$149)=$A$255,MATCH(ROW($K$12:$K$111),ROW($K$12:$K$111)),\"\"),ROWS($B$1:C8))),COLUMNS($B$1:C8)),\"\")","v":""},{"$f":"IFERROR(INDEX($K$12:$M$111,(SMALL(IF(INDEX($K$12:$M$111,,$A$149)=$A$255,MATCH(ROW($K$12:$K$111),ROW($K$12:$K$111)),\"\"),ROWS($B$1:D8))),COLUMNS($B$1:D8)),\"\")","v":""},null,null,{"$f":"IFERROR(INDEX($P$12:$R$111,(SMALL(IF(INDEX($P$12:$R$111,,$A$149)=$A$255,MATCH(ROW($P$12:$P$111),ROW($P$12:$P$111)),\"\"),ROWS($B$1:B8))),COLUMNS($B$1:B8)),\"\")","v":""},{"$f":"IFERROR(INDEX($P$12:$R$111,(SMALL(IF(INDEX($P$12:$R$111,,$A$149)=$A$255,MATCH(ROW($P$12:$P$111),ROW($P$12:$P$111)),\"\"),ROWS($B$1:C8))),COLUMNS($B$1:C8)),\"\")","v":""},{"$f":"IFERROR(INDEX($P$12:$R$111,(SMALL(IF(INDEX($P$12:$R$111,,$A$149)=$A$255,MATCH(ROW($P$12:$P$111),ROW($P$12:$P$111)),\"\"),ROWS($B$1:D8))),COLUMNS($B$1:D8)),\"\")","v":""}]
[9,{"$f":"IFERROR(INDEX($B$12:$H$111,(SMALL(IF(INDEX($B$12:$H$111,,$A$149)=$A$255,MATCH(ROW($B$12:$B$111),ROW($B$12:$B$111)),\"\"),ROWS($B$1:B9))),COLUMNS($B$1:B9)),\"\")","v":""},{"$f":"IFERROR(INDEX($B$12:$H$111,(SMALL(IF(INDEX($B$12:$H$111,,$A$149)=$A$255,MATCH(ROW($B$12:$B$111),ROW($B$12:$B$111)),\"\"),ROWS($B$1:C9))),COLUMNS($B$1:C9)),\"\")","v":""},{"$f":"IFERROR(INDEX($B$12:$H$111,(SMALL(IF(INDEX($B$12:$H$111,,$A$149)=$A$255,MATCH(ROW($B$12:$B$111),ROW($B$12:$B$111)),\"\"),ROWS($B$1:D9))),COLUMNS($B$1:D9)),\"\")","v":""},{"$f":"IFERROR(INDEX($B$12:$H$111,(SMALL(IF(INDEX($B$12:$H$111,,$A$149)=$A$255,MATCH(ROW($B$12:$B$111),ROW($B$12:$B$111)),\"\"),ROWS($B$1:E9))),COLUMNS($B$1:E9)),\"\")","v":""},{"$f":"IFERROR(INDEX($B$12:$H$111,(SMALL(IF(INDEX($B$12:$H$111,,$A$149)=$A$255,MATCH(ROW($B$12:$B$111),ROW($B$12:$B$111)),\"\"),ROWS($B$1:F9))),COLUMNS($B$1:F9)),\"\")","v":""},{"$f":"IFERROR(INDEX($B$12:$H$111,(SMALL(IF(INDEX($B$12:$H$111,,$A$149)=$A$255,MATCH(ROW($B$12:$B$111),ROW($B$12:$B$111)),\"\"),ROWS($B$1:G9))),COLUMNS($B$1:G9)),\"\")","v":""},{"$f":"IFERROR(INDEX($B$12:$H$111,(SMALL(IF(INDEX($B$12:$H$111,,$A$149)=$A$255,MATCH(ROW($B$12:$B$111),ROW($B$12:$B$111)),\"\"),ROWS($B$1:H9))),COLUMNS($B$1:H9)),\"\")","v":""},null,null,{"$f":"IFERROR(INDEX($K$12:$M$111,(SMALL(IF(INDEX($K$12:$M$111,,$A$149)=$A$255,MATCH(ROW($K$12:$K$111),ROW($K$12:$K$111)),\"\"),ROWS($B$1:B9))),COLUMNS($B$1:B9)),\"\")","v":""},{"$f":"IFERROR(INDEX($K$12:$M$111,(SMALL(IF(INDEX($K$12:$M$111,,$A$149)=$A$255,MATCH(ROW($K$12:$K$111),ROW($K$12:$K$111)),\"\"),ROWS($B$1:C9))),COLUMNS($B$1:C9)),\"\")","v":""},{"$f":"IFERROR(INDEX($K$12:$M$111,(SMALL(IF(INDEX($K$12:$M$111,,$A$149)=$A$255,MATCH(ROW($K$12:$K$111),ROW($K$12:$K$111)),\"\"),ROWS($B$1:D9))),COLUMNS($B$1:D9)),\"\")","v":""},null,null,{"$f":"IFERROR(INDEX($P$12:$R$111,(SMALL(IF(INDEX($P$12:$R$111,,$A$149)=$A$255,MATCH(ROW($P$12:$P$111),ROW($P$12:$P$111)),\"\"),ROWS($B$1:B9))),COLUMNS($B$1:B9)),\"\")","v":""},{"$f":"IFERROR(INDEX($P$12:$R$111,(SMALL(IF(INDEX($P$12:$R$111,,$A$149)=$A$255,MATCH(ROW($P$12:$P$111),ROW($P$12:$P$111)),\"\"),ROWS($B$1:C9))),COLUMNS($B$1:C9)),\"\")","v":""},{"$f":"IFERROR(INDEX($P$12:$R$111,(SMALL(IF(INDEX($P$12:$R$111,,$A$149)=$A$255,MATCH(ROW($P$12:$P$111),ROW($P$12:$P$111)),\"\"),ROWS($B$1:D9))),COLUMNS($B$1:D9)),\"\")","v":""}]
[10,{"$f":"IFERROR(INDEX($B$12:$H$111,(SMALL(IF(INDEX($B$12:$H$111,,$A$149)=$A$255,MATCH(ROW($B$12:$B$111),ROW($B$12:$B$111)),\"\"),ROWS($B$1:B10))),COLUMNS($B$1:B10)),\"\")","v":""},{"$f":"IFERROR(INDEX($B$12:$H$111,(SMALL(IF(INDEX($B$12:$H$111,,$A$149)=$A$255,MATCH(ROW($B$12:$B$111),ROW($B$12:$B$111)),\"\"),ROWS($B$1:C10))),COLUMNS($B$1:C10)),\"\")","v":""},{"$f":"IFERROR(INDEX($B$12:$H$111,(SMALL(IF(INDEX($B$12:$H$111,,$A$149)=$A$255,MATCH(ROW($B$12:$B$111),ROW($B$12:$B$111)),\"\"),ROWS($B$1:D10))),COLUMNS($B$1:D10)),\"\")","v":""},{"$f":"IFERROR(INDEX($B$12:$H$111,(SMALL(IF(INDEX($B$12:$H$111,,$A$149)=$A$255,MATCH(ROW($B$12:$B$111),ROW($B$12:$B$111)),\"\"),ROWS($B$1:E10))),COLUMNS($B$1:E10)),\"\")","v":""},{"$f":"IFERROR(INDEX($B$12:$H$111,(SMALL(IF(INDEX($B$12:$H$111,,$A$149)=$A$255,MATCH(ROW($B$12:$B$111),ROW($B$12:$B$111)),\"\"),ROWS($B$1:F10))),COLUMNS($B$1:F10)),\"\")","v":""},{"$f":"IFERROR(INDEX($B$12:$H$111,(SMALL(IF(INDEX($B$12:$H$111,,$A$149)=$A$255,MATCH(ROW($B$12:$B$111),ROW($B$12:$B$111)),\"\"),ROWS($B$1:G10))),COLUMNS($B$1:G10)),\"\")","v":""},{"$f":"IFERROR(INDEX($B$12:$H$111,(SMALL(IF(INDEX($B$12:$H$111,,$A$149)=$A$255,MATCH(ROW($B$12:$B$111),ROW($B$12:$B$111)),\"\"),ROWS($B$1:H10))),COLUMNS($B$1:H10)),\"\")","v":""},null,null,{"$f":"IFERROR(INDEX($K$12:$M$111,(SMALL(IF(INDEX($K$12:$M$111,,$A$149)=$A$255,MATCH(ROW($K$12:$K$111),ROW($K$12:$K$111)),\"\"),ROWS($B$1:B10))),COLUMNS($B$1:B10)),\"\")","v":""},{"$f":"IFERROR(INDEX($K$12:$M$111,(SMALL(IF(INDEX($K$12:$M$111,,$A$149)=$A$255,MATCH(ROW($K$12:$K$111),ROW($K$12:$K$111)),\"\"),ROWS($B$1:C10))),COLUMNS($B$1:C10)),\"\")","v":""},{"$f":"IFERROR(INDEX($K$12:$M$111,(SMALL(IF(INDEX($K$12:$M$111,,$A$149)=$A$255,MATCH(ROW($K$12:$K$111),ROW($K$12:$K$111)),\"\"),ROWS($B$1:D10))),COLUMNS($B$1:D10)),\"\")","v":""},null,null,{"$f":"IFERROR(INDEX($P$12:$R$111,(SMALL(IF(INDEX($P$12:$R$111,,$A$149)=$A$255,MATCH(ROW($P$12:$P$111),ROW($P$12:$P$111)),\"\"),ROWS($B$1:B10))),COLUMNS($B$1:B10)),\"\")","v":""},{"$f":"IFERROR(INDEX($P$12:$R$111,(SMALL(IF(INDEX($P$12:$R$111,,$A$149)=$A$255,MATCH(ROW($P$12:$P$111),ROW($P$12:$P$111)),\"\"),ROWS($B$1:C10))),COLUMNS($B$1:C10)),\"\")","v":""},{"$f":"IFERROR(INDEX($P$12:$R$111,(SMALL(IF(INDEX($P$12:$R$111,,$A$149)=$A$255,MATCH(ROW($P$12:$P$111),ROW($P$12:$P$111)),\"\"),ROWS($B$1:D10))),COLUMNS($B$1:D10)),\"\")","v":""}]
[11,{"$f":"IFERROR(INDEX($B$12:$H$111,(SMALL(IF(INDEX($B$12:$H$111,,$A$149)=$A$255,MATCH(ROW($B$12:$B$111),ROW($B$12:$B$111)),\"\"),ROWS($B$1:B11))),COLUMNS($B$1:B11)),\"\")","v":""},{"$f":"IFERROR(INDEX($B$12:$H$111,(SMALL(IF(INDEX($B$12:$H$111,,$A$149)=$A$255,MATCH(ROW($B$12:$B$111),ROW($B$12:$B$111)),\"\"),ROWS($B$1:C11))),COLUMNS($B$1:C11)),\"\")","v":""},{"$f":"IFERROR(INDEX($B$12:$H$111,(SMALL(IF(INDEX($B$12:$H$111,,$A$149)=$A$255,MATCH(ROW($B$12:$B$111),ROW($B$12:$B$111)),\"\"),ROWS($B$1:D11))),COLUMNS($B$1:D11)),\"\")","v":""},{"$f":"IFERROR(INDEX($B$12:$H$111,(SMALL(IF(INDEX($B$12:$H$111,,$A$149)=$A$255,MATCH(ROW($B$12:$B$111),ROW($B$12:$B$111)),\"\"),ROWS($B$1:E11))),COLUMNS($B$1:E11)),\"\")","v":""},{"$f":"IFERROR(INDEX($B$12:$H$111,(SMALL(IF(INDEX($B$12:$H$111,,$A$149)=$A$255,MATCH(ROW($B$12:$B$111),ROW($B$12:$B$111)),\"\"),ROWS($B$1:F11))),COLUMNS($B$1:F11)),\"\")","v":""},{"$f":"IFERROR(INDEX($B$12:$H$111,(SMALL(IF(INDEX($B$12:$H$111,,$A$149)=$A$255,MATCH(ROW($B$12:$B$111),ROW($B$12:$B$111)),\"\"),ROWS($B$1:G11))),COLUMNS($B$1:G11)),\"\")","v":""},{"$f":"IFERROR(INDEX($B$12:$H$111,(SMALL(IF(INDEX($B$12:$H$111,,$A$149)=$A$255,MATCH(ROW($B$12:$B$111),ROW($B$12:$B$111)),\"\"),ROWS($B$1:H11))),COLUMNS($B$1:H11)),\"\")","v":""},null,null,{"$f":"IFERROR(INDEX($K$12:$M$111,(SMALL(IF(INDEX($K$12:$M$111,,$A$149)=$A$255,MATCH(ROW($K$12:$K$111),ROW($K$12:$K$111)),\"\"),ROWS($B$1:B11))),COLUMNS($B$1:B11)),\"\")","v":""},{"$f":"IFERROR(INDEX($K$12:$M$111,(SMALL(IF(INDEX($K$12:$M$111,,$A$149)=$A$255,MATCH(ROW($K$12:$K$111),ROW($K$12:$K$111)),\"\"),ROWS($B$1:C11))),COLUMNS($B$1:C11)),\"\")","v":""},{"$f":"IFERROR(INDEX($K$12:$M$111,(SMALL(IF(INDEX($K$12:$M$111,,$A$149)=$A$255,MATCH(ROW($K$12:$K$111),ROW($K$12:$K$111)),\"\"),ROWS($B$1:D11))),COLUMNS($B$1:D11)),\"\")","v":""},null,null,{"$f":"IFERROR(INDEX($P$12:$R$111,(SMALL(IF(INDEX($P$12:$R$111,,$A$149)=$A$255,MATCH(ROW($P$12:$P$111),ROW($P$12:$P$111)),\"\"),ROWS($B$1:B11))),COLUMNS($B$1:B11)),\"\")","v":""},{"$f":"IFERROR(INDEX($P$12:$R$111,(SMALL(IF(INDEX($P$12:$R$111,,$A$149)=$A$255,MATCH(ROW($P$12:$P$111),ROW($P$12:$P$111)),\"\"),ROWS($B$1:C11))),COLUMNS($B$1:C11)),\"\")","v":""},{"$f":"IFERROR(INDEX($P$12:$R$111,(SMALL(IF(INDEX($P$12:$R$111,,$A$149)=$A$255,MATCH(ROW($P$12:$P$111),ROW($P$12:$P$111)),\"\"),ROWS($B$1:D11))),COLUMNS($B$1:D11)),\"\")","v":""}]
[12,{"$f":"IFERROR(INDEX($B$12:$H$111,(SMALL(IF(INDEX($B$12:$H$111,,$A$149)=$A$255,MATCH(ROW($B$12:$B$111),ROW($B$12:$B$111)),\"\"),ROWS($B$1:B12))),COLUMNS($B$1:B12)),\"\")","v":""},{"$f":"IFERROR(INDEX($B$12:$H$111,(SMALL(IF(INDEX($B$12:$H$111,,$A$149)=$A$255,MATCH(ROW($B$12:$B$111),ROW($B$12:$B$111)),\"\"),ROWS($B$1:C12))),COLUMNS($B$1:C12)),\"\")","v":""},{"$f":"IFERROR(INDEX($B$12:$H$111,(SMALL(IF(INDEX($B$12:$H$111,,$A$149)=$A$255,MATCH(ROW($B$12:$B$111),ROW($B$12:$B$111)),\"\"),ROWS($B$1:D12))),COLUMNS($B$1:D12)),\"\")","v":""},{"$f":"IFERROR(INDEX($B$12:$H$111,(SMALL(IF(INDEX($B$12:$H$111,,$A$149)=$A$255,MATCH(ROW($B$12:$B$111),ROW($B$12:$B$111)),\"\"),ROWS($B$1:E12))),COLUMNS($B$1:E12)),\"\")","v":""},{"$f":"IFERROR(INDEX($B$12:$H$111,(SMALL(IF(INDEX($B$12:$H$111,,$A$149)=$A$255,MATCH(ROW($B$12:$B$111),ROW($B$12:$B$111)),\"\"),ROWS($B$1:F12))),COLUMNS($B$1:F12)),\"\")","v":""},{"$f":"IFERROR(INDEX($B$12:$H$111,(SMALL(IF(INDEX($B$12:$H$111,,$A$149)=$A$255,MATCH(ROW($B$12:$B$111),ROW($B$12:$B$111)),\"\"),ROWS($B$1:G12))),COLUMNS($B$1:G12)),\"\")","v":""},{"$f":"IFERROR(INDEX($B$12:$H$111,(SMALL(IF(INDEX($B$12:$H$111,,$A$149)=$A$255,MATCH(ROW($B$12:$B$111),ROW($B$12:$B$111)),\"\"),ROWS($B$1:H12))),COLUMNS($B$1:H12)),\"\")","v":""},null,null,{"$f":"IFERROR(INDEX($K$12:$M$111,(SMALL(IF(INDEX($K$12:$M$111,,$A$149)=$A$255,MATCH(ROW($K$12:$K$111),ROW($K$12:$K$111)),\"\"),ROWS($B$1:B12))),COLUMNS($B$1:B12)),\"\")","v":""},{"$f":"IFERROR(INDEX($K$12:$M$111,(SMALL(IF(INDEX($K$12:$M$111,,$A$149)=$A$255,MATCH(ROW($K$12:$K$111),ROW($K$12:$K$111)),\"\"),ROWS($B$1:C12))),COLUMNS($B$1:C12)),\"\")","v":""},{"$f":"IFERROR(INDEX($K$12:$M$111,(SMALL(IF(INDEX($K$12:$M$111,,$A$149)=$A$255,MATCH(ROW($K$12:$K$111),ROW($K$12:$K$111)),\"\"),ROWS($B$1:D12))),COLUMNS($B$1:D12)),\"\")","v":""},null,null,{"$f":"IFERROR(INDEX($P$12:$R$111,(SMALL(IF(INDEX($P$12:$R$111,,$A$149)=$A$255,MATCH(ROW($P$12:$P$111),ROW($P$12:$P$111)),\"\"),ROWS($B$1:B12))),COLUMNS($B$1:B12)),\"\")","v":""},{"$f":"IFERROR(INDEX($P$12:$R$111,(SMALL(IF(INDEX($P$12:$R$111,,$A$149)=$A$255,MATCH(ROW($P$12:$P$111),ROW($P$12:$P$111)),\"\"),ROWS($B$1:C12))),COLUMNS($B$1:C12)),\"\")","v":""},{"$f":"IFERROR(INDEX($P$12:$R$111,(SMALL(IF(INDEX($P$12:$R$111,,$A$149)=$A$255,MATCH(ROW($P$12:$P$111),ROW($P$12:$P$111)),\"\"),ROWS($B$1:D12))),COLUMNS($B$1:D12)),\"\")","v":""}]
[13,{"$f":"IFERROR(INDEX($B$12:$H$111,(SMALL(IF(INDEX($B$12:$H$111,,$A$149)=$A$255,MATCH(ROW($B$12:$B$111),ROW($B$12:$B$111)),\"\"),ROWS($B$1:B13))),COLUMNS($B$1:B13)),\"\")","v":""},{"$f":"IFERROR(INDEX($B$12:$H$111,(SMALL(IF(INDEX($B$12:$H$111,,$A$149)=$A$255,MATCH(ROW($B$12:$B$111),ROW($B$12:$B$111)),\"\"),ROWS($B$1:C13))),COLUMNS($B$1:C13)),\"\")","v":""},{"$f":"IFERROR(INDEX($B$12:$H$111,(SMALL(IF(INDEX($B$12:$H$111,,$A$149)=$A$255,MATCH(ROW($B$12:$B$111),ROW($B$12:$B$111)),\"\"),ROWS($B$1:D13))),COLUMNS($B$1:D13)),\"\")","v":""},{"$f":"IFERROR(INDEX($B$12:$H$111,(SMALL(IF(INDEX($B$12:$H$111,,$A$149)=$A$255,MATCH(ROW($B$12:$B$111),ROW($B$12:$B$111)),\"\"),ROWS($B$1:E13))),COLUMNS($B$1:E13)),\"\")","v":""},{"$f":"IFERROR(INDEX($B$12:$H$111,(SMALL(IF(INDEX($B$12:$H$111,,$A$149)=$A$255,MATCH(ROW($B$12:$B$111),ROW($B$12:$B$111)),\"\"),ROWS($B$1:F13))),COLUMNS($B$1:F13)),\"\")","v":""},{"$f":"IFERROR(INDEX($B$12:$H$111,(SMALL(IF(INDEX($B$12:$H$111,,$A$149)=$A$255,MATCH(ROW($B$12:$B$111),ROW($B$12:$B$111)),\"\"),ROWS($B$1:G13))),COLUMNS($B$1:G13)),\"\")","v":""},{"$f":"IFERROR(INDEX($B$12:$H$111,(SMALL(IF(INDEX($B$12:$H$111,,$A$149)=$A$255,MATCH(ROW($B$12:$B$111),ROW($B$12:$B$111)),\"\"),ROWS($B$1:H13))),COLUMNS($B$1:H13)),\"\")","v":""},null,null,{"$f":"IFERROR(INDEX($K$12:$M$111,(SMALL(IF(INDEX($K$12:$M$111,,$A$149)=$A$255,MATCH(ROW($K$12:$K$111),ROW($K$12:$K$111)),\"\"),ROWS($B$1:B13))),COLUMNS($B$1:B13)),\"\")","v":""},{"$f":"IFERROR(INDEX($K$12:$M$111,(SMALL(IF(INDEX($K$12:$M$111,,$A$149)=$A$255,MATCH(ROW($K$12:$K$111),ROW($K$12:$K$111)),\"\"),ROWS($B$1:C13))),COLUMNS($B$1:C13)),\"\")","v":""},{"$f":"IFERROR(INDEX($K$12:$M$111,(SMALL(IF(INDEX($K$12:$M$111,,$A$149)=$A$255,MATCH(ROW($K$12:$K$111),ROW($K$12:$K$111)),\"\"),ROWS($B$1:D13))),COLUMNS($B$1:D13)),\"\")","v":""},null,null,{"$f":"IFERROR(INDEX($P$12:$R$111,(SMALL(IF(INDEX($P$12:$R$111,,$A$149)=$A$255,MATCH(ROW($P$12:$P$111),ROW($P$12:$P$111)),\"\"),ROWS($B$1:B13))),COLUMNS($B$1:B13)),\"\")","v":""},{"$f":"IFERROR(INDEX($P$12:$R$111,(SMALL(IF(INDEX($P$12:$R$111,,$A$149)=$A$255,MATCH(ROW($P$12:$P$111),ROW($P$12:$P$111)),\"\"),ROWS($B$1:C13))),COLUMNS($B$1:C13)),\"\")","v":""},{"$f":"IFERROR(INDEX($P$12:$R$111,(SMALL(IF(INDEX($P$12:$R$111,,$A$149)=$A$255,MATCH(ROW($P$12:$P$111),ROW($P$12:$P$111)),\"\"),ROWS($B$1:D13))),COLUMNS($B$1:D13)),\"\")","v":""}]
[14,{"$f":"IFERROR(INDEX($B$12:$H$111,(SMALL(IF(INDEX($B$12:$H$111,,$A$149)=$A$255,MATCH(ROW($B$12:$B$111),ROW($B$12:$B$111)),\"\"),ROWS($B$1:B14))),COLUMNS($B$1:B14)),\"\")","v":""},{"$f":"IFERROR(INDEX($B$12:$H$111,(SMALL(IF(INDEX($B$12:$H$111,,$A$149)=$A$255,MATCH(ROW($B$12:$B$111),ROW($B$12:$B$111)),\"\"),ROWS($B$1:C14))),COLUMNS($B$1:C14)),\"\")","v":""},{"$f":"IFERROR(INDEX($B$12:$H$111,(SMALL(IF(INDEX($B$12:$H$111,,$A$149)=$A$255,MATCH(ROW($B$12:$B$111),ROW($B$12:$B$111)),\"\"),ROWS($B$1:D14))),COLUMNS($B$1:D14)),\"\")","v":""},{"$f":"IFERROR(INDEX($B$12:$H$111,(SMALL(IF(INDEX($B$12:$H$111,,$A$149)=$A$255,MATCH(ROW($B$12:$B$111),ROW($B$12:$B$111)),\"\"),ROWS($B$1:E14))),COLUMNS($B$1:E14)),\"\")","v":""},{"$f":"IFERROR(INDEX($B$12:$H$111,(SMALL(IF(INDEX($B$12:$H$111,,$A$149)=$A$255,MATCH(ROW($B$12:$B$111),ROW($B$12:$B$111)),\"\"),ROWS($B$1:F14))),COLUMNS($B$1:F14)),\"\")","v":""},{"$f":"IFERROR(INDEX($B$12:$H$111,(SMALL(IF(INDEX($B$12:$H$111,,$A$149)=$A$255,MATCH(ROW($B$12:$B$111),ROW($B$12:$B$111)),\"\"),ROWS($B$1:G14))),COLUMNS($B$1:G14)),\"\")","v":""},{"$f":"IFERROR(INDEX($B$12:$H$111,(SMALL(IF(INDEX($B$12:$H$111,,$A$149)=$A$255,MATCH(ROW($B$12:$B$111),ROW($B$12:$B$111)),\"\"),ROWS($B$1:H14))),COLUMNS($B$1:H14)),\"\")","v":""},null,null,{"$f":"IFERROR(INDEX($K$12:$M$111,(SMALL(IF(INDEX($K$12:$M$111,,$A$149)=$A$255,MATCH(ROW($K$12:$K$111),ROW($K$12:$K$111)),\"\"),ROWS($B$1:B14))),COLUMNS($B$1:B14)),\"\")","v":""},{"$f":"IFERROR(INDEX($K$12:$M$111,(SMALL(IF(INDEX($K$12:$M$111,,$A$149)=$A$255,MATCH(ROW($K$12:$K$111),ROW($K$12:$K$111)),\"\"),ROWS($B$1:C14))),COLUMNS($B$1:C14)),\"\")","v":""},{"$f":"IFERROR(INDEX($K$12:$M$111,(SMALL(IF(INDEX($K$12:$M$111,,$A$149)=$A$255,MATCH(ROW($K$12:$K$111),ROW($K$12:$K$111)),\"\"),ROWS($B$1:D14))),COLUMNS($B$1:D14)),\"\")","v":""},null,null,{"$f":"IFERROR(INDEX($P$12:$R$111,(SMALL(IF(INDEX($P$12:$R$111,,$A$149)=$A$255,MATCH(ROW($P$12:$P$111),ROW($P$12:$P$111)),\"\"),ROWS($B$1:B14))),COLUMNS($B$1:B14)),\"\")","v":""},{"$f":"IFERROR(INDEX($P$12:$R$111,(SMALL(IF(INDEX($P$12:$R$111,,$A$149)=$A$255,MATCH(ROW($P$12:$P$111),ROW($P$12:$P$111)),\"\"),ROWS($B$1:C14))),COLUMNS($B$1:C14)),\"\")","v":""},{"$f":"IFERROR(INDEX($P$12:$R$111,(SMALL(IF(INDEX($P$12:$R$111,,$A$149)=$A$255,MATCH(ROW($P$12:$P$111),ROW($P$12:$P$111)),\"\"),ROWS($B$1:D14))),COLUMNS($B$1:D14)),\"\")","v":""}]
[15,{"$f":"IFERROR(INDEX($B$12:$H$111,(SMALL(IF(INDEX($B$12:$H$111,,$A$149)=$A$255,MATCH(ROW($B$12:$B$111),ROW($B$12:$B$111)),\"\"),ROWS($B$1:B15))),COLUMNS($B$1:B15)),\"\")","v":""},{"$f":"IFERROR(INDEX($B$12:$H$111,(SMALL(IF(INDEX($B$12:$H$111,,$A$149)=$A$255,MATCH(ROW($B$12:$B$111),ROW($B$12:$B$111)),\"\"),ROWS($B$1:C15))),COLUMNS($B$1:C15)),\"\")","v":""},{"$f":"IFERROR(INDEX($B$12:$H$111,(SMALL(IF(INDEX($B$12:$H$111,,$A$149)=$A$255,MATCH(ROW($B$12:$B$111),ROW($B$12:$B$111)),\"\"),ROWS($B$1:D15))),COLUMNS($B$1:D15)),\"\")","v":""},{"$f":"IFERROR(INDEX($B$12:$H$111,(SMALL(IF(INDEX($B$12:$H$111,,$A$149)=$A$255,MATCH(ROW($B$12:$B$111),ROW($B$12:$B$111)),\"\"),ROWS($B$1:E15))),COLUMNS($B$1:E15)),\"\")","v":""},{"$f":"IFERROR(INDEX($B$12:$H$111,(SMALL(IF(INDEX($B$12:$H$111,,$A$149)=$A$255,MATCH(ROW($B$12:$B$111),ROW($B$12:$B$111)),\"\"),ROWS($B$1:F15))),COLUMNS($B$1:F15)),\"\")","v":""},{"$f":"IFERROR(INDEX($B$12:$H$111,(SMALL(IF(INDEX($B$12:$H$111,,$A$149)=$A$255,MATCH(ROW($B$12:$B$111),ROW($B$12:$B$111)),\"\"),ROWS($B$1:G15))),COLUMNS($B$1:G15)),\"\")","v":""},{"$f":"IFERROR(INDEX($B$12:$H$111,(SMALL(IF(INDEX($B$12:$H$111,,$A$149)=$A$255,MATCH(ROW($B$12:$B$111),ROW($B$12:$B$111)),\"\"),ROWS($B$1:H15))),COLUMNS($B$1:H15)),\"\")","v":""},null,null,{"$f":"IFERROR(INDEX($K$12:$M$111,(SMALL(IF(INDEX($K$12:$M$111,,$A$149)=$A$255,MATCH(ROW($K$12:$K$111),ROW($K$12:$K$111)),\"\"),ROWS($B$1:B15))),COLUMNS($B$1:B15)),\"\")","v":""},{"$f":"IFERROR(INDEX($K$12:$M$111,(SMALL(IF(INDEX($K$12:$M$111,,$A$149)=$A$255,MATCH(ROW($K$12:$K$111),ROW($K$12:$K$111)),\"\"),ROWS($B$1:C15))),COLUMNS($B$1:C15)),\"\")","v":""},{"$f":"IFERROR(INDEX($K$12:$M$111,(SMALL(IF(INDEX($K$12:$M$111,,$A$149)=$A$255,MATCH(ROW($K$12:$K$111),ROW($K$12:$K$111)),\"\"),ROWS($B$1:D15))),COLUMNS($B$1:D15)),\"\")","v":""},null,null,{"$f":"IFERROR(INDEX($P$12:$R$111,(SMALL(IF(INDEX($P$12:$R$111,,$A$149)=$A$255,MATCH(ROW($P$12:$P$111),ROW($P$12:$P$111)),\"\"),ROWS($B$1:B15))),COLUMNS($B$1:B15)),\"\")","v":""},{"$f":"IFERROR(INDEX($P$12:$R$111,(SMALL(IF(INDEX($P$12:$R$111,,$A$149)=$A$255,MATCH(ROW($P$12:$P$111),ROW($P$12:$P$111)),\"\"),ROWS($B$1:C15))),COLUMNS($B$1:C15)),\"\")","v":""},{"$f":"IFERROR(INDEX($P$12:$R$111,(SMALL(IF(INDEX($P$12:$R$111,,$A$149)=$A$255,MATCH(ROW($P$12:$P$111),ROW($P$12:$P$111)),\"\"),ROWS($B$1:D15))),COLUMNS($B$1:D15)),\"\")","v":""}]
[16,{"$f":"IFERROR(INDEX($B$12:$H$111,(SMALL(IF(INDEX($B$12:$H$111,,$A$149)=$A$255,MATCH(ROW($B$12:$B$111),ROW($B$12:$B$111)),\"\"),ROWS($B$1:B16))),COLUMNS($B$1:B16)),\"\")","v":""},{"$f":"IFERROR(INDEX($B$12:$H$111,(SMALL(IF(INDEX($B$12:$H$111,,$A$149)=$A$255,MATCH(ROW($B$12:$B$111),ROW($B$12:$B$111)),\"\"),ROWS($B$1:C16))),COLUMNS($B$1:C16)),\"\")","v":""},{"$f":"IFERROR(INDEX($B$12:$H$111,(SMALL(IF(INDEX($B$12:$H$111,,$A$149)=$A$255,MATCH(ROW($B$12:$B$111),ROW($B$12:$B$111)),\"\"),ROWS($B$1:D16))),COLUMNS($B$1:D16)),\"\")","v":""},{"$f":"IFERROR(INDEX($B$12:$H$111,(SMALL(IF(INDEX($B$12:$H$111,,$A$149)=$A$255,MATCH(ROW($B$12:$B$111),ROW($B$12:$B$111)),\"\"),ROWS($B$1:E16))),COLUMNS($B$1:E16)),\"\")","v":""},{"$f":"IFERROR(INDEX($B$12:$H$111,(SMALL(IF(INDEX($B$12:$H$111,,$A$149)=$A$255,MATCH(ROW($B$12:$B$111),ROW($B$12:$B$111)),\"\"),ROWS($B$1:F16))),COLUMNS($B$1:F16)),\"\")","v":""},{"$f":"IFERROR(INDEX($B$12:$H$111,(SMALL(IF(INDEX($B$12:$H$111,,$A$149)=$A$255,MATCH(ROW($B$12:$B$111),ROW($B$12:$B$111)),\"\"),ROWS($B$1:G16))),COLUMNS($B$1:G16)),\"\")","v":""},{"$f":"IFERROR(INDEX($B$12:$H$111,(SMALL(IF(INDEX($B$12:$H$111,,$A$149)=$A$255,MATCH(ROW($B$12:$B$111),ROW($B$12:$B$111)),\"\"),ROWS($B$1:H16))),COLUMNS($B$1:H16)),\"\")","v":""},null,null,{"$f":"IFERROR(INDEX($K$12:$M$111,(SMALL(IF(INDEX($K$12:$M$111,,$A$149)=$A$255,MATCH(ROW($K$12:$K$111),ROW($K$12:$K$111)),\"\"),ROWS($B$1:B16))),COLUMNS($B$1:B16)),\"\")","v":""},{"$f":"IFERROR(INDEX($K$12:$M$111,(SMALL(IF(INDEX($K$12:$M$111,,$A$149)=$A$255,MATCH(ROW($K$12:$K$111),ROW($K$12:$K$111)),\"\"),ROWS($B$1:C16))),COLUMNS($B$1:C16)),\"\")","v":""},{"$f":"IFERROR(INDEX($K$12:$M$111,(SMALL(IF(INDEX($K$12:$M$111,,$A$149)=$A$255,MATCH(ROW($K$12:$K$111),ROW($K$12:$K$111)),\"\"),ROWS($B$1:D16))),COLUMNS($B$1:D16)),\"\")","v":""},null,null,{"$f":"IFERROR(INDEX($P$12:$R$111,(SMALL(IF(INDEX($P$12:$R$111,,$A$149)=$A$255,MATCH(ROW($P$12:$P$111),ROW($P$12:$P$111)),\"\"),ROWS($B$1:B16))),COLUMNS($B$1:B16)),\"\")","v":""},{"$f":"IFERROR(INDEX($P$12:$R$111,(SMALL(IF(INDEX($P$12:$R$111,,$A$149)=$A$255,MATCH(ROW($P$12:$P$111),ROW($P$12:$P$111)),\"\"),ROWS($B$1:C16))),COLUMNS($B$1:C16)),\"\")","v":""},{"$f":"IFERROR(INDEX($P$12:$R$111,(SMALL(IF(INDEX($P$12:$R$111,,$A$149)=$A$255,MATCH(ROW($P$12:$P$111),ROW($P$12:$P$111)),\"\"),ROWS($B$1:D16))),COLUMNS($B$1:D16)),\"\")","v":""}]
[17,{"$f":"IFERROR(INDEX($B$12:$H$111,(SMALL(IF(INDEX($B$12:$H$111,,$A$149)=$A$255,MATCH(ROW($B$12:$B$111),ROW($B$12:$B$111)),\"\"),ROWS($B$1:B17))),COLUMNS($B$1:B17)),\"\")","v":""},{"$f":"IFERROR(INDEX($B$12:$H$111,(SMALL(IF(INDEX($B$12:$H$111,,$A$149)=$A$255,MATCH(ROW($B$12:$B$111),ROW($B$12:$B$111)),\"\"),ROWS($B$1:C17))),COLUMNS($B$1:C17)),\"\")","v":""},{"$f":"IFERROR(INDEX($B$12:$H$111,(SMALL(IF(INDEX($B$12:$H$111,,$A$149)=$A$255,MATCH(ROW($B$12:$B$111),ROW($B$12:$B$111)),\"\"),ROWS($B$1:D17))),COLUMNS($B$1:D17)),\"\")","v":""},{"$f":"IFERROR(INDEX($B$12:$H$111,(SMALL(IF(INDEX($B$12:$H$111,,$A$149)=$A$255,MATCH(ROW($B$12:$B$111),ROW($B$12:$B$111)),\"\"),ROWS($B$1:E17))),COLUMNS($B$1:E17)),\"\")","v":""},{"$f":"IFERROR(INDEX($B$12:$H$111,(SMALL(IF(INDEX($B$12:$H$111,,$A$149)=$A$255,MATCH(ROW($B$12:$B$111),ROW($B$12:$B$111)),\"\"),ROWS($B$1:F17))),COLUMNS($B$1:F17)),\"\")","v":""},{"$f":"IFERROR(INDEX($B$12:$H$111,(SMALL(IF(INDEX($B$12:$H$111,,$A$149)=$A$255,MATCH(ROW($B$12:$B$111),ROW($B$12:$B$111)),\"\"),ROWS($B$1:G17))),COLUMNS($B$1:G17)),\"\")","v":""},{"$f":"IFERROR(INDEX($B$12:$H$111,(SMALL(IF(INDEX($B$12:$H$111,,$A$149)=$A$255,MATCH(ROW($B$12:$B$111),ROW($B$12:$B$111)),\"\"),ROWS($B$1:H17))),COLUMNS($B$1:H17)),\"\")","v":""},null,null,{"$f":"IFERROR(INDEX($K$12:$M$111,(SMALL(IF(INDEX($K$12:$M$111,,$A$149)=$A$255,MATCH(ROW($K$12:$K$111),ROW($K$12:$K$111)),\"\"),ROWS($B$1:B17))),COLUMNS($B$1:B17)),\"\")","v":""},{"$f":"IFERROR(INDEX($K$12:$M$111,(SMALL(IF(INDEX($K$12:$M$111,,$A$149)=$A$255,MATCH(ROW($K$12:$K$111),ROW($K$12:$K$111)),\"\"),ROWS($B$1:C17))),COLUMNS($B$1:C17)),\"\")","v":""},{"$f":"IFERROR(INDEX($K$12:$M$111,(SMALL(IF(INDEX($K$12:$M$111,,$A$149)=$A$255,MATCH(ROW($K$12:$K$111),ROW($K$12:$K$111)),\"\"),ROWS($B$1:D17))),COLUMNS($B$1:D17)),\"\")","v":""},null,null,{"$f":"IFERROR(INDEX($P$12:$R$111,(SMALL(IF(INDEX($P$12:$R$111,,$A$149)=$A$255,MATCH(ROW($P$12:$P$111),ROW($P$12:$P$111)),\"\"),ROWS($B$1:B17))),COLUMNS($B$1:B17)),\"\")","v":""},{"$f":"IFERROR(INDEX($P$12:$R$111,(SMALL(IF(INDEX($P$12:$R$111,,$A$149)=$A$255,MATCH(ROW($P$12:$P$111),ROW($P$12:$P$111)),\"\"),ROWS($B$1:C17))),COLUMNS($B$1:C17)),\"\")","v":""},{"$f":"IFERROR(INDEX($P$12:$R$111,(SMALL(IF(INDEX($P$12:$R$111,,$A$149)=$A$255,MATCH(ROW($P$12:$P$111),ROW($P$12:$P$111)),\"\"),ROWS($B$1:D17))),COLUMNS($B$1:D17)),\"\")","v":""}]
[18,{"$f":"IFERROR(INDEX($B$12:$H$111,(SMALL(IF(INDEX($B$12:$H$111,,$A$149)=$A$255,MATCH(ROW($B$12:$B$111),ROW($B$12:$B$111)),\"\"),ROWS($B$1:B18))),COLUMNS($B$1:B18)),\"\")","v":""},{"$f":"IFERROR(INDEX($B$12:$H$111,(SMALL(IF(INDEX($B$12:$H$111,,$A$149)=$A$255,MATCH(ROW($B$12:$B$111),ROW($B$12:$B$111)),\"\"),ROWS($B$1:C18))),COLUMNS($B$1:C18)),\"\")","v":""},{"$f":"IFERROR(INDEX($B$12:$H$111,(SMALL(IF(INDEX($B$12:$H$111,,$A$149)=$A$255,MATCH(ROW($B$12:$B$111),ROW($B$12:$B$111)),\"\"),ROWS($B$1:D18))),COLUMNS($B$1:D18)),\"\")","v":""},{"$f":"IFERROR(INDEX($B$12:$H$111,(SMALL(IF(INDEX($B$12:$H$111,,$A$149)=$A$255,MATCH(ROW($B$12:$B$111),ROW($B$12:$B$111)),\"\"),ROWS($B$1:E18))),COLUMNS($B$1:E18)),\"\")","v":""},{"$f":"IFERROR(INDEX($B$12:$H$111,(SMALL(IF(INDEX($B$12:$H$111,,$A$149)=$A$255,MATCH(ROW($B$12:$B$111),ROW($B$12:$B$111)),\"\"),ROWS($B$1:F18))),COLUMNS($B$1:F18)),\"\")","v":""},{"$f":"IFERROR(INDEX($B$12:$H$111,(SMALL(IF(INDEX($B$12:$H$111,,$A$149)=$A$255,MATCH(ROW($B$12:$B$111),ROW($B$12:$B$111)),\"\"),ROWS($B$1:G18))),COLUMNS($B$1:G18)),\"\")","v":""},{"$f":"IFERROR(INDEX($B$12:$H$111,(SMALL(IF(INDEX($B$12:$H$111,,$A$149)=$A$255,MATCH(ROW($B$12:$B$111),ROW($B$12:$B$111)),\"\"),ROWS($B$1:H18))),COLUMNS($B$1:H18)),\"\")","v":""},null,null,{"$f":"IFERROR(INDEX($K$12:$M$111,(SMALL(IF(INDEX($K$12:$M$111,,$A$149)=$A$255,MATCH(ROW($K$12:$K$111),ROW($K$12:$K$111)),\"\"),ROWS($B$1:B18))),COLUMNS($B$1:B18)),\"\")","v":""},{"$f":"IFERROR(INDEX($K$12:$M$111,(SMALL(IF(INDEX($K$12:$M$111,,$A$149)=$A$255,MATCH(ROW($K$12:$K$111),ROW($K$12:$K$111)),\"\"),ROWS($B$1:C18))),COLUMNS($B$1:C18)),\"\")","v":""},{"$f":"IFERROR(INDEX($K$12:$M$111,(SMALL(IF(INDEX($K$12:$M$111,,$A$149)=$A$255,MATCH(ROW($K$12:$K$111),ROW($K$12:$K$111)),\"\"),ROWS($B$1:D18))),COLUMNS($B$1:D18)),\"\")","v":""},null,null,{"$f":"IFERROR(INDEX($P$12:$R$111,(SMALL(IF(INDEX($P$12:$R$111,,$A$149)=$A$255,MATCH(ROW($P$12:$P$111),ROW($P$12:$P$111)),\"\"),ROWS($B$1:B18))),COLUMNS($B$1:B18)),\"\")","v":""},{"$f":"IFERROR(INDEX($P$12:$R$111,(SMALL(IF(INDEX($P$12:$R$111,,$A$149)=$A$255,MATCH(ROW($P$12:$P$111),ROW($P$12:$P$111)),\"\"),ROWS($B$1:C18))),COLUMNS($B$1:C18)),\"\")","v":""},{"$f":"IFERROR(INDEX($P$12:$R$111,(SMALL(IF(INDEX($P$12:$R$111,,$A$149)=$A$255,MATCH(ROW($P$12:$P$111),ROW($P$12:$P$111)),\"\"),ROWS($B$1:D18))),COLUMNS($B$1:D18)),\"\")","v":""}]
[19,{"$f":"IFERROR(INDEX($B$12:$H$111,(SMALL(IF(INDEX($B$12:$H$111,,$A$149)=$A$255,MATCH(ROW($B$12:$B$111),ROW($B$12:$B$111)),\"\"),ROWS($B$1:B19))),COLUMNS($B$1:B19)),\"\")","v":""},{"$f":"IFERROR(INDEX($B$12:$H$111,(SMALL(IF(INDEX($B$12:$H$111,,$A$149)=$A$255,MATCH(ROW($B$12:$B$111),ROW($B$12:$B$111)),\"\"),ROWS($B$1:C19))),COLUMNS($B$1:C19)),\"\")","v":""},{"$f":"IFERROR(INDEX($B$12:$H$111,(SMALL(IF(INDEX($B$12:$H$111,,$A$149)=$A$255,MATCH(ROW($B$12:$B$111),ROW($B$12:$B$111)),\"\"),ROWS($B$1:D19))),COLUMNS($B$1:D19)),\"\")","v":""},{"$f":"IFERROR(INDEX($B$12:$H$111,(SMALL(IF(INDEX($B$12:$H$111,,$A$149)=$A$255,MATCH(ROW($B$12:$B$111),ROW($B$12:$B$111)),\"\"),ROWS($B$1:E19))),COLUMNS($B$1:E19)),\"\")","v":""},{"$f":"IFERROR(INDEX($B$12:$H$111,(SMALL(IF(INDEX($B$12:$H$111,,$A$149)=$A$255,MATCH(ROW($B$12:$B$111),ROW($B$12:$B$111)),\"\"),ROWS($B$1:F19))),COLUMNS($B$1:F19)),\"\")","v":""},{"$f":"IFERROR(INDEX($B$12:$H$111,(SMALL(IF(INDEX($B$12:$H$111,,$A$149)=$A$255,MATCH(ROW($B$12:$B$111),ROW($B$12:$B$111)),\"\"),ROWS($B$1:G19))),COLUMNS($B$1:G19)),\"\")","v":""},{"$f":"IFERROR(INDEX($B$12:$H$111,(SMALL(IF(INDEX($B$12:$H$111,,$A$149)=$A$255,MATCH(ROW($B$12:$B$111),ROW($B$12:$B$111)),\"\"),ROWS($B$1:H19))),COLUMNS($B$1:H19)),\"\")","v":""},null,null,{"$f":"IFERROR(INDEX($K$12:$M$111,(SMALL(IF(INDEX($K$12:$M$111,,$A$149)=$A$255,MATCH(ROW($K$12:$K$111),ROW($K$12:$K$111)),\"\"),ROWS($B$1:B19))),COLUMNS($B$1:B19)),\"\")","v":""},{"$f":"IFERROR(INDEX($K$12:$M$111,(SMALL(IF(INDEX($K$12:$M$111,,$A$149)=$A$255,MATCH(ROW($K$12:$K$111),ROW($K$12:$K$111)),\"\"),ROWS($B$1:C19))),COLUMNS($B$1:C19)),\"\")","v":""},{"$f":"IFERROR(INDEX($K$12:$M$111,(SMALL(IF(INDEX($K$12:$M$111,,$A$149)=$A$255,MATCH(ROW($K$12:$K$111),ROW($K$12:$K$111)),\"\"),ROWS($B$1:D19))),COLUMNS($B$1:D19)),\"\")","v":""},null,null,{"$f":"IFERROR(INDEX($P$12:$R$111,(SMALL(IF(INDEX($P$12:$R$111,,$A$149)=$A$255,MATCH(ROW($P$12:$P$111),ROW($P$12:$P$111)),\"\"),ROWS($B$1:B19))),COLUMNS($B$1:B19)),\"\")","v":""},{"$f":"IFERROR(INDEX($P$12:$R$111,(SMALL(IF(INDEX($P$12:$R$111,,$A$149)=$A$255,MATCH(ROW($P$12:$P$111),ROW($P$12:$P$111)),\"\"),ROWS($B$1:C19))),COLUMNS($B$1:C19)),\"\")","v":""},{"$f":"IFERROR(INDEX($P$12:$R$111,(SMALL(IF(INDEX($P$12:$R$111,,$A$149)=$A$255,MATCH(ROW($P$12:$P$111),ROW($P$12:$P$111)),\"\"),ROWS($B$1:D19))),COLUMNS($B$1:D19)),\"\")","v":""}]
[20,{"$f":"IFERROR(INDEX($B$12:$H$111,(SMALL(IF(INDEX($B$12:$H$111,,$A$149)=$A$255,MATCH(ROW($B$12:$B$111),ROW($B$12:$B$111)),\"\"),ROWS($B$1:B20))),COLUMNS($B$1:B20)),\"\")","v":""},{"$f":"IFERROR(INDEX($B$12:$H$111,(SMALL(IF(INDEX($B$12:$H$111,,$A$149)=$A$255,MATCH(ROW($B$12:$B$111),ROW($B$12:$B$111)),\"\"),ROWS($B$1:C20))),COLUMNS($B$1:C20)),\"\")","v":""},{"$f":"IFERROR(INDEX($B$12:$H$111,(SMALL(IF(INDEX($B$12:$H$111,,$A$149)=$A$255,MATCH(ROW($B$12:$B$111),ROW($B$12:$B$111)),\"\"),ROWS($B$1:D20))),COLUMNS($B$1:D20)),\"\")","v":""},{"$f":"IFERROR(INDEX($B$12:$H$111,(SMALL(IF(INDEX($B$12:$H$111,,$A$149)=$A$255,MATCH(ROW($B$12:$B$111),ROW($B$12:$B$111)),\"\"),ROWS($B$1:E20))),COLUMNS($B$1:E20)),\"\")","v":""},{"$f":"IFERROR(INDEX($B$12:$H$111,(SMALL(IF(INDEX($B$12:$H$111,,$A$149)=$A$255,MATCH(ROW($B$12:$B$111),ROW($B$12:$B$111)),\"\"),ROWS($B$1:F20))),COLUMNS($B$1:F20)),\"\")","v":""},{"$f":"IFERROR(INDEX($B$12:$H$111,(SMALL(IF(INDEX($B$12:$H$111,,$A$149)=$A$255,MATCH(ROW($B$12:$B$111),ROW($B$12:$B$111)),\"\"),ROWS($B$1:G20))),COLUMNS($B$1:G20)),\"\")","v":""},{"$f":"IFERROR(INDEX($B$12:$H$111,(SMALL(IF(INDEX($B$12:$H$111,,$A$149)=$A$255,MATCH(ROW($B$12:$B$111),ROW($B$12:$B$111)),\"\"),ROWS($B$1:H20))),COLUMNS($B$1:H20)),\"\")","v":""},null,null,{"$f":"IFERROR(INDEX($K$12:$M$111,(SMALL(IF(INDEX($K$12:$M$111,,$A$149)=$A$255,MATCH(ROW($K$12:$K$111),ROW($K$12:$K$111)),\"\"),ROWS($B$1:B20))),COLUMNS($B$1:B20)),\"\")","v":""},{"$f":"IFERROR(INDEX($K$12:$M$111,(SMALL(IF(INDEX($K$12:$M$111,,$A$149)=$A$255,MATCH(ROW($K$12:$K$111),ROW($K$12:$K$111)),\"\"),ROWS($B$1:C20))),COLUMNS($B$1:C20)),\"\")","v":""},{"$f":"IFERROR(INDEX($K$12:$M$111,(SMALL(IF(INDEX($K$12:$M$111,,$A$149)=$A$255,MATCH(ROW($K$12:$K$111),ROW($K$12:$K$111)),\"\"),ROWS($B$1:D20))),COLUMNS($B$1:D20)),\"\")","v":""},null,null,{"$f":"IFERROR(INDEX($P$12:$R$111,(SMALL(IF(INDEX($P$12:$R$111,,$A$149)=$A$255,MATCH(ROW($P$12:$P$111),ROW($P$12:$P$111)),\"\"),ROWS($B$1:B20))),COLUMNS($B$1:B20)),\"\")","v":""},{"$f":"IFERROR(INDEX($P$12:$R$111,(SMALL(IF(INDEX($P$12:$R$111,,$A$149)=$A$255,MATCH(ROW($P$12:$P$111),ROW($P$12:$P$111)),\"\"),ROWS($B$1:C20))),COLUMNS($B$1:C20)),\"\")","v":""},{"$f":"IFERROR(INDEX($P$12:$R$111,(SMALL(IF(INDEX($P$12:$R$111,,$A$149)=$A$255,MATCH(ROW($P$12:$P$111),ROW($P$12:$P$111)),\"\"),ROWS($B$1:D20))),COLUMNS($B$1:D20)),\"\")","v":""}]
[21,{"$f":"IFERROR(INDEX($B$12:$H$111,(SMALL(IF(INDEX($B$12:$H$111,,$A$149)=$A$255,MATCH(ROW($B$12:$B$111),ROW($B$12:$B$111)),\"\"),ROWS($B$1:B21))),COLUMNS($B$1:B21)),\"\")","v":""},{"$f":"IFERROR(INDEX($B$12:$H$111,(SMALL(IF(INDEX($B$12:$H$111,,$A$149)=$A$255,MATCH(ROW($B$12:$B$111),ROW($B$12:$B$111)),\"\"),ROWS($B$1:C21))),COLUMNS($B$1:C21)),\"\")","v":""},{"$f":"IFERROR(INDEX($B$12:$H$111,(SMALL(IF(INDEX($B$12:$H$111,,$A$149)=$A$255,MATCH(ROW($B$12:$B$111),ROW($B$12:$B$111)),\"\"),ROWS($B$1:D21))),COLUMNS($B$1:D21)),\"\")","v":""},{"$f":"IFERROR(INDEX($B$12:$H$111,(SMALL(IF(INDEX($B$12:$H$111,,$A$149)=$A$255,MATCH(ROW($B$12:$B$111),ROW($B$12:$B$111)),\"\"),ROWS($B$1:E21))),COLUMNS($B$1:E21)),\"\")","v":""},{"$f":"IFERROR(INDEX($B$12:$H$111,(SMALL(IF(INDEX($B$12:$H$111,,$A$149)=$A$255,MATCH(ROW($B$12:$B$111),ROW($B$12:$B$111)),\"\"),ROWS($B$1:F21))),COLUMNS($B$1:F21)),\"\")","v":""},{"$f":"IFERROR(INDEX($B$12:$H$111,(SMALL(IF(INDEX($B$12:$H$111,,$A$149)=$A$255,MATCH(ROW($B$12:$B$111),ROW($B$12:$B$111)),\"\"),ROWS($B$1:G21))),COLUMNS($B$1:G21)),\"\")","v":""},{"$f":"IFERROR(INDEX($B$12:$H$111,(SMALL(IF(INDEX($B$12:$H$111,,$A$149)=$A$255,MATCH(ROW($B$12:$B$111),ROW($B$12:$B$111)),\"\"),ROWS($B$1:H21))),COLUMNS($B$1:H21)),\"\")","v":""},null,null,{"$f":"IFERROR(INDEX($K$12:$M$111,(SMALL(IF(INDEX($K$12:$M$111,,$A$149)=$A$255,MATCH(ROW($K$12:$K$111),ROW($K$12:$K$111)),\"\"),ROWS($B$1:B21))),COLUMNS($B$1:B21)),\"\")","v":""},{"$f":"IFERROR(INDEX($K$12:$M$111,(SMALL(IF(INDEX($K$12:$M$111,,$A$149)=$A$255,MATCH(ROW($K$12:$K$111),ROW($K$12:$K$111)),\"\"),ROWS($B$1:C21))),COLUMNS($B$1:C21)),\"\")","v":""},{"$f":"IFERROR(INDEX($K$12:$M$111,(SMALL(IF(INDEX($K$12:$M$111,,$A$149)=$A$255,MATCH(ROW($K$12:$K$111),ROW($K$12:$K$111)),\"\"),ROWS($B$1:D21))),COLUMNS($B$1:D21)),\"\")","v":""},null,null,{"$f":"IFERROR(INDEX($P$12:$R$111,(SMALL(IF(INDEX($P$12:$R$111,,$A$149)=$A$255,MATCH(ROW($P$12:$P$111),ROW($P$12:$P$111)),\"\"),ROWS($B$1:B21))),COLUMNS($B$1:B21)),\"\")","v":""},{"$f":"IFERROR(INDEX($P$12:$R$111,(SMALL(IF(INDEX($P$12:$R$111,,$A$149)=$A$255,MATCH(ROW($P$12:$P$111),ROW($P$12:$P$111)),\"\"),ROWS($B$1:C21))),COLUMNS($B$1:C21)),\"\")","v":""},{"$f":"IFERROR(INDEX($P$12:$R$111,(SMALL(IF(INDEX($P$12:$R$111,,$A$149)=$A$255,MATCH(ROW($P$12:$P$111),ROW($P$12:$P$111)),\"\"),ROWS($B$1:D21))),COLUMNS($B$1:D21)),\"\")","v":""}]
[22,{"$f":"IFERROR(INDEX($B$12:$H$111,(SMALL(IF(INDEX($B$12:$H$111,,$A$149)=$A$255,MATCH(ROW($B$12:$B$111),ROW($B$12:$B$111)),\"\"),ROWS($B$1:B22))),COLUMNS($B$1:B22)),\"\")","v":""},{"$f":"IFERROR(INDEX($B$12:$H$111,(SMALL(IF(INDEX($B$12:$H$111,,$A$149)=$A$255,MATCH(ROW($B$12:$B$111),ROW($B$12:$B$111)),\"\"),ROWS($B$1:C22))),COLUMNS($B$1:C22)),\"\")","v":""},{"$f":"IFERROR(INDEX($B$12:$H$111,(SMALL(IF(INDEX($B$12:$H$111,,$A$149)=$A$255,MATCH(ROW($B$12:$B$111),ROW($B$12:$B$111)),\"\"),ROWS($B$1:D22))),COLUMNS($B$1:D22)),\"\")","v":""},{"$f":"IFERROR(INDEX($B$12:$H$111,(SMALL(IF(INDEX($B$12:$H$111,,$A$149)=$A$255,MATCH(ROW($B$12:$B$111),ROW($B$12:$B$111)),\"\"),ROWS($B$1:E22))),COLUMNS($B$1:E22)),\"\")","v":""},{"$f":"IFERROR(INDEX($B$12:$H$111,(SMALL(IF(INDEX($B$12:$H$111,,$A$149)=$A$255,MATCH(ROW($B$12:$B$111),ROW($B$12:$B$111)),\"\"),ROWS($B$1:F22))),COLUMNS($B$1:F22)),\"\")","v":""},{"$f":"IFERROR(INDEX($B$12:$H$111,(SMALL(IF(INDEX($B$12:$H$111,,$A$149)=$A$255,MATCH(ROW($B$12:$B$111),ROW($B$12:$B$111)),\"\"),ROWS($B$1:G22))),COLUMNS($B$1:G22)),\"\")","v":""},{"$f":"IFERROR(INDEX($B$12:$H$111,(SMALL(IF(INDEX($B$12:$H$111,,$A$149)=$A$255,MATCH(ROW($B$12:$B$111),ROW($B$12:$B$111)),\"\"),ROWS($B$1:H22))),COLUMNS($B$1:H22)),\"\")","v":""},null,null,{"$f":"IFERROR(INDEX($K$12:$M$111,(SMALL(IF(INDEX($K$12:$M$111,,$A$149)=$A$255,MATCH(ROW($K$12:$K$111),ROW($K$12:$K$111)),\"\"),ROWS($B$1:B22))),COLUMNS($B$1:B22)),\"\")","v":""},{"$f":"IFERROR(INDEX($K$12:$M$111,(SMALL(IF(INDEX($K$12:$M$111,,$A$149)=$A$255,MATCH(ROW($K$12:$K$111),ROW($K$12:$K$111)),\"\"),ROWS($B$1:C22))),COLUMNS($B$1:C22)),\"\")","v":""},{"$f":"IFERROR(INDEX($K$12:$M$111,(SMALL(IF(INDEX($K$12:$M$111,,$A$149)=$A$255,MATCH(ROW($K$12:$K$111),ROW($K$12:$K$111)),\"\"),ROWS($B$1:D22))),COLUMNS($B$1:D22)),\"\")","v":""},null,null,{"$f":"IFERROR(INDEX($P$12:$R$111,(SMALL(IF(INDEX($P$12:$R$111,,$A$149)=$A$255,MATCH(ROW($P$12:$P$111),ROW($P$12:$P$111)),\"\"),ROWS($B$1:B22))),COLUMNS($B$1:B22)),\"\")","v":""},{"$f":"IFERROR(INDEX($P$12:$R$111,(SMALL(IF(INDEX($P$12:$R$111,,$A$149)=$A$255,MATCH(ROW($P$12:$P$111),ROW($P$12:$P$111)),\"\"),ROWS($B$1:C22))),COLUMNS($B$1:C22)),\"\")","v":""},{"$f":"IFERROR(INDEX($P$12:$R$111,(SMALL(IF(INDEX($P$12:$R$111,,$A$149)=$A$255,MATCH(ROW($P$12:$P$111),ROW($P$12:$P$111)),\"\"),ROWS($B$1:D22))),COLUMNS($B$1:D22)),\"\")","v":""}]
[23,{"$f":"IFERROR(INDEX($B$12:$H$111,(SMALL(IF(INDEX($B$12:$H$111,,$A$149)=$A$255,MATCH(ROW($B$12:$B$111),ROW($B$12:$B$111)),\"\"),ROWS($B$1:B23))),COLUMNS($B$1:B23)),\"\")","v":""},{"$f":"IFERROR(INDEX($B$12:$H$111,(SMALL(IF(INDEX($B$12:$H$111,,$A$149)=$A$255,MATCH(ROW($B$12:$B$111),ROW($B$12:$B$111)),\"\"),ROWS($B$1:C23))),COLUMNS($B$1:C23)),\"\")","v":""},{"$f":"IFERROR(INDEX($B$12:$H$111,(SMALL(IF(INDEX($B$12:$H$111,,$A$149)=$A$255,MATCH(ROW($B$12:$B$111),ROW($B$12:$B$111)),\"\"),ROWS($B$1:D23))),COLUMNS($B$1:D23)),\"\")","v":""},{"$f":"IFERROR(INDEX($B$12:$H$111,(SMALL(IF(INDEX($B$12:$H$111,,$A$149)=$A$255,MATCH(ROW($B$12:$B$111),ROW($B$12:$B$111)),\"\"),ROWS($B$1:E23))),COLUMNS($B$1:E23)),\"\")","v":""},{"$f":"IFERROR(INDEX($B$12:$H$111,(SMALL(IF(INDEX($B$12:$H$111,,$A$149)=$A$255,MATCH(ROW($B$12:$B$111),ROW($B$12:$B$111)),\"\"),ROWS($B$1:F23))),COLUMNS($B$1:F23)),\"\")","v":""},{"$f":"IFERROR(INDEX($B$12:$H$111,(SMALL(IF(INDEX($B$12:$H$111,,$A$149)=$A$255,MATCH(ROW($B$12:$B$111),ROW($B$12:$B$111)),\"\"),ROWS($B$1:G23))),COLUMNS($B$1:G23)),\"\")","v":""},{"$f":"IFERROR(INDEX($B$12:$H$111,(SMALL(IF(INDEX($B$12:$H$111,,$A$149)=$A$255,MATCH(ROW($B$12:$B$111),ROW($B$12:$B$111)),\"\"),ROWS($B$1:H23))),COLUMNS($B$1:H23)),\"\")","v":""},null,null,{"$f":"IFERROR(INDEX($K$12:$M$111,(SMALL(IF(INDEX($K$12:$M$111,,$A$149)=$A$255,MATCH(ROW($K$12:$K$111),ROW($K$12:$K$111)),\"\"),ROWS($B$1:B23))),COLUMNS($B$1:B23)),\"\")","v":""},{"$f":"IFERROR(INDEX($K$12:$M$111,(SMALL(IF(INDEX($K$12:$M$111,,$A$149)=$A$255,MATCH(ROW($K$12:$K$111),ROW($K$12:$K$111)),\"\"),ROWS($B$1:C23))),COLUMNS($B$1:C23)),\"\")","v":""},{"$f":"IFERROR(INDEX($K$12:$M$111,(SMALL(IF(INDEX($K$12:$M$111,,$A$149)=$A$255,MATCH(ROW($K$12:$K$111),ROW($K$12:$K$111)),\"\"),ROWS($B$1:D23))),COLUMNS($B$1:D23)),\"\")","v":""},null,null,{"$f":"IFERROR(INDEX($P$12:$R$111,(SMALL(IF(INDEX($P$12:$R$111,,$A$149)=$A$255,MATCH(ROW($P$12:$P$111),ROW($P$12:$P$111)),\"\"),ROWS($B$1:B23))),COLUMNS($B$1:B23)),\"\")","v":""},{"$f":"IFERROR(INDEX($P$12:$R$111,(SMALL(IF(INDEX($P$12:$R$111,,$A$149)=$A$255,MATCH(ROW($P$12:$P$111),ROW($P$12:$P$111)),\"\"),ROWS($B$1:C23))),COLUMNS($B$1:C23)),\"\")","v":""},{"$f":"IFERROR(INDEX($P$12:$R$111,(SMALL(IF(INDEX($P$12:$R$111,,$A$149)=$A$255,MATCH(ROW($P$12:$P$111),ROW($P$12:$P$111)),\"\"),ROWS($B$1:D23))),COLUMNS($B$1:D23)),\"\")","v":""}]
[24,{"$f":"IFERROR(INDEX($B$12:$H$111,(SMALL(IF(INDEX($B$12:$H$111,,$A$149)=$A$255,MATCH(ROW($B$12:$B$111),ROW($B$12:$B$111)),\"\"),ROWS($B$1:B24))),COLUMNS($B$1:B24)),\"\")","v":""},{"$f":"IFERROR(INDEX($B$12:$H$111,(SMALL(IF(INDEX($B$12:$H$111,,$A$149)=$A$255,MATCH(ROW($B$12:$B$111),ROW($B$12:$B$111)),\"\"),ROWS($B$1:C24))),COLUMNS($B$1:C24)),\"\")","v":""},{"$f":"IFERROR(INDEX($B$12:$H$111,(SMALL(IF(INDEX($B$12:$H$111,,$A$149)=$A$255,MATCH(ROW($B$12:$B$111),ROW($B$12:$B$111)),\"\"),ROWS($B$1:D24))),COLUMNS($B$1:D24)),\"\")","v":""},{"$f":"IFERROR(INDEX($B$12:$H$111,(SMALL(IF(INDEX($B$12:$H$111,,$A$149)=$A$255,MATCH(ROW($B$12:$B$111),ROW($B$12:$B$111)),\"\"),ROWS($B$1:E24))),COLUMNS($B$1:E24)),\"\")","v":""},{"$f":"IFERROR(INDEX($B$12:$H$111,(SMALL(IF(INDEX($B$12:$H$111,,$A$149)=$A$255,MATCH(ROW($B$12:$B$111),ROW($B$12:$B$111)),\"\"),ROWS($B$1:F24))),COLUMNS($B$1:F24)),\"\")","v":""},{"$f":"IFERROR(INDEX($B$12:$H$111,(SMALL(IF(INDEX($B$12:$H$111,,$A$149)=$A$255,MATCH(ROW($B$12:$B$111),ROW($B$12:$B$111)),\"\"),ROWS($B$1:G24))),COLUMNS($B$1:G24)),\"\")","v":""},{"$f":"IFERROR(INDEX($B$12:$H$111,(SMALL(IF(INDEX($B$12:$H$111,,$A$149)=$A$255,MATCH(ROW($B$12:$B$111),ROW($B$12:$B$111)),\"\"),ROWS($B$1:H24))),COLUMNS($B$1:H24)),\"\")","v":""},null,null,{"$f":"IFERROR(INDEX($K$12:$M$111,(SMALL(IF(INDEX($K$12:$M$111,,$A$149)=$A$255,MATCH(ROW($K$12:$K$111),ROW($K$12:$K$111)),\"\"),ROWS($B$1:B24))),COLUMNS($B$1:B24)),\"\")","v":""},{"$f":"IFERROR(INDEX($K$12:$M$111,(SMALL(IF(INDEX($K$12:$M$111,,$A$149)=$A$255,MATCH(ROW($K$12:$K$111),ROW($K$12:$K$111)),\"\"),ROWS($B$1:C24))),COLUMNS($B$1:C24)),\"\")","v":""},{"$f":"IFERROR(INDEX($K$12:$M$111,(SMALL(IF(INDEX($K$12:$M$111,,$A$149)=$A$255,MATCH(ROW($K$12:$K$111),ROW($K$12:$K$111)),\"\"),ROWS($B$1:D24))),COLUMNS($B$1:D24)),\"\")","v":""},null,null,{"$f":"IFERROR(INDEX($P$12:$R$111,(SMALL(IF(INDEX($P$12:$R$111,,$A$149)=$A$255,MATCH(ROW($P$12:$P$111),ROW($P$12:$P$111)),\"\"),ROWS($B$1:B24))),COLUMNS($B$1:B24)),\"\")","v":""},{"$f":"IFERROR(INDEX($P$12:$R$111,(SMALL(IF(INDEX($P$12:$R$111,,$A$149)=$A$255,MATCH(ROW($P$12:$P$111),ROW($P$12:$P$111)),\"\"),ROWS($B$1:C24))),COLUMNS($B$1:C24)),\"\")","v":""},{"$f":"IFERROR(INDEX($P$12:$R$111,(SMALL(IF(INDEX($P$12:$R$111,,$A$149)=$A$255,MATCH(ROW($P$12:$P$111),ROW($P$12:$P$111)),\"\"),ROWS($B$1:D24))),COLUMNS($B$1:D24)),\"\")","v":""}]
[25,{"$f":"IFERROR(INDEX($B$12:$H$111,(SMALL(IF(INDEX($B$12:$H$111,,$A$149)=$A$255,MATCH(ROW($B$12:$B$111),ROW($B$12:$B$111)),\"\"),ROWS($B$1:B25))),COLUMNS($B$1:B25)),\"\")","v":""},{"$f":"IFERROR(INDEX($B$12:$H$111,(SMALL(IF(INDEX($B$12:$H$111,,$A$149)=$A$255,MATCH(ROW($B$12:$B$111),ROW($B$12:$B$111)),\"\"),ROWS($B$1:C25))),COLUMNS($B$1:C25)),\"\")","v":""},{"$f":"IFERROR(INDEX($B$12:$H$111,(SMALL(IF(INDEX($B$12:$H$111,,$A$149)=$A$255,MATCH(ROW($B$12:$B$111),ROW($B$12:$B$111)),\"\"),ROWS($B$1:D25))),COLUMNS($B$1:D25)),\"\")","v":""},{"$f":"IFERROR(INDEX($B$12:$H$111,(SMALL(IF(INDEX($B$12:$H$111,,$A$149)=$A$255,MATCH(ROW($B$12:$B$111),ROW($B$12:$B$111)),\"\"),ROWS($B$1:E25))),COLUMNS($B$1:E25)),\"\")","v":""},{"$f":"IFERROR(INDEX($B$12:$H$111,(SMALL(IF(INDEX($B$12:$H$111,,$A$149)=$A$255,MATCH(ROW($B$12:$B$111),ROW($B$12:$B$111)),\"\"),ROWS($B$1:F25))),COLUMNS($B$1:F25)),\"\")","v":""},{"$f":"IFERROR(INDEX($B$12:$H$111,(SMALL(IF(INDEX($B$12:$H$111,,$A$149)=$A$255,MATCH(ROW($B$12:$B$111),ROW($B$12:$B$111)),\"\"),ROWS($B$1:G25))),COLUMNS($B$1:G25)),\"\")","v":""},{"$f":"IFERROR(INDEX($B$12:$H$111,(SMALL(IF(INDEX($B$12:$H$111,,$A$149)=$A$255,MATCH(ROW($B$12:$B$111),ROW($B$12:$B$111)),\"\"),ROWS($B$1:H25))),COLUMNS($B$1:H25)),\"\")","v":""},null,null,{"$f":"IFERROR(INDEX($K$12:$M$111,(SMALL(IF(INDEX($K$12:$M$111,,$A$149)=$A$255,MATCH(ROW($K$12:$K$111),ROW($K$12:$K$111)),\"\"),ROWS($B$1:B25))),COLUMNS($B$1:B25)),\"\")","v":""},{"$f":"IFERROR(INDEX($K$12:$M$111,(SMALL(IF(INDEX($K$12:$M$111,,$A$149)=$A$255,MATCH(ROW($K$12:$K$111),ROW($K$12:$K$111)),\"\"),ROWS($B$1:C25))),COLUMNS($B$1:C25)),\"\")","v":""},{"$f":"IFERROR(INDEX($K$12:$M$111,(SMALL(IF(INDEX($K$12:$M$111,,$A$149)=$A$255,MATCH(ROW($K$12:$K$111),ROW($K$12:$K$111)),\"\"),ROWS($B$1:D25))),COLUMNS($B$1:D25)),\"\")","v":""},null,null,{"$f":"IFERROR(INDEX($P$12:$R$111,(SMALL(IF(INDEX($P$12:$R$111,,$A$149)=$A$255,MATCH(ROW($P$12:$P$111),ROW($P$12:$P$111)),\"\"),ROWS($B$1:B25))),COLUMNS($B$1:B25)),\"\")","v":""},{"$f":"IFERROR(INDEX($P$12:$R$111,(SMALL(IF(INDEX($P$12:$R$111,,$A$149)=$A$255,MATCH(ROW($P$12:$P$111),ROW($P$12:$P$111)),\"\"),ROWS($B$1:C25))),COLUMNS($B$1:C25)),\"\")","v":""},{"$f":"IFERROR(INDEX($P$12:$R$111,(SMALL(IF(INDEX($P$12:$R$111,,$A$149)=$A$255,MATCH(ROW($P$12:$P$111),ROW($P$12:$P$111)),\"\"),ROWS($B$1:D25))),COLUMNS($B$1:D25)),\"\")","v":""}]
[26,{"$f":"IFERROR(INDEX($B$12:$H$111,(SMALL(IF(INDEX($B$12:$H$111,,$A$149)=$A$255,MATCH(ROW($B$12:$B$111),ROW($B$12:$B$111)),\"\"),ROWS($B$1:B26))),COLUMNS($B$1:B26)),\"\")","v":""},{"$f":"IFERROR(INDEX($B$12:$H$111,(SMALL(IF(INDEX($B$12:$H$111,,$A$149)=$A$255,MATCH(ROW($B$12:$B$111),ROW($B$12:$B$111)),\"\"),ROWS($B$1:C26))),COLUMNS($B$1:C26)),\"\")","v":""},{"$f":"IFERROR(INDEX($B$12:$H$111,(SMALL(IF(INDEX($B$12:$H$111,,$A$149)=$A$255,MATCH(ROW($B$12:$B$111),ROW($B$12:$B$111)),\"\"),ROWS($B$1:D26))),COLUMNS($B$1:D26)),\"\")","v":""},{"$f":"IFERROR(INDEX($B$12:$H$111,(SMALL(IF(INDEX($B$12:$H$111,,$A$149)=$A$255,MATCH(ROW($B$12:$B$111),ROW($B$12:$B$111)),\"\"),ROWS($B$1:E26))),COLUMNS($B$1:E26)),\"\")","v":""},{"$f":"IFERROR(INDEX($B$12:$H$111,(SMALL(IF(INDEX($B$12:$H$111,,$A$149)=$A$255,MATCH(ROW($B$12:$B$111),ROW($B$12:$B$111)),\"\"),ROWS($B$1:F26))),COLUMNS($B$1:F26)),\"\")","v":""},{"$f":"IFERROR(INDEX($B$12:$H$111,(SMALL(IF(INDEX($B$12:$H$111,,$A$149)=$A$255,MATCH(ROW($B$12:$B$111),ROW($B$12:$B$111)),\"\"),ROWS($B$1:G26))),COLUMNS($B$1:G26)),\"\")","v":""},{"$f":"IFERROR(INDEX($B$12:$H$111,(SMALL(IF(INDEX($B$12:$H$111,,$A$149)=$A$255,MATCH(ROW($B$12:$B$111),ROW($B$12:$B$111)),\"\"),ROWS($B$1:H26))),COLUMNS($B$1:H26)),\"\")","v":""},null,null,{"$f":"IFERROR(INDEX($K$12:$M$111,(SMALL(IF(INDEX($K$12:$M$111,,$A$149)=$A$255,MATCH(ROW($K$12:$K$111),ROW($K$12:$K$111)),\"\"),ROWS($B$1:B26))),COLUMNS($B$1:B26)),\"\")","v":""},{"$f":"IFERROR(INDEX($K$12:$M$111,(SMALL(IF(INDEX($K$12:$M$111,,$A$149)=$A$255,MATCH(ROW($K$12:$K$111),ROW($K$12:$K$111)),\"\"),ROWS($B$1:C26))),COLUMNS($B$1:C26)),\"\")","v":""},{"$f":"IFERROR(INDEX($K$12:$M$111,(SMALL(IF(INDEX($K$12:$M$111,,$A$149)=$A$255,MATCH(ROW($K$12:$K$111),ROW($K$12:$K$111)),\"\"),ROWS($B$1:D26))),COLUMNS($B$1:D26)),\"\")","v":""},null,null,{"$f":"IFERROR(INDEX($P$12:$R$111,(SMALL(IF(INDEX($P$12:$R$111,,$A$149)=$A$255,MATCH(ROW($P$12:$P$111),ROW($P$12:$P$111)),\"\"),ROWS($B$1:B26))),COLUMNS($B$1:B26)),\"\")","v":""},{"$f":"IFERROR(INDEX($P$12:$R$111,(SMALL(IF(INDEX($P$12:$R$111,,$A$149)=$A$255,MATCH(ROW($P$12:$P$111),ROW($P$12:$P$111)),\"\"),ROWS($B$1:C26))),COLUMNS($B$1:C26)),\"\")","v":""},{"$f":"IFERROR(INDEX($P$12:$R$111,(SMALL(IF(INDEX($P$12:$R$111,,$A$149)=$A$255,MATCH(ROW($P$12:$P$111),ROW($P$12:$P$111)),\"\"),ROWS($B$1:D26))),COLUMNS($B$1:D26)),\"\")","v":""}]
[27,{"$f":"IFERROR(INDEX($B$12:$H$111,(SMALL(IF(INDEX($B$12:$H$111,,$A$149)=$A$255,MATCH(ROW($B$12:$B$111),ROW($B$12:$B$111)),\"\"),ROWS($B$1:B27))),COLUMNS($B$1:B27)),\"\")","v":""},{"$f":"IFERROR(INDEX($B$12:$H$111,(SMALL(IF(INDEX($B$12:$H$111,,$A$149)=$A$255,MATCH(ROW($B$12:$B$111),ROW($B$12:$B$111)),\"\"),ROWS($B$1:C27))),COLUMNS($B$1:C27)),\"\")","v":""},{"$f":"IFERROR(INDEX($B$12:$H$111,(SMALL(IF(INDEX($B$12:$H$111,,$A$149)=$A$255,MATCH(ROW($B$12:$B$111),ROW($B$12:$B$111)),\"\"),ROWS($B$1:D27))),COLUMNS($B$1:D27)),\"\")","v":""},{"$f":"IFERROR(INDEX($B$12:$H$111,(SMALL(IF(INDEX($B$12:$H$111,,$A$149)=$A$255,MATCH(ROW($B$12:$B$111),ROW($B$12:$B$111)),\"\"),ROWS($B$1:E27))),COLUMNS($B$1:E27)),\"\")","v":""},{"$f":"IFERROR(INDEX($B$12:$H$111,(SMALL(IF(INDEX($B$12:$H$111,,$A$149)=$A$255,MATCH(ROW($B$12:$B$111),ROW($B$12:$B$111)),\"\"),ROWS($B$1:F27))),COLUMNS($B$1:F27)),\"\")","v":""},{"$f":"IFERROR(INDEX($B$12:$H$111,(SMALL(IF(INDEX($B$12:$H$111,,$A$149)=$A$255,MATCH(ROW($B$12:$B$111),ROW($B$12:$B$111)),\"\"),ROWS($B$1:G27))),COLUMNS($B$1:G27)),\"\")","v":""},{"$f":"IFERROR(INDEX($B$12:$H$111,(SMALL(IF(INDEX($B$12:$H$111,,$A$149)=$A$255,MATCH(ROW($B$12:$B$111),ROW($B$12:$B$111)),\"\"),ROWS($B$1:H27))),COLUMNS($B$1:H27)),\"\")","v":""},null,null,{"$f":"IFERROR(INDEX($K$12:$M$111,(SMALL(IF(INDEX($K$12:$M$111,,$A$149)=$A$255,MATCH(ROW($K$12:$K$111),ROW($K$12:$K$111)),\"\"),ROWS($B$1:B27))),COLUMNS($B$1:B27)),\"\")","v":""},{"$f":"IFERROR(INDEX($K$12:$M$111,(SMALL(IF(INDEX($K$12:$M$111,,$A$149)=$A$255,MATCH(ROW($K$12:$K$111),ROW($K$12:$K$111)),\"\"),ROWS($B$1:C27))),COLUMNS($B$1:C27)),\"\")","v":""},{"$f":"IFERROR(INDEX($K$12:$M$111,(SMALL(IF(INDEX($K$12:$M$111,,$A$149)=$A$255,MATCH(ROW($K$12:$K$111),ROW($K$12:$K$111)),\"\"),ROWS($B$1:D27))),COLUMNS($B$1:D27)),\"\")","v":""},null,null,{"$f":"IFERROR(INDEX($P$12:$R$111,(SMALL(IF(INDEX($P$12:$R$111,,$A$149)=$A$255,MATCH(ROW($P$12:$P$111),ROW($P$12:$P$111)),\"\"),ROWS($B$1:B27))),COLUMNS($B$1:B27)),\"\")","v":""},{"$f":"IFERROR(INDEX($P$12:$R$111,(SMALL(IF(INDEX($P$12:$R$111,,$A$149)=$A$255,MATCH(ROW($P$12:$P$111),ROW($P$12:$P$111)),\"\"),ROWS($B$1:C27))),COLUMNS($B$1:C27)),\"\")","v":""},{"$f":"IFERROR(INDEX($P$12:$R$111,(SMALL(IF(INDEX($P$12:$R$111,,$A$149)=$A$255,MATCH(ROW($P$12:$P$111),ROW($P$12:$P$111)),\"\"),ROWS($B$1:D27))),COLUMNS($B$1:D27)),\"\")","v":""}]
[28,{"$f":"IFERROR(INDEX($B$12:$H$111,(SMALL(IF(INDEX($B$12:$H$111,,$A$149)=$A$255,MATCH(ROW($B$12:$B$111),ROW($B$12:$B$111)),\"\"),ROWS($B$1:B28))),COLUMNS($B$1:B28)),\"\")","v":""},{"$f":"IFERROR(INDEX($B$12:$H$111,(SMALL(IF(INDEX($B$12:$H$111,,$A$149)=$A$255,MATCH(ROW($B$12:$B$111),ROW($B$12:$B$111)),\"\"),ROWS($B$1:C28))),COLUMNS($B$1:C28)),\"\")","v":""},{"$f":"IFERROR(INDEX($B$12:$H$111,(SMALL(IF(INDEX($B$12:$H$111,,$A$149)=$A$255,MATCH(ROW($B$12:$B$111),ROW($B$12:$B$111)),\"\"),ROWS($B$1:D28))),COLUMNS($B$1:D28)),\"\")","v":""},{"$f":"IFERROR(INDEX($B$12:$H$111,(SMALL(IF(INDEX($B$12:$H$111,,$A$149)=$A$255,MATCH(ROW($B$12:$B$111),ROW($B$12:$B$111)),\"\"),ROWS($B$1:E28))),COLUMNS($B$1:E28)),\"\")","v":""},{"$f":"IFERROR(INDEX($B$12:$H$111,(SMALL(IF(INDEX($B$12:$H$111,,$A$149)=$A$255,MATCH(ROW($B$12:$B$111),ROW($B$12:$B$111)),\"\"),ROWS($B$1:F28))),COLUMNS($B$1:F28)),\"\")","v":""},{"$f":"IFERROR(INDEX($B$12:$H$111,(SMALL(IF(INDEX($B$12:$H$111,,$A$149)=$A$255,MATCH(ROW($B$12:$B$111),ROW($B$12:$B$111)),\"\"),ROWS($B$1:G28))),COLUMNS($B$1:G28)),\"\")","v":""},{"$f":"IFERROR(INDEX($B$12:$H$111,(SMALL(IF(INDEX($B$12:$H$111,,$A$149)=$A$255,MATCH(ROW($B$12:$B$111),ROW($B$12:$B$111)),\"\"),ROWS($B$1:H28))),COLUMNS($B$1:H28)),\"\")","v":""},null,null,{"$f":"IFERROR(INDEX($K$12:$M$111,(SMALL(IF(INDEX($K$12:$M$111,,$A$149)=$A$255,MATCH(ROW($K$12:$K$111),ROW($K$12:$K$111)),\"\"),ROWS($B$1:B28))),COLUMNS($B$1:B28)),\"\")","v":""},{"$f":"IFERROR(INDEX($K$12:$M$111,(SMALL(IF(INDEX($K$12:$M$111,,$A$149)=$A$255,MATCH(ROW($K$12:$K$111),ROW($K$12:$K$111)),\"\"),ROWS($B$1:C28))),COLUMNS($B$1:C28)),\"\")","v":""},{"$f":"IFERROR(INDEX($K$12:$M$111,(SMALL(IF(INDEX($K$12:$M$111,,$A$149)=$A$255,MATCH(ROW($K$12:$K$111),ROW($K$12:$K$111)),\"\"),ROWS($B$1:D28))),COLUMNS($B$1:D28)),\"\")","v":""},null,null,{"$f":"IFERROR(INDEX($P$12:$R$111,(SMALL(IF(INDEX($P$12:$R$111,,$A$149)=$A$255,MATCH(ROW($P$12:$P$111),ROW($P$12:$P$111)),\"\"),ROWS($B$1:B28))),COLUMNS($B$1:B28)),\"\")","v":""},{"$f":"IFERROR(INDEX($P$12:$R$111,(SMALL(IF(INDEX($P$12:$R$111,,$A$149)=$A$255,MATCH(ROW($P$12:$P$111),ROW($P$12:$P$111)),\"\"),ROWS($B$1:C28))),COLUMNS($B$1:C28)),\"\")","v":""},{"$f":"IFERROR(INDEX($P$12:$R$111,(SMALL(IF(INDEX($P$12:$R$111,,$A$149)=$A$255,MATCH(ROW($P$12:$P$111),ROW($P$12:$P$111)),\"\"),ROWS($B$1:D28))),COLUMNS($B$1:D28)),\"\")","v":""}]
[29,{"$f":"IFERROR(INDEX($B$12:$H$111,(SMALL(IF(INDEX($B$12:$H$111,,$A$149)=$A$255,MATCH(ROW($B$12:$B$111),ROW($B$12:$B$111)),\"\"),ROWS($B$1:B29))),COLUMNS($B$1:B29)),\"\")","v":""},{"$f":"IFERROR(INDEX($B$12:$H$111,(SMALL(IF(INDEX($B$12:$H$111,,$A$149)=$A$255,MATCH(ROW($B$12:$B$111),ROW($B$12:$B$111)),\"\"),ROWS($B$1:C29))),COLUMNS($B$1:C29)),\"\")","v":""},{"$f":"IFERROR(INDEX($B$12:$H$111,(SMALL(IF(INDEX($B$12:$H$111,,$A$149)=$A$255,MATCH(ROW($B$12:$B$111),ROW($B$12:$B$111)),\"\"),ROWS($B$1:D29))),COLUMNS($B$1:D29)),\"\")","v":""},{"$f":"IFERROR(INDEX($B$12:$H$111,(SMALL(IF(INDEX($B$12:$H$111,,$A$149)=$A$255,MATCH(ROW($B$12:$B$111),ROW($B$12:$B$111)),\"\"),ROWS($B$1:E29))),COLUMNS($B$1:E29)),\"\")","v":""},{"$f":"IFERROR(INDEX($B$12:$H$111,(SMALL(IF(INDEX($B$12:$H$111,,$A$149)=$A$255,MATCH(ROW($B$12:$B$111),ROW($B$12:$B$111)),\"\"),ROWS($B$1:F29))),COLUMNS($B$1:F29)),\"\")","v":""},{"$f":"IFERROR(INDEX($B$12:$H$111,(SMALL(IF(INDEX($B$12:$H$111,,$A$149)=$A$255,MATCH(ROW($B$12:$B$111),ROW($B$12:$B$111)),\"\"),ROWS($B$1:G29))),COLUMNS($B$1:G29)),\"\")","v":""},{"$f":"IFERROR(INDEX($B$12:$H$111,(SMALL(IF(INDEX($B$12:$H$111,,$A$149)=$A$255,MATCH(ROW($B$12:$B$111),ROW($B$12:$B$111)),\"\"),ROWS($B$1:H29))),COLUMNS($B$1:H29)),\"\")","v":""},null,null,{"$f":"IFERROR(INDEX($K$12:$M$111,(SMALL(IF(INDEX($K$12:$M$111,,$A$149)=$A$255,MATCH(ROW($K$12:$K$111),ROW($K$12:$K$111)),\"\"),ROWS($B$1:B29))),COLUMNS($B$1:B29)),\"\")","v":""},{"$f":"IFERROR(INDEX($K$12:$M$111,(SMALL(IF(INDEX($K$12:$M$111,,$A$149)=$A$255,MATCH(ROW($K$12:$K$111),ROW($K$12:$K$111)),\"\"),ROWS($B$1:C29))),COLUMNS($B$1:C29)),\"\")","v":""},{"$f":"IFERROR(INDEX($K$12:$M$111,(SMALL(IF(INDEX($K$12:$M$111,,$A$149)=$A$255,MATCH(ROW($K$12:$K$111),ROW($K$12:$K$111)),\"\"),ROWS($B$1:D29))),COLUMNS($B$1:D29)),\"\")","v":""},null,null,{"$f":"IFERROR(INDEX($P$12:$R$111,(SMALL(IF(INDEX($P$12:$R$111,,$A$149)=$A$255,MATCH(ROW($P$12:$P$111),ROW($P$12:$P$111)),\"\"),ROWS($B$1:B29))),COLUMNS($B$1:B29)),\"\")","v":""},{"$f":"IFERROR(INDEX($P$12:$R$111,(SMALL(IF(INDEX($P$12:$R$111,,$A$149)=$A$255,MATCH(ROW($P$12:$P$111),ROW($P$12:$P$111)),\"\"),ROWS($B$1:C29))),COLUMNS($B$1:C29)),\"\")","v":""},{"$f":"IFERROR(INDEX($P$12:$R$111,(SMALL(IF(INDEX($P$12:$R$111,,$A$149)=$A$255,MATCH(ROW($P$12:$P$111),ROW($P$12:$P$111)),\"\"),ROWS($B$1:D29))),COLUMNS($B$1:D29)),\"\")","v":""}]
[30,{"$f":"IFERROR(INDEX($B$12:$H$111,(SMALL(IF(INDEX($B$12:$H$111,,$A$149)=$A$255,MATCH(ROW($B$12:$B$111),ROW($B$12:$B$111)),\"\"),ROWS($B$1:B30))),COLUMNS($B$1:B30)),\"\")","v":""},{"$f":"IFERROR(INDEX($B$12:$H$111,(SMALL(IF(INDEX($B$12:$H$111,,$A$149)=$A$255,MATCH(ROW($B$12:$B$111),ROW($B$12:$B$111)),\"\"),ROWS($B$1:C30))),COLUMNS($B$1:C30)),\"\")","v":""},{"$f":"IFERROR(INDEX($B$12:$H$111,(SMALL(IF(INDEX($B$12:$H$111,,$A$149)=$A$255,MATCH(ROW($B$12:$B$111),ROW($B$12:$B$111)),\"\"),ROWS($B$1:D30))),COLUMNS($B$1:D30)),\"\")","v":""},{"$f":"IFERROR(INDEX($B$12:$H$111,(SMALL(IF(INDEX($B$12:$H$111,,$A$149)=$A$255,MATCH(ROW($B$12:$B$111),ROW($B$12:$B$111)),\"\"),ROWS($B$1:E30))),COLUMNS($B$1:E30)),\"\")","v":""},{"$f":"IFERROR(INDEX($B$12:$H$111,(SMALL(IF(INDEX($B$12:$H$111,,$A$149)=$A$255,MATCH(ROW($B$12:$B$111),ROW($B$12:$B$111)),\"\"),ROWS($B$1:F30))),COLUMNS($B$1:F30)),\"\")","v":""},{"$f":"IFERROR(INDEX($B$12:$H$111,(SMALL(IF(INDEX($B$12:$H$111,,$A$149)=$A$255,MATCH(ROW($B$12:$B$111),ROW($B$12:$B$111)),\"\"),ROWS($B$1:G30))),COLUMNS($B$1:G30)),\"\")","v":""},{"$f":"IFERROR(INDEX($B$12:$H$111,(SMALL(IF(INDEX($B$12:$H$111,,$A$149)=$A$255,MATCH(ROW($B$12:$B$111),ROW($B$12:$B$111)),\"\"),ROWS($B$1:H30))),COLUMNS($B$1:H30)),\"\")","v":""},null,null,{"$f":"IFERROR(INDEX($K$12:$M$111,(SMALL(IF(INDEX($K$12:$M$111,,$A$149)=$A$255,MATCH(ROW($K$12:$K$111),ROW($K$12:$K$111)),\"\"),ROWS($B$1:B30))),COLUMNS($B$1:B30)),\"\")","v":""},{"$f":"IFERROR(INDEX($K$12:$M$111,(SMALL(IF(INDEX($K$12:$M$111,,$A$149)=$A$255,MATCH(ROW($K$12:$K$111),ROW($K$12:$K$111)),\"\"),ROWS($B$1:C30))),COLUMNS($B$1:C30)),\"\")","v":""},{"$f":"IFERROR(INDEX($K$12:$M$111,(SMALL(IF(INDEX($K$12:$M$111,,$A$149)=$A$255,MATCH(ROW($K$12:$K$111),ROW($K$12:$K$111)),\"\"),ROWS($B$1:D30))),COLUMNS($B$1:D30)),\"\")","v":""},null,null,{"$f":"IFERROR(INDEX($P$12:$R$111,(SMALL(IF(INDEX($P$12:$R$111,,$A$149)=$A$255,MATCH(ROW($P$12:$P$111),ROW($P$12:$P$111)),\"\"),ROWS($B$1:B30))),COLUMNS($B$1:B30)),\"\")","v":""},{"$f":"IFERROR(INDEX($P$12:$R$111,(SMALL(IF(INDEX($P$12:$R$111,,$A$149)=$A$255,MATCH(ROW($P$12:$P$111),ROW($P$12:$P$111)),\"\"),ROWS($B$1:C30))),COLUMNS($B$1:C30)),\"\")","v":""},{"$f":"IFERROR(INDEX($P$12:$R$111,(SMALL(IF(INDEX($P$12:$R$111,,$A$149)=$A$255,MATCH(ROW($P$12:$P$111),ROW($P$12:$P$111)),\"\"),ROWS($B$1:D30))),COLUMNS($B$1:D30)),\"\")","v":""}]
[31,{"$f":"IFERROR(INDEX($B$12:$H$111,(SMALL(IF(INDEX($B$12:$H$111,,$A$149)=$A$255,MATCH(ROW($B$12:$B$111),ROW($B$12:$B$111)),\"\"),ROWS($B$1:B31))),COLUMNS($B$1:B31)),\"\")","v":""},{"$f":"IFERROR(INDEX($B$12:$H$111,(SMALL(IF(INDEX($B$12:$H$111,,$A$149)=$A$255,MATCH(ROW($B$12:$B$111),ROW($B$12:$B$111)),\"\"),ROWS($B$1:C31))),COLUMNS($B$1:C31)),\"\")","v":""},{"$f":"IFERROR(INDEX($B$12:$H$111,(SMALL(IF(INDEX($B$12:$H$111,,$A$149)=$A$255,MATCH(ROW($B$12:$B$111),ROW($B$12:$B$111)),\"\"),ROWS($B$1:D31))),COLUMNS($B$1:D31)),\"\")","v":""},{"$f":"IFERROR(INDEX($B$12:$H$111,(SMALL(IF(INDEX($B$12:$H$111,,$A$149)=$A$255,MATCH(ROW($B$12:$B$111),ROW($B$12:$B$111)),\"\"),ROWS($B$1:E31))),COLUMNS($B$1:E31)),\"\")","v":""},{"$f":"IFERROR(INDEX($B$12:$H$111,(SMALL(IF(INDEX($B$12:$H$111,,$A$149)=$A$255,MATCH(ROW($B$12:$B$111),ROW($B$12:$B$111)),\"\"),ROWS($B$1:F31))),COLUMNS($B$1:F31)),\"\")","v":""},{"$f":"IFERROR(INDEX($B$12:$H$111,(SMALL(IF(INDEX($B$12:$H$111,,$A$149)=$A$255,MATCH(ROW($B$12:$B$111),ROW($B$12:$B$111)),\"\"),ROWS($B$1:G31))),COLUMNS($B$1:G31)),\"\")","v":""},{"$f":"IFERROR(INDEX($B$12:$H$111,(SMALL(IF(INDEX($B$12:$H$111,,$A$149)=$A$255,MATCH(ROW($B$12:$B$111),ROW($B$12:$B$111)),\"\"),ROWS($B$1:H31))),COLUMNS($B$1:H31)),\"\")","v":""},null,null,{"$f":"IFERROR(INDEX($K$12:$M$111,(SMALL(IF(INDEX($K$12:$M$111,,$A$149)=$A$255,MATCH(ROW($K$12:$K$111),ROW($K$12:$K$111)),\"\"),ROWS($B$1:B31))),COLUMNS($B$1:B31)),\"\")","v":""},{"$f":"IFERROR(INDEX($K$12:$M$111,(SMALL(IF(INDEX($K$12:$M$111,,$A$149)=$A$255,MATCH(ROW($K$12:$K$111),ROW($K$12:$K$111)),\"\"),ROWS($B$1:C31))),COLUMNS($B$1:C31)),\"\")","v":""},{"$f":"IFERROR(INDEX($K$12:$M$111,(SMALL(IF(INDEX($K$12:$M$111,,$A$149)=$A$255,MATCH(ROW($K$12:$K$111),ROW($K$12:$K$111)),\"\"),ROWS($B$1:D31))),COLUMNS($B$1:D31)),\"\")","v":""},null,null,{"$f":"IFERROR(INDEX($P$12:$R$111,(SMALL(IF(INDEX($P$12:$R$111,,$A$149)=$A$255,MATCH(ROW($P$12:$P$111),ROW($P$12:$P$111)),\"\"),ROWS($B$1:B31))),COLUMNS($B$1:B31)),\"\")","v":""},{"$f":"IFERROR(INDEX($P$12:$R$111,(SMALL(IF(INDEX($P$12:$R$111,,$A$149)=$A$255,MATCH(ROW($P$12:$P$111),ROW($P$12:$P$111)),\"\"),ROWS($B$1:C31))),COLUMNS($B$1:C31)),\"\")","v":""},{"$f":"IFERROR(INDEX($P$12:$R$111,(SMALL(IF(INDEX($P$12:$R$111,,$A$149)=$A$255,MATCH(ROW($P$12:$P$111),ROW($P$12:$P$111)),\"\"),ROWS($B$1:D31))),COLUMNS($B$1:D31)),\"\")","v":""}]
[32,{"$f":"IFERROR(INDEX($B$12:$H$111,(SMALL(IF(INDEX($B$12:$H$111,,$A$149)=$A$255,MATCH(ROW($B$12:$B$111),ROW($B$12:$B$111)),\"\"),ROWS($B$1:B32))),COLUMNS($B$1:B32)),\"\")","v":""},{"$f":"IFERROR(INDEX($B$12:$H$111,(SMALL(IF(INDEX($B$12:$H$111,,$A$149)=$A$255,MATCH(ROW($B$12:$B$111),ROW($B$12:$B$111)),\"\"),ROWS($B$1:C32))),COLUMNS($B$1:C32)),\"\")","v":""},{"$f":"IFERROR(INDEX($B$12:$H$111,(SMALL(IF(INDEX($B$12:$H$111,,$A$149)=$A$255,MATCH(ROW($B$12:$B$111),ROW($B$12:$B$111)),\"\"),ROWS($B$1:D32))),COLUMNS($B$1:D32)),\"\")","v":""},{"$f":"IFERROR(INDEX($B$12:$H$111,(SMALL(IF(INDEX($B$12:$H$111,,$A$149)=$A$255,MATCH(ROW($B$12:$B$111),ROW($B$12:$B$111)),\"\"),ROWS($B$1:E32))),COLUMNS($B$1:E32)),\"\")","v":""},{"$f":"IFERROR(INDEX($B$12:$H$111,(SMALL(IF(INDEX($B$12:$H$111,,$A$149)=$A$255,MATCH(ROW($B$12:$B$111),ROW($B$12:$B$111)),\"\"),ROWS($B$1:F32))),COLUMNS($B$1:F32)),\"\")","v":""},{"$f":"IFERROR(INDEX($B$12:$H$111,(SMALL(IF(INDEX($B$12:$H$111,,$A$149)=$A$255,MATCH(ROW($B$12:$B$111),ROW($B$12:$B$111)),\"\"),ROWS($B$1:G32))),COLUMNS($B$1:G32)),\"\")","v":""},{"$f":"IFERROR(INDEX($B$12:$H$111,(SMALL(IF(INDEX($B$12:$H$111,,$A$149)=$A$255,MATCH(ROW($B$12:$B$111),ROW($B$12:$B$111)),\"\"),ROWS($B$1:H32))),COLUMNS($B$1:H32)),\"\")","v":""},null,null,{"$f":"IFERROR(INDEX($K$12:$M$111,(SMALL(IF(INDEX($K$12:$M$111,,$A$149)=$A$255,MATCH(ROW($K$12:$K$111),ROW($K$12:$K$111)),\"\"),ROWS($B$1:B32))),COLUMNS($B$1:B32)),\"\")","v":""},{"$f":"IFERROR(INDEX($K$12:$M$111,(SMALL(IF(INDEX($K$12:$M$111,,$A$149)=$A$255,MATCH(ROW($K$12:$K$111),ROW($K$12:$K$111)),\"\"),ROWS($B$1:C32))),COLUMNS($B$1:C32)),\"\")","v":""},{"$f":"IFERROR(INDEX($K$12:$M$111,(SMALL(IF(INDEX($K$12:$M$111,,$A$149)=$A$255,MATCH(ROW($K$12:$K$111),ROW($K$12:$K$111)),\"\"),ROWS($B$1:D32))),COLUMNS($B$1:D32)),\"\")","v":""},null,null,{"$f":"IFERROR(INDEX($P$12:$R$111,(SMALL(IF(INDEX($P$12:$R$111,,$A$149)=$A$255,MATCH(ROW($P$12:$P$111),ROW($P$12:$P$111)),\"\"),ROWS($B$1:B32))),COLUMNS($B$1:B32)),\"\")","v":""},{"$f":"IFERROR(INDEX($P$12:$R$111,(SMALL(IF(INDEX($P$12:$R$111,,$A$149)=$A$255,MATCH(ROW($P$12:$P$111),ROW($P$12:$P$111)),\"\"),ROWS($B$1:C32))),COLUMNS($B$1:C32)),\"\")","v":""},{"$f":"IFERROR(INDEX($P$12:$R$111,(SMALL(IF(INDEX($P$12:$R$111,,$A$149)=$A$255,MATCH(ROW($P$12:$P$111),ROW($P$12:$P$111)),\"\"),ROWS($B$1:D32))),COLUMNS($B$1:D32)),\"\")","v":""}]
[33,{"$f":"IFERROR(INDEX($B$12:$H$111,(SMALL(IF(INDEX($B$12:$H$111,,$A$149)=$A$255,MATCH(ROW($B$12:$B$111),ROW($B$12:$B$111)),\"\"),ROWS($B$1:B33))),COLUMNS($B$1:B33)),\"\")","v":""},{"$f":"IFERROR(INDEX($B$12:$H$111,(SMALL(IF(INDEX($B$12:$H$111,,$A$149)=$A$255,MATCH(ROW($B$12:$B$111),ROW($B$12:$B$111)),\"\"),ROWS($B$1:C33))),COLUMNS($B$1:C33)),\"\")","v":""},{"$f":"IFERROR(INDEX($B$12:$H$111,(SMALL(IF(INDEX($B$12:$H$111,,$A$149)=$A$255,MATCH(ROW($B$12:$B$111),ROW($B$12:$B$111)),\"\"),ROWS($B$1:D33))),COLUMNS($B$1:D33)),\"\")","v":""},{"$f":"IFERROR(INDEX($B$12:$H$111,(SMALL(IF(INDEX($B$12:$H$111,,$A$149)=$A$255,MATCH(ROW($B$12:$B$111),ROW($B$12:$B$111)),\"\"),ROWS($B$1:E33))),COLUMNS($B$1:E33)),\"\")","v":""},{"$f":"IFERROR(INDEX($B$12:$H$111,(SMALL(IF(INDEX($B$12:$H$111,,$A$149)=$A$255,MATCH(ROW($B$12:$B$111),ROW($B$12:$B$111)),\"\"),ROWS($B$1:F33))),COLUMNS($B$1:F33)),\"\")","v":""},{"$f":"IFERROR(INDEX($B$12:$H$111,(SMALL(IF(INDEX($B$12:$H$111,,$A$149)=$A$255,MATCH(ROW($B$12:$B$111),ROW($B$12:$B$111)),\"\"),ROWS($B$1:G33))),COLUMNS($B$1:G33)),\"\")","v":""},{"$f":"IFERROR(INDEX($B$12:$H$111,(SMALL(IF(INDEX($B$12:$H$111,,$A$149)=$A$255,MATCH(ROW($B$12:$B$111),ROW($B$12:$B$111)),\"\"),ROWS($B$1:H33))),COLUMNS($B$1:H33)),\"\")","v":""},null,null,{"$f":"IFERROR(INDEX($K$12:$M$111,(SMALL(IF(INDEX($K$12:$M$111,,$A$149)=$A$255,MATCH(ROW($K$12:$K$111),ROW($K$12:$K$111)),\"\"),ROWS($B$1:B33))),COLUMNS($B$1:B33)),\"\")","v":""},{"$f":"IFERROR(INDEX($K$12:$M$111,(SMALL(IF(INDEX($K$12:$M$111,,$A$149)=$A$255,MATCH(ROW($K$12:$K$111),ROW($K$12:$K$111)),\"\"),ROWS($B$1:C33))),COLUMNS($B$1:C33)),\"\")","v":""},{"$f":"IFERROR(INDEX($K$12:$M$111,(SMALL(IF(INDEX($K$12:$M$111,,$A$149)=$A$255,MATCH(ROW($K$12:$K$111),ROW($K$12:$K$111)),\"\"),ROWS($B$1:D33))),COLUMNS($B$1:D33)),\"\")","v":""},null,null,{"$f":"IFERROR(INDEX($P$12:$R$111,(SMALL(IF(INDEX($P$12:$R$111,,$A$149)=$A$255,MATCH(ROW($P$12:$P$111),ROW($P$12:$P$111)),\"\"),ROWS($B$1:B33))),COLUMNS($B$1:B33)),\"\")","v":""},{"$f":"IFERROR(INDEX($P$12:$R$111,(SMALL(IF(INDEX($P$12:$R$111,,$A$149)=$A$255,MATCH(ROW($P$12:$P$111),ROW($P$12:$P$111)),\"\"),ROWS($B$1:C33))),COLUMNS($B$1:C33)),\"\")","v":""},{"$f":"IFERROR(INDEX($P$12:$R$111,(SMALL(IF(INDEX($P$12:$R$111,,$A$149)=$A$255,MATCH(ROW($P$12:$P$111),ROW($P$12:$P$111)),\"\"),ROWS($B$1:D33))),COLUMNS($B$1:D33)),\"\")","v":""}]
[34,{"$f":"IFERROR(INDEX($B$12:$H$111,(SMALL(IF(INDEX($B$12:$H$111,,$A$149)=$A$255,MATCH(ROW($B$12:$B$111),ROW($B$12:$B$111)),\"\"),ROWS($B$1:B34))),COLUMNS($B$1:B34)),\"\")","v":""},{"$f":"IFERROR(INDEX($B$12:$H$111,(SMALL(IF(INDEX($B$12:$H$111,,$A$149)=$A$255,MATCH(ROW($B$12:$B$111),ROW($B$12:$B$111)),\"\"),ROWS($B$1:C34))),COLUMNS($B$1:C34)),\"\")","v":""},{"$f":"IFERROR(INDEX($B$12:$H$111,(SMALL(IF(INDEX($B$12:$H$111,,$A$149)=$A$255,MATCH(ROW($B$12:$B$111),ROW($B$12:$B$111)),\"\"),ROWS($B$1:D34))),COLUMNS($B$1:D34)),\"\")","v":""},{"$f":"IFERROR(INDEX($B$12:$H$111,(SMALL(IF(INDEX($B$12:$H$111,,$A$149)=$A$255,MATCH(ROW($B$12:$B$111),ROW($B$12:$B$111)),\"\"),ROWS($B$1:E34))),COLUMNS($B$1:E34)),\"\")","v":""},{"$f":"IFERROR(INDEX($B$12:$H$111,(SMALL(IF(INDEX($B$12:$H$111,,$A$149)=$A$255,MATCH(ROW($B$12:$B$111),ROW($B$12:$B$111)),\"\"),ROWS($B$1:F34))),COLUMNS($B$1:F34)),\"\")","v":""},{"$f":"IFERROR(INDEX($B$12:$H$111,(SMALL(IF(INDEX($B$12:$H$111,,$A$149)=$A$255,MATCH(ROW($B$12:$B$111),ROW($B$12:$B$111)),\"\"),ROWS($B$1:G34))),COLUMNS($B$1:G34)),\"\")","v":""},{"$f":"IFERROR(INDEX($B$12:$H$111,(SMALL(IF(INDEX($B$12:$H$111,,$A$149)=$A$255,MATCH(ROW($B$12:$B$111),ROW($B$12:$B$111)),\"\"),ROWS($B$1:H34))),COLUMNS($B$1:H34)),\"\")","v":""},null,null,{"$f":"IFERROR(INDEX($K$12:$M$111,(SMALL(IF(INDEX($K$12:$M$111,,$A$149)=$A$255,MATCH(ROW($K$12:$K$111),ROW($K$12:$K$111)),\"\"),ROWS($B$1:B34))),COLUMNS($B$1:B34)),\"\")","v":""},{"$f":"IFERROR(INDEX($K$12:$M$111,(SMALL(IF(INDEX($K$12:$M$111,,$A$149)=$A$255,MATCH(ROW($K$12:$K$111),ROW($K$12:$K$111)),\"\"),ROWS($B$1:C34))),COLUMNS($B$1:C34)),\"\")","v":""},{"$f":"IFERROR(INDEX($K$12:$M$111,(SMALL(IF(INDEX($K$12:$M$111,,$A$149)=$A$255,MATCH(ROW($K$12:$K$111),ROW($K$12:$K$111)),\"\"),ROWS($B$1:D34))),COLUMNS($B$1:D34)),\"\")","v":""},null,null,{"$f":"IFERROR(INDEX($P$12:$R$111,(SMALL(IF(INDEX($P$12:$R$111,,$A$149)=$A$255,MATCH(ROW($P$12:$P$111),ROW($P$12:$P$111)),\"\"),ROWS($B$1:B34))),COLUMNS($B$1:B34)),\"\")","v":""},{"$f":"IFERROR(INDEX($P$12:$R$111,(SMALL(IF(INDEX($P$12:$R$111,,$A$149)=$A$255,MATCH(ROW($P$12:$P$111),ROW($P$12:$P$111)),\"\"),ROWS($B$1:C34))),COLUMNS($B$1:C34)),\"\")","v":""},{"$f":"IFERROR(INDEX($P$12:$R$111,(SMALL(IF(INDEX($P$12:$R$111,,$A$149)=$A$255,MATCH(ROW($P$12:$P$111),ROW($P$12:$P$111)),\"\"),ROWS($B$1:D34))),COLUMNS($B$1:D34)),\"\")","v":""}]
[35,{"$f":"IFERROR(INDEX($B$12:$H$111,(SMALL(IF(INDEX($B$12:$H$111,,$A$149)=$A$255,MATCH(ROW($B$12:$B$111),ROW($B$12:$B$111)),\"\"),ROWS($B$1:B35))),COLUMNS($B$1:B35)),\"\")","v":""},{"$f":"IFERROR(INDEX($B$12:$H$111,(SMALL(IF(INDEX($B$12:$H$111,,$A$149)=$A$255,MATCH(ROW($B$12:$B$111),ROW($B$12:$B$111)),\"\"),ROWS($B$1:C35))),COLUMNS($B$1:C35)),\"\")","v":""},{"$f":"IFERROR(INDEX($B$12:$H$111,(SMALL(IF(INDEX($B$12:$H$111,,$A$149)=$A$255,MATCH(ROW($B$12:$B$111),ROW($B$12:$B$111)),\"\"),ROWS($B$1:D35))),COLUMNS($B$1:D35)),\"\")","v":""},{"$f":"IFERROR(INDEX($B$12:$H$111,(SMALL(IF(INDEX($B$12:$H$111,,$A$149)=$A$255,MATCH(ROW($B$12:$B$111),ROW($B$12:$B$111)),\"\"),ROWS($B$1:E35))),COLUMNS($B$1:E35)),\"\")","v":""},{"$f":"IFERROR(INDEX($B$12:$H$111,(SMALL(IF(INDEX($B$12:$H$111,,$A$149)=$A$255,MATCH(ROW($B$12:$B$111),ROW($B$12:$B$111)),\"\"),ROWS($B$1:F35))),COLUMNS($B$1:F35)),\"\")","v":""},{"$f":"IFERROR(INDEX($B$12:$H$111,(SMALL(IF(INDEX($B$12:$H$111,,$A$149)=$A$255,MATCH(ROW($B$12:$B$111),ROW($B$12:$B$111)),\"\"),ROWS($B$1:G35))),COLUMNS($B$1:G35)),\"\")","v":""},{"$f":"IFERROR(INDEX($B$12:$H$111,(SMALL(IF(INDEX($B$12:$H$111,,$A$149)=$A$255,MATCH(ROW($B$12:$B$111),ROW($B$12:$B$111)),\"\"),ROWS($B$1:H35))),COLUMNS($B$1:H35)),\"\")","v":""},null,null,{"$f":"IFERROR(INDEX($K$12:$M$111,(SMALL(IF(INDEX($K$12:$M$111,,$A$149)=$A$255,MATCH(ROW($K$12:$K$111),ROW($K$12:$K$111)),\"\"),ROWS($B$1:B35))),COLUMNS($B$1:B35)),\"\")","v":""},{"$f":"IFERROR(INDEX($K$12:$M$111,(SMALL(IF(INDEX($K$12:$M$111,,$A$149)=$A$255,MATCH(ROW($K$12:$K$111),ROW($K$12:$K$111)),\"\"),ROWS($B$1:C35))),COLUMNS($B$1:C35)),\"\")","v":""},{"$f":"IFERROR(INDEX($K$12:$M$111,(SMALL(IF(INDEX($K$12:$M$111,,$A$149)=$A$255,MATCH(ROW($K$12:$K$111),ROW($K$12:$K$111)),\"\"),ROWS($B$1:D35))),COLUMNS($B$1:D35)),\"\")","v":""},null,null,{"$f":"IFERROR(INDEX($P$12:$R$111,(SMALL(IF(INDEX($P$12:$R$111,,$A$149)=$A$255,MATCH(ROW($P$12:$P$111),ROW($P$12:$P$111)),\"\"),ROWS($B$1:B35))),COLUMNS($B$1:B35)),\"\")","v":""},{"$f":"IFERROR(INDEX($P$12:$R$111,(SMALL(IF(INDEX($P$12:$R$111,,$A$149)=$A$255,MATCH(ROW($P$12:$P$111),ROW($P$12:$P$111)),\"\"),ROWS($B$1:C35))),COLUMNS($B$1:C35)),\"\")","v":""},{"$f":"IFERROR(INDEX($P$12:$R$111,(SMALL(IF(INDEX($P$12:$R$111,,$A$149)=$A$255,MATCH(ROW($P$12:$P$111),ROW($P$12:$P$111)),\"\"),ROWS($B$1:D35))),COLUMNS($B$1:D35)),\"\")","v":""}]
[36,{"$f":"IFERROR(INDEX($B$12:$H$111,(SMALL(IF(INDEX($B$12:$H$111,,$A$149)=$A$255,MATCH(ROW($B$12:$B$111),ROW($B$12:$B$111)),\"\"),ROWS($B$1:B36))),COLUMNS($B$1:B36)),\"\")","v":""},{"$f":"IFERROR(INDEX($B$12:$H$111,(SMALL(IF(INDEX($B$12:$H$111,,$A$149)=$A$255,MATCH(ROW($B$12:$B$111),ROW($B$12:$B$111)),\"\"),ROWS($B$1:C36))),COLUMNS($B$1:C36)),\"\")","v":""},{"$f":"IFERROR(INDEX($B$12:$H$111,(SMALL(IF(INDEX($B$12:$H$111,,$A$149)=$A$255,MATCH(ROW($B$12:$B$111),ROW($B$12:$B$111)),\"\"),ROWS($B$1:D36))),COLUMNS($B$1:D36)),\"\")","v":""},{"$f":"IFERROR(INDEX($B$12:$H$111,(SMALL(IF(INDEX($B$12:$H$111,,$A$149)=$A$255,MATCH(ROW($B$12:$B$111),ROW($B$12:$B$111)),\"\"),ROWS($B$1:E36))),COLUMNS($B$1:E36)),\"\")","v":""},{"$f":"IFERROR(INDEX($B$12:$H$111,(SMALL(IF(INDEX($B$12:$H$111,,$A$149)=$A$255,MATCH(ROW($B$12:$B$111),ROW($B$12:$B$111)),\"\"),ROWS($B$1:F36))),COLUMNS($B$1:F36)),\"\")","v":""},{"$f":"IFERROR(INDEX($B$12:$H$111,(SMALL(IF(INDEX($B$12:$H$111,,$A$149)=$A$255,MATCH(ROW($B$12:$B$111),ROW($B$12:$B$111)),\"\"),ROWS($B$1:G36))),COLUMNS($B$1:G36)),\"\")","v":""},{"$f":"IFERROR(INDEX($B$12:$H$111,(SMALL(IF(INDEX($B$12:$H$111,,$A$149)=$A$255,MATCH(ROW($B$12:$B$111),ROW($B$12:$B$111)),\"\"),ROWS($B$1:H36))),COLUMNS($B$1:H36)),\"\")","v":""},null,null,{"$f":"IFERROR(INDEX($K$12:$M$111,(SMALL(IF(INDEX($K$12:$M$111,,$A$149)=$A$255,MATCH(ROW($K$12:$K$111),ROW($K$12:$K$111)),\"\"),ROWS($B$1:B36))),COLUMNS($B$1:B36)),\"\")","v":""},{"$f":"IFERROR(INDEX($K$12:$M$111,(SMALL(IF(INDEX($K$12:$M$111,,$A$149)=$A$255,MATCH(ROW($K$12:$K$111),ROW($K$12:$K$111)),\"\"),ROWS($B$1:C36))),COLUMNS($B$1:C36)),\"\")","v":""},{"$f":"IFERROR(INDEX($K$12:$M$111,(SMALL(IF(INDEX($K$12:$M$111,,$A$149)=$A$255,MATCH(ROW($K$12:$K$111),ROW($K$12:$K$111)),\"\"),ROWS($B$1:D36))),COLUMNS($B$1:D36)),\"\")","v":""},null,null,{"$f":"IFERROR(INDEX($P$12:$R$111,(SMALL(IF(INDEX($P$12:$R$111,,$A$149)=$A$255,MATCH(ROW($P$12:$P$111),ROW($P$12:$P$111)),\"\"),ROWS($B$1:B36))),COLUMNS($B$1:B36)),\"\")","v":""},{"$f":"IFERROR(INDEX($P$12:$R$111,(SMALL(IF(INDEX($P$12:$R$111,,$A$149)=$A$255,MATCH(ROW($P$12:$P$111),ROW($P$12:$P$111)),\"\"),ROWS($B$1:C36))),COLUMNS($B$1:C36)),\"\")","v":""},{"$f":"IFERROR(INDEX($P$12:$R$111,(SMALL(IF(INDEX($P$12:$R$111,,$A$149)=$A$255,MATCH(ROW($P$12:$P$111),ROW($P$12:$P$111)),\"\"),ROWS($B$1:D36))),COLUMNS($B$1:D36)),\"\")","v":""}]
[37,{"$f":"IFERROR(INDEX($B$12:$H$111,(SMALL(IF(INDEX($B$12:$H$111,,$A$149)=$A$255,MATCH(ROW($B$12:$B$111),ROW($B$12:$B$111)),\"\"),ROWS($B$1:B37))),COLUMNS($B$1:B37)),\"\")","v":""},{"$f":"IFERROR(INDEX($B$12:$H$111,(SMALL(IF(INDEX($B$12:$H$111,,$A$149)=$A$255,MATCH(ROW($B$12:$B$111),ROW($B$12:$B$111)),\"\"),ROWS($B$1:C37))),COLUMNS($B$1:C37)),\"\")","v":""},{"$f":"IFERROR(INDEX($B$12:$H$111,(SMALL(IF(INDEX($B$12:$H$111,,$A$149)=$A$255,MATCH(ROW($B$12:$B$111),ROW($B$12:$B$111)),\"\"),ROWS($B$1:D37))),COLUMNS($B$1:D37)),\"\")","v":""},{"$f":"IFERROR(INDEX($B$12:$H$111,(SMALL(IF(INDEX($B$12:$H$111,,$A$149)=$A$255,MATCH(ROW($B$12:$B$111),ROW($B$12:$B$111)),\"\"),ROWS($B$1:E37))),COLUMNS($B$1:E37)),\"\")","v":""},{"$f":"IFERROR(INDEX($B$12:$H$111,(SMALL(IF(INDEX($B$12:$H$111,,$A$149)=$A$255,MATCH(ROW($B$12:$B$111),ROW($B$12:$B$111)),\"\"),ROWS($B$1:F37))),COLUMNS($B$1:F37)),\"\")","v":""},{"$f":"IFERROR(INDEX($B$12:$H$111,(SMALL(IF(INDEX($B$12:$H$111,,$A$149)=$A$255,MATCH(ROW($B$12:$B$111),ROW($B$12:$B$111)),\"\"),ROWS($B$1:G37))),COLUMNS($B$1:G37)),\"\")","v":""},{"$f":"IFERROR(INDEX($B$12:$H$111,(SMALL(IF(INDEX($B$12:$H$111,,$A$149)=$A$255,MATCH(ROW($B$12:$B$111),ROW($B$12:$B$111)),\"\"),ROWS($B$1:H37))),COLUMNS($B$1:H37)),\"\")","v":""},null,null,{"$f":"IFERROR(INDEX($K$12:$M$111,(SMALL(IF(INDEX($K$12:$M$111,,$A$149)=$A$255,MATCH(ROW($K$12:$K$111),ROW($K$12:$K$111)),\"\"),ROWS($B$1:B37))),COLUMNS($B$1:B37)),\"\")","v":""},{"$f":"IFERROR(INDEX($K$12:$M$111,(SMALL(IF(INDEX($K$12:$M$111,,$A$149)=$A$255,MATCH(ROW($K$12:$K$111),ROW($K$12:$K$111)),\"\"),ROWS($B$1:C37))),COLUMNS($B$1:C37)),\"\")","v":""},{"$f":"IFERROR(INDEX($K$12:$M$111,(SMALL(IF(INDEX($K$12:$M$111,,$A$149)=$A$255,MATCH(ROW($K$12:$K$111),ROW($K$12:$K$111)),\"\"),ROWS($B$1:D37))),COLUMNS($B$1:D37)),\"\")","v":""},null,null,{"$f":"IFERROR(INDEX($P$12:$R$111,(SMALL(IF(INDEX($P$12:$R$111,,$A$149)=$A$255,MATCH(ROW($P$12:$P$111),ROW($P$12:$P$111)),\"\"),ROWS($B$1:B37))),COLUMNS($B$1:B37)),\"\")","v":""},{"$f":"IFERROR(INDEX($P$12:$R$111,(SMALL(IF(INDEX($P$12:$R$111,,$A$149)=$A$255,MATCH(ROW($P$12:$P$111),ROW($P$12:$P$111)),\"\"),ROWS($B$1:C37))),COLUMNS($B$1:C37)),\"\")","v":""},{"$f":"IFERROR(INDEX($P$12:$R$111,(SMALL(IF(INDEX($P$12:$R$111,,$A$149)=$A$255,MATCH(ROW($P$12:$P$111),ROW($P$12:$P$111)),\"\"),ROWS($B$1:D37))),COLUMNS($B$1:D37)),\"\")","v":""}]
[38,{"$f":"IFERROR(INDEX($B$12:$H$111,(SMALL(IF(INDEX($B$12:$H$111,,$A$149)=$A$255,MATCH(ROW($B$12:$B$111),ROW($B$12:$B$111)),\"\"),ROWS($B$1:B38))),COLUMNS($B$1:B38)),\"\")","v":""},{"$f":"IFERROR(INDEX($B$12:$H$111,(SMALL(IF(INDEX($B$12:$H$111,,$A$149)=$A$255,MATCH(ROW($B$12:$B$111),ROW($B$12:$B$111)),\"\"),ROWS($B$1:C38))),COLUMNS($B$1:C38)),\"\")","v":""},{"$f":"IFERROR(INDEX($B$12:$H$111,(SMALL(IF(INDEX($B$12:$H$111,,$A$149)=$A$255,MATCH(ROW($B$12:$B$111),ROW($B$12:$B$111)),\"\"),ROWS($B$1:D38))),COLUMNS($B$1:D38)),\"\")","v":""},{"$f":"IFERROR(INDEX($B$12:$H$111,(SMALL(IF(INDEX($B$12:$H$111,,$A$149)=$A$255,MATCH(ROW($B$12:$B$111),ROW($B$12:$B$111)),\"\"),ROWS($B$1:E38))),COLUMNS($B$1:E38)),\"\")","v":""},{"$f":"IFERROR(INDEX($B$12:$H$111,(SMALL(IF(INDEX($B$12:$H$111,,$A$149)=$A$255,MATCH(ROW($B$12:$B$111),ROW($B$12:$B$111)),\"\"),ROWS($B$1:F38))),COLUMNS($B$1:F38)),\"\")","v":""},{"$f":"IFERROR(INDEX($B$12:$H$111,(SMALL(IF(INDEX($B$12:$H$111,,$A$149)=$A$255,MATCH(ROW($B$12:$B$111),ROW($B$12:$B$111)),\"\"),ROWS($B$1:G38))),COLUMNS($B$1:G38)),\"\")","v":""},{"$f":"IFERROR(INDEX($B$12:$H$111,(SMALL(IF(INDEX($B$12:$H$111,,$A$149)=$A$255,MATCH(ROW($B$12:$B$111),ROW($B$12:$B$111)),\"\"),ROWS($B$1:H38))),COLUMNS($B$1:H38)),\"\")","v":""},null,null,{"$f":"IFERROR(INDEX($K$12:$M$111,(SMALL(IF(INDEX($K$12:$M$111,,$A$149)=$A$255,MATCH(ROW($K$12:$K$111),ROW($K$12:$K$111)),\"\"),ROWS($B$1:B38))),COLUMNS($B$1:B38)),\"\")","v":""},{"$f":"IFERROR(INDEX($K$12:$M$111,(SMALL(IF(INDEX($K$12:$M$111,,$A$149)=$A$255,MATCH(ROW($K$12:$K$111),ROW($K$12:$K$111)),\"\"),ROWS($B$1:C38))),COLUMNS($B$1:C38)),\"\")","v":""},{"$f":"IFERROR(INDEX($K$12:$M$111,(SMALL(IF(INDEX($K$12:$M$111,,$A$149)=$A$255,MATCH(ROW($K$12:$K$111),ROW($K$12:$K$111)),\"\"),ROWS($B$1:D38))),COLUMNS($B$1:D38)),\"\")","v":""},null,null,{"$f":"IFERROR(INDEX($P$12:$R$111,(SMALL(IF(INDEX($P$12:$R$111,,$A$149)=$A$255,MATCH(ROW($P$12:$P$111),ROW($P$12:$P$111)),\"\"),ROWS($B$1:B38))),COLUMNS($B$1:B38)),\"\")","v":""},{"$f":"IFERROR(INDEX($P$12:$R$111,(SMALL(IF(INDEX($P$12:$R$111,,$A$149)=$A$255,MATCH(ROW($P$12:$P$111),ROW($P$12:$P$111)),\"\"),ROWS($B$1:C38))),COLUMNS($B$1:C38)),\"\")","v":""},{"$f":"IFERROR(INDEX($P$12:$R$111,(SMALL(IF(INDEX($P$12:$R$111,,$A$149)=$A$255,MATCH(ROW($P$12:$P$111),ROW($P$12:$P$111)),\"\"),ROWS($B$1:D38))),COLUMNS($B$1:D38)),\"\")","v":""}]
[39,{"$f":"IFERROR(INDEX($B$12:$H$111,(SMALL(IF(INDEX($B$12:$H$111,,$A$149)=$A$255,MATCH(ROW($B$12:$B$111),ROW($B$12:$B$111)),\"\"),ROWS($B$1:B39))),COLUMNS($B$1:B39)),\"\")","v":""},{"$f":"IFERROR(INDEX($B$12:$H$111,(SMALL(IF(INDEX($B$12:$H$111,,$A$149)=$A$255,MATCH(ROW($B$12:$B$111),ROW($B$12:$B$111)),\"\"),ROWS($B$1:C39))),COLUMNS($B$1:C39)),\"\")","v":""},{"$f":"IFERROR(INDEX($B$12:$H$111,(SMALL(IF(INDEX($B$12:$H$111,,$A$149)=$A$255,MATCH(ROW($B$12:$B$111),ROW($B$12:$B$111)),\"\"),ROWS($B$1:D39))),COLUMNS($B$1:D39)),\"\")","v":""},{"$f":"IFERROR(INDEX($B$12:$H$111,(SMALL(IF(INDEX($B$12:$H$111,,$A$149)=$A$255,MATCH(ROW($B$12:$B$111),ROW($B$12:$B$111)),\"\"),ROWS($B$1:E39))),COLUMNS($B$1:E39)),\"\")","v":""},{"$f":"IFERROR(INDEX($B$12:$H$111,(SMALL(IF(INDEX($B$12:$H$111,,$A$149)=$A$255,MATCH(ROW($B$12:$B$111),ROW($B$12:$B$111)),\"\"),ROWS($B$1:F39))),COLUMNS($B$1:F39)),\"\")","v":""},{"$f":"IFERROR(INDEX($B$12:$H$111,(SMALL(IF(INDEX($B$12:$H$111,,$A$149)=$A$255,MATCH(ROW($B$12:$B$111),ROW($B$12:$B$111)),\"\"),ROWS($B$1:G39))),COLUMNS($B$1:G39)),\"\")","v":""},{"$f":"IFERROR(INDEX($B$12:$H$111,(SMALL(IF(INDEX($B$12:$H$111,,$A$149)=$A$255,MATCH(ROW($B$12:$B$111),ROW($B$12:$B$111)),\"\"),ROWS($B$1:H39))),COLUMNS($B$1:H39)),\"\")","v":""},null,null,{"$f":"IFERROR(INDEX($K$12:$M$111,(SMALL(IF(INDEX($K$12:$M$111,,$A$149)=$A$255,MATCH(ROW($K$12:$K$111),ROW($K$12:$K$111)),\"\"),ROWS($B$1:B39))),COLUMNS($B$1:B39)),\"\")","v":""},{"$f":"IFERROR(INDEX($K$12:$M$111,(SMALL(IF(INDEX($K$12:$M$111,,$A$149)=$A$255,MATCH(ROW($K$12:$K$111),ROW($K$12:$K$111)),\"\"),ROWS($B$1:C39))),COLUMNS($B$1:C39)),\"\")","v":""},{"$f":"IFERROR(INDEX($K$12:$M$111,(SMALL(IF(INDEX($K$12:$M$111,,$A$149)=$A$255,MATCH(ROW($K$12:$K$111),ROW($K$12:$K$111)),\"\"),ROWS($B$1:D39))),COLUMNS($B$1:D39)),\"\")","v":""},null,null,{"$f":"IFERROR(INDEX($P$12:$R$111,(SMALL(IF(INDEX($P$12:$R$111,,$A$149)=$A$255,MATCH(ROW($P$12:$P$111),ROW($P$12:$P$111)),\"\"),ROWS($B$1:B39))),COLUMNS($B$1:B39)),\"\")","v":""},{"$f":"IFERROR(INDEX($P$12:$R$111,(SMALL(IF(INDEX($P$12:$R$111,,$A$149)=$A$255,MATCH(ROW($P$12:$P$111),ROW($P$12:$P$111)),\"\"),ROWS($B$1:C39))),COLUMNS($B$1:C39)),\"\")","v":""},{"$f":"IFERROR(INDEX($P$12:$R$111,(SMALL(IF(INDEX($P$12:$R$111,,$A$149)=$A$255,MATCH(ROW($P$12:$P$111),ROW($P$12:$P$111)),\"\"),ROWS($B$1:D39))),COLUMNS($B$1:D39)),\"\")","v":""}]
[40,{"$f":"IFERROR(INDEX($B$12:$H$111,(SMALL(IF(INDEX($B$12:$H$111,,$A$149)=$A$255,MATCH(ROW($B$12:$B$111),ROW($B$12:$B$111)),\"\"),ROWS($B$1:B40))),COLUMNS($B$1:B40)),\"\")","v":""},{"$f":"IFERROR(INDEX($B$12:$H$111,(SMALL(IF(INDEX($B$12:$H$111,,$A$149)=$A$255,MATCH(ROW($B$12:$B$111),ROW($B$12:$B$111)),\"\"),ROWS($B$1:C40))),COLUMNS($B$1:C40)),\"\")","v":""},{"$f":"IFERROR(INDEX($B$12:$H$111,(SMALL(IF(INDEX($B$12:$H$111,,$A$149)=$A$255,MATCH(ROW($B$12:$B$111),ROW($B$12:$B$111)),\"\"),ROWS($B$1:D40))),COLUMNS($B$1:D40)),\"\")","v":""},{"$f":"IFERROR(INDEX($B$12:$H$111,(SMALL(IF(INDEX($B$12:$H$111,,$A$149)=$A$255,MATCH(ROW($B$12:$B$111),ROW($B$12:$B$111)),\"\"),ROWS($B$1:E40))),COLUMNS($B$1:E40)),\"\")","v":""},{"$f":"IFERROR(INDEX($B$12:$H$111,(SMALL(IF(INDEX($B$12:$H$111,,$A$149)=$A$255,MATCH(ROW($B$12:$B$111),ROW($B$12:$B$111)),\"\"),ROWS($B$1:F40))),COLUMNS($B$1:F40)),\"\")","v":""},{"$f":"IFERROR(INDEX($B$12:$H$111,(SMALL(IF(INDEX($B$12:$H$111,,$A$149)=$A$255,MATCH(ROW($B$12:$B$111),ROW($B$12:$B$111)),\"\"),ROWS($B$1:G40))),COLUMNS($B$1:G40)),\"\")","v":""},{"$f":"IFERROR(INDEX($B$12:$H$111,(SMALL(IF(INDEX($B$12:$H$111,,$A$149)=$A$255,MATCH(ROW($B$12:$B$111),ROW($B$12:$B$111)),\"\"),ROWS($B$1:H40))),COLUMNS($B$1:H40)),\"\")","v":""},null,null,{"$f":"IFERROR(INDEX($K$12:$M$111,(SMALL(IF(INDEX($K$12:$M$111,,$A$149)=$A$255,MATCH(ROW($K$12:$K$111),ROW($K$12:$K$111)),\"\"),ROWS($B$1:B40))),COLUMNS($B$1:B40)),\"\")","v":""},{"$f":"IFERROR(INDEX($K$12:$M$111,(SMALL(IF(INDEX($K$12:$M$111,,$A$149)=$A$255,MATCH(ROW($K$12:$K$111),ROW($K$12:$K$111)),\"\"),ROWS($B$1:C40))),COLUMNS($B$1:C40)),\"\")","v":""},{"$f":"IFERROR(INDEX($K$12:$M$111,(SMALL(IF(INDEX($K$12:$M$111,,$A$149)=$A$255,MATCH(ROW($K$12:$K$111),ROW($K$12:$K$111)),\"\"),ROWS($B$1:D40))),COLUMNS($B$1:D40)),\"\")","v":""},null,null,{"$f":"IFERROR(INDEX($P$12:$R$111,(SMALL(IF(INDEX($P$12:$R$111,,$A$149)=$A$255,MATCH(ROW($P$12:$P$111),ROW($P$12:$P$111)),\"\"),ROWS($B$1:B40))),COLUMNS($B$1:B40)),\"\")","v":""},{"$f":"IFERROR(INDEX($P$12:$R$111,(SMALL(IF(INDEX($P$12:$R$111,,$A$149)=$A$255,MATCH(ROW($P$12:$P$111),ROW($P$12:$P$111)),\"\"),ROWS($B$1:C40))),COLUMNS($B$1:C40)),\"\")","v":""},{"$f":"IFERROR(INDEX($P$12:$R$111,(SMALL(IF(INDEX($P$12:$R$111,,$A$149)=$A$255,MATCH(ROW($P$12:$P$111),ROW($P$12:$P$111)),\"\"),ROWS($B$1:D40))),COLUMNS($B$1:D40)),\"\")","v":""}]
[41,{"$f":"IFERROR(INDEX($B$12:$H$111,(SMALL(IF(INDEX($B$12:$H$111,,$A$149)=$A$255,MATCH(ROW($B$12:$B$111),ROW($B$12:$B$111)),\"\"),ROWS($B$1:B41))),COLUMNS($B$1:B41)),\"\")","v":""},{"$f":"IFERROR(INDEX($B$12:$H$111,(SMALL(IF(INDEX($B$12:$H$111,,$A$149)=$A$255,MATCH(ROW($B$12:$B$111),ROW($B$12:$B$111)),\"\"),ROWS($B$1:C41))),COLUMNS($B$1:C41)),\"\")","v":""},{"$f":"IFERROR(INDEX($B$12:$H$111,(SMALL(IF(INDEX($B$12:$H$111,,$A$149)=$A$255,MATCH(ROW($B$12:$B$111),ROW($B$12:$B$111)),\"\"),ROWS($B$1:D41))),COLUMNS($B$1:D41)),\"\")","v":""},{"$f":"IFERROR(INDEX($B$12:$H$111,(SMALL(IF(INDEX($B$12:$H$111,,$A$149)=$A$255,MATCH(ROW($B$12:$B$111),ROW($B$12:$B$111)),\"\"),ROWS($B$1:E41))),COLUMNS($B$1:E41)),\"\")","v":""},{"$f":"IFERROR(INDEX($B$12:$H$111,(SMALL(IF(INDEX($B$12:$H$111,,$A$149)=$A$255,MATCH(ROW($B$12:$B$111),ROW($B$12:$B$111)),\"\"),ROWS($B$1:F41))),COLUMNS($B$1:F41)),\"\")","v":""},{"$f":"IFERROR(INDEX($B$12:$H$111,(SMALL(IF(INDEX($B$12:$H$111,,$A$149)=$A$255,MATCH(ROW($B$12:$B$111),ROW($B$12:$B$111)),\"\"),ROWS($B$1:G41))),COLUMNS($B$1:G41)),\"\")","v":""},{"$f":"IFERROR(INDEX($B$12:$H$111,(SMALL(IF(INDEX($B$12:$H$111,,$A$149)=$A$255,MATCH(ROW($B$12:$B$111),ROW($B$12:$B$111)),\"\"),ROWS($B$1:H41))),COLUMNS($B$1:H41)),\"\")","v":""},null,null,{"$f":"IFERROR(INDEX($K$12:$M$111,(SMALL(IF(INDEX($K$12:$M$111,,$A$149)=$A$255,MATCH(ROW($K$12:$K$111),ROW($K$12:$K$111)),\"\"),ROWS($B$1:B41))),COLUMNS($B$1:B41)),\"\")","v":""},{"$f":"IFERROR(INDEX($K$12:$M$111,(SMALL(IF(INDEX($K$12:$M$111,,$A$149)=$A$255,MATCH(ROW($K$12:$K$111),ROW($K$12:$K$111)),\"\"),ROWS($B$1:C41))),COLUMNS($B$1:C41)),\"\")","v":""},{"$f":"IFERROR(INDEX($K$12:$M$111,(SMALL(IF(INDEX($K$12:$M$111,,$A$149)=$A$255,MATCH(ROW($K$12:$K$111),ROW($K$12:$K$111)),\"\"),ROWS($B$1:D41))),COLUMNS($B$1:D41)),\"\")","v":""},null,null,{"$f":"IFERROR(INDEX($P$12:$R$111,(SMALL(IF(INDEX($P$12:$R$111,,$A$149)=$A$255,MATCH(ROW($P$12:$P$111),ROW($P$12:$P$111)),\"\"),ROWS($B$1:B41))),COLUMNS($B$1:B41)),\"\")","v":""},{"$f":"IFERROR(INDEX($P$12:$R$111,(SMALL(IF(INDEX($P$12:$R$111,,$A$149)=$A$255,MATCH(ROW($P$12:$P$111),ROW($P$12:$P$111)),\"\"),ROWS($B$1:C41))),COLUMNS($B$1:C41)),\"\")","v":""},{"$f":"IFERROR(INDEX($P$12:$R$111,(SMALL(IF(INDEX($P$12:$R$111,,$A$149)=$A$255,MATCH(ROW($P$12:$P$111),ROW($P$12:$P$111)),\"\"),ROWS($B$1:D41))),COLUMNS($B$1:D41)),\"\")","v":""}]
[42,{"$f":"IFERROR(INDEX($B$12:$H$111,(SMALL(IF(INDEX($B$12:$H$111,,$A$149)=$A$255,MATCH(ROW($B$12:$B$111),ROW($B$12:$B$111)),\"\"),ROWS($B$1:B42))),COLUMNS($B$1:B42)),\"\")","v":""},{"$f":"IFERROR(INDEX($B$12:$H$111,(SMALL(IF(INDEX($B$12:$H$111,,$A$149)=$A$255,MATCH(ROW($B$12:$B$111),ROW($B$12:$B$111)),\"\"),ROWS($B$1:C42))),COLUMNS($B$1:C42)),\"\")","v":""},{"$f":"IFERROR(INDEX($B$12:$H$111,(SMALL(IF(INDEX($B$12:$H$111,,$A$149)=$A$255,MATCH(ROW($B$12:$B$111),ROW($B$12:$B$111)),\"\"),ROWS($B$1:D42))),COLUMNS($B$1:D42)),\"\")","v":""},{"$f":"IFERROR(INDEX($B$12:$H$111,(SMALL(IF(INDEX($B$12:$H$111,,$A$149)=$A$255,MATCH(ROW($B$12:$B$111),ROW($B$12:$B$111)),\"\"),ROWS($B$1:E42))),COLUMNS($B$1:E42)),\"\")","v":""},{"$f":"IFERROR(INDEX($B$12:$H$111,(SMALL(IF(INDEX($B$12:$H$111,,$A$149)=$A$255,MATCH(ROW($B$12:$B$111),ROW($B$12:$B$111)),\"\"),ROWS($B$1:F42))),COLUMNS($B$1:F42)),\"\")","v":""},{"$f":"IFERROR(INDEX($B$12:$H$111,(SMALL(IF(INDEX($B$12:$H$111,,$A$149)=$A$255,MATCH(ROW($B$12:$B$111),ROW($B$12:$B$111)),\"\"),ROWS($B$1:G42))),COLUMNS($B$1:G42)),\"\")","v":""},{"$f":"IFERROR(INDEX($B$12:$H$111,(SMALL(IF(INDEX($B$12:$H$111,,$A$149)=$A$255,MATCH(ROW($B$12:$B$111),ROW($B$12:$B$111)),\"\"),ROWS($B$1:H42))),COLUMNS($B$1:H42)),\"\")","v":""},null,null,{"$f":"IFERROR(INDEX($K$12:$M$111,(SMALL(IF(INDEX($K$12:$M$111,,$A$149)=$A$255,MATCH(ROW($K$12:$K$111),ROW($K$12:$K$111)),\"\"),ROWS($B$1:B42))),COLUMNS($B$1:B42)),\"\")","v":""},{"$f":"IFERROR(INDEX($K$12:$M$111,(SMALL(IF(INDEX($K$12:$M$111,,$A$149)=$A$255,MATCH(ROW($K$12:$K$111),ROW($K$12:$K$111)),\"\"),ROWS($B$1:C42))),COLUMNS($B$1:C42)),\"\")","v":""},{"$f":"IFERROR(INDEX($K$12:$M$111,(SMALL(IF(INDEX($K$12:$M$111,,$A$149)=$A$255,MATCH(ROW($K$12:$K$111),ROW($K$12:$K$111)),\"\"),ROWS($B$1:D42))),COLUMNS($B$1:D42)),\"\")","v":""},null,null,{"$f":"IFERROR(INDEX($P$12:$R$111,(SMALL(IF(INDEX($P$12:$R$111,,$A$149)=$A$255,MATCH(ROW($P$12:$P$111),ROW($P$12:$P$111)),\"\"),ROWS($B$1:B42))),COLUMNS($B$1:B42)),\"\")","v":""},{"$f":"IFERROR(INDEX($P$12:$R$111,(SMALL(IF(INDEX($P$12:$R$111,,$A$149)=$A$255,MATCH(ROW($P$12:$P$111),ROW($P$12:$P$111)),\"\"),ROWS($B$1:C42))),COLUMNS($B$1:C42)),\"\")","v":""},{"$f":"IFERROR(INDEX($P$12:$R$111,(SMALL(IF(INDEX($P$12:$R$111,,$A$149)=$A$255,MATCH(ROW($P$12:$P$111),ROW($P$12:$P$111)),\"\"),ROWS($B$1:D42))),COLUMNS($B$1:D42)),\"\")","v":""}]
[43,{"$f":"IFERROR(INDEX($B$12:$H$111,(SMALL(IF(INDEX($B$12:$H$111,,$A$149)=$A$255,MATCH(ROW($B$12:$B$111),ROW($B$12:$B$111)),\"\"),ROWS($B$1:B43))),COLUMNS($B$1:B43)),\"\")","v":""},{"$f":"IFERROR(INDEX($B$12:$H$111,(SMALL(IF(INDEX($B$12:$H$111,,$A$149)=$A$255,MATCH(ROW($B$12:$B$111),ROW($B$12:$B$111)),\"\"),ROWS($B$1:C43))),COLUMNS($B$1:C43)),\"\")","v":""},{"$f":"IFERROR(INDEX($B$12:$H$111,(SMALL(IF(INDEX($B$12:$H$111,,$A$149)=$A$255,MATCH(ROW($B$12:$B$111),ROW($B$12:$B$111)),\"\"),ROWS($B$1:D43))),COLUMNS($B$1:D43)),\"\")","v":""},{"$f":"IFERROR(INDEX($B$12:$H$111,(SMALL(IF(INDEX($B$12:$H$111,,$A$149)=$A$255,MATCH(ROW($B$12:$B$111),ROW($B$12:$B$111)),\"\"),ROWS($B$1:E43))),COLUMNS($B$1:E43)),\"\")","v":""},{"$f":"IFERROR(INDEX($B$12:$H$111,(SMALL(IF(INDEX($B$12:$H$111,,$A$149)=$A$255,MATCH(ROW($B$12:$B$111),ROW($B$12:$B$111)),\"\"),ROWS($B$1:F43))),COLUMNS($B$1:F43)),\"\")","v":""},{"$f":"IFERROR(INDEX($B$12:$H$111,(SMALL(IF(INDEX($B$12:$H$111,,$A$149)=$A$255,MATCH(ROW($B$12:$B$111),ROW($B$12:$B$111)),\"\"),ROWS($B$1:G43))),COLUMNS($B$1:G43)),\"\")","v":""},{"$f":"IFERROR(INDEX($B$12:$H$111,(SMALL(IF(INDEX($B$12:$H$111,,$A$149)=$A$255,MATCH(ROW($B$12:$B$111),ROW($B$12:$B$111)),\"\"),ROWS($B$1:H43))),COLUMNS($B$1:H43)),\"\")","v":""},null,null,{"$f":"IFERROR(INDEX($K$12:$M$111,(SMALL(IF(INDEX($K$12:$M$111,,$A$149)=$A$255,MATCH(ROW($K$12:$K$111),ROW($K$12:$K$111)),\"\"),ROWS($B$1:B43))),COLUMNS($B$1:B43)),\"\")","v":""},{"$f":"IFERROR(INDEX($K$12:$M$111,(SMALL(IF(INDEX($K$12:$M$111,,$A$149)=$A$255,MATCH(ROW($K$12:$K$111),ROW($K$12:$K$111)),\"\"),ROWS($B$1:C43))),COLUMNS($B$1:C43)),\"\")","v":""},{"$f":"IFERROR(INDEX($K$12:$M$111,(SMALL(IF(INDEX($K$12:$M$111,,$A$149)=$A$255,MATCH(ROW($K$12:$K$111),ROW($K$12:$K$111)),\"\"),ROWS($B$1:D43))),COLUMNS($B$1:D43)),\"\")","v":""},null,null,{"$f":"IFERROR(INDEX($P$12:$R$111,(SMALL(IF(INDEX($P$12:$R$111,,$A$149)=$A$255,MATCH(ROW($P$12:$P$111),ROW($P$12:$P$111)),\"\"),ROWS($B$1:B43))),COLUMNS($B$1:B43)),\"\")","v":""},{"$f":"IFERROR(INDEX($P$12:$R$111,(SMALL(IF(INDEX($P$12:$R$111,,$A$149)=$A$255,MATCH(ROW($P$12:$P$111),ROW($P$12:$P$111)),\"\"),ROWS($B$1:C43))),COLUMNS($B$1:C43)),\"\")","v":""},{"$f":"IFERROR(INDEX($P$12:$R$111,(SMALL(IF(INDEX($P$12:$R$111,,$A$149)=$A$255,MATCH(ROW($P$12:$P$111),ROW($P$12:$P$111)),\"\"),ROWS($B$1:D43))),COLUMNS($B$1:D43)),\"\")","v":""}]
[44,{"$f":"IFERROR(INDEX($B$12:$H$111,(SMALL(IF(INDEX($B$12:$H$111,,$A$149)=$A$255,MATCH(ROW($B$12:$B$111),ROW($B$12:$B$111)),\"\"),ROWS($B$1:B44))),COLUMNS($B$1:B44)),\"\")","v":""},{"$f":"IFERROR(INDEX($B$12:$H$111,(SMALL(IF(INDEX($B$12:$H$111,,$A$149)=$A$255,MATCH(ROW($B$12:$B$111),ROW($B$12:$B$111)),\"\"),ROWS($B$1:C44))),COLUMNS($B$1:C44)),\"\")","v":""},{"$f":"IFERROR(INDEX($B$12:$H$111,(SMALL(IF(INDEX($B$12:$H$111,,$A$149)=$A$255,MATCH(ROW($B$12:$B$111),ROW($B$12:$B$111)),\"\"),ROWS($B$1:D44))),COLUMNS($B$1:D44)),\"\")","v":""},{"$f":"IFERROR(INDEX($B$12:$H$111,(SMALL(IF(INDEX($B$12:$H$111,,$A$149)=$A$255,MATCH(ROW($B$12:$B$111),ROW($B$12:$B$111)),\"\"),ROWS($B$1:E44))),COLUMNS($B$1:E44)),\"\")","v":""},{"$f":"IFERROR(INDEX($B$12:$H$111,(SMALL(IF(INDEX($B$12:$H$111,,$A$149)=$A$255,MATCH(ROW($B$12:$B$111),ROW($B$12:$B$111)),\"\"),ROWS($B$1:F44))),COLUMNS($B$1:F44)),\"\")","v":""},{"$f":"IFERROR(INDEX($B$12:$H$111,(SMALL(IF(INDEX($B$12:$H$111,,$A$149)=$A$255,MATCH(ROW($B$12:$B$111),ROW($B$12:$B$111)),\"\"),ROWS($B$1:G44))),COLUMNS($B$1:G44)),\"\")","v":""},{"$f":"IFERROR(INDEX($B$12:$H$111,(SMALL(IF(INDEX($B$12:$H$111,,$A$149)=$A$255,MATCH(ROW($B$12:$B$111),ROW($B$12:$B$111)),\"\"),ROWS($B$1:H44))),COLUMNS($B$1:H44)),\"\")","v":""},null,null,{"$f":"IFERROR(INDEX($K$12:$M$111,(SMALL(IF(INDEX($K$12:$M$111,,$A$149)=$A$255,MATCH(ROW($K$12:$K$111),ROW($K$12:$K$111)),\"\"),ROWS($B$1:B44))),COLUMNS($B$1:B44)),\"\")","v":""},{"$f":"IFERROR(INDEX($K$12:$M$111,(SMALL(IF(INDEX($K$12:$M$111,,$A$149)=$A$255,MATCH(ROW($K$12:$K$111),ROW($K$12:$K$111)),\"\"),ROWS($B$1:C44))),COLUMNS($B$1:C44)),\"\")","v":""},{"$f":"IFERROR(INDEX($K$12:$M$111,(SMALL(IF(INDEX($K$12:$M$111,,$A$149)=$A$255,MATCH(ROW($K$12:$K$111),ROW($K$12:$K$111)),\"\"),ROWS($B$1:D44))),COLUMNS($B$1:D44)),\"\")","v":""},null,null,{"$f":"IFERROR(INDEX($P$12:$R$111,(SMALL(IF(INDEX($P$12:$R$111,,$A$149)=$A$255,MATCH(ROW($P$12:$P$111),ROW($P$12:$P$111)),\"\"),ROWS($B$1:B44))),COLUMNS($B$1:B44)),\"\")","v":""},{"$f":"IFERROR(INDEX($P$12:$R$111,(SMALL(IF(INDEX($P$12:$R$111,,$A$149)=$A$255,MATCH(ROW($P$12:$P$111),ROW($P$12:$P$111)),\"\"),ROWS($B$1:C44))),COLUMNS($B$1:C44)),\"\")","v":""},{"$f":"IFERROR(INDEX($P$12:$R$111,(SMALL(IF(INDEX($P$12:$R$111,,$A$149)=$A$255,MATCH(ROW($P$12:$P$111),ROW($P$12:$P$111)),\"\"),ROWS($B$1:D44))),COLUMNS($B$1:D44)),\"\")","v":""}]
[45,{"$f":"IFERROR(INDEX($B$12:$H$111,(SMALL(IF(INDEX($B$12:$H$111,,$A$149)=$A$255,MATCH(ROW($B$12:$B$111),ROW($B$12:$B$111)),\"\"),ROWS($B$1:B45))),COLUMNS($B$1:B45)),\"\")","v":""},{"$f":"IFERROR(INDEX($B$12:$H$111,(SMALL(IF(INDEX($B$12:$H$111,,$A$149)=$A$255,MATCH(ROW($B$12:$B$111),ROW($B$12:$B$111)),\"\"),ROWS($B$1:C45))),COLUMNS($B$1:C45)),\"\")","v":""},{"$f":"IFERROR(INDEX($B$12:$H$111,(SMALL(IF(INDEX($B$12:$H$111,,$A$149)=$A$255,MATCH(ROW($B$12:$B$111),ROW($B$12:$B$111)),\"\"),ROWS($B$1:D45))),COLUMNS($B$1:D45)),\"\")","v":""},{"$f":"IFERROR(INDEX($B$12:$H$111,(SMALL(IF(INDEX($B$12:$H$111,,$A$149)=$A$255,MATCH(ROW($B$12:$B$111),ROW($B$12:$B$111)),\"\"),ROWS($B$1:E45))),COLUMNS($B$1:E45)),\"\")","v":""},{"$f":"IFERROR(INDEX($B$12:$H$111,(SMALL(IF(INDEX($B$12:$H$111,,$A$149)=$A$255,MATCH(ROW($B$12:$B$111),ROW($B$12:$B$111)),\"\"),ROWS($B$1:F45))),COLUMNS($B$1:F45)),\"\")","v":""},{"$f":"IFERROR(INDEX($B$12:$H$111,(SMALL(IF(INDEX($B$12:$H$111,,$A$149)=$A$255,MATCH(ROW($B$12:$B$111),ROW($B$12:$B$111)),\"\"),ROWS($B$1:G45))),COLUMNS($B$1:G45)),\"\")","v":""},{"$f":"IFERROR(INDEX($B$12:$H$111,(SMALL(IF(INDEX($B$12:$H$111,,$A$149)=$A$255,MATCH(ROW($B$12:$B$111),ROW($B$12:$B$111)),\"\"),ROWS($B$1:H45))),COLUMNS($B$1:H45)),\"\")","v":""},null,null,{"$f":"IFERROR(INDEX($K$12:$M$111,(SMALL(IF(INDEX($K$12:$M$111,,$A$149)=$A$255,MATCH(ROW($K$12:$K$111),ROW($K$12:$K$111)),\"\"),ROWS($B$1:B45))),COLUMNS($B$1:B45)),\"\")","v":""},{"$f":"IFERROR(INDEX($K$12:$M$111,(SMALL(IF(INDEX($K$12:$M$111,,$A$149)=$A$255,MATCH(ROW($K$12:$K$111),ROW($K$12:$K$111)),\"\"),ROWS($B$1:C45))),COLUMNS($B$1:C45)),\"\")","v":""},{"$f":"IFERROR(INDEX($K$12:$M$111,(SMALL(IF(INDEX($K$12:$M$111,,$A$149)=$A$255,MATCH(ROW($K$12:$K$111),ROW($K$12:$K$111)),\"\"),ROWS($B$1:D45))),COLUMNS($B$1:D45)),\"\")","v":""},null,null,{"$f":"IFERROR(INDEX($P$12:$R$111,(SMALL(IF(INDEX($P$12:$R$111,,$A$149)=$A$255,MATCH(ROW($P$12:$P$111),ROW($P$12:$P$111)),\"\"),ROWS($B$1:B45))),COLUMNS($B$1:B45)),\"\")","v":""},{"$f":"IFERROR(INDEX($P$12:$R$111,(SMALL(IF(INDEX($P$12:$R$111,,$A$149)=$A$255,MATCH(ROW($P$12:$P$111),ROW($P$12:$P$111)),\"\"),ROWS($B$1:C45))),COLUMNS($B$1:C45)),\"\")","v":""},{"$f":"IFERROR(INDEX($P$12:$R$111,(SMALL(IF(INDEX($P$12:$R$111,,$A$149)=$A$255,MATCH(ROW($P$12:$P$111),ROW($P$12:$P$111)),\"\"),ROWS($B$1:D45))),COLUMNS($B$1:D45)),\"\")","v":""}]
[46,{"$f":"IFERROR(INDEX($B$12:$H$111,(SMALL(IF(INDEX($B$12:$H$111,,$A$149)=$A$255,MATCH(ROW($B$12:$B$111),ROW($B$12:$B$111)),\"\"),ROWS($B$1:B46))),COLUMNS($B$1:B46)),\"\")","v":""},{"$f":"IFERROR(INDEX($B$12:$H$111,(SMALL(IF(INDEX($B$12:$H$111,,$A$149)=$A$255,MATCH(ROW($B$12:$B$111),ROW($B$12:$B$111)),\"\"),ROWS($B$1:C46))),COLUMNS($B$1:C46)),\"\")","v":""},{"$f":"IFERROR(INDEX($B$12:$H$111,(SMALL(IF(INDEX($B$12:$H$111,,$A$149)=$A$255,MATCH(ROW($B$12:$B$111),ROW($B$12:$B$111)),\"\"),ROWS($B$1:D46))),COLUMNS($B$1:D46)),\"\")","v":""},{"$f":"IFERROR(INDEX($B$12:$H$111,(SMALL(IF(INDEX($B$12:$H$111,,$A$149)=$A$255,MATCH(ROW($B$12:$B$111),ROW($B$12:$B$111)),\"\"),ROWS($B$1:E46))),COLUMNS($B$1:E46)),\"\")","v":""},{"$f":"IFERROR(INDEX($B$12:$H$111,(SMALL(IF(INDEX($B$12:$H$111,,$A$149)=$A$255,MATCH(ROW($B$12:$B$111),ROW($B$12:$B$111)),\"\"),ROWS($B$1:F46))),COLUMNS($B$1:F46)),\"\")","v":""},{"$f":"IFERROR(INDEX($B$12:$H$111,(SMALL(IF(INDEX($B$12:$H$111,,$A$149)=$A$255,MATCH(ROW($B$12:$B$111),ROW($B$12:$B$111)),\"\"),ROWS($B$1:G46))),COLUMNS($B$1:G46)),\"\")","v":""},{"$f":"IFERROR(INDEX($B$12:$H$111,(SMALL(IF(INDEX($B$12:$H$111,,$A$149)=$A$255,MATCH(ROW($B$12:$B$111),ROW($B$12:$B$111)),\"\"),ROWS($B$1:H46))),COLUMNS($B$1:H46)),\"\")","v":""},null,null,{"$f":"IFERROR(INDEX($K$12:$M$111,(SMALL(IF(INDEX($K$12:$M$111,,$A$149)=$A$255,MATCH(ROW($K$12:$K$111),ROW($K$12:$K$111)),\"\"),ROWS($B$1:B46))),COLUMNS($B$1:B46)),\"\")","v":""},{"$f":"IFERROR(INDEX($K$12:$M$111,(SMALL(IF(INDEX($K$12:$M$111,,$A$149)=$A$255,MATCH(ROW($K$12:$K$111),ROW($K$12:$K$111)),\"\"),ROWS($B$1:C46))),COLUMNS($B$1:C46)),\"\")","v":""},{"$f":"IFERROR(INDEX($K$12:$M$111,(SMALL(IF(INDEX($K$12:$M$111,,$A$149)=$A$255,MATCH(ROW($K$12:$K$111),ROW($K$12:$K$111)),\"\"),ROWS($B$1:D46))),COLUMNS($B$1:D46)),\"\")","v":""},null,null,{"$f":"IFERROR(INDEX($P$12:$R$111,(SMALL(IF(INDEX($P$12:$R$111,,$A$149)=$A$255,MATCH(ROW($P$12:$P$111),ROW($P$12:$P$111)),\"\"),ROWS($B$1:B46))),COLUMNS($B$1:B46)),\"\")","v":""},{"$f":"IFERROR(INDEX($P$12:$R$111,(SMALL(IF(INDEX($P$12:$R$111,,$A$149)=$A$255,MATCH(ROW($P$12:$P$111),ROW($P$12:$P$111)),\"\"),ROWS($B$1:C46))),COLUMNS($B$1:C46)),\"\")","v":""},{"$f":"IFERROR(INDEX($P$12:$R$111,(SMALL(IF(INDEX($P$12:$R$111,,$A$149)=$A$255,MATCH(ROW($P$12:$P$111),ROW($P$12:$P$111)),\"\"),ROWS($B$1:D46))),COLUMNS($B$1:D46)),\"\")","v":""}]
[47,{"$f":"IFERROR(INDEX($B$12:$H$111,(SMALL(IF(INDEX($B$12:$H$111,,$A$149)=$A$255,MATCH(ROW($B$12:$B$111),ROW($B$12:$B$111)),\"\"),ROWS($B$1:B47))),COLUMNS($B$1:B47)),\"\")","v":""},{"$f":"IFERROR(INDEX($B$12:$H$111,(SMALL(IF(INDEX($B$12:$H$111,,$A$149)=$A$255,MATCH(ROW($B$12:$B$111),ROW($B$12:$B$111)),\"\"),ROWS($B$1:C47))),COLUMNS($B$1:C47)),\"\")","v":""},{"$f":"IFERROR(INDEX($B$12:$H$111,(SMALL(IF(INDEX($B$12:$H$111,,$A$149)=$A$255,MATCH(ROW($B$12:$B$111),ROW($B$12:$B$111)),\"\"),ROWS($B$1:D47))),COLUMNS($B$1:D47)),\"\")","v":""},{"$f":"IFERROR(INDEX($B$12:$H$111,(SMALL(IF(INDEX($B$12:$H$111,,$A$149)=$A$255,MATCH(ROW($B$12:$B$111),ROW($B$12:$B$111)),\"\"),ROWS($B$1:E47))),COLUMNS($B$1:E47)),\"\")","v":""},{"$f":"IFERROR(INDEX($B$12:$H$111,(SMALL(IF(INDEX($B$12:$H$111,,$A$149)=$A$255,MATCH(ROW($B$12:$B$111),ROW($B$12:$B$111)),\"\"),ROWS($B$1:F47))),COLUMNS($B$1:F47)),\"\")","v":""},{"$f":"IFERROR(INDEX($B$12:$H$111,(SMALL(IF(INDEX($B$12:$H$111,,$A$149)=$A$255,MATCH(ROW($B$12:$B$111),ROW($B$12:$B$111)),\"\"),ROWS($B$1:G47))),COLUMNS($B$1:G47)),\"\")","v":""},{"$f":"IFERROR(INDEX($B$12:$H$111,(SMALL(IF(INDEX($B$12:$H$111,,$A$149)=$A$255,MATCH(ROW($B$12:$B$111),ROW($B$12:$B$111)),\"\"),ROWS($B$1:H47))),COLUMNS($B$1:H47)),\"\")","v":""},null,null,{"$f":"IFERROR(INDEX($K$12:$M$111,(SMALL(IF(INDEX($K$12:$M$111,,$A$149)=$A$255,MATCH(ROW($K$12:$K$111),ROW($K$12:$K$111)),\"\"),ROWS($B$1:B47))),COLUMNS($B$1:B47)),\"\")","v":""},{"$f":"IFERROR(INDEX($K$12:$M$111,(SMALL(IF(INDEX($K$12:$M$111,,$A$149)=$A$255,MATCH(ROW($K$12:$K$111),ROW($K$12:$K$111)),\"\"),ROWS($B$1:C47))),COLUMNS($B$1:C47)),\"\")","v":""},{"$f":"IFERROR(INDEX($K$12:$M$111,(SMALL(IF(INDEX($K$12:$M$111,,$A$149)=$A$255,MATCH(ROW($K$12:$K$111),ROW($K$12:$K$111)),\"\"),ROWS($B$1:D47))),COLUMNS($B$1:D47)),\"\")","v":""},null,null,{"$f":"IFERROR(INDEX($P$12:$R$111,(SMALL(IF(INDEX($P$12:$R$111,,$A$149)=$A$255,MATCH(ROW($P$12:$P$111),ROW($P$12:$P$111)),\"\"),ROWS($B$1:B47))),COLUMNS($B$1:B47)),\"\")","v":""},{"$f":"IFERROR(INDEX($P$12:$R$111,(SMALL(IF(INDEX($P$12:$R$111,,$A$149)=$A$255,MATCH(ROW($P$12:$P$111),ROW($P$12:$P$111)),\"\"),ROWS($B$1:C47))),COLUMNS($B$1:C47)),\"\")","v":""},{"$f":"IFERROR(INDEX($P$12:$R$111,(SMALL(IF(INDEX($P$12:$R$111,,$A$149)=$A$255,MATCH(ROW($P$12:$P$111),ROW($P$12:$P$111)),\"\"),ROWS($B$1:D47))),COLUMNS($B$1:D47)),\"\")","v":""}]
[48,{"$f":"IFERROR(INDEX($B$12:$H$111,(SMALL(IF(INDEX($B$12:$H$111,,$A$149)=$A$255,MATCH(ROW($B$12:$B$111),ROW($B$12:$B$111)),\"\"),ROWS($B$1:B48))),COLUMNS($B$1:B48)),\"\")","v":""},{"$f":"IFERROR(INDEX($B$12:$H$111,(SMALL(IF(INDEX($B$12:$H$111,,$A$149)=$A$255,MATCH(ROW($B$12:$B$111),ROW($B$12:$B$111)),\"\"),ROWS($B$1:C48))),COLUMNS($B$1:C48)),\"\")","v":""},{"$f":"IFERROR(INDEX($B$12:$H$111,(SMALL(IF(INDEX($B$12:$H$111,,$A$149)=$A$255,MATCH(ROW($B$12:$B$111),ROW($B$12:$B$111)),\"\"),ROWS($B$1:D48))),COLUMNS($B$1:D48)),\"\")","v":""},{"$f":"IFERROR(INDEX($B$12:$H$111,(SMALL(IF(INDEX($B$12:$H$111,,$A$149)=$A$255,MATCH(ROW($B$12:$B$111),ROW($B$12:$B$111)),\"\"),ROWS($B$1:E48))),COLUMNS($B$1:E48)),\"\")","v":""},{"$f":"IFERROR(INDEX($B$12:$H$111,(SMALL(IF(INDEX($B$12:$H$111,,$A$149)=$A$255,MATCH(ROW($B$12:$B$111),ROW($B$12:$B$111)),\"\"),ROWS($B$1:F48))),COLUMNS($B$1:F48)),\"\")","v":""},{"$f":"IFERROR(INDEX($B$12:$H$111,(SMALL(IF(INDEX($B$12:$H$111,,$A$149)=$A$255,MATCH(ROW($B$12:$B$111),ROW($B$12:$B$111)),\"\"),ROWS($B$1:G48))),COLUMNS($B$1:G48)),\"\")","v":""},{"$f":"IFERROR(INDEX($B$12:$H$111,(SMALL(IF(INDEX($B$12:$H$111,,$A$149)=$A$255,MATCH(ROW($B$12:$B$111),ROW($B$12:$B$111)),\"\"),ROWS($B$1:H48))),COLUMNS($B$1:H48)),\"\")","v":""},null,null,{"$f":"IFERROR(INDEX($K$12:$M$111,(SMALL(IF(INDEX($K$12:$M$111,,$A$149)=$A$255,MATCH(ROW($K$12:$K$111),ROW($K$12:$K$111)),\"\"),ROWS($B$1:B48))),COLUMNS($B$1:B48)),\"\")","v":""},{"$f":"IFERROR(INDEX($K$12:$M$111,(SMALL(IF(INDEX($K$12:$M$111,,$A$149)=$A$255,MATCH(ROW($K$12:$K$111),ROW($K$12:$K$111)),\"\"),ROWS($B$1:C48))),COLUMNS($B$1:C48)),\"\")","v":""},{"$f":"IFERROR(INDEX($K$12:$M$111,(SMALL(IF(INDEX($K$12:$M$111,,$A$149)=$A$255,MATCH(ROW($K$12:$K$111),ROW($K$12:$K$111)),\"\"),ROWS($B$1:D48))),COLUMNS($B$1:D48)),\"\")","v":""},null,null,{"$f":"IFERROR(INDEX($P$12:$R$111,(SMALL(IF(INDEX($P$12:$R$111,,$A$149)=$A$255,MATCH(ROW($P$12:$P$111),ROW($P$12:$P$111)),\"\"),ROWS($B$1:B48))),COLUMNS($B$1:B48)),\"\")","v":""},{"$f":"IFERROR(INDEX($P$12:$R$111,(SMALL(IF(INDEX($P$12:$R$111,,$A$149)=$A$255,MATCH(ROW($P$12:$P$111),ROW($P$12:$P$111)),\"\"),ROWS($B$1:C48))),COLUMNS($B$1:C48)),\"\")","v":""},{"$f":"IFERROR(INDEX($P$12:$R$111,(SMALL(IF(INDEX($P$12:$R$111,,$A$149)=$A$255,MATCH(ROW($P$12:$P$111),ROW($P$12:$P$111)),\"\"),ROWS($B$1:D48))),COLUMNS($B$1:D48)),\"\")","v":""}]
[49,{"$f":"IFERROR(INDEX($B$12:$H$111,(SMALL(IF(INDEX($B$12:$H$111,,$A$149)=$A$255,MATCH(ROW($B$12:$B$111),ROW($B$12:$B$111)),\"\"),ROWS($B$1:B49))),COLUMNS($B$1:B49)),\"\")","v":""},{"$f":"IFERROR(INDEX($B$12:$H$111,(SMALL(IF(INDEX($B$12:$H$111,,$A$149)=$A$255,MATCH(ROW($B$12:$B$111),ROW($B$12:$B$111)),\"\"),ROWS($B$1:C49))),COLUMNS($B$1:C49)),\"\")","v":""},{"$f":"IFERROR(INDEX($B$12:$H$111,(SMALL(IF(INDEX($B$12:$H$111,,$A$149)=$A$255,MATCH(ROW($B$12:$B$111),ROW($B$12:$B$111)),\"\"),ROWS($B$1:D49))),COLUMNS($B$1:D49)),\"\")","v":""},{"$f":"IFERROR(INDEX($B$12:$H$111,(SMALL(IF(INDEX($B$12:$H$111,,$A$149)=$A$255,MATCH(ROW($B$12:$B$111),ROW($B$12:$B$111)),\"\"),ROWS($B$1:E49))),COLUMNS($B$1:E49)),\"\")","v":""},{"$f":"IFERROR(INDEX($B$12:$H$111,(SMALL(IF(INDEX($B$12:$H$111,,$A$149)=$A$255,MATCH(ROW($B$12:$B$111),ROW($B$12:$B$111)),\"\"),ROWS($B$1:F49))),COLUMNS($B$1:F49)),\"\")","v":""},{"$f":"IFERROR(INDEX($B$12:$H$111,(SMALL(IF(INDEX($B$12:$H$111,,$A$149)=$A$255,MATCH(ROW($B$12:$B$111),ROW($B$12:$B$111)),\"\"),ROWS($B$1:G49))),COLUMNS($B$1:G49)),\"\")","v":""},{"$f":"IFERROR(INDEX($B$12:$H$111,(SMALL(IF(INDEX($B$12:$H$111,,$A$149)=$A$255,MATCH(ROW($B$12:$B$111),ROW($B$12:$B$111)),\"\"),ROWS($B$1:H49))),COLUMNS($B$1:H49)),\"\")","v":""},null,null,{"$f":"IFERROR(INDEX($K$12:$M$111,(SMALL(IF(INDEX($K$12:$M$111,,$A$149)=$A$255,MATCH(ROW($K$12:$K$111),ROW($K$12:$K$111)),\"\"),ROWS($B$1:B49))),COLUMNS($B$1:B49)),\"\")","v":""},{"$f":"IFERROR(INDEX($K$12:$M$111,(SMALL(IF(INDEX($K$12:$M$111,,$A$149)=$A$255,MATCH(ROW($K$12:$K$111),ROW($K$12:$K$111)),\"\"),ROWS($B$1:C49))),COLUMNS($B$1:C49)),\"\")","v":""},{"$f":"IFERROR(INDEX($K$12:$M$111,(SMALL(IF(INDEX($K$12:$M$111,,$A$149)=$A$255,MATCH(ROW($K$12:$K$111),ROW($K$12:$K$111)),\"\"),ROWS($B$1:D49))),COLUMNS($B$1:D49)),\"\")","v":""},null,null,{"$f":"IFERROR(INDEX($P$12:$R$111,(SMALL(IF(INDEX($P$12:$R$111,,$A$149)=$A$255,MATCH(ROW($P$12:$P$111),ROW($P$12:$P$111)),\"\"),ROWS($B$1:B49))),COLUMNS($B$1:B49)),\"\")","v":""},{"$f":"IFERROR(INDEX($P$12:$R$111,(SMALL(IF(INDEX($P$12:$R$111,,$A$149)=$A$255,MATCH(ROW($P$12:$P$111),ROW($P$12:$P$111)),\"\"),ROWS($B$1:C49))),COLUMNS($B$1:C49)),\"\")","v":""},{"$f":"IFERROR(INDEX($P$12:$R$111,(SMALL(IF(INDEX($P$12:$R$111,,$A$149)=$A$255,MATCH(ROW($P$12:$P$111),ROW($P$12:$P$111)),\"\"),ROWS($B$1:D49))),COLUMNS($B$1:D49)),\"\")","v":""}]
[50,{"$f":"IFERROR(INDEX($B$12:$H$111,(SMALL(IF(INDEX($B$12:$H$111,,$A$149)=$A$255,MATCH(ROW($B$12:$B$111),ROW($B$12:$B$111)),\"\"),ROWS($B$1:B50))),COLUMNS($B$1:B50)),\"\")","v":""},{"$f":"IFERROR(INDEX($B$12:$H$111,(SMALL(IF(INDEX($B$12:$H$111,,$A$149)=$A$255,MATCH(ROW($B$12:$B$111),ROW($B$12:$B$111)),\"\"),ROWS($B$1:C50))),COLUMNS($B$1:C50)),\"\")","v":""},{"$f":"IFERROR(INDEX($B$12:$H$111,(SMALL(IF(INDEX($B$12:$H$111,,$A$149)=$A$255,MATCH(ROW($B$12:$B$111),ROW($B$12:$B$111)),\"\"),ROWS($B$1:D50))),COLUMNS($B$1:D50)),\"\")","v":""},{"$f":"IFERROR(INDEX($B$12:$H$111,(SMALL(IF(INDEX($B$12:$H$111,,$A$149)=$A$255,MATCH(ROW($B$12:$B$111),ROW($B$12:$B$111)),\"\"),ROWS($B$1:E50))),COLUMNS($B$1:E50)),\"\")","v":""},{"$f":"IFERROR(INDEX($B$12:$H$111,(SMALL(IF(INDEX($B$12:$H$111,,$A$149)=$A$255,MATCH(ROW($B$12:$B$111),ROW($B$12:$B$111)),\"\"),ROWS($B$1:F50))),COLUMNS($B$1:F50)),\"\")","v":""},{"$f":"IFERROR(INDEX($B$12:$H$111,(SMALL(IF(INDEX($B$12:$H$111,,$A$149)=$A$255,MATCH(ROW($B$12:$B$111),ROW($B$12:$B$111)),\"\"),ROWS($B$1:G50))),COLUMNS($B$1:G50)),\"\")","v":""},{"$f":"IFERROR(INDEX($B$12:$H$111,(SMALL(IF(INDEX($B$12:$H$111,,$A$149)=$A$255,MATCH(ROW($B$12:$B$111),ROW($B$12:$B$111)),\"\"),ROWS($B$1:H50))),COLUMNS($B$1:H50)),\"\")","v":""},null,null,{"$f":"IFERROR(INDEX($K$12:$M$111,(SMALL(IF(INDEX($K$12:$M$111,,$A$149)=$A$255,MATCH(ROW($K$12:$K$111),ROW($K$12:$K$111)),\"\"),ROWS($B$1:B50))),COLUMNS($B$1:B50)),\"\")","v":""},{"$f":"IFERROR(INDEX($K$12:$M$111,(SMALL(IF(INDEX($K$12:$M$111,,$A$149)=$A$255,MATCH(ROW($K$12:$K$111),ROW($K$12:$K$111)),\"\"),ROWS($B$1:C50))),COLUMNS($B$1:C50)),\"\")","v":""},{"$f":"IFERROR(INDEX($K$12:$M$111,(SMALL(IF(INDEX($K$12:$M$111,,$A$149)=$A$255,MATCH(ROW($K$12:$K$111),ROW($K$12:$K$111)),\"\"),ROWS($B$1:D50))),COLUMNS($B$1:D50)),\"\")","v":""},null,null,{"$f":"IFERROR(INDEX($P$12:$R$111,(SMALL(IF(INDEX($P$12:$R$111,,$A$149)=$A$255,MATCH(ROW($P$12:$P$111),ROW($P$12:$P$111)),\"\"),ROWS($B$1:B50))),COLUMNS($B$1:B50)),\"\")","v":""},{"$f":"IFERROR(INDEX($P$12:$R$111,(SMALL(IF(INDEX($P$12:$R$111,,$A$149)=$A$255,MATCH(ROW($P$12:$P$111),ROW($P$12:$P$111)),\"\"),ROWS($B$1:C50))),COLUMNS($B$1:C50)),\"\")","v":""},{"$f":"IFERROR(INDEX($P$12:$R$111,(SMALL(IF(INDEX($P$12:$R$111,,$A$149)=$A$255,MATCH(ROW($P$12:$P$111),ROW($P$12:$P$111)),\"\"),ROWS($B$1:D50))),COLUMNS($B$1:D50)),\"\")","v":""}]
[51,{"$f":"IFERROR(INDEX($B$12:$H$111,(SMALL(IF(INDEX($B$12:$H$111,,$A$149)=$A$255,MATCH(ROW($B$12:$B$111),ROW($B$12:$B$111)),\"\"),ROWS($B$1:B51))),COLUMNS($B$1:B51)),\"\")","v":""},{"$f":"IFERROR(INDEX($B$12:$H$111,(SMALL(IF(INDEX($B$12:$H$111,,$A$149)=$A$255,MATCH(ROW($B$12:$B$111),ROW($B$12:$B$111)),\"\"),ROWS($B$1:C51))),COLUMNS($B$1:C51)),\"\")","v":""},{"$f":"IFERROR(INDEX($B$12:$H$111,(SMALL(IF(INDEX($B$12:$H$111,,$A$149)=$A$255,MATCH(ROW($B$12:$B$111),ROW($B$12:$B$111)),\"\"),ROWS($B$1:D51))),COLUMNS($B$1:D51)),\"\")","v":""},{"$f":"IFERROR(INDEX($B$12:$H$111,(SMALL(IF(INDEX($B$12:$H$111,,$A$149)=$A$255,MATCH(ROW($B$12:$B$111),ROW($B$12:$B$111)),\"\"),ROWS($B$1:E51))),COLUMNS($B$1:E51)),\"\")","v":""},{"$f":"IFERROR(INDEX($B$12:$H$111,(SMALL(IF(INDEX($B$12:$H$111,,$A$149)=$A$255,MATCH(ROW($B$12:$B$111),ROW($B$12:$B$111)),\"\"),ROWS($B$1:F51))),COLUMNS($B$1:F51)),\"\")","v":""},{"$f":"IFERROR(INDEX($B$12:$H$111,(SMALL(IF(INDEX($B$12:$H$111,,$A$149)=$A$255,MATCH(ROW($B$12:$B$111),ROW($B$12:$B$111)),\"\"),ROWS($B$1:G51))),COLUMNS($B$1:G51)),\"\")","v":""},{"$f":"IFERROR(INDEX($B$12:$H$111,(SMALL(IF(INDEX($B$12:$H$111,,$A$149)=$A$255,MATCH(ROW($B$12:$B$111),ROW($B$12:$B$111)),\"\"),ROWS($B$1:H51))),COLUMNS($B$1:H51)),\"\")","v":""},null,null,{"$f":"IFERROR(INDEX($K$12:$M$111,(SMALL(IF(INDEX($K$12:$M$111,,$A$149)=$A$255,MATCH(ROW($K$12:$K$111),ROW($K$12:$K$111)),\"\"),ROWS($B$1:B51))),COLUMNS($B$1:B51)),\"\")","v":""},{"$f":"IFERROR(INDEX($K$12:$M$111,(SMALL(IF(INDEX($K$12:$M$111,,$A$149)=$A$255,MATCH(ROW($K$12:$K$111),ROW($K$12:$K$111)),\"\"),ROWS($B$1:C51))),COLUMNS($B$1:C51)),\"\")","v":""},{"$f":"IFERROR(INDEX($K$12:$M$111,(SMALL(IF(INDEX($K$12:$M$111,,$A$149)=$A$255,MATCH(ROW($K$12:$K$111),ROW($K$12:$K$111)),\"\"),ROWS($B$1:D51))),COLUMNS($B$1:D51)),\"\")","v":""},null,null,{"$f":"IFERROR(INDEX($P$12:$R$111,(SMALL(IF(INDEX($P$12:$R$111,,$A$149)=$A$255,MATCH(ROW($P$12:$P$111),ROW($P$12:$P$111)),\"\"),ROWS($B$1:B51))),COLUMNS($B$1:B51)),\"\")","v":""},{"$f":"IFERROR(INDEX($P$12:$R$111,(SMALL(IF(INDEX($P$12:$R$111,,$A$149)=$A$255,MATCH(ROW($P$12:$P$111),ROW($P$12:$P$111)),\"\"),ROWS($B$1:C51))),COLUMNS($B$1:C51)),\"\")","v":""},{"$f":"IFERROR(INDEX($P$12:$R$111,(SMALL(IF(INDEX($P$12:$R$111,,$A$149)=$A$255,MATCH(ROW($P$12:$P$111),ROW($P$12:$P$111)),\"\"),ROWS($B$1:D51))),COLUMNS($B$1:D51)),\"\")","v":""}]
[52,{"$f":"IFERROR(INDEX($B$12:$H$111,(SMALL(IF(INDEX($B$12:$H$111,,$A$149)=$A$255,MATCH(ROW($B$12:$B$111),ROW($B$12:$B$111)),\"\"),ROWS($B$1:B52))),COLUMNS($B$1:B52)),\"\")","v":""},{"$f":"IFERROR(INDEX($B$12:$H$111,(SMALL(IF(INDEX($B$12:$H$111,,$A$149)=$A$255,MATCH(ROW($B$12:$B$111),ROW($B$12:$B$111)),\"\"),ROWS($B$1:C52))),COLUMNS($B$1:C52)),\"\")","v":""},{"$f":"IFERROR(INDEX($B$12:$H$111,(SMALL(IF(INDEX($B$12:$H$111,,$A$149)=$A$255,MATCH(ROW($B$12:$B$111),ROW($B$12:$B$111)),\"\"),ROWS($B$1:D52))),COLUMNS($B$1:D52)),\"\")","v":""},{"$f":"IFERROR(INDEX($B$12:$H$111,(SMALL(IF(INDEX($B$12:$H$111,,$A$149)=$A$255,MATCH(ROW($B$12:$B$111),ROW($B$12:$B$111)),\"\"),ROWS($B$1:E52))),COLUMNS($B$1:E52)),\"\")","v":""},{"$f":"IFERROR(INDEX($B$12:$H$111,(SMALL(IF(INDEX($B$12:$H$111,,$A$149)=$A$255,MATCH(ROW($B$12:$B$111),ROW($B$12:$B$111)),\"\"),ROWS($B$1:F52))),COLUMNS($B$1:F52)),\"\")","v":""},{"$f":"IFERROR(INDEX($B$12:$H$111,(SMALL(IF(INDEX($B$12:$H$111,,$A$149)=$A$255,MATCH(ROW($B$12:$B$111),ROW($B$12:$B$111)),\"\"),ROWS($B$1:G52))),COLUMNS($B$1:G52)),\"\")","v":""},{"$f":"IFERROR(INDEX($B$12:$H$111,(SMALL(IF(INDEX($B$12:$H$111,,$A$149)=$A$255,MATCH(ROW($B$12:$B$111),ROW($B$12:$B$111)),\"\"),ROWS($B$1:H52))),COLUMNS($B$1:H52)),\"\")","v":""},null,null,{"$f":"IFERROR(INDEX($K$12:$M$111,(SMALL(IF(INDEX($K$12:$M$111,,$A$149)=$A$255,MATCH(ROW($K$12:$K$111),ROW($K$12:$K$111)),\"\"),ROWS($B$1:B52))),COLUMNS($B$1:B52)),\"\")","v":""},{"$f":"IFERROR(INDEX($K$12:$M$111,(SMALL(IF(INDEX($K$12:$M$111,,$A$149)=$A$255,MATCH(ROW($K$12:$K$111),ROW($K$12:$K$111)),\"\"),ROWS($B$1:C52))),COLUMNS($B$1:C52)),\"\")","v":""},{"$f":"IFERROR(INDEX($K$12:$M$111,(SMALL(IF(INDEX($K$12:$M$111,,$A$149)=$A$255,MATCH(ROW($K$12:$K$111),ROW($K$12:$K$111)),\"\"),ROWS($B$1:D52))),COLUMNS($B$1:D52)),\"\")","v":""},null,null,{"$f":"IFERROR(INDEX($P$12:$R$111,(SMALL(IF(INDEX($P$12:$R$111,,$A$149)=$A$255,MATCH(ROW($P$12:$P$111),ROW($P$12:$P$111)),\"\"),ROWS($B$1:B52))),COLUMNS($B$1:B52)),\"\")","v":""},{"$f":"IFERROR(INDEX($P$12:$R$111,(SMALL(IF(INDEX($P$12:$R$111,,$A$149)=$A$255,MATCH(ROW($P$12:$P$111),ROW($P$12:$P$111)),\"\"),ROWS($B$1:C52))),COLUMNS($B$1:C52)),\"\")","v":""},{"$f":"IFERROR(INDEX($P$12:$R$111,(SMALL(IF(INDEX($P$12:$R$111,,$A$149)=$A$255,MATCH(ROW($P$12:$P$111),ROW($P$12:$P$111)),\"\"),ROWS($B$1:D52))),COLUMNS($B$1:D52)),\"\")","v":""}]
[53,{"$f":"IFERROR(INDEX($B$12:$H$111,(SMALL(IF(INDEX($B$12:$H$111,,$A$149)=$A$255,MATCH(ROW($B$12:$B$111),ROW($B$12:$B$111)),\"\"),ROWS($B$1:B53))),COLUMNS($B$1:B53)),\"\")","v":""},{"$f":"IFERROR(INDEX($B$12:$H$111,(SMALL(IF(INDEX($B$12:$H$111,,$A$149)=$A$255,MATCH(ROW($B$12:$B$111),ROW($B$12:$B$111)),\"\"),ROWS($B$1:C53))),COLUMNS($B$1:C53)),\"\")","v":""},{"$f":"IFERROR(INDEX($B$12:$H$111,(SMALL(IF(INDEX($B$12:$H$111,,$A$149)=$A$255,MATCH(ROW($B$12:$B$111),ROW($B$12:$B$111)),\"\"),ROWS($B$1:D53))),COLUMNS($B$1:D53)),\"\")","v":""},{"$f":"IFERROR(INDEX($B$12:$H$111,(SMALL(IF(INDEX($B$12:$H$111,,$A$149)=$A$255,MATCH(ROW($B$12:$B$111),ROW($B$12:$B$111)),\"\"),ROWS($B$1:E53))),COLUMNS($B$1:E53)),\"\")","v":""},{"$f":"IFERROR(INDEX($B$12:$H$111,(SMALL(IF(INDEX($B$12:$H$111,,$A$149)=$A$255,MATCH(ROW($B$12:$B$111),ROW($B$12:$B$111)),\"\"),ROWS($B$1:F53))),COLUMNS($B$1:F53)),\"\")","v":""},{"$f":"IFERROR(INDEX($B$12:$H$111,(SMALL(IF(INDEX($B$12:$H$111,,$A$149)=$A$255,MATCH(ROW($B$12:$B$111),ROW($B$12:$B$111)),\"\"),ROWS($B$1:G53))),COLUMNS($B$1:G53)),\"\")","v":""},{"$f":"IFERROR(INDEX($B$12:$H$111,(SMALL(IF(INDEX($B$12:$H$111,,$A$149)=$A$255,MATCH(ROW($B$12:$B$111),ROW($B$12:$B$111)),\"\"),ROWS($B$1:H53))),COLUMNS($B$1:H53)),\"\")","v":""},null,null,{"$f":"IFERROR(INDEX($K$12:$M$111,(SMALL(IF(INDEX($K$12:$M$111,,$A$149)=$A$255,MATCH(ROW($K$12:$K$111),ROW($K$12:$K$111)),\"\"),ROWS($B$1:B53))),COLUMNS($B$1:B53)),\"\")","v":""},{"$f":"IFERROR(INDEX($K$12:$M$111,(SMALL(IF(INDEX($K$12:$M$111,,$A$149)=$A$255,MATCH(ROW($K$12:$K$111),ROW($K$12:$K$111)),\"\"),ROWS($B$1:C53))),COLUMNS($B$1:C53)),\"\")","v":""},{"$f":"IFERROR(INDEX($K$12:$M$111,(SMALL(IF(INDEX($K$12:$M$111,,$A$149)=$A$255,MATCH(ROW($K$12:$K$111),ROW($K$12:$K$111)),\"\"),ROWS($B$1:D53))),COLUMNS($B$1:D53)),\"\")","v":""},null,null,{"$f":"IFERROR(INDEX($P$12:$R$111,(SMALL(IF(INDEX($P$12:$R$111,,$A$149)=$A$255,MATCH(ROW($P$12:$P$111),ROW($P$12:$P$111)),\"\"),ROWS($B$1:B53))),COLUMNS($B$1:B53)),\"\")","v":""},{"$f":"IFERROR(INDEX($P$12:$R$111,(SMALL(IF(INDEX($P$12:$R$111,,$A$149)=$A$255,MATCH(ROW($P$12:$P$111),ROW($P$12:$P$111)),\"\"),ROWS($B$1:C53))),COLUMNS($B$1:C53)),\"\")","v":""},{"$f":"IFERROR(INDEX($P$12:$R$111,(SMALL(IF(INDEX($P$12:$R$111,,$A$149)=$A$255,MATCH(ROW($P$12:$P$111),ROW($P$12:$P$111)),\"\"),ROWS($B$1:D53))),COLUMNS($B$1:D53)),\"\")","v":""}]
[54,{"$f":"IFERROR(INDEX($B$12:$H$111,(SMALL(IF(INDEX($B$12:$H$111,,$A$149)=$A$255,MATCH(ROW($B$12:$B$111),ROW($B$12:$B$111)),\"\"),ROWS($B$1:B54))),COLUMNS($B$1:B54)),\"\")","v":""},{"$f":"IFERROR(INDEX($B$12:$H$111,(SMALL(IF(INDEX($B$12:$H$111,,$A$149)=$A$255,MATCH(ROW($B$12:$B$111),ROW($B$12:$B$111)),\"\"),ROWS($B$1:C54))),COLUMNS($B$1:C54)),\"\")","v":""},{"$f":"IFERROR(INDEX($B$12:$H$111,(SMALL(IF(INDEX($B$12:$H$111,,$A$149)=$A$255,MATCH(ROW($B$12:$B$111),ROW($B$12:$B$111)),\"\"),ROWS($B$1:D54))),COLUMNS($B$1:D54)),\"\")","v":""},{"$f":"IFERROR(INDEX($B$12:$H$111,(SMALL(IF(INDEX($B$12:$H$111,,$A$149)=$A$255,MATCH(ROW($B$12:$B$111),ROW($B$12:$B$111)),\"\"),ROWS($B$1:E54))),COLUMNS($B$1:E54)),\"\")","v":""},{"$f":"IFERROR(INDEX($B$12:$H$111,(SMALL(IF(INDEX($B$12:$H$111,,$A$149)=$A$255,MATCH(ROW($B$12:$B$111),ROW($B$12:$B$111)),\"\"),ROWS($B$1:F54))),COLUMNS($B$1:F54)),\"\")","v":""},{"$f":"IFERROR(INDEX($B$12:$H$111,(SMALL(IF(INDEX($B$12:$H$111,,$A$149)=$A$255,MATCH(ROW($B$12:$B$111),ROW($B$12:$B$111)),\"\"),ROWS($B$1:G54))),COLUMNS($B$1:G54)),\"\")","v":""},{"$f":"IFERROR(INDEX($B$12:$H$111,(SMALL(IF(INDEX($B$12:$H$111,,$A$149)=$A$255,MATCH(ROW($B$12:$B$111),ROW($B$12:$B$111)),\"\"),ROWS($B$1:H54))),COLUMNS($B$1:H54)),\"\")","v":""},null,null,{"$f":"IFERROR(INDEX($K$12:$M$111,(SMALL(IF(INDEX($K$12:$M$111,,$A$149)=$A$255,MATCH(ROW($K$12:$K$111),ROW($K$12:$K$111)),\"\"),ROWS($B$1:B54))),COLUMNS($B$1:B54)),\"\")","v":""},{"$f":"IFERROR(INDEX($K$12:$M$111,(SMALL(IF(INDEX($K$12:$M$111,,$A$149)=$A$255,MATCH(ROW($K$12:$K$111),ROW($K$12:$K$111)),\"\"),ROWS($B$1:C54))),COLUMNS($B$1:C54)),\"\")","v":""},{"$f":"IFERROR(INDEX($K$12:$M$111,(SMALL(IF(INDEX($K$12:$M$111,,$A$149)=$A$255,MATCH(ROW($K$12:$K$111),ROW($K$12:$K$111)),\"\"),ROWS($B$1:D54))),COLUMNS($B$1:D54)),\"\")","v":""},null,null,{"$f":"IFERROR(INDEX($P$12:$R$111,(SMALL(IF(INDEX($P$12:$R$111,,$A$149)=$A$255,MATCH(ROW($P$12:$P$111),ROW($P$12:$P$111)),\"\"),ROWS($B$1:B54))),COLUMNS($B$1:B54)),\"\")","v":""},{"$f":"IFERROR(INDEX($P$12:$R$111,(SMALL(IF(INDEX($P$12:$R$111,,$A$149)=$A$255,MATCH(ROW($P$12:$P$111),ROW($P$12:$P$111)),\"\"),ROWS($B$1:C54))),COLUMNS($B$1:C54)),\"\")","v":""},{"$f":"IFERROR(INDEX($P$12:$R$111,(SMALL(IF(INDEX($P$12:$R$111,,$A$149)=$A$255,MATCH(ROW($P$12:$P$111),ROW($P$12:$P$111)),\"\"),ROWS($B$1:D54))),COLUMNS($B$1:D54)),\"\")","v":""}]
[55,{"$f":"IFERROR(INDEX($B$12:$H$111,(SMALL(IF(INDEX($B$12:$H$111,,$A$149)=$A$255,MATCH(ROW($B$12:$B$111),ROW($B$12:$B$111)),\"\"),ROWS($B$1:B55))),COLUMNS($B$1:B55)),\"\")","v":""},{"$f":"IFERROR(INDEX($B$12:$H$111,(SMALL(IF(INDEX($B$12:$H$111,,$A$149)=$A$255,MATCH(ROW($B$12:$B$111),ROW($B$12:$B$111)),\"\"),ROWS($B$1:C55))),COLUMNS($B$1:C55)),\"\")","v":""},{"$f":"IFERROR(INDEX($B$12:$H$111,(SMALL(IF(INDEX($B$12:$H$111,,$A$149)=$A$255,MATCH(ROW($B$12:$B$111),ROW($B$12:$B$111)),\"\"),ROWS($B$1:D55))),COLUMNS($B$1:D55)),\"\")","v":""},{"$f":"IFERROR(INDEX($B$12:$H$111,(SMALL(IF(INDEX($B$12:$H$111,,$A$149)=$A$255,MATCH(ROW($B$12:$B$111),ROW($B$12:$B$111)),\"\"),ROWS($B$1:E55))),COLUMNS($B$1:E55)),\"\")","v":""},{"$f":"IFERROR(INDEX($B$12:$H$111,(SMALL(IF(INDEX($B$12:$H$111,,$A$149)=$A$255,MATCH(ROW($B$12:$B$111),ROW($B$12:$B$111)),\"\"),ROWS($B$1:F55))),COLUMNS($B$1:F55)),\"\")","v":""},{"$f":"IFERROR(INDEX($B$12:$H$111,(SMALL(IF(INDEX($B$12:$H$111,,$A$149)=$A$255,MATCH(ROW($B$12:$B$111),ROW($B$12:$B$111)),\"\"),ROWS($B$1:G55))),COLUMNS($B$1:G55)),\"\")","v":""},{"$f":"IFERROR(INDEX($B$12:$H$111,(SMALL(IF(INDEX($B$12:$H$111,,$A$149)=$A$255,MATCH(ROW($B$12:$B$111),ROW($B$12:$B$111)),\"\"),ROWS($B$1:H55))),COLUMNS($B$1:H55)),\"\")","v":""},null,null,{"$f":"IFERROR(INDEX($K$12:$M$111,(SMALL(IF(INDEX($K$12:$M$111,,$A$149)=$A$255,MATCH(ROW($K$12:$K$111),ROW($K$12:$K$111)),\"\"),ROWS($B$1:B55))),COLUMNS($B$1:B55)),\"\")","v":""},{"$f":"IFERROR(INDEX($K$12:$M$111,(SMALL(IF(INDEX($K$12:$M$111,,$A$149)=$A$255,MATCH(ROW($K$12:$K$111),ROW($K$12:$K$111)),\"\"),ROWS($B$1:C55))),COLUMNS($B$1:C55)),\"\")","v":""},{"$f":"IFERROR(INDEX($K$12:$M$111,(SMALL(IF(INDEX($K$12:$M$111,,$A$149)=$A$255,MATCH(ROW($K$12:$K$111),ROW($K$12:$K$111)),\"\"),ROWS($B$1:D55))),COLUMNS($B$1:D55)),\"\")","v":""},null,null,{"$f":"IFERROR(INDEX($P$12:$R$111,(SMALL(IF(INDEX($P$12:$R$111,,$A$149)=$A$255,MATCH(ROW($P$12:$P$111),ROW($P$12:$P$111)),\"\"),ROWS($B$1:B55))),COLUMNS($B$1:B55)),\"\")","v":""},{"$f":"IFERROR(INDEX($P$12:$R$111,(SMALL(IF(INDEX($P$12:$R$111,,$A$149)=$A$255,MATCH(ROW($P$12:$P$111),ROW($P$12:$P$111)),\"\"),ROWS($B$1:C55))),COLUMNS($B$1:C55)),\"\")","v":""},{"$f":"IFERROR(INDEX($P$12:$R$111,(SMALL(IF(INDEX($P$12:$R$111,,$A$149)=$A$255,MATCH(ROW($P$12:$P$111),ROW($P$12:$P$111)),\"\"),ROWS($B$1:D55))),COLUMNS($B$1:D55)),\"\")","v":""}]
[56,{"$f":"IFERROR(INDEX($B$12:$H$111,(SMALL(IF(INDEX($B$12:$H$111,,$A$149)=$A$255,MATCH(ROW($B$12:$B$111),ROW($B$12:$B$111)),\"\"),ROWS($B$1:B56))),COLUMNS($B$1:B56)),\"\")","v":""},{"$f":"IFERROR(INDEX($B$12:$H$111,(SMALL(IF(INDEX($B$12:$H$111,,$A$149)=$A$255,MATCH(ROW($B$12:$B$111),ROW($B$12:$B$111)),\"\"),ROWS($B$1:C56))),COLUMNS($B$1:C56)),\"\")","v":""},{"$f":"IFERROR(INDEX($B$12:$H$111,(SMALL(IF(INDEX($B$12:$H$111,,$A$149)=$A$255,MATCH(ROW($B$12:$B$111),ROW($B$12:$B$111)),\"\"),ROWS($B$1:D56))),COLUMNS($B$1:D56)),\"\")","v":""},{"$f":"IFERROR(INDEX($B$12:$H$111,(SMALL(IF(INDEX($B$12:$H$111,,$A$149)=$A$255,MATCH(ROW($B$12:$B$111),ROW($B$12:$B$111)),\"\"),ROWS($B$1:E56))),COLUMNS($B$1:E56)),\"\")","v":""},{"$f":"IFERROR(INDEX($B$12:$H$111,(SMALL(IF(INDEX($B$12:$H$111,,$A$149)=$A$255,MATCH(ROW($B$12:$B$111),ROW($B$12:$B$111)),\"\"),ROWS($B$1:F56))),COLUMNS($B$1:F56)),\"\")","v":""},{"$f":"IFERROR(INDEX($B$12:$H$111,(SMALL(IF(INDEX($B$12:$H$111,,$A$149)=$A$255,MATCH(ROW($B$12:$B$111),ROW($B$12:$B$111)),\"\"),ROWS($B$1:G56))),COLUMNS($B$1:G56)),\"\")","v":""},{"$f":"IFERROR(INDEX($B$12:$H$111,(SMALL(IF(INDEX($B$12:$H$111,,$A$149)=$A$255,MATCH(ROW($B$12:$B$111),ROW($B$12:$B$111)),\"\"),ROWS($B$1:H56))),COLUMNS($B$1:H56)),\"\")","v":""},null,null,{"$f":"IFERROR(INDEX($K$12:$M$111,(SMALL(IF(INDEX($K$12:$M$111,,$A$149)=$A$255,MATCH(ROW($K$12:$K$111),ROW($K$12:$K$111)),\"\"),ROWS($B$1:B56))),COLUMNS($B$1:B56)),\"\")","v":""},{"$f":"IFERROR(INDEX($K$12:$M$111,(SMALL(IF(INDEX($K$12:$M$111,,$A$149)=$A$255,MATCH(ROW($K$12:$K$111),ROW($K$12:$K$111)),\"\"),ROWS($B$1:C56))),COLUMNS($B$1:C56)),\"\")","v":""},{"$f":"IFERROR(INDEX($K$12:$M$111,(SMALL(IF(INDEX($K$12:$M$111,,$A$149)=$A$255,MATCH(ROW($K$12:$K$111),ROW($K$12:$K$111)),\"\"),ROWS($B$1:D56))),COLUMNS($B$1:D56)),\"\")","v":""},null,null,{"$f":"IFERROR(INDEX($P$12:$R$111,(SMALL(IF(INDEX($P$12:$R$111,,$A$149)=$A$255,MATCH(ROW($P$12:$P$111),ROW($P$12:$P$111)),\"\"),ROWS($B$1:B56))),COLUMNS($B$1:B56)),\"\")","v":""},{"$f":"IFERROR(INDEX($P$12:$R$111,(SMALL(IF(INDEX($P$12:$R$111,,$A$149)=$A$255,MATCH(ROW($P$12:$P$111),ROW($P$12:$P$111)),\"\"),ROWS($B$1:C56))),COLUMNS($B$1:C56)),\"\")","v":""},{"$f":"IFERROR(INDEX($P$12:$R$111,(SMALL(IF(INDEX($P$12:$R$111,,$A$149)=$A$255,MATCH(ROW($P$12:$P$111),ROW($P$12:$P$111)),\"\"),ROWS($B$1:D56))),COLUMNS($B$1:D56)),\"\")","v":""}]
[57,{"$f":"IFERROR(INDEX($B$12:$H$111,(SMALL(IF(INDEX($B$12:$H$111,,$A$149)=$A$255,MATCH(ROW($B$12:$B$111),ROW($B$12:$B$111)),\"\"),ROWS($B$1:B57))),COLUMNS($B$1:B57)),\"\")","v":""},{"$f":"IFERROR(INDEX($B$12:$H$111,(SMALL(IF(INDEX($B$12:$H$111,,$A$149)=$A$255,MATCH(ROW($B$12:$B$111),ROW($B$12:$B$111)),\"\"),ROWS($B$1:C57))),COLUMNS($B$1:C57)),\"\")","v":""},{"$f":"IFERROR(INDEX($B$12:$H$111,(SMALL(IF(INDEX($B$12:$H$111,,$A$149)=$A$255,MATCH(ROW($B$12:$B$111),ROW($B$12:$B$111)),\"\"),ROWS($B$1:D57))),COLUMNS($B$1:D57)),\"\")","v":""},{"$f":"IFERROR(INDEX($B$12:$H$111,(SMALL(IF(INDEX($B$12:$H$111,,$A$149)=$A$255,MATCH(ROW($B$12:$B$111),ROW($B$12:$B$111)),\"\"),ROWS($B$1:E57))),COLUMNS($B$1:E57)),\"\")","v":""},{"$f":"IFERROR(INDEX($B$12:$H$111,(SMALL(IF(INDEX($B$12:$H$111,,$A$149)=$A$255,MATCH(ROW($B$12:$B$111),ROW($B$12:$B$111)),\"\"),ROWS($B$1:F57))),COLUMNS($B$1:F57)),\"\")","v":""},{"$f":"IFERROR(INDEX($B$12:$H$111,(SMALL(IF(INDEX($B$12:$H$111,,$A$149)=$A$255,MATCH(ROW($B$12:$B$111),ROW($B$12:$B$111)),\"\"),ROWS($B$1:G57))),COLUMNS($B$1:G57)),\"\")","v":""},{"$f":"IFERROR(INDEX($B$12:$H$111,(SMALL(IF(INDEX($B$12:$H$111,,$A$149)=$A$255,MATCH(ROW($B$12:$B$111),ROW($B$12:$B$111)),\"\"),ROWS($B$1:H57))),COLUMNS($B$1:H57)),\"\")","v":""},null,null,{"$f":"IFERROR(INDEX($K$12:$M$111,(SMALL(IF(INDEX($K$12:$M$111,,$A$149)=$A$255,MATCH(ROW($K$12:$K$111),ROW($K$12:$K$111)),\"\"),ROWS($B$1:B57))),COLUMNS($B$1:B57)),\"\")","v":""},{"$f":"IFERROR(INDEX($K$12:$M$111,(SMALL(IF(INDEX($K$12:$M$111,,$A$149)=$A$255,MATCH(ROW($K$12:$K$111),ROW($K$12:$K$111)),\"\"),ROWS($B$1:C57))),COLUMNS($B$1:C57)),\"\")","v":""},{"$f":"IFERROR(INDEX($K$12:$M$111,(SMALL(IF(INDEX($K$12:$M$111,,$A$149)=$A$255,MATCH(ROW($K$12:$K$111),ROW($K$12:$K$111)),\"\"),ROWS($B$1:D57))),COLUMNS($B$1:D57)),\"\")","v":""},null,null,{"$f":"IFERROR(INDEX($P$12:$R$111,(SMALL(IF(INDEX($P$12:$R$111,,$A$149)=$A$255,MATCH(ROW($P$12:$P$111),ROW($P$12:$P$111)),\"\"),ROWS($B$1:B57))),COLUMNS($B$1:B57)),\"\")","v":""},{"$f":"IFERROR(INDEX($P$12:$R$111,(SMALL(IF(INDEX($P$12:$R$111,,$A$149)=$A$255,MATCH(ROW($P$12:$P$111),ROW($P$12:$P$111)),\"\"),ROWS($B$1:C57))),COLUMNS($B$1:C57)),\"\")","v":""},{"$f":"IFERROR(INDEX($P$12:$R$111,(SMALL(IF(INDEX($P$12:$R$111,,$A$149)=$A$255,MATCH(ROW($P$12:$P$111),ROW($P$12:$P$111)),\"\"),ROWS($B$1:D57))),COLUMNS($B$1:D57)),\"\")","v":""}]
[58,{"$f":"IFERROR(INDEX($B$12:$H$111,(SMALL(IF(INDEX($B$12:$H$111,,$A$149)=$A$255,MATCH(ROW($B$12:$B$111),ROW($B$12:$B$111)),\"\"),ROWS($B$1:B58))),COLUMNS($B$1:B58)),\"\")","v":""},{"$f":"IFERROR(INDEX($B$12:$H$111,(SMALL(IF(INDEX($B$12:$H$111,,$A$149)=$A$255,MATCH(ROW($B$12:$B$111),ROW($B$12:$B$111)),\"\"),ROWS($B$1:C58))),COLUMNS($B$1:C58)),\"\")","v":""},{"$f":"IFERROR(INDEX($B$12:$H$111,(SMALL(IF(INDEX($B$12:$H$111,,$A$149)=$A$255,MATCH(ROW($B$12:$B$111),ROW($B$12:$B$111)),\"\"),ROWS($B$1:D58))),COLUMNS($B$1:D58)),\"\")","v":""},{"$f":"IFERROR(INDEX($B$12:$H$111,(SMALL(IF(INDEX($B$12:$H$111,,$A$149)=$A$255,MATCH(ROW($B$12:$B$111),ROW($B$12:$B$111)),\"\"),ROWS($B$1:E58))),COLUMNS($B$1:E58)),\"\")","v":""},{"$f":"IFERROR(INDEX($B$12:$H$111,(SMALL(IF(INDEX($B$12:$H$111,,$A$149)=$A$255,MATCH(ROW($B$12:$B$111),ROW($B$12:$B$111)),\"\"),ROWS($B$1:F58))),COLUMNS($B$1:F58)),\"\")","v":""},{"$f":"IFERROR(INDEX($B$12:$H$111,(SMALL(IF(INDEX($B$12:$H$111,,$A$149)=$A$255,MATCH(ROW($B$12:$B$111),ROW($B$12:$B$111)),\"\"),ROWS($B$1:G58))),COLUMNS($B$1:G58)),\"\")","v":""},{"$f":"IFERROR(INDEX($B$12:$H$111,(SMALL(IF(INDEX($B$12:$H$111,,$A$149)=$A$255,MATCH(ROW($B$12:$B$111),ROW($B$12:$B$111)),\"\"),ROWS($B$1:H58))),COLUMNS($B$1:H58)),\"\")","v":""},null,null,{"$f":"IFERROR(INDEX($K$12:$M$111,(SMALL(IF(INDEX($K$12:$M$111,,$A$149)=$A$255,MATCH(ROW($K$12:$K$111),ROW($K$12:$K$111)),\"\"),ROWS($B$1:B58))),COLUMNS($B$1:B58)),\"\")","v":""},{"$f":"IFERROR(INDEX($K$12:$M$111,(SMALL(IF(INDEX($K$12:$M$111,,$A$149)=$A$255,MATCH(ROW($K$12:$K$111),ROW($K$12:$K$111)),\"\"),ROWS($B$1:C58))),COLUMNS($B$1:C58)),\"\")","v":""},{"$f":"IFERROR(INDEX($K$12:$M$111,(SMALL(IF(INDEX($K$12:$M$111,,$A$149)=$A$255,MATCH(ROW($K$12:$K$111),ROW($K$12:$K$111)),\"\"),ROWS($B$1:D58))),COLUMNS($B$1:D58)),\"\")","v":""},null,null,{"$f":"IFERROR(INDEX($P$12:$R$111,(SMALL(IF(INDEX($P$12:$R$111,,$A$149)=$A$255,MATCH(ROW($P$12:$P$111),ROW($P$12:$P$111)),\"\"),ROWS($B$1:B58))),COLUMNS($B$1:B58)),\"\")","v":""},{"$f":"IFERROR(INDEX($P$12:$R$111,(SMALL(IF(INDEX($P$12:$R$111,,$A$149)=$A$255,MATCH(ROW($P$12:$P$111),ROW($P$12:$P$111)),\"\"),ROWS($B$1:C58))),COLUMNS($B$1:C58)),\"\")","v":""},{"$f":"IFERROR(INDEX($P$12:$R$111,(SMALL(IF(INDEX($P$12:$R$111,,$A$149)=$A$255,MATCH(ROW($P$12:$P$111),ROW($P$12:$P$111)),\"\"),ROWS($B$1:D58))),COLUMNS($B$1:D58)),\"\")","v":""}]
[59,{"$f":"IFERROR(INDEX($B$12:$H$111,(SMALL(IF(INDEX($B$12:$H$111,,$A$149)=$A$255,MATCH(ROW($B$12:$B$111),ROW($B$12:$B$111)),\"\"),ROWS($B$1:B59))),COLUMNS($B$1:B59)),\"\")","v":""},{"$f":"IFERROR(INDEX($B$12:$H$111,(SMALL(IF(INDEX($B$12:$H$111,,$A$149)=$A$255,MATCH(ROW($B$12:$B$111),ROW($B$12:$B$111)),\"\"),ROWS($B$1:C59))),COLUMNS($B$1:C59)),\"\")","v":""},{"$f":"IFERROR(INDEX($B$12:$H$111,(SMALL(IF(INDEX($B$12:$H$111,,$A$149)=$A$255,MATCH(ROW($B$12:$B$111),ROW($B$12:$B$111)),\"\"),ROWS($B$1:D59))),COLUMNS($B$1:D59)),\"\")","v":""},{"$f":"IFERROR(INDEX($B$12:$H$111,(SMALL(IF(INDEX($B$12:$H$111,,$A$149)=$A$255,MATCH(ROW($B$12:$B$111),ROW($B$12:$B$111)),\"\"),ROWS($B$1:E59))),COLUMNS($B$1:E59)),\"\")","v":""},{"$f":"IFERROR(INDEX($B$12:$H$111,(SMALL(IF(INDEX($B$12:$H$111,,$A$149)=$A$255,MATCH(ROW($B$12:$B$111),ROW($B$12:$B$111)),\"\"),ROWS($B$1:F59))),COLUMNS($B$1:F59)),\"\")","v":""},{"$f":"IFERROR(INDEX($B$12:$H$111,(SMALL(IF(INDEX($B$12:$H$111,,$A$149)=$A$255,MATCH(ROW($B$12:$B$111),ROW($B$12:$B$111)),\"\"),ROWS($B$1:G59))),COLUMNS($B$1:G59)),\"\")","v":""},{"$f":"IFERROR(INDEX($B$12:$H$111,(SMALL(IF(INDEX($B$12:$H$111,,$A$149)=$A$255,MATCH(ROW($B$12:$B$111),ROW($B$12:$B$111)),\"\"),ROWS($B$1:H59))),COLUMNS($B$1:H59)),\"\")","v":""},null,null,{"$f":"IFERROR(INDEX($K$12:$M$111,(SMALL(IF(INDEX($K$12:$M$111,,$A$149)=$A$255,MATCH(ROW($K$12:$K$111),ROW($K$12:$K$111)),\"\"),ROWS($B$1:B59))),COLUMNS($B$1:B59)),\"\")","v":""},{"$f":"IFERROR(INDEX($K$12:$M$111,(SMALL(IF(INDEX($K$12:$M$111,,$A$149)=$A$255,MATCH(ROW($K$12:$K$111),ROW($K$12:$K$111)),\"\"),ROWS($B$1:C59))),COLUMNS($B$1:C59)),\"\")","v":""},{"$f":"IFERROR(INDEX($K$12:$M$111,(SMALL(IF(INDEX($K$12:$M$111,,$A$149)=$A$255,MATCH(ROW($K$12:$K$111),ROW($K$12:$K$111)),\"\"),ROWS($B$1:D59))),COLUMNS($B$1:D59)),\"\")","v":""},null,null,{"$f":"IFERROR(INDEX($P$12:$R$111,(SMALL(IF(INDEX($P$12:$R$111,,$A$149)=$A$255,MATCH(ROW($P$12:$P$111),ROW($P$12:$P$111)),\"\"),ROWS($B$1:B59))),COLUMNS($B$1:B59)),\"\")","v":""},{"$f":"IFERROR(INDEX($P$12:$R$111,(SMALL(IF(INDEX($P$12:$R$111,,$A$149)=$A$255,MATCH(ROW($P$12:$P$111),ROW($P$12:$P$111)),\"\"),ROWS($B$1:C59))),COLUMNS($B$1:C59)),\"\")","v":""},{"$f":"IFERROR(INDEX($P$12:$R$111,(SMALL(IF(INDEX($P$12:$R$111,,$A$149)=$A$255,MATCH(ROW($P$12:$P$111),ROW($P$12:$P$111)),\"\"),ROWS($B$1:D59))),COLUMNS($B$1:D59)),\"\")","v":""}]
[60,{"$f":"IFERROR(INDEX($B$12:$H$111,(SMALL(IF(INDEX($B$12:$H$111,,$A$149)=$A$255,MATCH(ROW($B$12:$B$111),ROW($B$12:$B$111)),\"\"),ROWS($B$1:B60))),COLUMNS($B$1:B60)),\"\")","v":""},{"$f":"IFERROR(INDEX($B$12:$H$111,(SMALL(IF(INDEX($B$12:$H$111,,$A$149)=$A$255,MATCH(ROW($B$12:$B$111),ROW($B$12:$B$111)),\"\"),ROWS($B$1:C60))),COLUMNS($B$1:C60)),\"\")","v":""},{"$f":"IFERROR(INDEX($B$12:$H$111,(SMALL(IF(INDEX($B$12:$H$111,,$A$149)=$A$255,MATCH(ROW($B$12:$B$111),ROW($B$12:$B$111)),\"\"),ROWS($B$1:D60))),COLUMNS($B$1:D60)),\"\")","v":""},{"$f":"IFERROR(INDEX($B$12:$H$111,(SMALL(IF(INDEX($B$12:$H$111,,$A$149)=$A$255,MATCH(ROW($B$12:$B$111),ROW($B$12:$B$111)),\"\"),ROWS($B$1:E60))),COLUMNS($B$1:E60)),\"\")","v":""},{"$f":"IFERROR(INDEX($B$12:$H$111,(SMALL(IF(INDEX($B$12:$H$111,,$A$149)=$A$255,MATCH(ROW($B$12:$B$111),ROW($B$12:$B$111)),\"\"),ROWS($B$1:F60))),COLUMNS($B$1:F60)),\"\")","v":""},{"$f":"IFERROR(INDEX($B$12:$H$111,(SMALL(IF(INDEX($B$12:$H$111,,$A$149)=$A$255,MATCH(ROW($B$12:$B$111),ROW($B$12:$B$111)),\"\"),ROWS($B$1:G60))),COLUMNS($B$1:G60)),\"\")","v":""},{"$f":"IFERROR(INDEX($B$12:$H$111,(SMALL(IF(INDEX($B$12:$H$111,,$A$149)=$A$255,MATCH(ROW($B$12:$B$111),ROW($B$12:$B$111)),\"\"),ROWS($B$1:H60))),COLUMNS($B$1:H60)),\"\")","v":""},null,null,{"$f":"IFERROR(INDEX($K$12:$M$111,(SMALL(IF(INDEX($K$12:$M$111,,$A$149)=$A$255,MATCH(ROW($K$12:$K$111),ROW($K$12:$K$111)),\"\"),ROWS($B$1:B60))),COLUMNS($B$1:B60)),\"\")","v":""},{"$f":"IFERROR(INDEX($K$12:$M$111,(SMALL(IF(INDEX($K$12:$M$111,,$A$149)=$A$255,MATCH(ROW($K$12:$K$111),ROW($K$12:$K$111)),\"\"),ROWS($B$1:C60))),COLUMNS($B$1:C60)),\"\")","v":""},{"$f":"IFERROR(INDEX($K$12:$M$111,(SMALL(IF(INDEX($K$12:$M$111,,$A$149)=$A$255,MATCH(ROW($K$12:$K$111),ROW($K$12:$K$111)),\"\"),ROWS($B$1:D60))),COLUMNS($B$1:D60)),\"\")","v":""},null,null,{"$f":"IFERROR(INDEX($P$12:$R$111,(SMALL(IF(INDEX($P$12:$R$111,,$A$149)=$A$255,MATCH(ROW($P$12:$P$111),ROW($P$12:$P$111)),\"\"),ROWS($B$1:B60))),COLUMNS($B$1:B60)),\"\")","v":""},{"$f":"IFERROR(INDEX($P$12:$R$111,(SMALL(IF(INDEX($P$12:$R$111,,$A$149)=$A$255,MATCH(ROW($P$12:$P$111),ROW($P$12:$P$111)),\"\"),ROWS($B$1:C60))),COLUMNS($B$1:C60)),\"\")","v":""},{"$f":"IFERROR(INDEX($P$12:$R$111,(SMALL(IF(INDEX($P$12:$R$111,,$A$149)=$A$255,MATCH(ROW($P$12:$P$111),ROW($P$12:$P$111)),\"\"),ROWS($B$1:D60))),COLUMNS($B$1:D60)),\"\")","v":""}]
[61,{"$f":"IFERROR(INDEX($B$12:$H$111,(SMALL(IF(INDEX($B$12:$H$111,,$A$149)=$A$255,MATCH(ROW($B$12:$B$111),ROW($B$12:$B$111)),\"\"),ROWS($B$1:B61))),COLUMNS($B$1:B61)),\"\")","v":""},{"$f":"IFERROR(INDEX($B$12:$H$111,(SMALL(IF(INDEX($B$12:$H$111,,$A$149)=$A$255,MATCH(ROW($B$12:$B$111),ROW($B$12:$B$111)),\"\"),ROWS($B$1:C61))),COLUMNS($B$1:C61)),\"\")","v":""},{"$f":"IFERROR(INDEX($B$12:$H$111,(SMALL(IF(INDEX($B$12:$H$111,,$A$149)=$A$255,MATCH(ROW($B$12:$B$111),ROW($B$12:$B$111)),\"\"),ROWS($B$1:D61))),COLUMNS($B$1:D61)),\"\")","v":""},{"$f":"IFERROR(INDEX($B$12:$H$111,(SMALL(IF(INDEX($B$12:$H$111,,$A$149)=$A$255,MATCH(ROW($B$12:$B$111),ROW($B$12:$B$111)),\"\"),ROWS($B$1:E61))),COLUMNS($B$1:E61)),\"\")","v":""},{"$f":"IFERROR(INDEX($B$12:$H$111,(SMALL(IF(INDEX($B$12:$H$111,,$A$149)=$A$255,MATCH(ROW($B$12:$B$111),ROW($B$12:$B$111)),\"\"),ROWS($B$1:F61))),COLUMNS($B$1:F61)),\"\")","v":""},{"$f":"IFERROR(INDEX($B$12:$H$111,(SMALL(IF(INDEX($B$12:$H$111,,$A$149)=$A$255,MATCH(ROW($B$12:$B$111),ROW($B$12:$B$111)),\"\"),ROWS($B$1:G61))),COLUMNS($B$1:G61)),\"\")","v":""},{"$f":"IFERROR(INDEX($B$12:$H$111,(SMALL(IF(INDEX($B$12:$H$111,,$A$149)=$A$255,MATCH(ROW($B$12:$B$111),ROW($B$12:$B$111)),\"\"),ROWS($B$1:H61))),COLUMNS($B$1:H61)),\"\")","v":""},null,null,{"$f":"IFERROR(INDEX($K$12:$M$111,(SMALL(IF(INDEX($K$12:$M$111,,$A$149)=$A$255,MATCH(ROW($K$12:$K$111),ROW($K$12:$K$111)),\"\"),ROWS($B$1:B61))),COLUMNS($B$1:B61)),\"\")","v":""},{"$f":"IFERROR(INDEX($K$12:$M$111,(SMALL(IF(INDEX($K$12:$M$111,,$A$149)=$A$255,MATCH(ROW($K$12:$K$111),ROW($K$12:$K$111)),\"\"),ROWS($B$1:C61))),COLUMNS($B$1:C61)),\"\")","v":""},{"$f":"IFERROR(INDEX($K$12:$M$111,(SMALL(IF(INDEX($K$12:$M$111,,$A$149)=$A$255,MATCH(ROW($K$12:$K$111),ROW($K$12:$K$111)),\"\"),ROWS($B$1:D61))),COLUMNS($B$1:D61)),\"\")","v":""},null,null,{"$f":"IFERROR(INDEX($P$12:$R$111,(SMALL(IF(INDEX($P$12:$R$111,,$A$149)=$A$255,MATCH(ROW($P$12:$P$111),ROW($P$12:$P$111)),\"\"),ROWS($B$1:B61))),COLUMNS($B$1:B61)),\"\")","v":""},{"$f":"IFERROR(INDEX($P$12:$R$111,(SMALL(IF(INDEX($P$12:$R$111,,$A$149)=$A$255,MATCH(ROW($P$12:$P$111),ROW($P$12:$P$111)),\"\"),ROWS($B$1:C61))),COLUMNS($B$1:C61)),\"\")","v":""},{"$f":"IFERROR(INDEX($P$12:$R$111,(SMALL(IF(INDEX($P$12:$R$111,,$A$149)=$A$255,MATCH(ROW($P$12:$P$111),ROW($P$12:$P$111)),\"\"),ROWS($B$1:D61))),COLUMNS($B$1:D61)),\"\")","v":""}]
[62,{"$f":"IFERROR(INDEX($B$12:$H$111,(SMALL(IF(INDEX($B$12:$H$111,,$A$149)=$A$255,MATCH(ROW($B$12:$B$111),ROW($B$12:$B$111)),\"\"),ROWS($B$1:B62))),COLUMNS($B$1:B62)),\"\")","v":""},{"$f":"IFERROR(INDEX($B$12:$H$111,(SMALL(IF(INDEX($B$12:$H$111,,$A$149)=$A$255,MATCH(ROW($B$12:$B$111),ROW($B$12:$B$111)),\"\"),ROWS($B$1:C62))),COLUMNS($B$1:C62)),\"\")","v":""},{"$f":"IFERROR(INDEX($B$12:$H$111,(SMALL(IF(INDEX($B$12:$H$111,,$A$149)=$A$255,MATCH(ROW($B$12:$B$111),ROW($B$12:$B$111)),\"\"),ROWS($B$1:D62))),COLUMNS($B$1:D62)),\"\")","v":""},{"$f":"IFERROR(INDEX($B$12:$H$111,(SMALL(IF(INDEX($B$12:$H$111,,$A$149)=$A$255,MATCH(ROW($B$12:$B$111),ROW($B$12:$B$111)),\"\"),ROWS($B$1:E62))),COLUMNS($B$1:E62)),\"\")","v":""},{"$f":"IFERROR(INDEX($B$12:$H$111,(SMALL(IF(INDEX($B$12:$H$111,,$A$149)=$A$255,MATCH(ROW($B$12:$B$111),ROW($B$12:$B$111)),\"\"),ROWS($B$1:F62))),COLUMNS($B$1:F62)),\"\")","v":""},{"$f":"IFERROR(INDEX($B$12:$H$111,(SMALL(IF(INDEX($B$12:$H$111,,$A$149)=$A$255,MATCH(ROW($B$12:$B$111),ROW($B$12:$B$111)),\"\"),ROWS($B$1:G62))),COLUMNS($B$1:G62)),\"\")","v":""},{"$f":"IFERROR(INDEX($B$12:$H$111,(SMALL(IF(INDEX($B$12:$H$111,,$A$149)=$A$255,MATCH(ROW($B$12:$B$111),ROW($B$12:$B$111)),\"\"),ROWS($B$1:H62))),COLUMNS($B$1:H62)),\"\")","v":""},null,null,{"$f":"IFERROR(INDEX($K$12:$M$111,(SMALL(IF(INDEX($K$12:$M$111,,$A$149)=$A$255,MATCH(ROW($K$12:$K$111),ROW($K$12:$K$111)),\"\"),ROWS($B$1:B62))),COLUMNS($B$1:B62)),\"\")","v":""},{"$f":"IFERROR(INDEX($K$12:$M$111,(SMALL(IF(INDEX($K$12:$M$111,,$A$149)=$A$255,MATCH(ROW($K$12:$K$111),ROW($K$12:$K$111)),\"\"),ROWS($B$1:C62))),COLUMNS($B$1:C62)),\"\")","v":""},{"$f":"IFERROR(INDEX($K$12:$M$111,(SMALL(IF(INDEX($K$12:$M$111,,$A$149)=$A$255,MATCH(ROW($K$12:$K$111),ROW($K$12:$K$111)),\"\"),ROWS($B$1:D62))),COLUMNS($B$1:D62)),\"\")","v":""},null,null,{"$f":"IFERROR(INDEX($P$12:$R$111,(SMALL(IF(INDEX($P$12:$R$111,,$A$149)=$A$255,MATCH(ROW($P$12:$P$111),ROW($P$12:$P$111)),\"\"),ROWS($B$1:B62))),COLUMNS($B$1:B62)),\"\")","v":""},{"$f":"IFERROR(INDEX($P$12:$R$111,(SMALL(IF(INDEX($P$12:$R$111,,$A$149)=$A$255,MATCH(ROW($P$12:$P$111),ROW($P$12:$P$111)),\"\"),ROWS($B$1:C62))),COLUMNS($B$1:C62)),\"\")","v":""},{"$f":"IFERROR(INDEX($P$12:$R$111,(SMALL(IF(INDEX($P$12:$R$111,,$A$149)=$A$255,MATCH(ROW($P$12:$P$111),ROW($P$12:$P$111)),\"\"),ROWS($B$1:D62))),COLUMNS($B$1:D62)),\"\")","v":""}]
[63,{"$f":"IFERROR(INDEX($B$12:$H$111,(SMALL(IF(INDEX($B$12:$H$111,,$A$149)=$A$255,MATCH(ROW($B$12:$B$111),ROW($B$12:$B$111)),\"\"),ROWS($B$1:B63))),COLUMNS($B$1:B63)),\"\")","v":""},{"$f":"IFERROR(INDEX($B$12:$H$111,(SMALL(IF(INDEX($B$12:$H$111,,$A$149)=$A$255,MATCH(ROW($B$12:$B$111),ROW($B$12:$B$111)),\"\"),ROWS($B$1:C63))),COLUMNS($B$1:C63)),\"\")","v":""},{"$f":"IFERROR(INDEX($B$12:$H$111,(SMALL(IF(INDEX($B$12:$H$111,,$A$149)=$A$255,MATCH(ROW($B$12:$B$111),ROW($B$12:$B$111)),\"\"),ROWS($B$1:D63))),COLUMNS($B$1:D63)),\"\")","v":""},{"$f":"IFERROR(INDEX($B$12:$H$111,(SMALL(IF(INDEX($B$12:$H$111,,$A$149)=$A$255,MATCH(ROW($B$12:$B$111),ROW($B$12:$B$111)),\"\"),ROWS($B$1:E63))),COLUMNS($B$1:E63)),\"\")","v":""},{"$f":"IFERROR(INDEX($B$12:$H$111,(SMALL(IF(INDEX($B$12:$H$111,,$A$149)=$A$255,MATCH(ROW($B$12:$B$111),ROW($B$12:$B$111)),\"\"),ROWS($B$1:F63))),COLUMNS($B$1:F63)),\"\")","v":""},{"$f":"IFERROR(INDEX($B$12:$H$111,(SMALL(IF(INDEX($B$12:$H$111,,$A$149)=$A$255,MATCH(ROW($B$12:$B$111),ROW($B$12:$B$111)),\"\"),ROWS($B$1:G63))),COLUMNS($B$1:G63)),\"\")","v":""},{"$f":"IFERROR(INDEX($B$12:$H$111,(SMALL(IF(INDEX($B$12:$H$111,,$A$149)=$A$255,MATCH(ROW($B$12:$B$111),ROW($B$12:$B$111)),\"\"),ROWS($B$1:H63))),COLUMNS($B$1:H63)),\"\")","v":""},null,null,{"$f":"IFERROR(INDEX($K$12:$M$111,(SMALL(IF(INDEX($K$12:$M$111,,$A$149)=$A$255,MATCH(ROW($K$12:$K$111),ROW($K$12:$K$111)),\"\"),ROWS($B$1:B63))),COLUMNS($B$1:B63)),\"\")","v":""},{"$f":"IFERROR(INDEX($K$12:$M$111,(SMALL(IF(INDEX($K$12:$M$111,,$A$149)=$A$255,MATCH(ROW($K$12:$K$111),ROW($K$12:$K$111)),\"\"),ROWS($B$1:C63))),COLUMNS($B$1:C63)),\"\")","v":""},{"$f":"IFERROR(INDEX($K$12:$M$111,(SMALL(IF(INDEX($K$12:$M$111,,$A$149)=$A$255,MATCH(ROW($K$12:$K$111),ROW($K$12:$K$111)),\"\"),ROWS($B$1:D63))),COLUMNS($B$1:D63)),\"\")","v":""},null,null,{"$f":"IFERROR(INDEX($P$12:$R$111,(SMALL(IF(INDEX($P$12:$R$111,,$A$149)=$A$255,MATCH(ROW($P$12:$P$111),ROW($P$12:$P$111)),\"\"),ROWS($B$1:B63))),COLUMNS($B$1:B63)),\"\")","v":""},{"$f":"IFERROR(INDEX($P$12:$R$111,(SMALL(IF(INDEX($P$12:$R$111,,$A$149)=$A$255,MATCH(ROW($P$12:$P$111),ROW($P$12:$P$111)),\"\"),ROWS($B$1:C63))),COLUMNS($B$1:C63)),\"\")","v":""},{"$f":"IFERROR(INDEX($P$12:$R$111,(SMALL(IF(INDEX($P$12:$R$111,,$A$149)=$A$255,MATCH(ROW($P$12:$P$111),ROW($P$12:$P$111)),\"\"),ROWS($B$1:D63))),COLUMNS($B$1:D63)),\"\")","v":""}]
[64,{"$f":"IFERROR(INDEX($B$12:$H$111,(SMALL(IF(INDEX($B$12:$H$111,,$A$149)=$A$255,MATCH(ROW($B$12:$B$111),ROW($B$12:$B$111)),\"\"),ROWS($B$1:B64))),COLUMNS($B$1:B64)),\"\")","v":""},{"$f":"IFERROR(INDEX($B$12:$H$111,(SMALL(IF(INDEX($B$12:$H$111,,$A$149)=$A$255,MATCH(ROW($B$12:$B$111),ROW($B$12:$B$111)),\"\"),ROWS($B$1:C64))),COLUMNS($B$1:C64)),\"\")","v":""},{"$f":"IFERROR(INDEX($B$12:$H$111,(SMALL(IF(INDEX($B$12:$H$111,,$A$149)=$A$255,MATCH(ROW($B$12:$B$111),ROW($B$12:$B$111)),\"\"),ROWS($B$1:D64))),COLUMNS($B$1:D64)),\"\")","v":""},{"$f":"IFERROR(INDEX($B$12:$H$111,(SMALL(IF(INDEX($B$12:$H$111,,$A$149)=$A$255,MATCH(ROW($B$12:$B$111),ROW($B$12:$B$111)),\"\"),ROWS($B$1:E64))),COLUMNS($B$1:E64)),\"\")","v":""},{"$f":"IFERROR(INDEX($B$12:$H$111,(SMALL(IF(INDEX($B$12:$H$111,,$A$149)=$A$255,MATCH(ROW($B$12:$B$111),ROW($B$12:$B$111)),\"\"),ROWS($B$1:F64))),COLUMNS($B$1:F64)),\"\")","v":""},{"$f":"IFERROR(INDEX($B$12:$H$111,(SMALL(IF(INDEX($B$12:$H$111,,$A$149)=$A$255,MATCH(ROW($B$12:$B$111),ROW($B$12:$B$111)),\"\"),ROWS($B$1:G64))),COLUMNS($B$1:G64)),\"\")","v":""},{"$f":"IFERROR(INDEX($B$12:$H$111,(SMALL(IF(INDEX($B$12:$H$111,,$A$149)=$A$255,MATCH(ROW($B$12:$B$111),ROW($B$12:$B$111)),\"\"),ROWS($B$1:H64))),COLUMNS($B$1:H64)),\"\")","v":""},null,null,{"$f":"IFERROR(INDEX($K$12:$M$111,(SMALL(IF(INDEX($K$12:$M$111,,$A$149)=$A$255,MATCH(ROW($K$12:$K$111),ROW($K$12:$K$111)),\"\"),ROWS($B$1:B64))),COLUMNS($B$1:B64)),\"\")","v":""},{"$f":"IFERROR(INDEX($K$12:$M$111,(SMALL(IF(INDEX($K$12:$M$111,,$A$149)=$A$255,MATCH(ROW($K$12:$K$111),ROW($K$12:$K$111)),\"\"),ROWS($B$1:C64))),COLUMNS($B$1:C64)),\"\")","v":""},{"$f":"IFERROR(INDEX($K$12:$M$111,(SMALL(IF(INDEX($K$12:$M$111,,$A$149)=$A$255,MATCH(ROW($K$12:$K$111),ROW($K$12:$K$111)),\"\"),ROWS($B$1:D64))),COLUMNS($B$1:D64)),\"\")","v":""},null,null,{"$f":"IFERROR(INDEX($P$12:$R$111,(SMALL(IF(INDEX($P$12:$R$111,,$A$149)=$A$255,MATCH(ROW($P$12:$P$111),ROW($P$12:$P$111)),\"\"),ROWS($B$1:B64))),COLUMNS($B$1:B64)),\"\")","v":""},{"$f":"IFERROR(INDEX($P$12:$R$111,(SMALL(IF(INDEX($P$12:$R$111,,$A$149)=$A$255,MATCH(ROW($P$12:$P$111),ROW($P$12:$P$111)),\"\"),ROWS($B$1:C64))),COLUMNS($B$1:C64)),\"\")","v":""},{"$f":"IFERROR(INDEX($P$12:$R$111,(SMALL(IF(INDEX($P$12:$R$111,,$A$149)=$A$255,MATCH(ROW($P$12:$P$111),ROW($P$12:$P$111)),\"\"),ROWS($B$1:D64))),COLUMNS($B$1:D64)),\"\")","v":""}]
[65,{"$f":"IFERROR(INDEX($B$12:$H$111,(SMALL(IF(INDEX($B$12:$H$111,,$A$149)=$A$255,MATCH(ROW($B$12:$B$111),ROW($B$12:$B$111)),\"\"),ROWS($B$1:B65))),COLUMNS($B$1:B65)),\"\")","v":""},{"$f":"IFERROR(INDEX($B$12:$H$111,(SMALL(IF(INDEX($B$12:$H$111,,$A$149)=$A$255,MATCH(ROW($B$12:$B$111),ROW($B$12:$B$111)),\"\"),ROWS($B$1:C65))),COLUMNS($B$1:C65)),\"\")","v":""},{"$f":"IFERROR(INDEX($B$12:$H$111,(SMALL(IF(INDEX($B$12:$H$111,,$A$149)=$A$255,MATCH(ROW($B$12:$B$111),ROW($B$12:$B$111)),\"\"),ROWS($B$1:D65))),COLUMNS($B$1:D65)),\"\")","v":""},{"$f":"IFERROR(INDEX($B$12:$H$111,(SMALL(IF(INDEX($B$12:$H$111,,$A$149)=$A$255,MATCH(ROW($B$12:$B$111),ROW($B$12:$B$111)),\"\"),ROWS($B$1:E65))),COLUMNS($B$1:E65)),\"\")","v":""},{"$f":"IFERROR(INDEX($B$12:$H$111,(SMALL(IF(INDEX($B$12:$H$111,,$A$149)=$A$255,MATCH(ROW($B$12:$B$111),ROW($B$12:$B$111)),\"\"),ROWS($B$1:F65))),COLUMNS($B$1:F65)),\"\")","v":""},{"$f":"IFERROR(INDEX($B$12:$H$111,(SMALL(IF(INDEX($B$12:$H$111,,$A$149)=$A$255,MATCH(ROW($B$12:$B$111),ROW($B$12:$B$111)),\"\"),ROWS($B$1:G65))),COLUMNS($B$1:G65)),\"\")","v":""},{"$f":"IFERROR(INDEX($B$12:$H$111,(SMALL(IF(INDEX($B$12:$H$111,,$A$149)=$A$255,MATCH(ROW($B$12:$B$111),ROW($B$12:$B$111)),\"\"),ROWS($B$1:H65))),COLUMNS($B$1:H65)),\"\")","v":""},null,null,{"$f":"IFERROR(INDEX($K$12:$M$111,(SMALL(IF(INDEX($K$12:$M$111,,$A$149)=$A$255,MATCH(ROW($K$12:$K$111),ROW($K$12:$K$111)),\"\"),ROWS($B$1:B65))),COLUMNS($B$1:B65)),\"\")","v":""},{"$f":"IFERROR(INDEX($K$12:$M$111,(SMALL(IF(INDEX($K$12:$M$111,,$A$149)=$A$255,MATCH(ROW($K$12:$K$111),ROW($K$12:$K$111)),\"\"),ROWS($B$1:C65))),COLUMNS($B$1:C65)),\"\")","v":""},{"$f":"IFERROR(INDEX($K$12:$M$111,(SMALL(IF(INDEX($K$12:$M$111,,$A$149)=$A$255,MATCH(ROW($K$12:$K$111),ROW($K$12:$K$111)),\"\"),ROWS($B$1:D65))),COLUMNS($B$1:D65)),\"\")","v":""},null,null,{"$f":"IFERROR(INDEX($P$12:$R$111,(SMALL(IF(INDEX($P$12:$R$111,,$A$149)=$A$255,MATCH(ROW($P$12:$P$111),ROW($P$12:$P$111)),\"\"),ROWS($B$1:B65))),COLUMNS($B$1:B65)),\"\")","v":""},{"$f":"IFERROR(INDEX($P$12:$R$111,(SMALL(IF(INDEX($P$12:$R$111,,$A$149)=$A$255,MATCH(ROW($P$12:$P$111),ROW($P$12:$P$111)),\"\"),ROWS($B$1:C65))),COLUMNS($B$1:C65)),\"\")","v":""},{"$f":"IFERROR(INDEX($P$12:$R$111,(SMALL(IF(INDEX($P$12:$R$111,,$A$149)=$A$255,MATCH(ROW($P$12:$P$111),ROW($P$12:$P$111)),\"\"),ROWS($B$1:D65))),COLUMNS($B$1:D65)),\"\")","v":""}]
[66,{"$f":"IFERROR(INDEX($B$12:$H$111,(SMALL(IF(INDEX($B$12:$H$111,,$A$149)=$A$255,MATCH(ROW($B$12:$B$111),ROW($B$12:$B$111)),\"\"),ROWS($B$1:B66))),COLUMNS($B$1:B66)),\"\")","v":""},{"$f":"IFERROR(INDEX($B$12:$H$111,(SMALL(IF(INDEX($B$12:$H$111,,$A$149)=$A$255,MATCH(ROW($B$12:$B$111),ROW($B$12:$B$111)),\"\"),ROWS($B$1:C66))),COLUMNS($B$1:C66)),\"\")","v":""},{"$f":"IFERROR(INDEX($B$12:$H$111,(SMALL(IF(INDEX($B$12:$H$111,,$A$149)=$A$255,MATCH(ROW($B$12:$B$111),ROW($B$12:$B$111)),\"\"),ROWS($B$1:D66))),COLUMNS($B$1:D66)),\"\")","v":""},{"$f":"IFERROR(INDEX($B$12:$H$111,(SMALL(IF(INDEX($B$12:$H$111,,$A$149)=$A$255,MATCH(ROW($B$12:$B$111),ROW($B$12:$B$111)),\"\"),ROWS($B$1:E66))),COLUMNS($B$1:E66)),\"\")","v":""},{"$f":"IFERROR(INDEX($B$12:$H$111,(SMALL(IF(INDEX($B$12:$H$111,,$A$149)=$A$255,MATCH(ROW($B$12:$B$111),ROW($B$12:$B$111)),\"\"),ROWS($B$1:F66))),COLUMNS($B$1:F66)),\"\")","v":""},{"$f":"IFERROR(INDEX($B$12:$H$111,(SMALL(IF(INDEX($B$12:$H$111,,$A$149)=$A$255,MATCH(ROW($B$12:$B$111),ROW($B$12:$B$111)),\"\"),ROWS($B$1:G66))),COLUMNS($B$1:G66)),\"\")","v":""},{"$f":"IFERROR(INDEX($B$12:$H$111,(SMALL(IF(INDEX($B$12:$H$111,,$A$149)=$A$255,MATCH(ROW($B$12:$B$111),ROW($B$12:$B$111)),\"\"),ROWS($B$1:H66))),COLUMNS($B$1:H66)),\"\")","v":""},null,null,{"$f":"IFERROR(INDEX($K$12:$M$111,(SMALL(IF(INDEX($K$12:$M$111,,$A$149)=$A$255,MATCH(ROW($K$12:$K$111),ROW($K$12:$K$111)),\"\"),ROWS($B$1:B66))),COLUMNS($B$1:B66)),\"\")","v":""},{"$f":"IFERROR(INDEX($K$12:$M$111,(SMALL(IF(INDEX($K$12:$M$111,,$A$149)=$A$255,MATCH(ROW($K$12:$K$111),ROW($K$12:$K$111)),\"\"),ROWS($B$1:C66))),COLUMNS($B$1:C66)),\"\")","v":""},{"$f":"IFERROR(INDEX($K$12:$M$111,(SMALL(IF(INDEX($K$12:$M$111,,$A$149)=$A$255,MATCH(ROW($K$12:$K$111),ROW($K$12:$K$111)),\"\"),ROWS($B$1:D66))),COLUMNS($B$1:D66)),\"\")","v":""},null,null,{"$f":"IFERROR(INDEX($P$12:$R$111,(SMALL(IF(INDEX($P$12:$R$111,,$A$149)=$A$255,MATCH(ROW($P$12:$P$111),ROW($P$12:$P$111)),\"\"),ROWS($B$1:B66))),COLUMNS($B$1:B66)),\"\")","v":""},{"$f":"IFERROR(INDEX($P$12:$R$111,(SMALL(IF(INDEX($P$12:$R$111,,$A$149)=$A$255,MATCH(ROW($P$12:$P$111),ROW($P$12:$P$111)),\"\"),ROWS($B$1:C66))),COLUMNS($B$1:C66)),\"\")","v":""},{"$f":"IFERROR(INDEX($P$12:$R$111,(SMALL(IF(INDEX($P$12:$R$111,,$A$149)=$A$255,MATCH(ROW($P$12:$P$111),ROW($P$12:$P$111)),\"\"),ROWS($B$1:D66))),COLUMNS($B$1:D66)),\"\")","v":""}]
[67,{"$f":"IFERROR(INDEX($B$12:$H$111,(SMALL(IF(INDEX($B$12:$H$111,,$A$149)=$A$255,MATCH(ROW($B$12:$B$111),ROW($B$12:$B$111)),\"\"),ROWS($B$1:B67))),COLUMNS($B$1:B67)),\"\")","v":""},{"$f":"IFERROR(INDEX($B$12:$H$111,(SMALL(IF(INDEX($B$12:$H$111,,$A$149)=$A$255,MATCH(ROW($B$12:$B$111),ROW($B$12:$B$111)),\"\"),ROWS($B$1:C67))),COLUMNS($B$1:C67)),\"\")","v":""},{"$f":"IFERROR(INDEX($B$12:$H$111,(SMALL(IF(INDEX($B$12:$H$111,,$A$149)=$A$255,MATCH(ROW($B$12:$B$111),ROW($B$12:$B$111)),\"\"),ROWS($B$1:D67))),COLUMNS($B$1:D67)),\"\")","v":""},{"$f":"IFERROR(INDEX($B$12:$H$111,(SMALL(IF(INDEX($B$12:$H$111,,$A$149)=$A$255,MATCH(ROW($B$12:$B$111),ROW($B$12:$B$111)),\"\"),ROWS($B$1:E67))),COLUMNS($B$1:E67)),\"\")","v":""},{"$f":"IFERROR(INDEX($B$12:$H$111,(SMALL(IF(INDEX($B$12:$H$111,,$A$149)=$A$255,MATCH(ROW($B$12:$B$111),ROW($B$12:$B$111)),\"\"),ROWS($B$1:F67))),COLUMNS($B$1:F67)),\"\")","v":""},{"$f":"IFERROR(INDEX($B$12:$H$111,(SMALL(IF(INDEX($B$12:$H$111,,$A$149)=$A$255,MATCH(ROW($B$12:$B$111),ROW($B$12:$B$111)),\"\"),ROWS($B$1:G67))),COLUMNS($B$1:G67)),\"\")","v":""},{"$f":"IFERROR(INDEX($B$12:$H$111,(SMALL(IF(INDEX($B$12:$H$111,,$A$149)=$A$255,MATCH(ROW($B$12:$B$111),ROW($B$12:$B$111)),\"\"),ROWS($B$1:H67))),COLUMNS($B$1:H67)),\"\")","v":""},null,null,{"$f":"IFERROR(INDEX($K$12:$M$111,(SMALL(IF(INDEX($K$12:$M$111,,$A$149)=$A$255,MATCH(ROW($K$12:$K$111),ROW($K$12:$K$111)),\"\"),ROWS($B$1:B67))),COLUMNS($B$1:B67)),\"\")","v":""},{"$f":"IFERROR(INDEX($K$12:$M$111,(SMALL(IF(INDEX($K$12:$M$111,,$A$149)=$A$255,MATCH(ROW($K$12:$K$111),ROW($K$12:$K$111)),\"\"),ROWS($B$1:C67))),COLUMNS($B$1:C67)),\"\")","v":""},{"$f":"IFERROR(INDEX($K$12:$M$111,(SMALL(IF(INDEX($K$12:$M$111,,$A$149)=$A$255,MATCH(ROW($K$12:$K$111),ROW($K$12:$K$111)),\"\"),ROWS($B$1:D67))),COLUMNS($B$1:D67)),\"\")","v":""},null,null,{"$f":"IFERROR(INDEX($P$12:$R$111,(SMALL(IF(INDEX($P$12:$R$111,,$A$149)=$A$255,MATCH(ROW($P$12:$P$111),ROW($P$12:$P$111)),\"\"),ROWS($B$1:B67))),COLUMNS($B$1:B67)),\"\")","v":""},{"$f":"IFERROR(INDEX($P$12:$R$111,(SMALL(IF(INDEX($P$12:$R$111,,$A$149)=$A$255,MATCH(ROW($P$12:$P$111),ROW($P$12:$P$111)),\"\"),ROWS($B$1:C67))),COLUMNS($B$1:C67)),\"\")","v":""},{"$f":"IFERROR(INDEX($P$12:$R$111,(SMALL(IF(INDEX($P$12:$R$111,,$A$149)=$A$255,MATCH(ROW($P$12:$P$111),ROW($P$12:$P$111)),\"\"),ROWS($B$1:D67))),COLUMNS($B$1:D67)),\"\")","v":""}]
[68,{"$f":"IFERROR(INDEX($B$12:$H$111,(SMALL(IF(INDEX($B$12:$H$111,,$A$149)=$A$255,MATCH(ROW($B$12:$B$111),ROW($B$12:$B$111)),\"\"),ROWS($B$1:B68))),COLUMNS($B$1:B68)),\"\")","v":""},{"$f":"IFERROR(INDEX($B$12:$H$111,(SMALL(IF(INDEX($B$12:$H$111,,$A$149)=$A$255,MATCH(ROW($B$12:$B$111),ROW($B$12:$B$111)),\"\"),ROWS($B$1:C68))),COLUMNS($B$1:C68)),\"\")","v":""},{"$f":"IFERROR(INDEX($B$12:$H$111,(SMALL(IF(INDEX($B$12:$H$111,,$A$149)=$A$255,MATCH(ROW($B$12:$B$111),ROW($B$12:$B$111)),\"\"),ROWS($B$1:D68))),COLUMNS($B$1:D68)),\"\")","v":""},{"$f":"IFERROR(INDEX($B$12:$H$111,(SMALL(IF(INDEX($B$12:$H$111,,$A$149)=$A$255,MATCH(ROW($B$12:$B$111),ROW($B$12:$B$111)),\"\"),ROWS($B$1:E68))),COLUMNS($B$1:E68)),\"\")","v":""},{"$f":"IFERROR(INDEX($B$12:$H$111,(SMALL(IF(INDEX($B$12:$H$111,,$A$149)=$A$255,MATCH(ROW($B$12:$B$111),ROW($B$12:$B$111)),\"\"),ROWS($B$1:F68))),COLUMNS($B$1:F68)),\"\")","v":""},{"$f":"IFERROR(INDEX($B$12:$H$111,(SMALL(IF(INDEX($B$12:$H$111,,$A$149)=$A$255,MATCH(ROW($B$12:$B$111),ROW($B$12:$B$111)),\"\"),ROWS($B$1:G68))),COLUMNS($B$1:G68)),\"\")","v":""},{"$f":"IFERROR(INDEX($B$12:$H$111,(SMALL(IF(INDEX($B$12:$H$111,,$A$149)=$A$255,MATCH(ROW($B$12:$B$111),ROW($B$12:$B$111)),\"\"),ROWS($B$1:H68))),COLUMNS($B$1:H68)),\"\")","v":""},null,null,{"$f":"IFERROR(INDEX($K$12:$M$111,(SMALL(IF(INDEX($K$12:$M$111,,$A$149)=$A$255,MATCH(ROW($K$12:$K$111),ROW($K$12:$K$111)),\"\"),ROWS($B$1:B68))),COLUMNS($B$1:B68)),\"\")","v":""},{"$f":"IFERROR(INDEX($K$12:$M$111,(SMALL(IF(INDEX($K$12:$M$111,,$A$149)=$A$255,MATCH(ROW($K$12:$K$111),ROW($K$12:$K$111)),\"\"),ROWS($B$1:C68))),COLUMNS($B$1:C68)),\"\")","v":""},{"$f":"IFERROR(INDEX($K$12:$M$111,(SMALL(IF(INDEX($K$12:$M$111,,$A$149)=$A$255,MATCH(ROW($K$12:$K$111),ROW($K$12:$K$111)),\"\"),ROWS($B$1:D68))),COLUMNS($B$1:D68)),\"\")","v":""},null,null,{"$f":"IFERROR(INDEX($P$12:$R$111,(SMALL(IF(INDEX($P$12:$R$111,,$A$149)=$A$255,MATCH(ROW($P$12:$P$111),ROW($P$12:$P$111)),\"\"),ROWS($B$1:B68))),COLUMNS($B$1:B68)),\"\")","v":""},{"$f":"IFERROR(INDEX($P$12:$R$111,(SMALL(IF(INDEX($P$12:$R$111,,$A$149)=$A$255,MATCH(ROW($P$12:$P$111),ROW($P$12:$P$111)),\"\"),ROWS($B$1:C68))),COLUMNS($B$1:C68)),\"\")","v":""},{"$f":"IFERROR(INDEX($P$12:$R$111,(SMALL(IF(INDEX($P$12:$R$111,,$A$149)=$A$255,MATCH(ROW($P$12:$P$111),ROW($P$12:$P$111)),\"\"),ROWS($B$1:D68))),COLUMNS($B$1:D68)),\"\")","v":""}]
[69,{"$f":"IFERROR(INDEX($B$12:$H$111,(SMALL(IF(INDEX($B$12:$H$111,,$A$149)=$A$255,MATCH(ROW($B$12:$B$111),ROW($B$12:$B$111)),\"\"),ROWS($B$1:B69))),COLUMNS($B$1:B69)),\"\")","v":""},{"$f":"IFERROR(INDEX($B$12:$H$111,(SMALL(IF(INDEX($B$12:$H$111,,$A$149)=$A$255,MATCH(ROW($B$12:$B$111),ROW($B$12:$B$111)),\"\"),ROWS($B$1:C69))),COLUMNS($B$1:C69)),\"\")","v":""},{"$f":"IFERROR(INDEX($B$12:$H$111,(SMALL(IF(INDEX($B$12:$H$111,,$A$149)=$A$255,MATCH(ROW($B$12:$B$111),ROW($B$12:$B$111)),\"\"),ROWS($B$1:D69))),COLUMNS($B$1:D69)),\"\")","v":""},{"$f":"IFERROR(INDEX($B$12:$H$111,(SMALL(IF(INDEX($B$12:$H$111,,$A$149)=$A$255,MATCH(ROW($B$12:$B$111),ROW($B$12:$B$111)),\"\"),ROWS($B$1:E69))),COLUMNS($B$1:E69)),\"\")","v":""},{"$f":"IFERROR(INDEX($B$12:$H$111,(SMALL(IF(INDEX($B$12:$H$111,,$A$149)=$A$255,MATCH(ROW($B$12:$B$111),ROW($B$12:$B$111)),\"\"),ROWS($B$1:F69))),COLUMNS($B$1:F69)),\"\")","v":""},{"$f":"IFERROR(INDEX($B$12:$H$111,(SMALL(IF(INDEX($B$12:$H$111,,$A$149)=$A$255,MATCH(ROW($B$12:$B$111),ROW($B$12:$B$111)),\"\"),ROWS($B$1:G69))),COLUMNS($B$1:G69)),\"\")","v":""},{"$f":"IFERROR(INDEX($B$12:$H$111,(SMALL(IF(INDEX($B$12:$H$111,,$A$149)=$A$255,MATCH(ROW($B$12:$B$111),ROW($B$12:$B$111)),\"\"),ROWS($B$1:H69))),COLUMNS($B$1:H69)),\"\")","v":""},null,null,{"$f":"IFERROR(INDEX($K$12:$M$111,(SMALL(IF(INDEX($K$12:$M$111,,$A$149)=$A$255,MATCH(ROW($K$12:$K$111),ROW($K$12:$K$111)),\"\"),ROWS($B$1:B69))),COLUMNS($B$1:B69)),\"\")","v":""},{"$f":"IFERROR(INDEX($K$12:$M$111,(SMALL(IF(INDEX($K$12:$M$111,,$A$149)=$A$255,MATCH(ROW($K$12:$K$111),ROW($K$12:$K$111)),\"\"),ROWS($B$1:C69))),COLUMNS($B$1:C69)),\"\")","v":""},{"$f":"IFERROR(INDEX($K$12:$M$111,(SMALL(IF(INDEX($K$12:$M$111,,$A$149)=$A$255,MATCH(ROW($K$12:$K$111),ROW($K$12:$K$111)),\"\"),ROWS($B$1:D69))),COLUMNS($B$1:D69)),\"\")","v":""},null,null,{"$f":"IFERROR(INDEX($P$12:$R$111,(SMALL(IF(INDEX($P$12:$R$111,,$A$149)=$A$255,MATCH(ROW($P$12:$P$111),ROW($P$12:$P$111)),\"\"),ROWS($B$1:B69))),COLUMNS($B$1:B69)),\"\")","v":""},{"$f":"IFERROR(INDEX($P$12:$R$111,(SMALL(IF(INDEX($P$12:$R$111,,$A$149)=$A$255,MATCH(ROW($P$12:$P$111),ROW($P$12:$P$111)),\"\"),ROWS($B$1:C69))),COLUMNS($B$1:C69)),\"\")","v":""},{"$f":"IFERROR(INDEX($P$12:$R$111,(SMALL(IF(INDEX($P$12:$R$111,,$A$149)=$A$255,MATCH(ROW($P$12:$P$111),ROW($P$12:$P$111)),\"\"),ROWS($B$1:D69))),COLUMNS($B$1:D69)),\"\")","v":""}]
[70,{"$f":"IFERROR(INDEX($B$12:$H$111,(SMALL(IF(INDEX($B$12:$H$111,,$A$149)=$A$255,MATCH(ROW($B$12:$B$111),ROW($B$12:$B$111)),\"\"),ROWS($B$1:B70))),COLUMNS($B$1:B70)),\"\")","v":""},{"$f":"IFERROR(INDEX($B$12:$H$111,(SMALL(IF(INDEX($B$12:$H$111,,$A$149)=$A$255,MATCH(ROW($B$12:$B$111),ROW($B$12:$B$111)),\"\"),ROWS($B$1:C70))),COLUMNS($B$1:C70)),\"\")","v":""},{"$f":"IFERROR(INDEX($B$12:$H$111,(SMALL(IF(INDEX($B$12:$H$111,,$A$149)=$A$255,MATCH(ROW($B$12:$B$111),ROW($B$12:$B$111)),\"\"),ROWS($B$1:D70))),COLUMNS($B$1:D70)),\"\")","v":""},{"$f":"IFERROR(INDEX($B$12:$H$111,(SMALL(IF(INDEX($B$12:$H$111,,$A$149)=$A$255,MATCH(ROW($B$12:$B$111),ROW($B$12:$B$111)),\"\"),ROWS($B$1:E70))),COLUMNS($B$1:E70)),\"\")","v":""},{"$f":"IFERROR(INDEX($B$12:$H$111,(SMALL(IF(INDEX($B$12:$H$111,,$A$149)=$A$255,MATCH(ROW($B$12:$B$111),ROW($B$12:$B$111)),\"\"),ROWS($B$1:F70))),COLUMNS($B$1:F70)),\"\")","v":""},{"$f":"IFERROR(INDEX($B$12:$H$111,(SMALL(IF(INDEX($B$12:$H$111,,$A$149)=$A$255,MATCH(ROW($B$12:$B$111),ROW($B$12:$B$111)),\"\"),ROWS($B$1:G70))),COLUMNS($B$1:G70)),\"\")","v":""},{"$f":"IFERROR(INDEX($B$12:$H$111,(SMALL(IF(INDEX($B$12:$H$111,,$A$149)=$A$255,MATCH(ROW($B$12:$B$111),ROW($B$12:$B$111)),\"\"),ROWS($B$1:H70))),COLUMNS($B$1:H70)),\"\")","v":""},null,null,{"$f":"IFERROR(INDEX($K$12:$M$111,(SMALL(IF(INDEX($K$12:$M$111,,$A$149)=$A$255,MATCH(ROW($K$12:$K$111),ROW($K$12:$K$111)),\"\"),ROWS($B$1:B70))),COLUMNS($B$1:B70)),\"\")","v":""},{"$f":"IFERROR(INDEX($K$12:$M$111,(SMALL(IF(INDEX($K$12:$M$111,,$A$149)=$A$255,MATCH(ROW($K$12:$K$111),ROW($K$12:$K$111)),\"\"),ROWS($B$1:C70))),COLUMNS($B$1:C70)),\"\")","v":""},{"$f":"IFERROR(INDEX($K$12:$M$111,(SMALL(IF(INDEX($K$12:$M$111,,$A$149)=$A$255,MATCH(ROW($K$12:$K$111),ROW($K$12:$K$111)),\"\"),ROWS($B$1:D70))),COLUMNS($B$1:D70)),\"\")","v":""},null,null,{"$f":"IFERROR(INDEX($P$12:$R$111,(SMALL(IF(INDEX($P$12:$R$111,,$A$149)=$A$255,MATCH(ROW($P$12:$P$111),ROW($P$12:$P$111)),\"\"),ROWS($B$1:B70))),COLUMNS($B$1:B70)),\"\")","v":""},{"$f":"IFERROR(INDEX($P$12:$R$111,(SMALL(IF(INDEX($P$12:$R$111,,$A$149)=$A$255,MATCH(ROW($P$12:$P$111),ROW($P$12:$P$111)),\"\"),ROWS($B$1:C70))),COLUMNS($B$1:C70)),\"\")","v":""},{"$f":"IFERROR(INDEX($P$12:$R$111,(SMALL(IF(INDEX($P$12:$R$111,,$A$149)=$A$255,MATCH(ROW($P$12:$P$111),ROW($P$12:$P$111)),\"\"),ROWS($B$1:D70))),COLUMNS($B$1:D70)),\"\")","v":""}]
[71,{"$f":"IFERROR(INDEX($B$12:$H$111,(SMALL(IF(INDEX($B$12:$H$111,,$A$149)=$A$255,MATCH(ROW($B$12:$B$111),ROW($B$12:$B$111)),\"\"),ROWS($B$1:B71))),COLUMNS($B$1:B71)),\"\")","v":""},{"$f":"IFERROR(INDEX($B$12:$H$111,(SMALL(IF(INDEX($B$12:$H$111,,$A$149)=$A$255,MATCH(ROW($B$12:$B$111),ROW($B$12:$B$111)),\"\"),ROWS($B$1:C71))),COLUMNS($B$1:C71)),\"\")","v":""},{"$f":"IFERROR(INDEX($B$12:$H$111,(SMALL(IF(INDEX($B$12:$H$111,,$A$149)=$A$255,MATCH(ROW($B$12:$B$111),ROW($B$12:$B$111)),\"\"),ROWS($B$1:D71))),COLUMNS($B$1:D71)),\"\")","v":""},{"$f":"IFERROR(INDEX($B$12:$H$111,(SMALL(IF(INDEX($B$12:$H$111,,$A$149)=$A$255,MATCH(ROW($B$12:$B$111),ROW($B$12:$B$111)),\"\"),ROWS($B$1:E71))),COLUMNS($B$1:E71)),\"\")","v":""},{"$f":"IFERROR(INDEX($B$12:$H$111,(SMALL(IF(INDEX($B$12:$H$111,,$A$149)=$A$255,MATCH(ROW($B$12:$B$111),ROW($B$12:$B$111)),\"\"),ROWS($B$1:F71))),COLUMNS($B$1:F71)),\"\")","v":""},{"$f":"IFERROR(INDEX($B$12:$H$111,(SMALL(IF(INDEX($B$12:$H$111,,$A$149)=$A$255,MATCH(ROW($B$12:$B$111),ROW($B$12:$B$111)),\"\"),ROWS($B$1:G71))),COLUMNS($B$1:G71)),\"\")","v":""},{"$f":"IFERROR(INDEX($B$12:$H$111,(SMALL(IF(INDEX($B$12:$H$111,,$A$149)=$A$255,MATCH(ROW($B$12:$B$111),ROW($B$12:$B$111)),\"\"),ROWS($B$1:H71))),COLUMNS($B$1:H71)),\"\")","v":""},null,null,{"$f":"IFERROR(INDEX($K$12:$M$111,(SMALL(IF(INDEX($K$12:$M$111,,$A$149)=$A$255,MATCH(ROW($K$12:$K$111),ROW($K$12:$K$111)),\"\"),ROWS($B$1:B71))),COLUMNS($B$1:B71)),\"\")","v":""},{"$f":"IFERROR(INDEX($K$12:$M$111,(SMALL(IF(INDEX($K$12:$M$111,,$A$149)=$A$255,MATCH(ROW($K$12:$K$111),ROW($K$12:$K$111)),\"\"),ROWS($B$1:C71))),COLUMNS($B$1:C71)),\"\")","v":""},{"$f":"IFERROR(INDEX($K$12:$M$111,(SMALL(IF(INDEX($K$12:$M$111,,$A$149)=$A$255,MATCH(ROW($K$12:$K$111),ROW($K$12:$K$111)),\"\"),ROWS($B$1:D71))),COLUMNS($B$1:D71)),\"\")","v":""},null,null,{"$f":"IFERROR(INDEX($P$12:$R$111,(SMALL(IF(INDEX($P$12:$R$111,,$A$149)=$A$255,MATCH(ROW($P$12:$P$111),ROW($P$12:$P$111)),\"\"),ROWS($B$1:B71))),COLUMNS($B$1:B71)),\"\")","v":""},{"$f":"IFERROR(INDEX($P$12:$R$111,(SMALL(IF(INDEX($P$12:$R$111,,$A$149)=$A$255,MATCH(ROW($P$12:$P$111),ROW($P$12:$P$111)),\"\"),ROWS($B$1:C71))),COLUMNS($B$1:C71)),\"\")","v":""},{"$f":"IFERROR(INDEX($P$12:$R$111,(SMALL(IF(INDEX($P$12:$R$111,,$A$149)=$A$255,MATCH(ROW($P$12:$P$111),ROW($P$12:$P$111)),\"\"),ROWS($B$1:D71))),COLUMNS($B$1:D71)),\"\")","v":""}]
[72,{"$f":"IFERROR(INDEX($B$12:$H$111,(SMALL(IF(INDEX($B$12:$H$111,,$A$149)=$A$255,MATCH(ROW($B$12:$B$111),ROW($B$12:$B$111)),\"\"),ROWS($B$1:B72))),COLUMNS($B$1:B72)),\"\")","v":""},{"$f":"IFERROR(INDEX($B$12:$H$111,(SMALL(IF(INDEX($B$12:$H$111,,$A$149)=$A$255,MATCH(ROW($B$12:$B$111),ROW($B$12:$B$111)),\"\"),ROWS($B$1:C72))),COLUMNS($B$1:C72)),\"\")","v":""},{"$f":"IFERROR(INDEX($B$12:$H$111,(SMALL(IF(INDEX($B$12:$H$111,,$A$149)=$A$255,MATCH(ROW($B$12:$B$111),ROW($B$12:$B$111)),\"\"),ROWS($B$1:D72))),COLUMNS($B$1:D72)),\"\")","v":""},{"$f":"IFERROR(INDEX($B$12:$H$111,(SMALL(IF(INDEX($B$12:$H$111,,$A$149)=$A$255,MATCH(ROW($B$12:$B$111),ROW($B$12:$B$111)),\"\"),ROWS($B$1:E72))),COLUMNS($B$1:E72)),\"\")","v":""},{"$f":"IFERROR(INDEX($B$12:$H$111,(SMALL(IF(INDEX($B$12:$H$111,,$A$149)=$A$255,MATCH(ROW($B$12:$B$111),ROW($B$12:$B$111)),\"\"),ROWS($B$1:F72))),COLUMNS($B$1:F72)),\"\")","v":""},{"$f":"IFERROR(INDEX($B$12:$H$111,(SMALL(IF(INDEX($B$12:$H$111,,$A$149)=$A$255,MATCH(ROW($B$12:$B$111),ROW($B$12:$B$111)),\"\"),ROWS($B$1:G72))),COLUMNS($B$1:G72)),\"\")","v":""},{"$f":"IFERROR(INDEX($B$12:$H$111,(SMALL(IF(INDEX($B$12:$H$111,,$A$149)=$A$255,MATCH(ROW($B$12:$B$111),ROW($B$12:$B$111)),\"\"),ROWS($B$1:H72))),COLUMNS($B$1:H72)),\"\")","v":""},null,null,{"$f":"IFERROR(INDEX($K$12:$M$111,(SMALL(IF(INDEX($K$12:$M$111,,$A$149)=$A$255,MATCH(ROW($K$12:$K$111),ROW($K$12:$K$111)),\"\"),ROWS($B$1:B72))),COLUMNS($B$1:B72)),\"\")","v":""},{"$f":"IFERROR(INDEX($K$12:$M$111,(SMALL(IF(INDEX($K$12:$M$111,,$A$149)=$A$255,MATCH(ROW($K$12:$K$111),ROW($K$12:$K$111)),\"\"),ROWS($B$1:C72))),COLUMNS($B$1:C72)),\"\")","v":""},{"$f":"IFERROR(INDEX($K$12:$M$111,(SMALL(IF(INDEX($K$12:$M$111,,$A$149)=$A$255,MATCH(ROW($K$12:$K$111),ROW($K$12:$K$111)),\"\"),ROWS($B$1:D72))),COLUMNS($B$1:D72)),\"\")","v":""},null,null,{"$f":"IFERROR(INDEX($P$12:$R$111,(SMALL(IF(INDEX($P$12:$R$111,,$A$149)=$A$255,MATCH(ROW($P$12:$P$111),ROW($P$12:$P$111)),\"\"),ROWS($B$1:B72))),COLUMNS($B$1:B72)),\"\")","v":""},{"$f":"IFERROR(INDEX($P$12:$R$111,(SMALL(IF(INDEX($P$12:$R$111,,$A$149)=$A$255,MATCH(ROW($P$12:$P$111),ROW($P$12:$P$111)),\"\"),ROWS($B$1:C72))),COLUMNS($B$1:C72)),\"\")","v":""},{"$f":"IFERROR(INDEX($P$12:$R$111,(SMALL(IF(INDEX($P$12:$R$111,,$A$149)=$A$255,MATCH(ROW($P$12:$P$111),ROW($P$12:$P$111)),\"\"),ROWS($B$1:D72))),COLUMNS($B$1:D72)),\"\")","v":""}]
[73,{"$f":"IFERROR(INDEX($B$12:$H$111,(SMALL(IF(INDEX($B$12:$H$111,,$A$149)=$A$255,MATCH(ROW($B$12:$B$111),ROW($B$12:$B$111)),\"\"),ROWS($B$1:B73))),COLUMNS($B$1:B73)),\"\")","v":""},{"$f":"IFERROR(INDEX($B$12:$H$111,(SMALL(IF(INDEX($B$12:$H$111,,$A$149)=$A$255,MATCH(ROW($B$12:$B$111),ROW($B$12:$B$111)),\"\"),ROWS($B$1:C73))),COLUMNS($B$1:C73)),\"\")","v":""},{"$f":"IFERROR(INDEX($B$12:$H$111,(SMALL(IF(INDEX($B$12:$H$111,,$A$149)=$A$255,MATCH(ROW($B$12:$B$111),ROW($B$12:$B$111)),\"\"),ROWS($B$1:D73))),COLUMNS($B$1:D73)),\"\")","v":""},{"$f":"IFERROR(INDEX($B$12:$H$111,(SMALL(IF(INDEX($B$12:$H$111,,$A$149)=$A$255,MATCH(ROW($B$12:$B$111),ROW($B$12:$B$111)),\"\"),ROWS($B$1:E73))),COLUMNS($B$1:E73)),\"\")","v":""},{"$f":"IFERROR(INDEX($B$12:$H$111,(SMALL(IF(INDEX($B$12:$H$111,,$A$149)=$A$255,MATCH(ROW($B$12:$B$111),ROW($B$12:$B$111)),\"\"),ROWS($B$1:F73))),COLUMNS($B$1:F73)),\"\")","v":""},{"$f":"IFERROR(INDEX($B$12:$H$111,(SMALL(IF(INDEX($B$12:$H$111,,$A$149)=$A$255,MATCH(ROW($B$12:$B$111),ROW($B$12:$B$111)),\"\"),ROWS($B$1:G73))),COLUMNS($B$1:G73)),\"\")","v":""},{"$f":"IFERROR(INDEX($B$12:$H$111,(SMALL(IF(INDEX($B$12:$H$111,,$A$149)=$A$255,MATCH(ROW($B$12:$B$111),ROW($B$12:$B$111)),\"\"),ROWS($B$1:H73))),COLUMNS($B$1:H73)),\"\")","v":""},null,null,{"$f":"IFERROR(INDEX($K$12:$M$111,(SMALL(IF(INDEX($K$12:$M$111,,$A$149)=$A$255,MATCH(ROW($K$12:$K$111),ROW($K$12:$K$111)),\"\"),ROWS($B$1:B73))),COLUMNS($B$1:B73)),\"\")","v":""},{"$f":"IFERROR(INDEX($K$12:$M$111,(SMALL(IF(INDEX($K$12:$M$111,,$A$149)=$A$255,MATCH(ROW($K$12:$K$111),ROW($K$12:$K$111)),\"\"),ROWS($B$1:C73))),COLUMNS($B$1:C73)),\"\")","v":""},{"$f":"IFERROR(INDEX($K$12:$M$111,(SMALL(IF(INDEX($K$12:$M$111,,$A$149)=$A$255,MATCH(ROW($K$12:$K$111),ROW($K$12:$K$111)),\"\"),ROWS($B$1:D73))),COLUMNS($B$1:D73)),\"\")","v":""},null,null,{"$f":"IFERROR(INDEX($P$12:$R$111,(SMALL(IF(INDEX($P$12:$R$111,,$A$149)=$A$255,MATCH(ROW($P$12:$P$111),ROW($P$12:$P$111)),\"\"),ROWS($B$1:B73))),COLUMNS($B$1:B73)),\"\")","v":""},{"$f":"IFERROR(INDEX($P$12:$R$111,(SMALL(IF(INDEX($P$12:$R$111,,$A$149)=$A$255,MATCH(ROW($P$12:$P$111),ROW($P$12:$P$111)),\"\"),ROWS($B$1:C73))),COLUMNS($B$1:C73)),\"\")","v":""},{"$f":"IFERROR(INDEX($P$12:$R$111,(SMALL(IF(INDEX($P$12:$R$111,,$A$149)=$A$255,MATCH(ROW($P$12:$P$111),ROW($P$12:$P$111)),\"\"),ROWS($B$1:D73))),COLUMNS($B$1:D73)),\"\")","v":""}]
[74,{"$f":"IFERROR(INDEX($B$12:$H$111,(SMALL(IF(INDEX($B$12:$H$111,,$A$149)=$A$255,MATCH(ROW($B$12:$B$111),ROW($B$12:$B$111)),\"\"),ROWS($B$1:B74))),COLUMNS($B$1:B74)),\"\")","v":""},{"$f":"IFERROR(INDEX($B$12:$H$111,(SMALL(IF(INDEX($B$12:$H$111,,$A$149)=$A$255,MATCH(ROW($B$12:$B$111),ROW($B$12:$B$111)),\"\"),ROWS($B$1:C74))),COLUMNS($B$1:C74)),\"\")","v":""},{"$f":"IFERROR(INDEX($B$12:$H$111,(SMALL(IF(INDEX($B$12:$H$111,,$A$149)=$A$255,MATCH(ROW($B$12:$B$111),ROW($B$12:$B$111)),\"\"),ROWS($B$1:D74))),COLUMNS($B$1:D74)),\"\")","v":""},{"$f":"IFERROR(INDEX($B$12:$H$111,(SMALL(IF(INDEX($B$12:$H$111,,$A$149)=$A$255,MATCH(ROW($B$12:$B$111),ROW($B$12:$B$111)),\"\"),ROWS($B$1:E74))),COLUMNS($B$1:E74)),\"\")","v":""},{"$f":"IFERROR(INDEX($B$12:$H$111,(SMALL(IF(INDEX($B$12:$H$111,,$A$149)=$A$255,MATCH(ROW($B$12:$B$111),ROW($B$12:$B$111)),\"\"),ROWS($B$1:F74))),COLUMNS($B$1:F74)),\"\")","v":""},{"$f":"IFERROR(INDEX($B$12:$H$111,(SMALL(IF(INDEX($B$12:$H$111,,$A$149)=$A$255,MATCH(ROW($B$12:$B$111),ROW($B$12:$B$111)),\"\"),ROWS($B$1:G74))),COLUMNS($B$1:G74)),\"\")","v":""},{"$f":"IFERROR(INDEX($B$12:$H$111,(SMALL(IF(INDEX($B$12:$H$111,,$A$149)=$A$255,MATCH(ROW($B$12:$B$111),ROW($B$12:$B$111)),\"\"),ROWS($B$1:H74))),COLUMNS($B$1:H74)),\"\")","v":""},null,null,{"$f":"IFERROR(INDEX($K$12:$M$111,(SMALL(IF(INDEX($K$12:$M$111,,$A$149)=$A$255,MATCH(ROW($K$12:$K$111),ROW($K$12:$K$111)),\"\"),ROWS($B$1:B74))),COLUMNS($B$1:B74)),\"\")","v":""},{"$f":"IFERROR(INDEX($K$12:$M$111,(SMALL(IF(INDEX($K$12:$M$111,,$A$149)=$A$255,MATCH(ROW($K$12:$K$111),ROW($K$12:$K$111)),\"\"),ROWS($B$1:C74))),COLUMNS($B$1:C74)),\"\")","v":""},{"$f":"IFERROR(INDEX($K$12:$M$111,(SMALL(IF(INDEX($K$12:$M$111,,$A$149)=$A$255,MATCH(ROW($K$12:$K$111),ROW($K$12:$K$111)),\"\"),ROWS($B$1:D74))),COLUMNS($B$1:D74)),\"\")","v":""},null,null,{"$f":"IFERROR(INDEX($P$12:$R$111,(SMALL(IF(INDEX($P$12:$R$111,,$A$149)=$A$255,MATCH(ROW($P$12:$P$111),ROW($P$12:$P$111)),\"\"),ROWS($B$1:B74))),COLUMNS($B$1:B74)),\"\")","v":""},{"$f":"IFERROR(INDEX($P$12:$R$111,(SMALL(IF(INDEX($P$12:$R$111,,$A$149)=$A$255,MATCH(ROW($P$12:$P$111),ROW($P$12:$P$111)),\"\"),ROWS($B$1:C74))),COLUMNS($B$1:C74)),\"\")","v":""},{"$f":"IFERROR(INDEX($P$12:$R$111,(SMALL(IF(INDEX($P$12:$R$111,,$A$149)=$A$255,MATCH(ROW($P$12:$P$111),ROW($P$12:$P$111)),\"\"),ROWS($B$1:D74))),COLUMNS($B$1:D74)),\"\")","v":""}]
[75,{"$f":"IFERROR(INDEX($B$12:$H$111,(SMALL(IF(INDEX($B$12:$H$111,,$A$149)=$A$255,MATCH(ROW($B$12:$B$111),ROW($B$12:$B$111)),\"\"),ROWS($B$1:B75))),COLUMNS($B$1:B75)),\"\")","v":""},{"$f":"IFERROR(INDEX($B$12:$H$111,(SMALL(IF(INDEX($B$12:$H$111,,$A$149)=$A$255,MATCH(ROW($B$12:$B$111),ROW($B$12:$B$111)),\"\"),ROWS($B$1:C75))),COLUMNS($B$1:C75)),\"\")","v":""},{"$f":"IFERROR(INDEX($B$12:$H$111,(SMALL(IF(INDEX($B$12:$H$111,,$A$149)=$A$255,MATCH(ROW($B$12:$B$111),ROW($B$12:$B$111)),\"\"),ROWS($B$1:D75))),COLUMNS($B$1:D75)),\"\")","v":""},{"$f":"IFERROR(INDEX($B$12:$H$111,(SMALL(IF(INDEX($B$12:$H$111,,$A$149)=$A$255,MATCH(ROW($B$12:$B$111),ROW($B$12:$B$111)),\"\"),ROWS($B$1:E75))),COLUMNS($B$1:E75)),\"\")","v":""},{"$f":"IFERROR(INDEX($B$12:$H$111,(SMALL(IF(INDEX($B$12:$H$111,,$A$149)=$A$255,MATCH(ROW($B$12:$B$111),ROW($B$12:$B$111)),\"\"),ROWS($B$1:F75))),COLUMNS($B$1:F75)),\"\")","v":""},{"$f":"IFERROR(INDEX($B$12:$H$111,(SMALL(IF(INDEX($B$12:$H$111,,$A$149)=$A$255,MATCH(ROW($B$12:$B$111),ROW($B$12:$B$111)),\"\"),ROWS($B$1:G75))),COLUMNS($B$1:G75)),\"\")","v":""},{"$f":"IFERROR(INDEX($B$12:$H$111,(SMALL(IF(INDEX($B$12:$H$111,,$A$149)=$A$255,MATCH(ROW($B$12:$B$111),ROW($B$12:$B$111)),\"\"),ROWS($B$1:H75))),COLUMNS($B$1:H75)),\"\")","v":""},null,null,{"$f":"IFERROR(INDEX($K$12:$M$111,(SMALL(IF(INDEX($K$12:$M$111,,$A$149)=$A$255,MATCH(ROW($K$12:$K$111),ROW($K$12:$K$111)),\"\"),ROWS($B$1:B75))),COLUMNS($B$1:B75)),\"\")","v":""},{"$f":"IFERROR(INDEX($K$12:$M$111,(SMALL(IF(INDEX($K$12:$M$111,,$A$149)=$A$255,MATCH(ROW($K$12:$K$111),ROW($K$12:$K$111)),\"\"),ROWS($B$1:C75))),COLUMNS($B$1:C75)),\"\")","v":""},{"$f":"IFERROR(INDEX($K$12:$M$111,(SMALL(IF(INDEX($K$12:$M$111,,$A$149)=$A$255,MATCH(ROW($K$12:$K$111),ROW($K$12:$K$111)),\"\"),ROWS($B$1:D75))),COLUMNS($B$1:D75)),\"\")","v":""},null,null,{"$f":"IFERROR(INDEX($P$12:$R$111,(SMALL(IF(INDEX($P$12:$R$111,,$A$149)=$A$255,MATCH(ROW($P$12:$P$111),ROW($P$12:$P$111)),\"\"),ROWS($B$1:B75))),COLUMNS($B$1:B75)),\"\")","v":""},{"$f":"IFERROR(INDEX($P$12:$R$111,(SMALL(IF(INDEX($P$12:$R$111,,$A$149)=$A$255,MATCH(ROW($P$12:$P$111),ROW($P$12:$P$111)),\"\"),ROWS($B$1:C75))),COLUMNS($B$1:C75)),\"\")","v":""},{"$f":"IFERROR(INDEX($P$12:$R$111,(SMALL(IF(INDEX($P$12:$R$111,,$A$149)=$A$255,MATCH(ROW($P$12:$P$111),ROW($P$12:$P$111)),\"\"),ROWS($B$1:D75))),COLUMNS($B$1:D75)),\"\")","v":""}]
[76,{"$f":"IFERROR(INDEX($B$12:$H$111,(SMALL(IF(INDEX($B$12:$H$111,,$A$149)=$A$255,MATCH(ROW($B$12:$B$111),ROW($B$12:$B$111)),\"\"),ROWS($B$1:B76))),COLUMNS($B$1:B76)),\"\")","v":""},{"$f":"IFERROR(INDEX($B$12:$H$111,(SMALL(IF(INDEX($B$12:$H$111,,$A$149)=$A$255,MATCH(ROW($B$12:$B$111),ROW($B$12:$B$111)),\"\"),ROWS($B$1:C76))),COLUMNS($B$1:C76)),\"\")","v":""},{"$f":"IFERROR(INDEX($B$12:$H$111,(SMALL(IF(INDEX($B$12:$H$111,,$A$149)=$A$255,MATCH(ROW($B$12:$B$111),ROW($B$12:$B$111)),\"\"),ROWS($B$1:D76))),COLUMNS($B$1:D76)),\"\")","v":""},{"$f":"IFERROR(INDEX($B$12:$H$111,(SMALL(IF(INDEX($B$12:$H$111,,$A$149)=$A$255,MATCH(ROW($B$12:$B$111),ROW($B$12:$B$111)),\"\"),ROWS($B$1:E76))),COLUMNS($B$1:E76)),\"\")","v":""},{"$f":"IFERROR(INDEX($B$12:$H$111,(SMALL(IF(INDEX($B$12:$H$111,,$A$149)=$A$255,MATCH(ROW($B$12:$B$111),ROW($B$12:$B$111)),\"\"),ROWS($B$1:F76))),COLUMNS($B$1:F76)),\"\")","v":""},{"$f":"IFERROR(INDEX($B$12:$H$111,(SMALL(IF(INDEX($B$12:$H$111,,$A$149)=$A$255,MATCH(ROW($B$12:$B$111),ROW($B$12:$B$111)),\"\"),ROWS($B$1:G76))),COLUMNS($B$1:G76)),\"\")","v":""},{"$f":"IFERROR(INDEX($B$12:$H$111,(SMALL(IF(INDEX($B$12:$H$111,,$A$149)=$A$255,MATCH(ROW($B$12:$B$111),ROW($B$12:$B$111)),\"\"),ROWS($B$1:H76))),COLUMNS($B$1:H76)),\"\")","v":""},null,null,{"$f":"IFERROR(INDEX($K$12:$M$111,(SMALL(IF(INDEX($K$12:$M$111,,$A$149)=$A$255,MATCH(ROW($K$12:$K$111),ROW($K$12:$K$111)),\"\"),ROWS($B$1:B76))),COLUMNS($B$1:B76)),\"\")","v":""},{"$f":"IFERROR(INDEX($K$12:$M$111,(SMALL(IF(INDEX($K$12:$M$111,,$A$149)=$A$255,MATCH(ROW($K$12:$K$111),ROW($K$12:$K$111)),\"\"),ROWS($B$1:C76))),COLUMNS($B$1:C76)),\"\")","v":""},{"$f":"IFERROR(INDEX($K$12:$M$111,(SMALL(IF(INDEX($K$12:$M$111,,$A$149)=$A$255,MATCH(ROW($K$12:$K$111),ROW($K$12:$K$111)),\"\"),ROWS($B$1:D76))),COLUMNS($B$1:D76)),\"\")","v":""},null,null,{"$f":"IFERROR(INDEX($P$12:$R$111,(SMALL(IF(INDEX($P$12:$R$111,,$A$149)=$A$255,MATCH(ROW($P$12:$P$111),ROW($P$12:$P$111)),\"\"),ROWS($B$1:B76))),COLUMNS($B$1:B76)),\"\")","v":""},{"$f":"IFERROR(INDEX($P$12:$R$111,(SMALL(IF(INDEX($P$12:$R$111,,$A$149)=$A$255,MATCH(ROW($P$12:$P$111),ROW($P$12:$P$111)),\"\"),ROWS($B$1:C76))),COLUMNS($B$1:C76)),\"\")","v":""},{"$f":"IFERROR(INDEX($P$12:$R$111,(SMALL(IF(INDEX($P$12:$R$111,,$A$149)=$A$255,MATCH(ROW($P$12:$P$111),ROW($P$12:$P$111)),\"\"),ROWS($B$1:D76))),COLUMNS($B$1:D76)),\"\")","v":""}]
[77,{"$f":"IFERROR(INDEX($B$12:$H$111,(SMALL(IF(INDEX($B$12:$H$111,,$A$149)=$A$255,MATCH(ROW($B$12:$B$111),ROW($B$12:$B$111)),\"\"),ROWS($B$1:B77))),COLUMNS($B$1:B77)),\"\")","v":""},{"$f":"IFERROR(INDEX($B$12:$H$111,(SMALL(IF(INDEX($B$12:$H$111,,$A$149)=$A$255,MATCH(ROW($B$12:$B$111),ROW($B$12:$B$111)),\"\"),ROWS($B$1:C77))),COLUMNS($B$1:C77)),\"\")","v":""},{"$f":"IFERROR(INDEX($B$12:$H$111,(SMALL(IF(INDEX($B$12:$H$111,,$A$149)=$A$255,MATCH(ROW($B$12:$B$111),ROW($B$12:$B$111)),\"\"),ROWS($B$1:D77))),COLUMNS($B$1:D77)),\"\")","v":""},{"$f":"IFERROR(INDEX($B$12:$H$111,(SMALL(IF(INDEX($B$12:$H$111,,$A$149)=$A$255,MATCH(ROW($B$12:$B$111),ROW($B$12:$B$111)),\"\"),ROWS($B$1:E77))),COLUMNS($B$1:E77)),\"\")","v":""},{"$f":"IFERROR(INDEX($B$12:$H$111,(SMALL(IF(INDEX($B$12:$H$111,,$A$149)=$A$255,MATCH(ROW($B$12:$B$111),ROW($B$12:$B$111)),\"\"),ROWS($B$1:F77))),COLUMNS($B$1:F77)),\"\")","v":""},{"$f":"IFERROR(INDEX($B$12:$H$111,(SMALL(IF(INDEX($B$12:$H$111,,$A$149)=$A$255,MATCH(ROW($B$12:$B$111),ROW($B$12:$B$111)),\"\"),ROWS($B$1:G77))),COLUMNS($B$1:G77)),\"\")","v":""},{"$f":"IFERROR(INDEX($B$12:$H$111,(SMALL(IF(INDEX($B$12:$H$111,,$A$149)=$A$255,MATCH(ROW($B$12:$B$111),ROW($B$12:$B$111)),\"\"),ROWS($B$1:H77))),COLUMNS($B$1:H77)),\"\")","v":""},null,null,{"$f":"IFERROR(INDEX($K$12:$M$111,(SMALL(IF(INDEX($K$12:$M$111,,$A$149)=$A$255,MATCH(ROW($K$12:$K$111),ROW($K$12:$K$111)),\"\"),ROWS($B$1:B77))),COLUMNS($B$1:B77)),\"\")","v":""},{"$f":"IFERROR(INDEX($K$12:$M$111,(SMALL(IF(INDEX($K$12:$M$111,,$A$149)=$A$255,MATCH(ROW($K$12:$K$111),ROW($K$12:$K$111)),\"\"),ROWS($B$1:C77))),COLUMNS($B$1:C77)),\"\")","v":""},{"$f":"IFERROR(INDEX($K$12:$M$111,(SMALL(IF(INDEX($K$12:$M$111,,$A$149)=$A$255,MATCH(ROW($K$12:$K$111),ROW($K$12:$K$111)),\"\"),ROWS($B$1:D77))),COLUMNS($B$1:D77)),\"\")","v":""},null,null,{"$f":"IFERROR(INDEX($P$12:$R$111,(SMALL(IF(INDEX($P$12:$R$111,,$A$149)=$A$255,MATCH(ROW($P$12:$P$111),ROW($P$12:$P$111)),\"\"),ROWS($B$1:B77))),COLUMNS($B$1:B77)),\"\")","v":""},{"$f":"IFERROR(INDEX($P$12:$R$111,(SMALL(IF(INDEX($P$12:$R$111,,$A$149)=$A$255,MATCH(ROW($P$12:$P$111),ROW($P$12:$P$111)),\"\"),ROWS($B$1:C77))),COLUMNS($B$1:C77)),\"\")","v":""},{"$f":"IFERROR(INDEX($P$12:$R$111,(SMALL(IF(INDEX($P$12:$R$111,,$A$149)=$A$255,MATCH(ROW($P$12:$P$111),ROW($P$12:$P$111)),\"\"),ROWS($B$1:D77))),COLUMNS($B$1:D77)),\"\")","v":""}]
[78,{"$f":"IFERROR(INDEX($B$12:$H$111,(SMALL(IF(INDEX($B$12:$H$111,,$A$149)=$A$255,MATCH(ROW($B$12:$B$111),ROW($B$12:$B$111)),\"\"),ROWS($B$1:B78))),COLUMNS($B$1:B78)),\"\")","v":""},{"$f":"IFERROR(INDEX($B$12:$H$111,(SMALL(IF(INDEX($B$12:$H$111,,$A$149)=$A$255,MATCH(ROW($B$12:$B$111),ROW($B$12:$B$111)),\"\"),ROWS($B$1:C78))),COLUMNS($B$1:C78)),\"\")","v":""},{"$f":"IFERROR(INDEX($B$12:$H$111,(SMALL(IF(INDEX($B$12:$H$111,,$A$149)=$A$255,MATCH(ROW($B$12:$B$111),ROW($B$12:$B$111)),\"\"),ROWS($B$1:D78))),COLUMNS($B$1:D78)),\"\")","v":""},{"$f":"IFERROR(INDEX($B$12:$H$111,(SMALL(IF(INDEX($B$12:$H$111,,$A$149)=$A$255,MATCH(ROW($B$12:$B$111),ROW($B$12:$B$111)),\"\"),ROWS($B$1:E78))),COLUMNS($B$1:E78)),\"\")","v":""},{"$f":"IFERROR(INDEX($B$12:$H$111,(SMALL(IF(INDEX($B$12:$H$111,,$A$149)=$A$255,MATCH(ROW($B$12:$B$111),ROW($B$12:$B$111)),\"\"),ROWS($B$1:F78))),COLUMNS($B$1:F78)),\"\")","v":""},{"$f":"IFERROR(INDEX($B$12:$H$111,(SMALL(IF(INDEX($B$12:$H$111,,$A$149)=$A$255,MATCH(ROW($B$12:$B$111),ROW($B$12:$B$111)),\"\"),ROWS($B$1:G78))),COLUMNS($B$1:G78)),\"\")","v":""},{"$f":"IFERROR(INDEX($B$12:$H$111,(SMALL(IF(INDEX($B$12:$H$111,,$A$149)=$A$255,MATCH(ROW($B$12:$B$111),ROW($B$12:$B$111)),\"\"),ROWS($B$1:H78))),COLUMNS($B$1:H78)),\"\")","v":""},null,null,{"$f":"IFERROR(INDEX($K$12:$M$111,(SMALL(IF(INDEX($K$12:$M$111,,$A$149)=$A$255,MATCH(ROW($K$12:$K$111),ROW($K$12:$K$111)),\"\"),ROWS($B$1:B78))),COLUMNS($B$1:B78)),\"\")","v":""},{"$f":"IFERROR(INDEX($K$12:$M$111,(SMALL(IF(INDEX($K$12:$M$111,,$A$149)=$A$255,MATCH(ROW($K$12:$K$111),ROW($K$12:$K$111)),\"\"),ROWS($B$1:C78))),COLUMNS($B$1:C78)),\"\")","v":""},{"$f":"IFERROR(INDEX($K$12:$M$111,(SMALL(IF(INDEX($K$12:$M$111,,$A$149)=$A$255,MATCH(ROW($K$12:$K$111),ROW($K$12:$K$111)),\"\"),ROWS($B$1:D78))),COLUMNS($B$1:D78)),\"\")","v":""},null,null,{"$f":"IFERROR(INDEX($P$12:$R$111,(SMALL(IF(INDEX($P$12:$R$111,,$A$149)=$A$255,MATCH(ROW($P$12:$P$111),ROW($P$12:$P$111)),\"\"),ROWS($B$1:B78))),COLUMNS($B$1:B78)),\"\")","v":""},{"$f":"IFERROR(INDEX($P$12:$R$111,(SMALL(IF(INDEX($P$12:$R$111,,$A$149)=$A$255,MATCH(ROW($P$12:$P$111),ROW($P$12:$P$111)),\"\"),ROWS($B$1:C78))),COLUMNS($B$1:C78)),\"\")","v":""},{"$f":"IFERROR(INDEX($P$12:$R$111,(SMALL(IF(INDEX($P$12:$R$111,,$A$149)=$A$255,MATCH(ROW($P$12:$P$111),ROW($P$12:$P$111)),\"\"),ROWS($B$1:D78))),COLUMNS($B$1:D78)),\"\")","v":""}]
[79,{"$f":"IFERROR(INDEX($B$12:$H$111,(SMALL(IF(INDEX($B$12:$H$111,,$A$149)=$A$255,MATCH(ROW($B$12:$B$111),ROW($B$12:$B$111)),\"\"),ROWS($B$1:B79))),COLUMNS($B$1:B79)),\"\")","v":""},{"$f":"IFERROR(INDEX($B$12:$H$111,(SMALL(IF(INDEX($B$12:$H$111,,$A$149)=$A$255,MATCH(ROW($B$12:$B$111),ROW($B$12:$B$111)),\"\"),ROWS($B$1:C79))),COLUMNS($B$1:C79)),\"\")","v":""},{"$f":"IFERROR(INDEX($B$12:$H$111,(SMALL(IF(INDEX($B$12:$H$111,,$A$149)=$A$255,MATCH(ROW($B$12:$B$111),ROW($B$12:$B$111)),\"\"),ROWS($B$1:D79))),COLUMNS($B$1:D79)),\"\")","v":""},{"$f":"IFERROR(INDEX($B$12:$H$111,(SMALL(IF(INDEX($B$12:$H$111,,$A$149)=$A$255,MATCH(ROW($B$12:$B$111),ROW($B$12:$B$111)),\"\"),ROWS($B$1:E79))),COLUMNS($B$1:E79)),\"\")","v":""},{"$f":"IFERROR(INDEX($B$12:$H$111,(SMALL(IF(INDEX($B$12:$H$111,,$A$149)=$A$255,MATCH(ROW($B$12:$B$111),ROW($B$12:$B$111)),\"\"),ROWS($B$1:F79))),COLUMNS($B$1:F79)),\"\")","v":""},{"$f":"IFERROR(INDEX($B$12:$H$111,(SMALL(IF(INDEX($B$12:$H$111,,$A$149)=$A$255,MATCH(ROW($B$12:$B$111),ROW($B$12:$B$111)),\"\"),ROWS($B$1:G79))),COLUMNS($B$1:G79)),\"\")","v":""},{"$f":"IFERROR(INDEX($B$12:$H$111,(SMALL(IF(INDEX($B$12:$H$111,,$A$149)=$A$255,MATCH(ROW($B$12:$B$111),ROW($B$12:$B$111)),\"\"),ROWS($B$1:H79))),COLUMNS($B$1:H79)),\"\")","v":""},null,null,{"$f":"IFERROR(INDEX($K$12:$M$111,(SMALL(IF(INDEX($K$12:$M$111,,$A$149)=$A$255,MATCH(ROW($K$12:$K$111),ROW($K$12:$K$111)),\"\"),ROWS($B$1:B79))),COLUMNS($B$1:B79)),\"\")","v":""},{"$f":"IFERROR(INDEX($K$12:$M$111,(SMALL(IF(INDEX($K$12:$M$111,,$A$149)=$A$255,MATCH(ROW($K$12:$K$111),ROW($K$12:$K$111)),\"\"),ROWS($B$1:C79))),COLUMNS($B$1:C79)),\"\")","v":""},{"$f":"IFERROR(INDEX($K$12:$M$111,(SMALL(IF(INDEX($K$12:$M$111,,$A$149)=$A$255,MATCH(ROW($K$12:$K$111),ROW($K$12:$K$111)),\"\"),ROWS($B$1:D79))),COLUMNS($B$1:D79)),\"\")","v":""},null,null,{"$f":"IFERROR(INDEX($P$12:$R$111,(SMALL(IF(INDEX($P$12:$R$111,,$A$149)=$A$255,MATCH(ROW($P$12:$P$111),ROW($P$12:$P$111)),\"\"),ROWS($B$1:B79))),COLUMNS($B$1:B79)),\"\")","v":""},{"$f":"IFERROR(INDEX($P$12:$R$111,(SMALL(IF(INDEX($P$12:$R$111,,$A$149)=$A$255,MATCH(ROW($P$12:$P$111),ROW($P$12:$P$111)),\"\"),ROWS($B$1:C79))),COLUMNS($B$1:C79)),\"\")","v":""},{"$f":"IFERROR(INDEX($P$12:$R$111,(SMALL(IF(INDEX($P$12:$R$111,,$A$149)=$A$255,MATCH(ROW($P$12:$P$111),ROW($P$12:$P$111)),\"\"),ROWS($B$1:D79))),COLUMNS($B$1:D79)),\"\")","v":""}]
[80,{"$f":"IFERROR(INDEX($B$12:$H$111,(SMALL(IF(INDEX($B$12:$H$111,,$A$149)=$A$255,MATCH(ROW($B$12:$B$111),ROW($B$12:$B$111)),\"\"),ROWS($B$1:B80))),COLUMNS($B$1:B80)),\"\")","v":""},{"$f":"IFERROR(INDEX($B$12:$H$111,(SMALL(IF(INDEX($B$12:$H$111,,$A$149)=$A$255,MATCH(ROW($B$12:$B$111),ROW($B$12:$B$111)),\"\"),ROWS($B$1:C80))),COLUMNS($B$1:C80)),\"\")","v":""},{"$f":"IFERROR(INDEX($B$12:$H$111,(SMALL(IF(INDEX($B$12:$H$111,,$A$149)=$A$255,MATCH(ROW($B$12:$B$111),ROW($B$12:$B$111)),\"\"),ROWS($B$1:D80))),COLUMNS($B$1:D80)),\"\")","v":""},{"$f":"IFERROR(INDEX($B$12:$H$111,(SMALL(IF(INDEX($B$12:$H$111,,$A$149)=$A$255,MATCH(ROW($B$12:$B$111),ROW($B$12:$B$111)),\"\"),ROWS($B$1:E80))),COLUMNS($B$1:E80)),\"\")","v":""},{"$f":"IFERROR(INDEX($B$12:$H$111,(SMALL(IF(INDEX($B$12:$H$111,,$A$149)=$A$255,MATCH(ROW($B$12:$B$111),ROW($B$12:$B$111)),\"\"),ROWS($B$1:F80))),COLUMNS($B$1:F80)),\"\")","v":""},{"$f":"IFERROR(INDEX($B$12:$H$111,(SMALL(IF(INDEX($B$12:$H$111,,$A$149)=$A$255,MATCH(ROW($B$12:$B$111),ROW($B$12:$B$111)),\"\"),ROWS($B$1:G80))),COLUMNS($B$1:G80)),\"\")","v":""},{"$f":"IFERROR(INDEX($B$12:$H$111,(SMALL(IF(INDEX($B$12:$H$111,,$A$149)=$A$255,MATCH(ROW($B$12:$B$111),ROW($B$12:$B$111)),\"\"),ROWS($B$1:H80))),COLUMNS($B$1:H80)),\"\")","v":""},null,null,{"$f":"IFERROR(INDEX($K$12:$M$111,(SMALL(IF(INDEX($K$12:$M$111,,$A$149)=$A$255,MATCH(ROW($K$12:$K$111),ROW($K$12:$K$111)),\"\"),ROWS($B$1:B80))),COLUMNS($B$1:B80)),\"\")","v":""},{"$f":"IFERROR(INDEX($K$12:$M$111,(SMALL(IF(INDEX($K$12:$M$111,,$A$149)=$A$255,MATCH(ROW($K$12:$K$111),ROW($K$12:$K$111)),\"\"),ROWS($B$1:C80))),COLUMNS($B$1:C80)),\"\")","v":""},{"$f":"IFERROR(INDEX($K$12:$M$111,(SMALL(IF(INDEX($K$12:$M$111,,$A$149)=$A$255,MATCH(ROW($K$12:$K$111),ROW($K$12:$K$111)),\"\"),ROWS($B$1:D80))),COLUMNS($B$1:D80)),\"\")","v":""},null,null,{"$f":"IFERROR(INDEX($P$12:$R$111,(SMALL(IF(INDEX($P$12:$R$111,,$A$149)=$A$255,MATCH(ROW($P$12:$P$111),ROW($P$12:$P$111)),\"\"),ROWS($B$1:B80))),COLUMNS($B$1:B80)),\"\")","v":""},{"$f":"IFERROR(INDEX($P$12:$R$111,(SMALL(IF(INDEX($P$12:$R$111,,$A$149)=$A$255,MATCH(ROW($P$12:$P$111),ROW($P$12:$P$111)),\"\"),ROWS($B$1:C80))),COLUMNS($B$1:C80)),\"\")","v":""},{"$f":"IFERROR(INDEX($P$12:$R$111,(SMALL(IF(INDEX($P$12:$R$111,,$A$149)=$A$255,MATCH(ROW($P$12:$P$111),ROW($P$12:$P$111)),\"\"),ROWS($B$1:D80))),COLUMNS($B$1:D80)),\"\")","v":""}]
[81,{"$f":"IFERROR(INDEX($B$12:$H$111,(SMALL(IF(INDEX($B$12:$H$111,,$A$149)=$A$255,MATCH(ROW($B$12:$B$111),ROW($B$12:$B$111)),\"\"),ROWS($B$1:B81))),COLUMNS($B$1:B81)),\"\")","v":""},{"$f":"IFERROR(INDEX($B$12:$H$111,(SMALL(IF(INDEX($B$12:$H$111,,$A$149)=$A$255,MATCH(ROW($B$12:$B$111),ROW($B$12:$B$111)),\"\"),ROWS($B$1:C81))),COLUMNS($B$1:C81)),\"\")","v":""},{"$f":"IFERROR(INDEX($B$12:$H$111,(SMALL(IF(INDEX($B$12:$H$111,,$A$149)=$A$255,MATCH(ROW($B$12:$B$111),ROW($B$12:$B$111)),\"\"),ROWS($B$1:D81))),COLUMNS($B$1:D81)),\"\")","v":""},{"$f":"IFERROR(INDEX($B$12:$H$111,(SMALL(IF(INDEX($B$12:$H$111,,$A$149)=$A$255,MATCH(ROW($B$12:$B$111),ROW($B$12:$B$111)),\"\"),ROWS($B$1:E81))),COLUMNS($B$1:E81)),\"\")","v":""},{"$f":"IFERROR(INDEX($B$12:$H$111,(SMALL(IF(INDEX($B$12:$H$111,,$A$149)=$A$255,MATCH(ROW($B$12:$B$111),ROW($B$12:$B$111)),\"\"),ROWS($B$1:F81))),COLUMNS($B$1:F81)),\"\")","v":""},{"$f":"IFERROR(INDEX($B$12:$H$111,(SMALL(IF(INDEX($B$12:$H$111,,$A$149)=$A$255,MATCH(ROW($B$12:$B$111),ROW($B$12:$B$111)),\"\"),ROWS($B$1:G81))),COLUMNS($B$1:G81)),\"\")","v":""},{"$f":"IFERROR(INDEX($B$12:$H$111,(SMALL(IF(INDEX($B$12:$H$111,,$A$149)=$A$255,MATCH(ROW($B$12:$B$111),ROW($B$12:$B$111)),\"\"),ROWS($B$1:H81))),COLUMNS($B$1:H81)),\"\")","v":""},null,null,{"$f":"IFERROR(INDEX($K$12:$M$111,(SMALL(IF(INDEX($K$12:$M$111,,$A$149)=$A$255,MATCH(ROW($K$12:$K$111),ROW($K$12:$K$111)),\"\"),ROWS($B$1:B81))),COLUMNS($B$1:B81)),\"\")","v":""},{"$f":"IFERROR(INDEX($K$12:$M$111,(SMALL(IF(INDEX($K$12:$M$111,,$A$149)=$A$255,MATCH(ROW($K$12:$K$111),ROW($K$12:$K$111)),\"\"),ROWS($B$1:C81))),COLUMNS($B$1:C81)),\"\")","v":""},{"$f":"IFERROR(INDEX($K$12:$M$111,(SMALL(IF(INDEX($K$12:$M$111,,$A$149)=$A$255,MATCH(ROW($K$12:$K$111),ROW($K$12:$K$111)),\"\"),ROWS($B$1:D81))),COLUMNS($B$1:D81)),\"\")","v":""},null,null,{"$f":"IFERROR(INDEX($P$12:$R$111,(SMALL(IF(INDEX($P$12:$R$111,,$A$149)=$A$255,MATCH(ROW($P$12:$P$111),ROW($P$12:$P$111)),\"\"),ROWS($B$1:B81))),COLUMNS($B$1:B81)),\"\")","v":""},{"$f":"IFERROR(INDEX($P$12:$R$111,(SMALL(IF(INDEX($P$12:$R$111,,$A$149)=$A$255,MATCH(ROW($P$12:$P$111),ROW($P$12:$P$111)),\"\"),ROWS($B$1:C81))),COLUMNS($B$1:C81)),\"\")","v":""},{"$f":"IFERROR(INDEX($P$12:$R$111,(SMALL(IF(INDEX($P$12:$R$111,,$A$149)=$A$255,MATCH(ROW($P$12:$P$111),ROW($P$12:$P$111)),\"\"),ROWS($B$1:D81))),COLUMNS($B$1:D81)),\"\")","v":""}]
[82,{"$f":"IFERROR(INDEX($B$12:$H$111,(SMALL(IF(INDEX($B$12:$H$111,,$A$149)=$A$255,MATCH(ROW($B$12:$B$111),ROW($B$12:$B$111)),\"\"),ROWS($B$1:B82))),COLUMNS($B$1:B82)),\"\")","v":""},{"$f":"IFERROR(INDEX($B$12:$H$111,(SMALL(IF(INDEX($B$12:$H$111,,$A$149)=$A$255,MATCH(ROW($B$12:$B$111),ROW($B$12:$B$111)),\"\"),ROWS($B$1:C82))),COLUMNS($B$1:C82)),\"\")","v":""},{"$f":"IFERROR(INDEX($B$12:$H$111,(SMALL(IF(INDEX($B$12:$H$111,,$A$149)=$A$255,MATCH(ROW($B$12:$B$111),ROW($B$12:$B$111)),\"\"),ROWS($B$1:D82))),COLUMNS($B$1:D82)),\"\")","v":""},{"$f":"IFERROR(INDEX($B$12:$H$111,(SMALL(IF(INDEX($B$12:$H$111,,$A$149)=$A$255,MATCH(ROW($B$12:$B$111),ROW($B$12:$B$111)),\"\"),ROWS($B$1:E82))),COLUMNS($B$1:E82)),\"\")","v":""},{"$f":"IFERROR(INDEX($B$12:$H$111,(SMALL(IF(INDEX($B$12:$H$111,,$A$149)=$A$255,MATCH(ROW($B$12:$B$111),ROW($B$12:$B$111)),\"\"),ROWS($B$1:F82))),COLUMNS($B$1:F82)),\"\")","v":""},{"$f":"IFERROR(INDEX($B$12:$H$111,(SMALL(IF(INDEX($B$12:$H$111,,$A$149)=$A$255,MATCH(ROW($B$12:$B$111),ROW($B$12:$B$111)),\"\"),ROWS($B$1:G82))),COLUMNS($B$1:G82)),\"\")","v":""},{"$f":"IFERROR(INDEX($B$12:$H$111,(SMALL(IF(INDEX($B$12:$H$111,,$A$149)=$A$255,MATCH(ROW($B$12:$B$111),ROW($B$12:$B$111)),\"\"),ROWS($B$1:H82))),COLUMNS($B$1:H82)),\"\")","v":""},null,null,{"$f":"IFERROR(INDEX($K$12:$M$111,(SMALL(IF(INDEX($K$12:$M$111,,$A$149)=$A$255,MATCH(ROW($K$12:$K$111),ROW($K$12:$K$111)),\"\"),ROWS($B$1:B82))),COLUMNS($B$1:B82)),\"\")","v":""},{"$f":"IFERROR(INDEX($K$12:$M$111,(SMALL(IF(INDEX($K$12:$M$111,,$A$149)=$A$255,MATCH(ROW($K$12:$K$111),ROW($K$12:$K$111)),\"\"),ROWS($B$1:C82))),COLUMNS($B$1:C82)),\"\")","v":""},{"$f":"IFERROR(INDEX($K$12:$M$111,(SMALL(IF(INDEX($K$12:$M$111,,$A$149)=$A$255,MATCH(ROW($K$12:$K$111),ROW($K$12:$K$111)),\"\"),ROWS($B$1:D82))),COLUMNS($B$1:D82)),\"\")","v":""},null,null,{"$f":"IFERROR(INDEX($P$12:$R$111,(SMALL(IF(INDEX($P$12:$R$111,,$A$149)=$A$255,MATCH(ROW($P$12:$P$111),ROW($P$12:$P$111)),\"\"),ROWS($B$1:B82))),COLUMNS($B$1:B82)),\"\")","v":""},{"$f":"IFERROR(INDEX($P$12:$R$111,(SMALL(IF(INDEX($P$12:$R$111,,$A$149)=$A$255,MATCH(ROW($P$12:$P$111),ROW($P$12:$P$111)),\"\"),ROWS($B$1:C82))),COLUMNS($B$1:C82)),\"\")","v":""},{"$f":"IFERROR(INDEX($P$12:$R$111,(SMALL(IF(INDEX($P$12:$R$111,,$A$149)=$A$255,MATCH(ROW($P$12:$P$111),ROW($P$12:$P$111)),\"\"),ROWS($B$1:D82))),COLUMNS($B$1:D82)),\"\")","v":""}]
[83,{"$f":"IFERROR(INDEX($B$12:$H$111,(SMALL(IF(INDEX($B$12:$H$111,,$A$149)=$A$255,MATCH(ROW($B$12:$B$111),ROW($B$12:$B$111)),\"\"),ROWS($B$1:B83))),COLUMNS($B$1:B83)),\"\")","v":""},{"$f":"IFERROR(INDEX($B$12:$H$111,(SMALL(IF(INDEX($B$12:$H$111,,$A$149)=$A$255,MATCH(ROW($B$12:$B$111),ROW($B$12:$B$111)),\"\"),ROWS($B$1:C83))),COLUMNS($B$1:C83)),\"\")","v":""},{"$f":"IFERROR(INDEX($B$12:$H$111,(SMALL(IF(INDEX($B$12:$H$111,,$A$149)=$A$255,MATCH(ROW($B$12:$B$111),ROW($B$12:$B$111)),\"\"),ROWS($B$1:D83))),COLUMNS($B$1:D83)),\"\")","v":""},{"$f":"IFERROR(INDEX($B$12:$H$111,(SMALL(IF(INDEX($B$12:$H$111,,$A$149)=$A$255,MATCH(ROW($B$12:$B$111),ROW($B$12:$B$111)),\"\"),ROWS($B$1:E83))),COLUMNS($B$1:E83)),\"\")","v":""},{"$f":"IFERROR(INDEX($B$12:$H$111,(SMALL(IF(INDEX($B$12:$H$111,,$A$149)=$A$255,MATCH(ROW($B$12:$B$111),ROW($B$12:$B$111)),\"\"),ROWS($B$1:F83))),COLUMNS($B$1:F83)),\"\")","v":""},{"$f":"IFERROR(INDEX($B$12:$H$111,(SMALL(IF(INDEX($B$12:$H$111,,$A$149)=$A$255,MATCH(ROW($B$12:$B$111),ROW($B$12:$B$111)),\"\"),ROWS($B$1:G83))),COLUMNS($B$1:G83)),\"\")","v":""},{"$f":"IFERROR(INDEX($B$12:$H$111,(SMALL(IF(INDEX($B$12:$H$111,,$A$149)=$A$255,MATCH(ROW($B$12:$B$111),ROW($B$12:$B$111)),\"\"),ROWS($B$1:H83))),COLUMNS($B$1:H83)),\"\")","v":""},null,null,{"$f":"IFERROR(INDEX($K$12:$M$111,(SMALL(IF(INDEX($K$12:$M$111,,$A$149)=$A$255,MATCH(ROW($K$12:$K$111),ROW($K$12:$K$111)),\"\"),ROWS($B$1:B83))),COLUMNS($B$1:B83)),\"\")","v":""},{"$f":"IFERROR(INDEX($K$12:$M$111,(SMALL(IF(INDEX($K$12:$M$111,,$A$149)=$A$255,MATCH(ROW($K$12:$K$111),ROW($K$12:$K$111)),\"\"),ROWS($B$1:C83))),COLUMNS($B$1:C83)),\"\")","v":""},{"$f":"IFERROR(INDEX($K$12:$M$111,(SMALL(IF(INDEX($K$12:$M$111,,$A$149)=$A$255,MATCH(ROW($K$12:$K$111),ROW($K$12:$K$111)),\"\"),ROWS($B$1:D83))),COLUMNS($B$1:D83)),\"\")","v":""},null,null,{"$f":"IFERROR(INDEX($P$12:$R$111,(SMALL(IF(INDEX($P$12:$R$111,,$A$149)=$A$255,MATCH(ROW($P$12:$P$111),ROW($P$12:$P$111)),\"\"),ROWS($B$1:B83))),COLUMNS($B$1:B83)),\"\")","v":""},{"$f":"IFERROR(INDEX($P$12:$R$111,(SMALL(IF(INDEX($P$12:$R$111,,$A$149)=$A$255,MATCH(ROW($P$12:$P$111),ROW($P$12:$P$111)),\"\"),ROWS($B$1:C83))),COLUMNS($B$1:C83)),\"\")","v":""},{"$f":"IFERROR(INDEX($P$12:$R$111,(SMALL(IF(INDEX($P$12:$R$111,,$A$149)=$A$255,MATCH(ROW($P$12:$P$111),ROW($P$12:$P$111)),\"\"),ROWS($B$1:D83))),COLUMNS($B$1:D83)),\"\")","v":""}]
[84,{"$f":"IFERROR(INDEX($B$12:$H$111,(SMALL(IF(INDEX($B$12:$H$111,,$A$149)=$A$255,MATCH(ROW($B$12:$B$111),ROW($B$12:$B$111)),\"\"),ROWS($B$1:B84))),COLUMNS($B$1:B84)),\"\")","v":""},{"$f":"IFERROR(INDEX($B$12:$H$111,(SMALL(IF(INDEX($B$12:$H$111,,$A$149)=$A$255,MATCH(ROW($B$12:$B$111),ROW($B$12:$B$111)),\"\"),ROWS($B$1:C84))),COLUMNS($B$1:C84)),\"\")","v":""},{"$f":"IFERROR(INDEX($B$12:$H$111,(SMALL(IF(INDEX($B$12:$H$111,,$A$149)=$A$255,MATCH(ROW($B$12:$B$111),ROW($B$12:$B$111)),\"\"),ROWS($B$1:D84))),COLUMNS($B$1:D84)),\"\")","v":""},{"$f":"IFERROR(INDEX($B$12:$H$111,(SMALL(IF(INDEX($B$12:$H$111,,$A$149)=$A$255,MATCH(ROW($B$12:$B$111),ROW($B$12:$B$111)),\"\"),ROWS($B$1:E84))),COLUMNS($B$1:E84)),\"\")","v":""},{"$f":"IFERROR(INDEX($B$12:$H$111,(SMALL(IF(INDEX($B$12:$H$111,,$A$149)=$A$255,MATCH(ROW($B$12:$B$111),ROW($B$12:$B$111)),\"\"),ROWS($B$1:F84))),COLUMNS($B$1:F84)),\"\")","v":""},{"$f":"IFERROR(INDEX($B$12:$H$111,(SMALL(IF(INDEX($B$12:$H$111,,$A$149)=$A$255,MATCH(ROW($B$12:$B$111),ROW($B$12:$B$111)),\"\"),ROWS($B$1:G84))),COLUMNS($B$1:G84)),\"\")","v":""},{"$f":"IFERROR(INDEX($B$12:$H$111,(SMALL(IF(INDEX($B$12:$H$111,,$A$149)=$A$255,MATCH(ROW($B$12:$B$111),ROW($B$12:$B$111)),\"\"),ROWS($B$1:H84))),COLUMNS($B$1:H84)),\"\")","v":""},null,null,{"$f":"IFERROR(INDEX($K$12:$M$111,(SMALL(IF(INDEX($K$12:$M$111,,$A$149)=$A$255,MATCH(ROW($K$12:$K$111),ROW($K$12:$K$111)),\"\"),ROWS($B$1:B84))),COLUMNS($B$1:B84)),\"\")","v":""},{"$f":"IFERROR(INDEX($K$12:$M$111,(SMALL(IF(INDEX($K$12:$M$111,,$A$149)=$A$255,MATCH(ROW($K$12:$K$111),ROW($K$12:$K$111)),\"\"),ROWS($B$1:C84))),COLUMNS($B$1:C84)),\"\")","v":""},{"$f":"IFERROR(INDEX($K$12:$M$111,(SMALL(IF(INDEX($K$12:$M$111,,$A$149)=$A$255,MATCH(ROW($K$12:$K$111),ROW($K$12:$K$111)),\"\"),ROWS($B$1:D84))),COLUMNS($B$1:D84)),\"\")","v":""},null,null,{"$f":"IFERROR(INDEX($P$12:$R$111,(SMALL(IF(INDEX($P$12:$R$111,,$A$149)=$A$255,MATCH(ROW($P$12:$P$111),ROW($P$12:$P$111)),\"\"),ROWS($B$1:B84))),COLUMNS($B$1:B84)),\"\")","v":""},{"$f":"IFERROR(INDEX($P$12:$R$111,(SMALL(IF(INDEX($P$12:$R$111,,$A$149)=$A$255,MATCH(ROW($P$12:$P$111),ROW($P$12:$P$111)),\"\"),ROWS($B$1:C84))),COLUMNS($B$1:C84)),\"\")","v":""},{"$f":"IFERROR(INDEX($P$12:$R$111,(SMALL(IF(INDEX($P$12:$R$111,,$A$149)=$A$255,MATCH(ROW($P$12:$P$111),ROW($P$12:$P$111)),\"\"),ROWS($B$1:D84))),COLUMNS($B$1:D84)),\"\")","v":""}]
[85,{"$f":"IFERROR(INDEX($B$12:$H$111,(SMALL(IF(INDEX($B$12:$H$111,,$A$149)=$A$255,MATCH(ROW($B$12:$B$111),ROW($B$12:$B$111)),\"\"),ROWS($B$1:B85))),COLUMNS($B$1:B85)),\"\")","v":""},{"$f":"IFERROR(INDEX($B$12:$H$111,(SMALL(IF(INDEX($B$12:$H$111,,$A$149)=$A$255,MATCH(ROW($B$12:$B$111),ROW($B$12:$B$111)),\"\"),ROWS($B$1:C85))),COLUMNS($B$1:C85)),\"\")","v":""},{"$f":"IFERROR(INDEX($B$12:$H$111,(SMALL(IF(INDEX($B$12:$H$111,,$A$149)=$A$255,MATCH(ROW($B$12:$B$111),ROW($B$12:$B$111)),\"\"),ROWS($B$1:D85))),COLUMNS($B$1:D85)),\"\")","v":""},{"$f":"IFERROR(INDEX($B$12:$H$111,(SMALL(IF(INDEX($B$12:$H$111,,$A$149)=$A$255,MATCH(ROW($B$12:$B$111),ROW($B$12:$B$111)),\"\"),ROWS($B$1:E85))),COLUMNS($B$1:E85)),\"\")","v":""},{"$f":"IFERROR(INDEX($B$12:$H$111,(SMALL(IF(INDEX($B$12:$H$111,,$A$149)=$A$255,MATCH(ROW($B$12:$B$111),ROW($B$12:$B$111)),\"\"),ROWS($B$1:F85))),COLUMNS($B$1:F85)),\"\")","v":""},{"$f":"IFERROR(INDEX($B$12:$H$111,(SMALL(IF(INDEX($B$12:$H$111,,$A$149)=$A$255,MATCH(ROW($B$12:$B$111),ROW($B$12:$B$111)),\"\"),ROWS($B$1:G85))),COLUMNS($B$1:G85)),\"\")","v":""},{"$f":"IFERROR(INDEX($B$12:$H$111,(SMALL(IF(INDEX($B$12:$H$111,,$A$149)=$A$255,MATCH(ROW($B$12:$B$111),ROW($B$12:$B$111)),\"\"),ROWS($B$1:H85))),COLUMNS($B$1:H85)),\"\")","v":""},null,null,{"$f":"IFERROR(INDEX($K$12:$M$111,(SMALL(IF(INDEX($K$12:$M$111,,$A$149)=$A$255,MATCH(ROW($K$12:$K$111),ROW($K$12:$K$111)),\"\"),ROWS($B$1:B85))),COLUMNS($B$1:B85)),\"\")","v":""},{"$f":"IFERROR(INDEX($K$12:$M$111,(SMALL(IF(INDEX($K$12:$M$111,,$A$149)=$A$255,MATCH(ROW($K$12:$K$111),ROW($K$12:$K$111)),\"\"),ROWS($B$1:C85))),COLUMNS($B$1:C85)),\"\")","v":""},{"$f":"IFERROR(INDEX($K$12:$M$111,(SMALL(IF(INDEX($K$12:$M$111,,$A$149)=$A$255,MATCH(ROW($K$12:$K$111),ROW($K$12:$K$111)),\"\"),ROWS($B$1:D85))),COLUMNS($B$1:D85)),\"\")","v":""},null,null,{"$f":"IFERROR(INDEX($P$12:$R$111,(SMALL(IF(INDEX($P$12:$R$111,,$A$149)=$A$255,MATCH(ROW($P$12:$P$111),ROW($P$12:$P$111)),\"\"),ROWS($B$1:B85))),COLUMNS($B$1:B85)),\"\")","v":""},{"$f":"IFERROR(INDEX($P$12:$R$111,(SMALL(IF(INDEX($P$12:$R$111,,$A$149)=$A$255,MATCH(ROW($P$12:$P$111),ROW($P$12:$P$111)),\"\"),ROWS($B$1:C85))),COLUMNS($B$1:C85)),\"\")","v":""},{"$f":"IFERROR(INDEX($P$12:$R$111,(SMALL(IF(INDEX($P$12:$R$111,,$A$149)=$A$255,MATCH(ROW($P$12:$P$111),ROW($P$12:$P$111)),\"\"),ROWS($B$1:D85))),COLUMNS($B$1:D85)),\"\")","v":""}]
[86,{"$f":"IFERROR(INDEX($B$12:$H$111,(SMALL(IF(INDEX($B$12:$H$111,,$A$149)=$A$255,MATCH(ROW($B$12:$B$111),ROW($B$12:$B$111)),\"\"),ROWS($B$1:B86))),COLUMNS($B$1:B86)),\"\")","v":""},{"$f":"IFERROR(INDEX($B$12:$H$111,(SMALL(IF(INDEX($B$12:$H$111,,$A$149)=$A$255,MATCH(ROW($B$12:$B$111),ROW($B$12:$B$111)),\"\"),ROWS($B$1:C86))),COLUMNS($B$1:C86)),\"\")","v":""},{"$f":"IFERROR(INDEX($B$12:$H$111,(SMALL(IF(INDEX($B$12:$H$111,,$A$149)=$A$255,MATCH(ROW($B$12:$B$111),ROW($B$12:$B$111)),\"\"),ROWS($B$1:D86))),COLUMNS($B$1:D86)),\"\")","v":""},{"$f":"IFERROR(INDEX($B$12:$H$111,(SMALL(IF(INDEX($B$12:$H$111,,$A$149)=$A$255,MATCH(ROW($B$12:$B$111),ROW($B$12:$B$111)),\"\"),ROWS($B$1:E86))),COLUMNS($B$1:E86)),\"\")","v":""},{"$f":"IFERROR(INDEX($B$12:$H$111,(SMALL(IF(INDEX($B$12:$H$111,,$A$149)=$A$255,MATCH(ROW($B$12:$B$111),ROW($B$12:$B$111)),\"\"),ROWS($B$1:F86))),COLUMNS($B$1:F86)),\"\")","v":""},{"$f":"IFERROR(INDEX($B$12:$H$111,(SMALL(IF(INDEX($B$12:$H$111,,$A$149)=$A$255,MATCH(ROW($B$12:$B$111),ROW($B$12:$B$111)),\"\"),ROWS($B$1:G86))),COLUMNS($B$1:G86)),\"\")","v":""},{"$f":"IFERROR(INDEX($B$12:$H$111,(SMALL(IF(INDEX($B$12:$H$111,,$A$149)=$A$255,MATCH(ROW($B$12:$B$111),ROW($B$12:$B$111)),\"\"),ROWS($B$1:H86))),COLUMNS($B$1:H86)),\"\")","v":""},null,null,{"$f":"IFERROR(INDEX($K$12:$M$111,(SMALL(IF(INDEX($K$12:$M$111,,$A$149)=$A$255,MATCH(ROW($K$12:$K$111),ROW($K$12:$K$111)),\"\"),ROWS($B$1:B86))),COLUMNS($B$1:B86)),\"\")","v":""},{"$f":"IFERROR(INDEX($K$12:$M$111,(SMALL(IF(INDEX($K$12:$M$111,,$A$149)=$A$255,MATCH(ROW($K$12:$K$111),ROW($K$12:$K$111)),\"\"),ROWS($B$1:C86))),COLUMNS($B$1:C86)),\"\")","v":""},{"$f":"IFERROR(INDEX($K$12:$M$111,(SMALL(IF(INDEX($K$12:$M$111,,$A$149)=$A$255,MATCH(ROW($K$12:$K$111),ROW($K$12:$K$111)),\"\"),ROWS($B$1:D86))),COLUMNS($B$1:D86)),\"\")","v":""},null,null,{"$f":"IFERROR(INDEX($P$12:$R$111,(SMALL(IF(INDEX($P$12:$R$111,,$A$149)=$A$255,MATCH(ROW($P$12:$P$111),ROW($P$12:$P$111)),\"\"),ROWS($B$1:B86))),COLUMNS($B$1:B86)),\"\")","v":""},{"$f":"IFERROR(INDEX($P$12:$R$111,(SMALL(IF(INDEX($P$12:$R$111,,$A$149)=$A$255,MATCH(ROW($P$12:$P$111),ROW($P$12:$P$111)),\"\"),ROWS($B$1:C86))),COLUMNS($B$1:C86)),\"\")","v":""},{"$f":"IFERROR(INDEX($P$12:$R$111,(SMALL(IF(INDEX($P$12:$R$111,,$A$149)=$A$255,MATCH(ROW($P$12:$P$111),ROW($P$12:$P$111)),\"\"),ROWS($B$1:D86))),COLUMNS($B$1:D86)),\"\")","v":""}]
[87,{"$f":"IFERROR(INDEX($B$12:$H$111,(SMALL(IF(INDEX($B$12:$H$111,,$A$149)=$A$255,MATCH(ROW($B$12:$B$111),ROW($B$12:$B$111)),\"\"),ROWS($B$1:B87))),COLUMNS($B$1:B87)),\"\")","v":""},{"$f":"IFERROR(INDEX($B$12:$H$111,(SMALL(IF(INDEX($B$12:$H$111,,$A$149)=$A$255,MATCH(ROW($B$12:$B$111),ROW($B$12:$B$111)),\"\"),ROWS($B$1:C87))),COLUMNS($B$1:C87)),\"\")","v":""},{"$f":"IFERROR(INDEX($B$12:$H$111,(SMALL(IF(INDEX($B$12:$H$111,,$A$149)=$A$255,MATCH(ROW($B$12:$B$111),ROW($B$12:$B$111)),\"\"),ROWS($B$1:D87))),COLUMNS($B$1:D87)),\"\")","v":""},{"$f":"IFERROR(INDEX($B$12:$H$111,(SMALL(IF(INDEX($B$12:$H$111,,$A$149)=$A$255,MATCH(ROW($B$12:$B$111),ROW($B$12:$B$111)),\"\"),ROWS($B$1:E87))),COLUMNS($B$1:E87)),\"\")","v":""},{"$f":"IFERROR(INDEX($B$12:$H$111,(SMALL(IF(INDEX($B$12:$H$111,,$A$149)=$A$255,MATCH(ROW($B$12:$B$111),ROW($B$12:$B$111)),\"\"),ROWS($B$1:F87))),COLUMNS($B$1:F87)),\"\")","v":""},{"$f":"IFERROR(INDEX($B$12:$H$111,(SMALL(IF(INDEX($B$12:$H$111,,$A$149)=$A$255,MATCH(ROW($B$12:$B$111),ROW($B$12:$B$111)),\"\"),ROWS($B$1:G87))),COLUMNS($B$1:G87)),\"\")","v":""},{"$f":"IFERROR(INDEX($B$12:$H$111,(SMALL(IF(INDEX($B$12:$H$111,,$A$149)=$A$255,MATCH(ROW($B$12:$B$111),ROW($B$12:$B$111)),\"\"),ROWS($B$1:H87))),COLUMNS($B$1:H87)),\"\")","v":""},null,null,{"$f":"IFERROR(INDEX($K$12:$M$111,(SMALL(IF(INDEX($K$12:$M$111,,$A$149)=$A$255,MATCH(ROW($K$12:$K$111),ROW($K$12:$K$111)),\"\"),ROWS($B$1:B87))),COLUMNS($B$1:B87)),\"\")","v":""},{"$f":"IFERROR(INDEX($K$12:$M$111,(SMALL(IF(INDEX($K$12:$M$111,,$A$149)=$A$255,MATCH(ROW($K$12:$K$111),ROW($K$12:$K$111)),\"\"),ROWS($B$1:C87))),COLUMNS($B$1:C87)),\"\")","v":""},{"$f":"IFERROR(INDEX($K$12:$M$111,(SMALL(IF(INDEX($K$12:$M$111,,$A$149)=$A$255,MATCH(ROW($K$12:$K$111),ROW($K$12:$K$111)),\"\"),ROWS($B$1:D87))),COLUMNS($B$1:D87)),\"\")","v":""},null,null,{"$f":"IFERROR(INDEX($P$12:$R$111,(SMALL(IF(INDEX($P$12:$R$111,,$A$149)=$A$255,MATCH(ROW($P$12:$P$111),ROW($P$12:$P$111)),\"\"),ROWS($B$1:B87))),COLUMNS($B$1:B87)),\"\")","v":""},{"$f":"IFERROR(INDEX($P$12:$R$111,(SMALL(IF(INDEX($P$12:$R$111,,$A$149)=$A$255,MATCH(ROW($P$12:$P$111),ROW($P$12:$P$111)),\"\"),ROWS($B$1:C87))),COLUMNS($B$1:C87)),\"\")","v":""},{"$f":"IFERROR(INDEX($P$12:$R$111,(SMALL(IF(INDEX($P$12:$R$111,,$A$149)=$A$255,MATCH(ROW($P$12:$P$111),ROW($P$12:$P$111)),\"\"),ROWS($B$1:D87))),COLUMNS($B$1:D87)),\"\")","v":""}]
[88,{"$f":"IFERROR(INDEX($B$12:$H$111,(SMALL(IF(INDEX($B$12:$H$111,,$A$149)=$A$255,MATCH(ROW($B$12:$B$111),ROW($B$12:$B$111)),\"\"),ROWS($B$1:B88))),COLUMNS($B$1:B88)),\"\")","v":""},{"$f":"IFERROR(INDEX($B$12:$H$111,(SMALL(IF(INDEX($B$12:$H$111,,$A$149)=$A$255,MATCH(ROW($B$12:$B$111),ROW($B$12:$B$111)),\"\"),ROWS($B$1:C88))),COLUMNS($B$1:C88)),\"\")","v":""},{"$f":"IFERROR(INDEX($B$12:$H$111,(SMALL(IF(INDEX($B$12:$H$111,,$A$149)=$A$255,MATCH(ROW($B$12:$B$111),ROW($B$12:$B$111)),\"\"),ROWS($B$1:D88))),COLUMNS($B$1:D88)),\"\")","v":""},{"$f":"IFERROR(INDEX($B$12:$H$111,(SMALL(IF(INDEX($B$12:$H$111,,$A$149)=$A$255,MATCH(ROW($B$12:$B$111),ROW($B$12:$B$111)),\"\"),ROWS($B$1:E88))),COLUMNS($B$1:E88)),\"\")","v":""},{"$f":"IFERROR(INDEX($B$12:$H$111,(SMALL(IF(INDEX($B$12:$H$111,,$A$149)=$A$255,MATCH(ROW($B$12:$B$111),ROW($B$12:$B$111)),\"\"),ROWS($B$1:F88))),COLUMNS($B$1:F88)),\"\")","v":""},{"$f":"IFERROR(INDEX($B$12:$H$111,(SMALL(IF(INDEX($B$12:$H$111,,$A$149)=$A$255,MATCH(ROW($B$12:$B$111),ROW($B$12:$B$111)),\"\"),ROWS($B$1:G88))),COLUMNS($B$1:G88)),\"\")","v":""},{"$f":"IFERROR(INDEX($B$12:$H$111,(SMALL(IF(INDEX($B$12:$H$111,,$A$149)=$A$255,MATCH(ROW($B$12:$B$111),ROW($B$12:$B$111)),\"\"),ROWS($B$1:H88))),COLUMNS($B$1:H88)),\"\")","v":""},null,null,{"$f":"IFERROR(INDEX($K$12:$M$111,(SMALL(IF(INDEX($K$12:$M$111,,$A$149)=$A$255,MATCH(ROW($K$12:$K$111),ROW($K$12:$K$111)),\"\"),ROWS($B$1:B88))),COLUMNS($B$1:B88)),\"\")","v":""},{"$f":"IFERROR(INDEX($K$12:$M$111,(SMALL(IF(INDEX($K$12:$M$111,,$A$149)=$A$255,MATCH(ROW($K$12:$K$111),ROW($K$12:$K$111)),\"\"),ROWS($B$1:C88))),COLUMNS($B$1:C88)),\"\")","v":""},{"$f":"IFERROR(INDEX($K$12:$M$111,(SMALL(IF(INDEX($K$12:$M$111,,$A$149)=$A$255,MATCH(ROW($K$12:$K$111),ROW($K$12:$K$111)),\"\"),ROWS($B$1:D88))),COLUMNS($B$1:D88)),\"\")","v":""},null,null,{"$f":"IFERROR(INDEX($P$12:$R$111,(SMALL(IF(INDEX($P$12:$R$111,,$A$149)=$A$255,MATCH(ROW($P$12:$P$111),ROW($P$12:$P$111)),\"\"),ROWS($B$1:B88))),COLUMNS($B$1:B88)),\"\")","v":""},{"$f":"IFERROR(INDEX($P$12:$R$111,(SMALL(IF(INDEX($P$12:$R$111,,$A$149)=$A$255,MATCH(ROW($P$12:$P$111),ROW($P$12:$P$111)),\"\"),ROWS($B$1:C88))),COLUMNS($B$1:C88)),\"\")","v":""},{"$f":"IFERROR(INDEX($P$12:$R$111,(SMALL(IF(INDEX($P$12:$R$111,,$A$149)=$A$255,MATCH(ROW($P$12:$P$111),ROW($P$12:$P$111)),\"\"),ROWS($B$1:D88))),COLUMNS($B$1:D88)),\"\")","v":""}]
[89,{"$f":"IFERROR(INDEX($B$12:$H$111,(SMALL(IF(INDEX($B$12:$H$111,,$A$149)=$A$255,MATCH(ROW($B$12:$B$111),ROW($B$12:$B$111)),\"\"),ROWS($B$1:B89))),COLUMNS($B$1:B89)),\"\")","v":""},{"$f":"IFERROR(INDEX($B$12:$H$111,(SMALL(IF(INDEX($B$12:$H$111,,$A$149)=$A$255,MATCH(ROW($B$12:$B$111),ROW($B$12:$B$111)),\"\"),ROWS($B$1:C89))),COLUMNS($B$1:C89)),\"\")","v":""},{"$f":"IFERROR(INDEX($B$12:$H$111,(SMALL(IF(INDEX($B$12:$H$111,,$A$149)=$A$255,MATCH(ROW($B$12:$B$111),ROW($B$12:$B$111)),\"\"),ROWS($B$1:D89))),COLUMNS($B$1:D89)),\"\")","v":""},{"$f":"IFERROR(INDEX($B$12:$H$111,(SMALL(IF(INDEX($B$12:$H$111,,$A$149)=$A$255,MATCH(ROW($B$12:$B$111),ROW($B$12:$B$111)),\"\"),ROWS($B$1:E89))),COLUMNS($B$1:E89)),\"\")","v":""},{"$f":"IFERROR(INDEX($B$12:$H$111,(SMALL(IF(INDEX($B$12:$H$111,,$A$149)=$A$255,MATCH(ROW($B$12:$B$111),ROW($B$12:$B$111)),\"\"),ROWS($B$1:F89))),COLUMNS($B$1:F89)),\"\")","v":""},{"$f":"IFERROR(INDEX($B$12:$H$111,(SMALL(IF(INDEX($B$12:$H$111,,$A$149)=$A$255,MATCH(ROW($B$12:$B$111),ROW($B$12:$B$111)),\"\"),ROWS($B$1:G89))),COLUMNS($B$1:G89)),\"\")","v":""},{"$f":"IFERROR(INDEX($B$12:$H$111,(SMALL(IF(INDEX($B$12:$H$111,,$A$149)=$A$255,MATCH(ROW($B$12:$B$111),ROW($B$12:$B$111)),\"\"),ROWS($B$1:H89))),COLUMNS($B$1:H89)),\"\")","v":""},null,null,{"$f":"IFERROR(INDEX($K$12:$M$111,(SMALL(IF(INDEX($K$12:$M$111,,$A$149)=$A$255,MATCH(ROW($K$12:$K$111),ROW($K$12:$K$111)),\"\"),ROWS($B$1:B89))),COLUMNS($B$1:B89)),\"\")","v":""},{"$f":"IFERROR(INDEX($K$12:$M$111,(SMALL(IF(INDEX($K$12:$M$111,,$A$149)=$A$255,MATCH(ROW($K$12:$K$111),ROW($K$12:$K$111)),\"\"),ROWS($B$1:C89))),COLUMNS($B$1:C89)),\"\")","v":""},{"$f":"IFERROR(INDEX($K$12:$M$111,(SMALL(IF(INDEX($K$12:$M$111,,$A$149)=$A$255,MATCH(ROW($K$12:$K$111),ROW($K$12:$K$111)),\"\"),ROWS($B$1:D89))),COLUMNS($B$1:D89)),\"\")","v":""},null,null,{"$f":"IFERROR(INDEX($P$12:$R$111,(SMALL(IF(INDEX($P$12:$R$111,,$A$149)=$A$255,MATCH(ROW($P$12:$P$111),ROW($P$12:$P$111)),\"\"),ROWS($B$1:B89))),COLUMNS($B$1:B89)),\"\")","v":""},{"$f":"IFERROR(INDEX($P$12:$R$111,(SMALL(IF(INDEX($P$12:$R$111,,$A$149)=$A$255,MATCH(ROW($P$12:$P$111),ROW($P$12:$P$111)),\"\"),ROWS($B$1:C89))),COLUMNS($B$1:C89)),\"\")","v":""},{"$f":"IFERROR(INDEX($P$12:$R$111,(SMALL(IF(INDEX($P$12:$R$111,,$A$149)=$A$255,MATCH(ROW($P$12:$P$111),ROW($P$12:$P$111)),\"\"),ROWS($B$1:D89))),COLUMNS($B$1:D89)),\"\")","v":""}]
[90,{"$f":"IFERROR(INDEX($B$12:$H$111,(SMALL(IF(INDEX($B$12:$H$111,,$A$149)=$A$255,MATCH(ROW($B$12:$B$111),ROW($B$12:$B$111)),\"\"),ROWS($B$1:B90))),COLUMNS($B$1:B90)),\"\")","v":""},{"$f":"IFERROR(INDEX($B$12:$H$111,(SMALL(IF(INDEX($B$12:$H$111,,$A$149)=$A$255,MATCH(ROW($B$12:$B$111),ROW($B$12:$B$111)),\"\"),ROWS($B$1:C90))),COLUMNS($B$1:C90)),\"\")","v":""},{"$f":"IFERROR(INDEX($B$12:$H$111,(SMALL(IF(INDEX($B$12:$H$111,,$A$149)=$A$255,MATCH(ROW($B$12:$B$111),ROW($B$12:$B$111)),\"\"),ROWS($B$1:D90))),COLUMNS($B$1:D90)),\"\")","v":""},{"$f":"IFERROR(INDEX($B$12:$H$111,(SMALL(IF(INDEX($B$12:$H$111,,$A$149)=$A$255,MATCH(ROW($B$12:$B$111),ROW($B$12:$B$111)),\"\"),ROWS($B$1:E90))),COLUMNS($B$1:E90)),\"\")","v":""},{"$f":"IFERROR(INDEX($B$12:$H$111,(SMALL(IF(INDEX($B$12:$H$111,,$A$149)=$A$255,MATCH(ROW($B$12:$B$111),ROW($B$12:$B$111)),\"\"),ROWS($B$1:F90))),COLUMNS($B$1:F90)),\"\")","v":""},{"$f":"IFERROR(INDEX($B$12:$H$111,(SMALL(IF(INDEX($B$12:$H$111,,$A$149)=$A$255,MATCH(ROW($B$12:$B$111),ROW($B$12:$B$111)),\"\"),ROWS($B$1:G90))),COLUMNS($B$1:G90)),\"\")","v":""},{"$f":"IFERROR(INDEX($B$12:$H$111,(SMALL(IF(INDEX($B$12:$H$111,,$A$149)=$A$255,MATCH(ROW($B$12:$B$111),ROW($B$12:$B$111)),\"\"),ROWS($B$1:H90))),COLUMNS($B$1:H90)),\"\")","v":""},null,null,{"$f":"IFERROR(INDEX($K$12:$M$111,(SMALL(IF(INDEX($K$12:$M$111,,$A$149)=$A$255,MATCH(ROW($K$12:$K$111),ROW($K$12:$K$111)),\"\"),ROWS($B$1:B90))),COLUMNS($B$1:B90)),\"\")","v":""},{"$f":"IFERROR(INDEX($K$12:$M$111,(SMALL(IF(INDEX($K$12:$M$111,,$A$149)=$A$255,MATCH(ROW($K$12:$K$111),ROW($K$12:$K$111)),\"\"),ROWS($B$1:C90))),COLUMNS($B$1:C90)),\"\")","v":""},{"$f":"IFERROR(INDEX($K$12:$M$111,(SMALL(IF(INDEX($K$12:$M$111,,$A$149)=$A$255,MATCH(ROW($K$12:$K$111),ROW($K$12:$K$111)),\"\"),ROWS($B$1:D90))),COLUMNS($B$1:D90)),\"\")","v":""},null,null,{"$f":"IFERROR(INDEX($P$12:$R$111,(SMALL(IF(INDEX($P$12:$R$111,,$A$149)=$A$255,MATCH(ROW($P$12:$P$111),ROW($P$12:$P$111)),\"\"),ROWS($B$1:B90))),COLUMNS($B$1:B90)),\"\")","v":""},{"$f":"IFERROR(INDEX($P$12:$R$111,(SMALL(IF(INDEX($P$12:$R$111,,$A$149)=$A$255,MATCH(ROW($P$12:$P$111),ROW($P$12:$P$111)),\"\"),ROWS($B$1:C90))),COLUMNS($B$1:C90)),\"\")","v":""},{"$f":"IFERROR(INDEX($P$12:$R$111,(SMALL(IF(INDEX($P$12:$R$111,,$A$149)=$A$255,MATCH(ROW($P$12:$P$111),ROW($P$12:$P$111)),\"\"),ROWS($B$1:D90))),COLUMNS($B$1:D90)),\"\")","v":""}]
[91,{"$f":"IFERROR(INDEX($B$12:$H$111,(SMALL(IF(INDEX($B$12:$H$111,,$A$149)=$A$255,MATCH(ROW($B$12:$B$111),ROW($B$12:$B$111)),\"\"),ROWS($B$1:B91))),COLUMNS($B$1:B91)),\"\")","v":""},{"$f":"IFERROR(INDEX($B$12:$H$111,(SMALL(IF(INDEX($B$12:$H$111,,$A$149)=$A$255,MATCH(ROW($B$12:$B$111),ROW($B$12:$B$111)),\"\"),ROWS($B$1:C91))),COLUMNS($B$1:C91)),\"\")","v":""},{"$f":"IFERROR(INDEX($B$12:$H$111,(SMALL(IF(INDEX($B$12:$H$111,,$A$149)=$A$255,MATCH(ROW($B$12:$B$111),ROW($B$12:$B$111)),\"\"),ROWS($B$1:D91))),COLUMNS($B$1:D91)),\"\")","v":""},{"$f":"IFERROR(INDEX($B$12:$H$111,(SMALL(IF(INDEX($B$12:$H$111,,$A$149)=$A$255,MATCH(ROW($B$12:$B$111),ROW($B$12:$B$111)),\"\"),ROWS($B$1:E91))),COLUMNS($B$1:E91)),\"\")","v":""},{"$f":"IFERROR(INDEX($B$12:$H$111,(SMALL(IF(INDEX($B$12:$H$111,,$A$149)=$A$255,MATCH(ROW($B$12:$B$111),ROW($B$12:$B$111)),\"\"),ROWS($B$1:F91))),COLUMNS($B$1:F91)),\"\")","v":""},{"$f":"IFERROR(INDEX($B$12:$H$111,(SMALL(IF(INDEX($B$12:$H$111,,$A$149)=$A$255,MATCH(ROW($B$12:$B$111),ROW($B$12:$B$111)),\"\"),ROWS($B$1:G91))),COLUMNS($B$1:G91)),\"\")","v":""},{"$f":"IFERROR(INDEX($B$12:$H$111,(SMALL(IF(INDEX($B$12:$H$111,,$A$149)=$A$255,MATCH(ROW($B$12:$B$111),ROW($B$12:$B$111)),\"\"),ROWS($B$1:H91))),COLUMNS($B$1:H91)),\"\")","v":""},null,null,{"$f":"IFERROR(INDEX($K$12:$M$111,(SMALL(IF(INDEX($K$12:$M$111,,$A$149)=$A$255,MATCH(ROW($K$12:$K$111),ROW($K$12:$K$111)),\"\"),ROWS($B$1:B91))),COLUMNS($B$1:B91)),\"\")","v":""},{"$f":"IFERROR(INDEX($K$12:$M$111,(SMALL(IF(INDEX($K$12:$M$111,,$A$149)=$A$255,MATCH(ROW($K$12:$K$111),ROW($K$12:$K$111)),\"\"),ROWS($B$1:C91))),COLUMNS($B$1:C91)),\"\")","v":""},{"$f":"IFERROR(INDEX($K$12:$M$111,(SMALL(IF(INDEX($K$12:$M$111,,$A$149)=$A$255,MATCH(ROW($K$12:$K$111),ROW($K$12:$K$111)),\"\"),ROWS($B$1:D91))),COLUMNS($B$1:D91)),\"\")","v":""},null,null,{"$f":"IFERROR(INDEX($P$12:$R$111,(SMALL(IF(INDEX($P$12:$R$111,,$A$149)=$A$255,MATCH(ROW($P$12:$P$111),ROW($P$12:$P$111)),\"\"),ROWS($B$1:B91))),COLUMNS($B$1:B91)),\"\")","v":""},{"$f":"IFERROR(INDEX($P$12:$R$111,(SMALL(IF(INDEX($P$12:$R$111,,$A$149)=$A$255,MATCH(ROW($P$12:$P$111),ROW($P$12:$P$111)),\"\"),ROWS($B$1:C91))),COLUMNS($B$1:C91)),\"\")","v":""},{"$f":"IFERROR(INDEX($P$12:$R$111,(SMALL(IF(INDEX($P$12:$R$111,,$A$149)=$A$255,MATCH(ROW($P$12:$P$111),ROW($P$12:$P$111)),\"\"),ROWS($B$1:D91))),COLUMNS($B$1:D91)),\"\")","v":""}]
[92,{"$f":"IFERROR(INDEX($B$12:$H$111,(SMALL(IF(INDEX($B$12:$H$111,,$A$149)=$A$255,MATCH(ROW($B$12:$B$111),ROW($B$12:$B$111)),\"\"),ROWS($B$1:B92))),COLUMNS($B$1:B92)),\"\")","v":""},{"$f":"IFERROR(INDEX($B$12:$H$111,(SMALL(IF(INDEX($B$12:$H$111,,$A$149)=$A$255,MATCH(ROW($B$12:$B$111),ROW($B$12:$B$111)),\"\"),ROWS($B$1:C92))),COLUMNS($B$1:C92)),\"\")","v":""},{"$f":"IFERROR(INDEX($B$12:$H$111,(SMALL(IF(INDEX($B$12:$H$111,,$A$149)=$A$255,MATCH(ROW($B$12:$B$111),ROW($B$12:$B$111)),\"\"),ROWS($B$1:D92))),COLUMNS($B$1:D92)),\"\")","v":""},{"$f":"IFERROR(INDEX($B$12:$H$111,(SMALL(IF(INDEX($B$12:$H$111,,$A$149)=$A$255,MATCH(ROW($B$12:$B$111),ROW($B$12:$B$111)),\"\"),ROWS($B$1:E92))),COLUMNS($B$1:E92)),\"\")","v":""},{"$f":"IFERROR(INDEX($B$12:$H$111,(SMALL(IF(INDEX($B$12:$H$111,,$A$149)=$A$255,MATCH(ROW($B$12:$B$111),ROW($B$12:$B$111)),\"\"),ROWS($B$1:F92))),COLUMNS($B$1:F92)),\"\")","v":""},{"$f":"IFERROR(INDEX($B$12:$H$111,(SMALL(IF(INDEX($B$12:$H$111,,$A$149)=$A$255,MATCH(ROW($B$12:$B$111),ROW($B$12:$B$111)),\"\"),ROWS($B$1:G92))),COLUMNS($B$1:G92)),\"\")","v":""},{"$f":"IFERROR(INDEX($B$12:$H$111,(SMALL(IF(INDEX($B$12:$H$111,,$A$149)=$A$255,MATCH(ROW($B$12:$B$111),ROW($B$12:$B$111)),\"\"),ROWS($B$1:H92))),COLUMNS($B$1:H92)),\"\")","v":""},null,null,{"$f":"IFERROR(INDEX($K$12:$M$111,(SMALL(IF(INDEX($K$12:$M$111,,$A$149)=$A$255,MATCH(ROW($K$12:$K$111),ROW($K$12:$K$111)),\"\"),ROWS($B$1:B92))),COLUMNS($B$1:B92)),\"\")","v":""},{"$f":"IFERROR(INDEX($K$12:$M$111,(SMALL(IF(INDEX($K$12:$M$111,,$A$149)=$A$255,MATCH(ROW($K$12:$K$111),ROW($K$12:$K$111)),\"\"),ROWS($B$1:C92))),COLUMNS($B$1:C92)),\"\")","v":""},{"$f":"IFERROR(INDEX($K$12:$M$111,(SMALL(IF(INDEX($K$12:$M$111,,$A$149)=$A$255,MATCH(ROW($K$12:$K$111),ROW($K$12:$K$111)),\"\"),ROWS($B$1:D92))),COLUMNS($B$1:D92)),\"\")","v":""},null,null,{"$f":"IFERROR(INDEX($P$12:$R$111,(SMALL(IF(INDEX($P$12:$R$111,,$A$149)=$A$255,MATCH(ROW($P$12:$P$111),ROW($P$12:$P$111)),\"\"),ROWS($B$1:B92))),COLUMNS($B$1:B92)),\"\")","v":""},{"$f":"IFERROR(INDEX($P$12:$R$111,(SMALL(IF(INDEX($P$12:$R$111,,$A$149)=$A$255,MATCH(ROW($P$12:$P$111),ROW($P$12:$P$111)),\"\"),ROWS($B$1:C92))),COLUMNS($B$1:C92)),\"\")","v":""},{"$f":"IFERROR(INDEX($P$12:$R$111,(SMALL(IF(INDEX($P$12:$R$111,,$A$149)=$A$255,MATCH(ROW($P$12:$P$111),ROW($P$12:$P$111)),\"\"),ROWS($B$1:D92))),COLUMNS($B$1:D92)),\"\")","v":""}]
[93,{"$f":"IFERROR(INDEX($B$12:$H$111,(SMALL(IF(INDEX($B$12:$H$111,,$A$149)=$A$255,MATCH(ROW($B$12:$B$111),ROW($B$12:$B$111)),\"\"),ROWS($B$1:B93))),COLUMNS($B$1:B93)),\"\")","v":""},{"$f":"IFERROR(INDEX($B$12:$H$111,(SMALL(IF(INDEX($B$12:$H$111,,$A$149)=$A$255,MATCH(ROW($B$12:$B$111),ROW($B$12:$B$111)),\"\"),ROWS($B$1:C93))),COLUMNS($B$1:C93)),\"\")","v":""},{"$f":"IFERROR(INDEX($B$12:$H$111,(SMALL(IF(INDEX($B$12:$H$111,,$A$149)=$A$255,MATCH(ROW($B$12:$B$111),ROW($B$12:$B$111)),\"\"),ROWS($B$1:D93))),COLUMNS($B$1:D93)),\"\")","v":""},{"$f":"IFERROR(INDEX($B$12:$H$111,(SMALL(IF(INDEX($B$12:$H$111,,$A$149)=$A$255,MATCH(ROW($B$12:$B$111),ROW($B$12:$B$111)),\"\"),ROWS($B$1:E93))),COLUMNS($B$1:E93)),\"\")","v":""},{"$f":"IFERROR(INDEX($B$12:$H$111,(SMALL(IF(INDEX($B$12:$H$111,,$A$149)=$A$255,MATCH(ROW($B$12:$B$111),ROW($B$12:$B$111)),\"\"),ROWS($B$1:F93))),COLUMNS($B$1:F93)),\"\")","v":""},{"$f":"IFERROR(INDEX($B$12:$H$111,(SMALL(IF(INDEX($B$12:$H$111,,$A$149)=$A$255,MATCH(ROW($B$12:$B$111),ROW($B$12:$B$111)),\"\"),ROWS($B$1:G93))),COLUMNS($B$1:G93)),\"\")","v":""},{"$f":"IFERROR(INDEX($B$12:$H$111,(SMALL(IF(INDEX($B$12:$H$111,,$A$149)=$A$255,MATCH(ROW($B$12:$B$111),ROW($B$12:$B$111)),\"\"),ROWS($B$1:H93))),COLUMNS($B$1:H93)),\"\")","v":""},null,null,{"$f":"IFERROR(INDEX($K$12:$M$111,(SMALL(IF(INDEX($K$12:$M$111,,$A$149)=$A$255,MATCH(ROW($K$12:$K$111),ROW($K$12:$K$111)),\"\"),ROWS($B$1:B93))),COLUMNS($B$1:B93)),\"\")","v":""},{"$f":"IFERROR(INDEX($K$12:$M$111,(SMALL(IF(INDEX($K$12:$M$111,,$A$149)=$A$255,MATCH(ROW($K$12:$K$111),ROW($K$12:$K$111)),\"\"),ROWS($B$1:C93))),COLUMNS($B$1:C93)),\"\")","v":""},{"$f":"IFERROR(INDEX($K$12:$M$111,(SMALL(IF(INDEX($K$12:$M$111,,$A$149)=$A$255,MATCH(ROW($K$12:$K$111),ROW($K$12:$K$111)),\"\"),ROWS($B$1:D93))),COLUMNS($B$1:D93)),\"\")","v":""},null,null,{"$f":"IFERROR(INDEX($P$12:$R$111,(SMALL(IF(INDEX($P$12:$R$111,,$A$149)=$A$255,MATCH(ROW($P$12:$P$111),ROW($P$12:$P$111)),\"\"),ROWS($B$1:B93))),COLUMNS($B$1:B93)),\"\")","v":""},{"$f":"IFERROR(INDEX($P$12:$R$111,(SMALL(IF(INDEX($P$12:$R$111,,$A$149)=$A$255,MATCH(ROW($P$12:$P$111),ROW($P$12:$P$111)),\"\"),ROWS($B$1:C93))),COLUMNS($B$1:C93)),\"\")","v":""},{"$f":"IFERROR(INDEX($P$12:$R$111,(SMALL(IF(INDEX($P$12:$R$111,,$A$149)=$A$255,MATCH(ROW($P$12:$P$111),ROW($P$12:$P$111)),\"\"),ROWS($B$1:D93))),COLUMNS($B$1:D93)),\"\")","v":""}]
[94,{"$f":"IFERROR(INDEX($B$12:$H$111,(SMALL(IF(INDEX($B$12:$H$111,,$A$149)=$A$255,MATCH(ROW($B$12:$B$111),ROW($B$12:$B$111)),\"\"),ROWS($B$1:B94))),COLUMNS($B$1:B94)),\"\")","v":""},{"$f":"IFERROR(INDEX($B$12:$H$111,(SMALL(IF(INDEX($B$12:$H$111,,$A$149)=$A$255,MATCH(ROW($B$12:$B$111),ROW($B$12:$B$111)),\"\"),ROWS($B$1:C94))),COLUMNS($B$1:C94)),\"\")","v":""},{"$f":"IFERROR(INDEX($B$12:$H$111,(SMALL(IF(INDEX($B$12:$H$111,,$A$149)=$A$255,MATCH(ROW($B$12:$B$111),ROW($B$12:$B$111)),\"\"),ROWS($B$1:D94))),COLUMNS($B$1:D94)),\"\")","v":""},{"$f":"IFERROR(INDEX($B$12:$H$111,(SMALL(IF(INDEX($B$12:$H$111,,$A$149)=$A$255,MATCH(ROW($B$12:$B$111),ROW($B$12:$B$111)),\"\"),ROWS($B$1:E94))),COLUMNS($B$1:E94)),\"\")","v":""},{"$f":"IFERROR(INDEX($B$12:$H$111,(SMALL(IF(INDEX($B$12:$H$111,,$A$149)=$A$255,MATCH(ROW($B$12:$B$111),ROW($B$12:$B$111)),\"\"),ROWS($B$1:F94))),COLUMNS($B$1:F94)),\"\")","v":""},{"$f":"IFERROR(INDEX($B$12:$H$111,(SMALL(IF(INDEX($B$12:$H$111,,$A$149)=$A$255,MATCH(ROW($B$12:$B$111),ROW($B$12:$B$111)),\"\"),ROWS($B$1:G94))),COLUMNS($B$1:G94)),\"\")","v":""},{"$f":"IFERROR(INDEX($B$12:$H$111,(SMALL(IF(INDEX($B$12:$H$111,,$A$149)=$A$255,MATCH(ROW($B$12:$B$111),ROW($B$12:$B$111)),\"\"),ROWS($B$1:H94))),COLUMNS($B$1:H94)),\"\")","v":""},null,null,{"$f":"IFERROR(INDEX($K$12:$M$111,(SMALL(IF(INDEX($K$12:$M$111,,$A$149)=$A$255,MATCH(ROW($K$12:$K$111),ROW($K$12:$K$111)),\"\"),ROWS($B$1:B94))),COLUMNS($B$1:B94)),\"\")","v":""},{"$f":"IFERROR(INDEX($K$12:$M$111,(SMALL(IF(INDEX($K$12:$M$111,,$A$149)=$A$255,MATCH(ROW($K$12:$K$111),ROW($K$12:$K$111)),\"\"),ROWS($B$1:C94))),COLUMNS($B$1:C94)),\"\")","v":""},{"$f":"IFERROR(INDEX($K$12:$M$111,(SMALL(IF(INDEX($K$12:$M$111,,$A$149)=$A$255,MATCH(ROW($K$12:$K$111),ROW($K$12:$K$111)),\"\"),ROWS($B$1:D94))),COLUMNS($B$1:D94)),\"\")","v":""},null,null,{"$f":"IFERROR(INDEX($P$12:$R$111,(SMALL(IF(INDEX($P$12:$R$111,,$A$149)=$A$255,MATCH(ROW($P$12:$P$111),ROW($P$12:$P$111)),\"\"),ROWS($B$1:B94))),COLUMNS($B$1:B94)),\"\")","v":""},{"$f":"IFERROR(INDEX($P$12:$R$111,(SMALL(IF(INDEX($P$12:$R$111,,$A$149)=$A$255,MATCH(ROW($P$12:$P$111),ROW($P$12:$P$111)),\"\"),ROWS($B$1:C94))),COLUMNS($B$1:C94)),\"\")","v":""},{"$f":"IFERROR(INDEX($P$12:$R$111,(SMALL(IF(INDEX($P$12:$R$111,,$A$149)=$A$255,MATCH(ROW($P$12:$P$111),ROW($P$12:$P$111)),\"\"),ROWS($B$1:D94))),COLUMNS($B$1:D94)),\"\")","v":""}]
[95,{"$f":"IFERROR(INDEX($B$12:$H$111,(SMALL(IF(INDEX($B$12:$H$111,,$A$149)=$A$255,MATCH(ROW($B$12:$B$111),ROW($B$12:$B$111)),\"\"),ROWS($B$1:B95))),COLUMNS($B$1:B95)),\"\")","v":""},{"$f":"IFERROR(INDEX($B$12:$H$111,(SMALL(IF(INDEX($B$12:$H$111,,$A$149)=$A$255,MATCH(ROW($B$12:$B$111),ROW($B$12:$B$111)),\"\"),ROWS($B$1:C95))),COLUMNS($B$1:C95)),\"\")","v":""},{"$f":"IFERROR(INDEX($B$12:$H$111,(SMALL(IF(INDEX($B$12:$H$111,,$A$149)=$A$255,MATCH(ROW($B$12:$B$111),ROW($B$12:$B$111)),\"\"),ROWS($B$1:D95))),COLUMNS($B$1:D95)),\"\")","v":""},{"$f":"IFERROR(INDEX($B$12:$H$111,(SMALL(IF(INDEX($B$12:$H$111,,$A$149)=$A$255,MATCH(ROW($B$12:$B$111),ROW($B$12:$B$111)),\"\"),ROWS($B$1:E95))),COLUMNS($B$1:E95)),\"\")","v":""},{"$f":"IFERROR(INDEX($B$12:$H$111,(SMALL(IF(INDEX($B$12:$H$111,,$A$149)=$A$255,MATCH(ROW($B$12:$B$111),ROW($B$12:$B$111)),\"\"),ROWS($B$1:F95))),COLUMNS($B$1:F95)),\"\")","v":""},{"$f":"IFERROR(INDEX($B$12:$H$111,(SMALL(IF(INDEX($B$12:$H$111,,$A$149)=$A$255,MATCH(ROW($B$12:$B$111),ROW($B$12:$B$111)),\"\"),ROWS($B$1:G95))),COLUMNS($B$1:G95)),\"\")","v":""},{"$f":"IFERROR(INDEX($B$12:$H$111,(SMALL(IF(INDEX($B$12:$H$111,,$A$149)=$A$255,MATCH(ROW($B$12:$B$111),ROW($B$12:$B$111)),\"\"),ROWS($B$1:H95))),COLUMNS($B$1:H95)),\"\")","v":""},null,null,{"$f":"IFERROR(INDEX($K$12:$M$111,(SMALL(IF(INDEX($K$12:$M$111,,$A$149)=$A$255,MATCH(ROW($K$12:$K$111),ROW($K$12:$K$111)),\"\"),ROWS($B$1:B95))),COLUMNS($B$1:B95)),\"\")","v":""},{"$f":"IFERROR(INDEX($K$12:$M$111,(SMALL(IF(INDEX($K$12:$M$111,,$A$149)=$A$255,MATCH(ROW($K$12:$K$111),ROW($K$12:$K$111)),\"\"),ROWS($B$1:C95))),COLUMNS($B$1:C95)),\"\")","v":""},{"$f":"IFERROR(INDEX($K$12:$M$111,(SMALL(IF(INDEX($K$12:$M$111,,$A$149)=$A$255,MATCH(ROW($K$12:$K$111),ROW($K$12:$K$111)),\"\"),ROWS($B$1:D95))),COLUMNS($B$1:D95)),\"\")","v":""},null,null,{"$f":"IFERROR(INDEX($P$12:$R$111,(SMALL(IF(INDEX($P$12:$R$111,,$A$149)=$A$255,MATCH(ROW($P$12:$P$111),ROW($P$12:$P$111)),\"\"),ROWS($B$1:B95))),COLUMNS($B$1:B95)),\"\")","v":""},{"$f":"IFERROR(INDEX($P$12:$R$111,(SMALL(IF(INDEX($P$12:$R$111,,$A$149)=$A$255,MATCH(ROW($P$12:$P$111),ROW($P$12:$P$111)),\"\"),ROWS($B$1:C95))),COLUMNS($B$1:C95)),\"\")","v":""},{"$f":"IFERROR(INDEX($P$12:$R$111,(SMALL(IF(INDEX($P$12:$R$111,,$A$149)=$A$255,MATCH(ROW($P$12:$P$111),ROW($P$12:$P$111)),\"\"),ROWS($B$1:D95))),COLUMNS($B$1:D95)),\"\")","v":""}]
[96,{"$f":"IFERROR(INDEX($B$12:$H$111,(SMALL(IF(INDEX($B$12:$H$111,,$A$149)=$A$255,MATCH(ROW($B$12:$B$111),ROW($B$12:$B$111)),\"\"),ROWS($B$1:B96))),COLUMNS($B$1:B96)),\"\")","v":""},{"$f":"IFERROR(INDEX($B$12:$H$111,(SMALL(IF(INDEX($B$12:$H$111,,$A$149)=$A$255,MATCH(ROW($B$12:$B$111),ROW($B$12:$B$111)),\"\"),ROWS($B$1:C96))),COLUMNS($B$1:C96)),\"\")","v":""},{"$f":"IFERROR(INDEX($B$12:$H$111,(SMALL(IF(INDEX($B$12:$H$111,,$A$149)=$A$255,MATCH(ROW($B$12:$B$111),ROW($B$12:$B$111)),\"\"),ROWS($B$1:D96))),COLUMNS($B$1:D96)),\"\")","v":""},{"$f":"IFERROR(INDEX($B$12:$H$111,(SMALL(IF(INDEX($B$12:$H$111,,$A$149)=$A$255,MATCH(ROW($B$12:$B$111),ROW($B$12:$B$111)),\"\"),ROWS($B$1:E96))),COLUMNS($B$1:E96)),\"\")","v":""},{"$f":"IFERROR(INDEX($B$12:$H$111,(SMALL(IF(INDEX($B$12:$H$111,,$A$149)=$A$255,MATCH(ROW($B$12:$B$111),ROW($B$12:$B$111)),\"\"),ROWS($B$1:F96))),COLUMNS($B$1:F96)),\"\")","v":""},{"$f":"IFERROR(INDEX($B$12:$H$111,(SMALL(IF(INDEX($B$12:$H$111,,$A$149)=$A$255,MATCH(ROW($B$12:$B$111),ROW($B$12:$B$111)),\"\"),ROWS($B$1:G96))),COLUMNS($B$1:G96)),\"\")","v":""},{"$f":"IFERROR(INDEX($B$12:$H$111,(SMALL(IF(INDEX($B$12:$H$111,,$A$149)=$A$255,MATCH(ROW($B$12:$B$111),ROW($B$12:$B$111)),\"\"),ROWS($B$1:H96))),COLUMNS($B$1:H96)),\"\")","v":""},null,null,{"$f":"IFERROR(INDEX($K$12:$M$111,(SMALL(IF(INDEX($K$12:$M$111,,$A$149)=$A$255,MATCH(ROW($K$12:$K$111),ROW($K$12:$K$111)),\"\"),ROWS($B$1:B96))),COLUMNS($B$1:B96)),\"\")","v":""},{"$f":"IFERROR(INDEX($K$12:$M$111,(SMALL(IF(INDEX($K$12:$M$111,,$A$149)=$A$255,MATCH(ROW($K$12:$K$111),ROW($K$12:$K$111)),\"\"),ROWS($B$1:C96))),COLUMNS($B$1:C96)),\"\")","v":""},{"$f":"IFERROR(INDEX($K$12:$M$111,(SMALL(IF(INDEX($K$12:$M$111,,$A$149)=$A$255,MATCH(ROW($K$12:$K$111),ROW($K$12:$K$111)),\"\"),ROWS($B$1:D96))),COLUMNS($B$1:D96)),\"\")","v":""},null,null,{"$f":"IFERROR(INDEX($P$12:$R$111,(SMALL(IF(INDEX($P$12:$R$111,,$A$149)=$A$255,MATCH(ROW($P$12:$P$111),ROW($P$12:$P$111)),\"\"),ROWS($B$1:B96))),COLUMNS($B$1:B96)),\"\")","v":""},{"$f":"IFERROR(INDEX($P$12:$R$111,(SMALL(IF(INDEX($P$12:$R$111,,$A$149)=$A$255,MATCH(ROW($P$12:$P$111),ROW($P$12:$P$111)),\"\"),ROWS($B$1:C96))),COLUMNS($B$1:C96)),\"\")","v":""},{"$f":"IFERROR(INDEX($P$12:$R$111,(SMALL(IF(INDEX($P$12:$R$111,,$A$149)=$A$255,MATCH(ROW($P$12:$P$111),ROW($P$12:$P$111)),\"\"),ROWS($B$1:D96))),COLUMNS($B$1:D96)),\"\")","v":""}]
[97,{"$f":"IFERROR(INDEX($B$12:$H$111,(SMALL(IF(INDEX($B$12:$H$111,,$A$149)=$A$255,MATCH(ROW($B$12:$B$111),ROW($B$12:$B$111)),\"\"),ROWS($B$1:B97))),COLUMNS($B$1:B97)),\"\")","v":""},{"$f":"IFERROR(INDEX($B$12:$H$111,(SMALL(IF(INDEX($B$12:$H$111,,$A$149)=$A$255,MATCH(ROW($B$12:$B$111),ROW($B$12:$B$111)),\"\"),ROWS($B$1:C97))),COLUMNS($B$1:C97)),\"\")","v":""},{"$f":"IFERROR(INDEX($B$12:$H$111,(SMALL(IF(INDEX($B$12:$H$111,,$A$149)=$A$255,MATCH(ROW($B$12:$B$111),ROW($B$12:$B$111)),\"\"),ROWS($B$1:D97))),COLUMNS($B$1:D97)),\"\")","v":""},{"$f":"IFERROR(INDEX($B$12:$H$111,(SMALL(IF(INDEX($B$12:$H$111,,$A$149)=$A$255,MATCH(ROW($B$12:$B$111),ROW($B$12:$B$111)),\"\"),ROWS($B$1:E97))),COLUMNS($B$1:E97)),\"\")","v":""},{"$f":"IFERROR(INDEX($B$12:$H$111,(SMALL(IF(INDEX($B$12:$H$111,,$A$149)=$A$255,MATCH(ROW($B$12:$B$111),ROW($B$12:$B$111)),\"\"),ROWS($B$1:F97))),COLUMNS($B$1:F97)),\"\")","v":""},{"$f":"IFERROR(INDEX($B$12:$H$111,(SMALL(IF(INDEX($B$12:$H$111,,$A$149)=$A$255,MATCH(ROW($B$12:$B$111),ROW($B$12:$B$111)),\"\"),ROWS($B$1:G97))),COLUMNS($B$1:G97)),\"\")","v":""},{"$f":"IFERROR(INDEX($B$12:$H$111,(SMALL(IF(INDEX($B$12:$H$111,,$A$149)=$A$255,MATCH(ROW($B$12:$B$111),ROW($B$12:$B$111)),\"\"),ROWS($B$1:H97))),COLUMNS($B$1:H97)),\"\")","v":""},null,null,{"$f":"IFERROR(INDEX($K$12:$M$111,(SMALL(IF(INDEX($K$12:$M$111,,$A$149)=$A$255,MATCH(ROW($K$12:$K$111),ROW($K$12:$K$111)),\"\"),ROWS($B$1:B97))),COLUMNS($B$1:B97)),\"\")","v":""},{"$f":"IFERROR(INDEX($K$12:$M$111,(SMALL(IF(INDEX($K$12:$M$111,,$A$149)=$A$255,MATCH(ROW($K$12:$K$111),ROW($K$12:$K$111)),\"\"),ROWS($B$1:C97))),COLUMNS($B$1:C97)),\"\")","v":""},{"$f":"IFERROR(INDEX($K$12:$M$111,(SMALL(IF(INDEX($K$12:$M$111,,$A$149)=$A$255,MATCH(ROW($K$12:$K$111),ROW($K$12:$K$111)),\"\"),ROWS($B$1:D97))),COLUMNS($B$1:D97)),\"\")","v":""},null,null,{"$f":"IFERROR(INDEX($P$12:$R$111,(SMALL(IF(INDEX($P$12:$R$111,,$A$149)=$A$255,MATCH(ROW($P$12:$P$111),ROW($P$12:$P$111)),\"\"),ROWS($B$1:B97))),COLUMNS($B$1:B97)),\"\")","v":""},{"$f":"IFERROR(INDEX($P$12:$R$111,(SMALL(IF(INDEX($P$12:$R$111,,$A$149)=$A$255,MATCH(ROW($P$12:$P$111),ROW($P$12:$P$111)),\"\"),ROWS($B$1:C97))),COLUMNS($B$1:C97)),\"\")","v":""},{"$f":"IFERROR(INDEX($P$12:$R$111,(SMALL(IF(INDEX($P$12:$R$111,,$A$149)=$A$255,MATCH(ROW($P$12:$P$111),ROW($P$12:$P$111)),\"\"),ROWS($B$1:D97))),COLUMNS($B$1:D97)),\"\")","v":""}]
[98,{"$f":"IFERROR(INDEX($B$12:$H$111,(SMALL(IF(INDEX($B$12:$H$111,,$A$149)=$A$255,MATCH(ROW($B$12:$B$111),ROW($B$12:$B$111)),\"\"),ROWS($B$1:B98))),COLUMNS($B$1:B98)),\"\")","v":""},{"$f":"IFERROR(INDEX($B$12:$H$111,(SMALL(IF(INDEX($B$12:$H$111,,$A$149)=$A$255,MATCH(ROW($B$12:$B$111),ROW($B$12:$B$111)),\"\"),ROWS($B$1:C98))),COLUMNS($B$1:C98)),\"\")","v":""},{"$f":"IFERROR(INDEX($B$12:$H$111,(SMALL(IF(INDEX($B$12:$H$111,,$A$149)=$A$255,MATCH(ROW($B$12:$B$111),ROW($B$12:$B$111)),\"\"),ROWS($B$1:D98))),COLUMNS($B$1:D98)),\"\")","v":""},{"$f":"IFERROR(INDEX($B$12:$H$111,(SMALL(IF(INDEX($B$12:$H$111,,$A$149)=$A$255,MATCH(ROW($B$12:$B$111),ROW($B$12:$B$111)),\"\"),ROWS($B$1:E98))),COLUMNS($B$1:E98)),\"\")","v":""},{"$f":"IFERROR(INDEX($B$12:$H$111,(SMALL(IF(INDEX($B$12:$H$111,,$A$149)=$A$255,MATCH(ROW($B$12:$B$111),ROW($B$12:$B$111)),\"\"),ROWS($B$1:F98))),COLUMNS($B$1:F98)),\"\")","v":""},{"$f":"IFERROR(INDEX($B$12:$H$111,(SMALL(IF(INDEX($B$12:$H$111,,$A$149)=$A$255,MATCH(ROW($B$12:$B$111),ROW($B$12:$B$111)),\"\"),ROWS($B$1:G98))),COLUMNS($B$1:G98)),\"\")","v":""},{"$f":"IFERROR(INDEX($B$12:$H$111,(SMALL(IF(INDEX($B$12:$H$111,,$A$149)=$A$255,MATCH(ROW($B$12:$B$111),ROW($B$12:$B$111)),\"\"),ROWS($B$1:H98))),COLUMNS($B$1:H98)),\"\")","v":""},null,null,{"$f":"IFERROR(INDEX($K$12:$M$111,(SMALL(IF(INDEX($K$12:$M$111,,$A$149)=$A$255,MATCH(ROW($K$12:$K$111),ROW($K$12:$K$111)),\"\"),ROWS($B$1:B98))),COLUMNS($B$1:B98)),\"\")","v":""},{"$f":"IFERROR(INDEX($K$12:$M$111,(SMALL(IF(INDEX($K$12:$M$111,,$A$149)=$A$255,MATCH(ROW($K$12:$K$111),ROW($K$12:$K$111)),\"\"),ROWS($B$1:C98))),COLUMNS($B$1:C98)),\"\")","v":""},{"$f":"IFERROR(INDEX($K$12:$M$111,(SMALL(IF(INDEX($K$12:$M$111,,$A$149)=$A$255,MATCH(ROW($K$12:$K$111),ROW($K$12:$K$111)),\"\"),ROWS($B$1:D98))),COLUMNS($B$1:D98)),\"\")","v":""},null,null,{"$f":"IFERROR(INDEX($P$12:$R$111,(SMALL(IF(INDEX($P$12:$R$111,,$A$149)=$A$255,MATCH(ROW($P$12:$P$111),ROW($P$12:$P$111)),\"\"),ROWS($B$1:B98))),COLUMNS($B$1:B98)),\"\")","v":""},{"$f":"IFERROR(INDEX($P$12:$R$111,(SMALL(IF(INDEX($P$12:$R$111,,$A$149)=$A$255,MATCH(ROW($P$12:$P$111),ROW($P$12:$P$111)),\"\"),ROWS($B$1:C98))),COLUMNS($B$1:C98)),\"\")","v":""},{"$f":"IFERROR(INDEX($P$12:$R$111,(SMALL(IF(INDEX($P$12:$R$111,,$A$149)=$A$255,MATCH(ROW($P$12:$P$111),ROW($P$12:$P$111)),\"\"),ROWS($B$1:D98))),COLUMNS($B$1:D98)),\"\")","v":""}]
[99,{"$f":"IFERROR(INDEX($B$12:$H$111,(SMALL(IF(INDEX($B$12:$H$111,,$A$149)=$A$255,MATCH(ROW($B$12:$B$111),ROW($B$12:$B$111)),\"\"),ROWS($B$1:B99))),COLUMNS($B$1:B99)),\"\")","v":""},{"$f":"IFERROR(INDEX($B$12:$H$111,(SMALL(IF(INDEX($B$12:$H$111,,$A$149)=$A$255,MATCH(ROW($B$12:$B$111),ROW($B$12:$B$111)),\"\"),ROWS($B$1:C99))),COLUMNS($B$1:C99)),\"\")","v":""},{"$f":"IFERROR(INDEX($B$12:$H$111,(SMALL(IF(INDEX($B$12:$H$111,,$A$149)=$A$255,MATCH(ROW($B$12:$B$111),ROW($B$12:$B$111)),\"\"),ROWS($B$1:D99))),COLUMNS($B$1:D99)),\"\")","v":""},{"$f":"IFERROR(INDEX($B$12:$H$111,(SMALL(IF(INDEX($B$12:$H$111,,$A$149)=$A$255,MATCH(ROW($B$12:$B$111),ROW($B$12:$B$111)),\"\"),ROWS($B$1:E99))),COLUMNS($B$1:E99)),\"\")","v":""},{"$f":"IFERROR(INDEX($B$12:$H$111,(SMALL(IF(INDEX($B$12:$H$111,,$A$149)=$A$255,MATCH(ROW($B$12:$B$111),ROW($B$12:$B$111)),\"\"),ROWS($B$1:F99))),COLUMNS($B$1:F99)),\"\")","v":""},{"$f":"IFERROR(INDEX($B$12:$H$111,(SMALL(IF(INDEX($B$12:$H$111,,$A$149)=$A$255,MATCH(ROW($B$12:$B$111),ROW($B$12:$B$111)),\"\"),ROWS($B$1:G99))),COLUMNS($B$1:G99)),\"\")","v":""},{"$f":"IFERROR(INDEX($B$12:$H$111,(SMALL(IF(INDEX($B$12:$H$111,,$A$149)=$A$255,MATCH(ROW($B$12:$B$111),ROW($B$12:$B$111)),\"\"),ROWS($B$1:H99))),COLUMNS($B$1:H99)),\"\")","v":""},null,null,{"$f":"IFERROR(INDEX($K$12:$M$111,(SMALL(IF(INDEX($K$12:$M$111,,$A$149)=$A$255,MATCH(ROW($K$12:$K$111),ROW($K$12:$K$111)),\"\"),ROWS($B$1:B99))),COLUMNS($B$1:B99)),\"\")","v":""},{"$f":"IFERROR(INDEX($K$12:$M$111,(SMALL(IF(INDEX($K$12:$M$111,,$A$149)=$A$255,MATCH(ROW($K$12:$K$111),ROW($K$12:$K$111)),\"\"),ROWS($B$1:C99))),COLUMNS($B$1:C99)),\"\")","v":""},{"$f":"IFERROR(INDEX($K$12:$M$111,(SMALL(IF(INDEX($K$12:$M$111,,$A$149)=$A$255,MATCH(ROW($K$12:$K$111),ROW($K$12:$K$111)),\"\"),ROWS($B$1:D99))),COLUMNS($B$1:D99)),\"\")","v":""},null,null,{"$f":"IFERROR(INDEX($P$12:$R$111,(SMALL(IF(INDEX($P$12:$R$111,,$A$149)=$A$255,MATCH(ROW($P$12:$P$111),ROW($P$12:$P$111)),\"\"),ROWS($B$1:B99))),COLUMNS($B$1:B99)),\"\")","v":""},{"$f":"IFERROR(INDEX($P$12:$R$111,(SMALL(IF(INDEX($P$12:$R$111,,$A$149)=$A$255,MATCH(ROW($P$12:$P$111),ROW($P$12:$P$111)),\"\"),ROWS($B$1:C99))),COLUMNS($B$1:C99)),\"\")","v":""},{"$f":"IFERROR(INDEX($P$12:$R$111,(SMALL(IF(INDEX($P$12:$R$111,,$A$149)=$A$255,MATCH(ROW($P$12:$P$111),ROW($P$12:$P$111)),\"\"),ROWS($B$1:D99))),COLUMNS($B$1:D99)),\"\")","v":""}]
[100,{"$f":"IFERROR(INDEX($B$12:$H$111,(SMALL(IF(INDEX($B$12:$H$111,,$A$149)=$A$255,MATCH(ROW($B$12:$B$111),ROW($B$12:$B$111)),\"\"),ROWS($B$1:B100))),COLUMNS($B$1:B100)),\"\")","v":""},{"$f":"IFERROR(INDEX($B$12:$H$111,(SMALL(IF(INDEX($B$12:$H$111,,$A$149)=$A$255,MATCH(ROW($B$12:$B$111),ROW($B$12:$B$111)),\"\"),ROWS($B$1:C100))),COLUMNS($B$1:C100)),\"\")","v":""},{"$f":"IFERROR(INDEX($B$12:$H$111,(SMALL(IF(INDEX($B$12:$H$111,,$A$149)=$A$255,MATCH(ROW($B$12:$B$111),ROW($B$12:$B$111)),\"\"),ROWS($B$1:D100))),COLUMNS($B$1:D100)),\"\")","v":""},{"$f":"IFERROR(INDEX($B$12:$H$111,(SMALL(IF(INDEX($B$12:$H$111,,$A$149)=$A$255,MATCH(ROW($B$12:$B$111),ROW($B$12:$B$111)),\"\"),ROWS($B$1:E100))),COLUMNS($B$1:E100)),\"\")","v":""},{"$f":"IFERROR(INDEX($B$12:$H$111,(SMALL(IF(INDEX($B$12:$H$111,,$A$149)=$A$255,MATCH(ROW($B$12:$B$111),ROW($B$12:$B$111)),\"\"),ROWS($B$1:F100))),COLUMNS($B$1:F100)),\"\")","v":""},{"$f":"IFERROR(INDEX($B$12:$H$111,(SMALL(IF(INDEX($B$12:$H$111,,$A$149)=$A$255,MATCH(ROW($B$12:$B$111),ROW($B$12:$B$111)),\"\"),ROWS($B$1:G100))),COLUMNS($B$1:G100)),\"\")","v":""},{"$f":"IFERROR(INDEX($B$12:$H$111,(SMALL(IF(INDEX($B$12:$H$111,,$A$149)=$A$255,MATCH(ROW($B$12:$B$111),ROW($B$12:$B$111)),\"\"),ROWS($B$1:H100))),COLUMNS($B$1:H100)),\"\")","v":""},null,null,{"$f":"IFERROR(INDEX($K$12:$M$111,(SMALL(IF(INDEX($K$12:$M$111,,$A$149)=$A$255,MATCH(ROW($K$12:$K$111),ROW($K$12:$K$111)),\"\"),ROWS($B$1:B100))),COLUMNS($B$1:B100)),\"\")","v":""},{"$f":"IFERROR(INDEX($K$12:$M$111,(SMALL(IF(INDEX($K$12:$M$111,,$A$149)=$A$255,MATCH(ROW($K$12:$K$111),ROW($K$12:$K$111)),\"\"),ROWS($B$1:C100))),COLUMNS($B$1:C100)),\"\")","v":""},{"$f":"IFERROR(INDEX($K$12:$M$111,(SMALL(IF(INDEX($K$12:$M$111,,$A$149)=$A$255,MATCH(ROW($K$12:$K$111),ROW($K$12:$K$111)),\"\"),ROWS($B$1:D100))),COLUMNS($B$1:D100)),\"\")","v":""},null,null,{"$f":"IFERROR(INDEX($P$12:$R$111,(SMALL(IF(INDEX($P$12:$R$111,,$A$149)=$A$255,MATCH(ROW($P$12:$P$111),ROW($P$12:$P$111)),\"\"),ROWS($B$1:B100))),COLUMNS($B$1:B100)),\"\")","v":""},{"$f":"IFERROR(INDEX($P$12:$R$111,(SMALL(IF(INDEX($P$12:$R$111,,$A$149)=$A$255,MATCH(ROW($P$12:$P$111),ROW($P$12:$P$111)),\"\"),ROWS($B$1:C100))),COLUMNS($B$1:C100)),\"\")","v":""},{"$f":"IFERROR(INDEX($P$12:$R$111,(SMALL(IF(INDEX($P$12:$R$111,,$A$149)=$A$255,MATCH(ROW($P$12:$P$111),ROW($P$12:$P$111)),\"\"),ROWS($B$1:D100))),COLUMNS($B$1:D100)),\"\")","v":""}]
[101,{"$f":"IFERROR(INDEX($B$12:$H$111,(SMALL(IF(INDEX($B$12:$H$111,,$A$149)=$A$255,MATCH(ROW($B$12:$B$111),ROW($B$12:$B$111)),\"\"),ROWS($B$1:B101))),COLUMNS($B$1:B101)),\"\")","v":""},{"$f":"IFERROR(INDEX($B$12:$H$111,(SMALL(IF(INDEX($B$12:$H$111,,$A$149)=$A$255,MATCH(ROW($B$12:$B$111),ROW($B$12:$B$111)),\"\"),ROWS($B$1:C101))),COLUMNS($B$1:C101)),\"\")","v":""},{"$f":"IFERROR(INDEX($B$12:$H$111,(SMALL(IF(INDEX($B$12:$H$111,,$A$149)=$A$255,MATCH(ROW($B$12:$B$111),ROW($B$12:$B$111)),\"\"),ROWS($B$1:D101))),COLUMNS($B$1:D101)),\"\")","v":""},{"$f":"IFERROR(INDEX($B$12:$H$111,(SMALL(IF(INDEX($B$12:$H$111,,$A$149)=$A$255,MATCH(ROW($B$12:$B$111),ROW($B$12:$B$111)),\"\"),ROWS($B$1:E101))),COLUMNS($B$1:E101)),\"\")","v":""},{"$f":"IFERROR(INDEX($B$12:$H$111,(SMALL(IF(INDEX($B$12:$H$111,,$A$149)=$A$255,MATCH(ROW($B$12:$B$111),ROW($B$12:$B$111)),\"\"),ROWS($B$1:F101))),COLUMNS($B$1:F101)),\"\")","v":""},{"$f":"IFERROR(INDEX($B$12:$H$111,(SMALL(IF(INDEX($B$12:$H$111,,$A$149)=$A$255,MATCH(ROW($B$12:$B$111),ROW($B$12:$B$111)),\"\"),ROWS($B$1:G101))),COLUMNS($B$1:G101)),\"\")","v":""},{"$f":"IFERROR(INDEX($B$12:$H$111,(SMALL(IF(INDEX($B$12:$H$111,,$A$149)=$A$255,MATCH(ROW($B$12:$B$111),ROW($B$12:$B$111)),\"\"),ROWS($B$1:H101))),COLUMNS($B$1:H101)),\"\")","v":""},null,null,{"$f":"IFERROR(INDEX($K$12:$M$111,(SMALL(IF(INDEX($K$12:$M$111,,$A$149)=$A$255,MATCH(ROW($K$12:$K$111),ROW($K$12:$K$111)),\"\"),ROWS($B$1:B101))),COLUMNS($B$1:B101)),\"\")","v":""},{"$f":"IFERROR(INDEX($K$12:$M$111,(SMALL(IF(INDEX($K$12:$M$111,,$A$149)=$A$255,MATCH(ROW($K$12:$K$111),ROW($K$12:$K$111)),\"\"),ROWS($B$1:C101))),COLUMNS($B$1:C101)),\"\")","v":""},{"$f":"IFERROR(INDEX($K$12:$M$111,(SMALL(IF(INDEX($K$12:$M$111,,$A$149)=$A$255,MATCH(ROW($K$12:$K$111),ROW($K$12:$K$111)),\"\"),ROWS($B$1:D101))),COLUMNS($B$1:D101)),\"\")","v":""},null,null,{"$f":"IFERROR(INDEX($P$12:$R$111,(SMALL(IF(INDEX($P$12:$R$111,,$A$149)=$A$255,MATCH(ROW($P$12:$P$111),ROW($P$12:$P$111)),\"\"),ROWS($B$1:B101))),COLUMNS($B$1:B101)),\"\")","v":""},{"$f":"IFERROR(INDEX($P$12:$R$111,(SMALL(IF(INDEX($P$12:$R$111,,$A$149)=$A$255,MATCH(ROW($P$12:$P$111),ROW($P$12:$P$111)),\"\"),ROWS($B$1:C101))),COLUMNS($B$1:C101)),\"\")","v":""},{"$f":"IFERROR(INDEX($P$12:$R$111,(SMALL(IF(INDEX($P$12:$R$111,,$A$149)=$A$255,MATCH(ROW($P$12:$P$111),ROW($P$12:$P$111)),\"\"),ROWS($B$1:D101))),COLUMNS($B$1:D101)),\"\")","v":""}]
[]
[null,null,null,null,null,null,"total",{"$f":"SUM(H258:H358)","v":0},null,null,null,null,{"$f":"SUM(M258:M358)","v":0},null,null,null,null,{"$f":"SUM(R258:R358)","v":0}]

{"sheet":"FSA-521","index":3,"n_rows":47,"n_cols":19,"rows_kept":47,"cut":false,"hidden":false,"merged":[[29,0,29,1],[29,2,29,3],[38,0,38,19],[40,0,40,8],[40,9,40,16],[40,17,40,19],[41,0,41,19],[39,0,39,19],[35,13,37,13],[35,14,37,15],[35,16,37,17],[35,18,35,19],[36,18,36,19],[37,18,37,19],[35,6,37,6],[35,9,37,9],[30,10,32,12],[30,13,32,13],[30,14,32,15],[30,16,32,17],[30,18,30,19],[32,18,32,19],[29,4,29,5],[29,10,29,12],[29,14,29,15],[29,16,29,17],[29,18,29,19],[30,6,32,6],[30,9,32,9],[29,7,29,8],[58,0,58,20],[1,17,1,19],[0,16,0,19],[56,0,56,4],[56,5,56,11],[56,12,56,19],[57,0,57,4],[57,5,57,11],[57,12,57,19],[54,0,54,4],[54,5,54,11],[54,12,54,19],[55,0,55,4],[55,5,55,11],[55,12,55,19],[52,0,52,4],[52,5,52,11],[52,12,52,19],[30,0,32,1],[30,2,32,3],[53,0,53,4],[53,5,53,11],[53,12,53,19],[50,0,50,4],[50,5,50,11],[50,12,50,19],[51,0,51,4],[51,5,51,11],[51,12,51,19],[47,0,47,20],[48,0,48,4],[48,5,48,11],[48,12,48,19],[49,0,49,4],[49,5,49,11],[49,12,49,19],[42,0,42,16],[42,17,42,19],[46,4,46,5],[46,10,46,12],[43,0,43,19],[44,0,44,19],[45,0,45,19],[46,15,46,18],[35,10,37,12],[35,0,37,1],[35,2,37,3],[33,0,33,9],[33,10,33,19],[34,4,34,5],[34,10,34,12],[34,14,34,15],[34,16,34,17],[34,18,34,19],[34,0,34,1],[34,2,34,3],[34,7,34,8],[2,11,2,19],[6,0,6,19],[5,15,5,19],[4,1,5,10],[3,0,3,1],[3,11,3,19],[4,11,4,14],[4,15,4,19],[5,11,5,14],[3,2,3,9],[2,0,2,1],[2,2,2,10],[23,0,23,19],[24,0,24,19],[26,0,26,19],[25,0,25,19],[7,0,7,19],[8,0,8,19],[22,0,22,19],[28,0,28,9],[28,10,28,19],[19,1,19,19],[20,1,20,19],[13,3,13,19],[14,3,14,19],[15,3,15,19],[16,3,16,19],[18,3,18,19],[21,0,21,19],[9,1,9,19],[10,1,10,19],[11,1,11,19],[12,1,12,19],[17,3,17,19],[27,0,27,6],[27,17,27,19]]}
[null,null,null,null,null,null,null,null,null,null,null,null,null,null,null,null,"OMB Approval #  0560-0309"]
[null,null,null,null,null,null,null,null,null,null,null,null,null,null,null,null,null,"Expiration Date 12/31/2025"]
["FSA-521 ",null,"U.S. DEPARTMENT OF AGRICULTURE",null,null,null,null,null,null,null,null,"1. Application Number"]
["2023-01-23",null,"Farm Service Agency"]
[null,"EMERGENCY RELIEF PROGRAM (ERP)\nPHASE 2 APPLICATION",null,null,null,null,null,null,null,null,null,"2. Recording State Name/Code",null,null,null,"3. Recording County Name/Code"]
[null,null,null,null,null,null,null,null,null,null,null,{"$f":"IF('Gross Rev Wrksht'!E8=\"\",\"\",'Gross Rev Wrksht'!E8)","v":""},null,null,null,{"$f":"IF('Gross Rev Wrksht'!E9=\"\",\"\",'Gross Rev Wrksht'!E9)","v":""}]
["NOTE: The following statement is made in accordance with the Privacy Act of 1974 (5 USC 552a - as amended). The authority for requesting the information identified on this form is the Extending Government Funding and Delivering Emergency Assistance Act (Pub. L. 117-43).  The information will be used to determine eligibility for program benefits. The information collected on this form may be disclosed to other Federal, State, and Local government agencies, Tribal agencies, and nongovernmental entities that have been authorized access to the information by statute or regulation and/or as described in applicable Routine Uses identified in the System of Records Notice for USDA/FSA-2, Farm Records File (Automated). Providing the requested information is voluntary; however, failure to furnish the requested information will result in a determination of ineligibility for program benefits. Payments may be made under the program to which the form applies only to the extent permitted by applicable authorities.\n\nPublic Burden Statement (Paperwork Reduction Act):  Public reporting burden for this collection is estimated to average 60 minutes per response, including reviewing instructions, gathering and maintaining the data needed, completing (providing the information), and reviewing the collection of information. You are not required to respond to the collection of information, unless it displays a valid OMB control\nnumber. RETURN THIS COMPLETED FORM TO YOUR RECORDING COUNTY FSA OFFICE."]
["PART A - PRODUCER AGREEMENT"]
["The Farm Service Agency (FSA) will make payments under ERP Phase 2 to eligible producers who meet the requirements of the program. The following information is needed in order for FSA to determine that the applicant is eligible to receive ERP Phase 2 assistance. By submitting this application, and upon approval by FSA, the applicant agrees:"]
["1.","To comply with the regulatory requirements in 7 CFR part 760, Subpart S. A copy of these regulations may be found at:"]
["2.","That the revenue losses suffered were due to expenses associated with losses of eligible crops due in whole or in part to a qualifying disaster event that occurred in the 2020 or 2021 calendar year. For ERP, qualifying disaster event means: wildfires, hurricanes (including excessive wind, storm surges, tornadoes, tropical storms, and tropical depressions that occurred as a direct result of a hurricane), floods (including silt and debris that occurred as a direct and proximate result of flooding), derechos (including excessive wind that occurred as a direct result of a derecho), excessive heat, winter storms (including excessive wind and blizzards that occurred as a direct result of a winter storm), freeze (including a polar vortex), smoke exposure, excessive moisture, and qualifying drought, and related conditions, occurring in calendar years 2020 and 2021. Related conditions mean damaging weather and adverse natural occurrences that occurred concurrently with and as a direct result of a specified qualifying disaster event. “Qualifying drought” means an area within the county in which the loss occurred was rated by the U.S. Drought Monitor as having a drought intensity of D2 (severe drought) for eight consecutive weeks or D3 (extreme drought) or higher for any period of time during the applicable calendar years. A list of counties that experienced a qualifying drought in calendar years 2020 and 2021 is available through local FSA service centers and at https://www.fsa.usda.gov/programs-and-services/emergency-relief/index\n."]
["3.","To provide to FSA all information that is necessary to verify that the information provided on this form is accurate. Producer is required to retain documentation in support of their application for 3 years after the date of approval. All information provided to FSA for program eligibility and payment calculation purposes, including certification that a producer suffered an eligible loss due to a qualifying disaster event, is subject to spot check."]
["4.","To comply with payment attribution and payment eligibility provisions by submitting the following forms within 60 days from the date the applicant signs this application, if not already on file with FSA for the applicable disaster year:"]
[null,null,"•","CCC-902, Farm Operating Plan for Payment Eligibility"]
[null,null,"•","CCC-901, Member Information for Legal Entities, if applicable"]
[null,null,"•","FSA-510, Request for an Exception to the $125,000 Payment Limitation for Certain Programs, optional"]
[null,null,"•","CCC-860, Socially Disadvantaged, Limited Resource, Beginning and Veteran Farmer or Rancher Certification, optional"]
[null,null,"•","AD-1026, Highly Erodible Land Conservation (HELC) and Wetland Conservation (WC) Certification"]
[null,null,"•","AD-2047, Customer Data Worksheet"]
[null,"Failure of an individual, entity, or member of an entity to timely submit all eligibility documents required may result in no payment or a reduced payment."]
["5.","The application will not be considered complete until the applicant has signed Item 27 and completed the FSA-522, Crop Insurance and/or NAP Coverage Agreement."]
["PART B- PRODUCER INFORMATION"]
["4. Producer Name, Address (City, State, and Zip Code), and Phone Number (include Area Code):"]
[{"$f":"IF('Gross Rev Wrksht'!E10=\"\",\"\",'Gross Rev Wrksht'!E10)","v":""}]
[{"$f":"IF('Gross Rev Wrksht'!E12=\"\",\"\",'Gross Rev Wrksht'!E12)","v":""}]
[{"$f":"IF('Gross Rev Wrksht'!E13=\"\",\"\",'Gross Rev Wrksht'!E13)","v":""}]
[{"$f":"IF('Gross Rev Wrksht'!E14=\"\",\"\",'Gross Rev Wrksht'!E14)","v":""}]
["FSA-521 (1/23/2023)",null,null,null,null,null,null,null,null,null,null,null,null,null,null,null,null,"Page 2 of 4"]
["PART C - 2020 DISASTER YEAR REVENUE CERTIFICATION",null,null,null,null,null,null,null,null,null,"COC USE ONLY"]
["5.\n% of Expected Revenue from Specialty & High Value Crops",null,"6.\n% of Expected Revenue from Other Crops",null,"7.\nBenchmark Year",null,"8.\nBenchmark Revenue","9.\nRepresentative Revenue Year",null,"10.\nDisaster Year Revenue","11. \nCOC Adjusted % of Expected Revenue  from Specialty & High Value Crops",null,null,"12. \nCOC Adjusted % of Expected Revenue from Other Crops","13. \nCOC Adjusted Benchmark Revenue",null,"14. \nCOC Adjusted Disaster Year Revenue",null,"15. \nCOC Approved or Disapproved"]
[{"$f":"IF('Gross Rev Wrksht'!Z29=\"\",\"\",'Gross Rev Wrksht'!Z29)","v":""},null,{"$f":"IF(A31=\"\",\"\",1-A31)","v":""},null,{"$f":"IF('Gross Rev Wrksht'!AA29=2018,\"X\",\"\")","v":""},2018,{"$f":"IF('Gross Rev Wrksht'!AC29=\"\",\"\",'Gross Rev Wrksht'!AC29)","v":0},{"$f":"IF('Gross Rev Wrksht'!L8=2020,\"X\",\"\")","v":""},2020,{"$f":"IF('Gross Rev Wrksht'!AE29=\"\",\"\",'Gross Rev Wrksht'!AE29)","v":""},null,null,null,null,null,null,null,null,"Approved"]
[null,null,null,null,{"$f":"IF('Gross Rev Wrksht'!AA29=2019,\"X\",\"\")","v":""},2019]
[null,null,null,null,{"$f":"IF(LEFT('Gross Rev Wrksht'!AA29,8)=\"Adjusted\",\"X\",\"\")","v":""},"Adjusted",null,{"$f":"IF('Gross Rev Wrksht'!AD29=\"2021\",\"X\",\"\")","v":""},2021,null,null,null,null,null,null,null,null,null,"Disapproved"]
["PART D - 2021 DISASTER YEAR REVENUE CERTIFICATION",null,null,null,null,null,null,null,null,null,"COC USE ONLY"]
["16.\n% of Expected Revenue from Specialty & High Value Crops",null,"17.\n% of Expected Revenue from Other Crops",null,"18.\nBenchmark Year",null,"19.\nBenchmark Revenue","20.\nRepresentative Revenue Year",null,"21.\nDisaster Year Revenue","22.\nCOC\nAdjusted % of Expected Revenue  from Specialty & High Value Crops",null,null,"23.\nCOC\nAdjusted % of Expected Revenue from Other Crops","24.\nCOC\nAdjusted Benchmark Revenue",null,"25.\nCOC\nAdjusted Disaster Year Revenue",null,"26.\nCOC\nApproved or Disapproved"]
[{"$f":"IF('Gross Rev Wrksht'!Z30=\"\",\"\",'Gross Rev Wrksht'!Z30)","v":""},null,{"$f":"IF(A36=\"\",\"\",1-A36)","v":""},null,{"$f":"IF('Gross Rev Wrksht'!AA30=2018,\"X\",\"\")","v":""},2018,{"$f":"IF(A36=\"\",\"\",IF('Gross Rev Wrksht'!AC30=\"\",\"\",'Gross Rev Wrksht'!AC30))","v":""},{"$f":"IF('Gross Rev Wrksht'!AD30=\"2021\",\"X\",\"\")","v":""},2021,{"$f":"IF('Gross Rev Wrksht'!AE30=\"\",\"\",'Gross Rev Wrksht'!AE30)","v":""},null,null,null,null,null,null,null,null,"Approved"]
[null,null,null,null,{"$f":"IF('Gross Rev Wrksht'!AA30=2019,\"X\",\"\")","v":""},2019,null,null,null,null,null,null,null,null,null,null,null,null,"Disapproved"]
[null,null,null,null,{"$f":"IF(LEFT('Gross Rev Wrksht'!AA30,8)=\"Adjusted\",\"X\",\"\")","v":""},"Adjusted",null,{"$f":"IF(OR('Gross Rev Wrksht'!L8=2022,'Gross Rev Wrksht'!L12=2022),\"X\",\"\")","v":""},2022]
["PART E - PRODUCER CERTIFICATION"]
["I hereby sign and acknowledge under penalty of perjury in accordance with 28 U.S.C. § 1746 and 18 U.S.C. § 1621 that all information on this application, whether entered by me or by someone else on my behalf, is true and correct. I understand that if any information is determined to be in error, the application may be denied, and such errors may result in a determination of ineligibility in whole or in part."]
["27A. Signature (By)",null,null,null,null,null,null,null,null,"27B. Title/Relationship of the Individual Signing in the Representative Capacity",null,null,null,null,null,null,null,"27C. Date (MM/DD/YYYY)"]
["PART F - COUNTY COMMITTEE (COC) DETERMINATION"]
["28A. COC or Designee Signature",null,null,null,null,null,null,null,null,null,null,null,null,null,null,null,null,"28B. Date (MM/DD/YYYY)"]
["In accordance with Federal civil rights law and USDA civil rights regulations and policies, the USDA, its agencies, offices, and employees participating in or administering USDA programs are prohibited from discriminating based on race, color, national origin, religion, sex, gender identity (including gender expression), sexual orientation, disability, age, marital status, family/parental status, income derived from a public assistance program, political beliefs, or reprisal or retaliation for prior civil rights activity, in any program or activity conducted or funded by USDA (not all bases apply to all programs). Remedies and complaint filing deadlines vary by program or incident."]
["Persons with disabilities who require alternative means of communication for program information (e.g., Braille, large print, audiotape, American Sign Language, etc.) should contact the responsible agency or USDA's TARGET Center at (202) 720-2600 (voice and TTY) or contact USDA through the Federal Relay Service at (800) 877-8339. Additionally, program information may be made available in languages other than English."]
["To file a program discrimination complaint, complete the USDA Program Discrimination Complaint Form, AD-3027, found online at http://www.ascr.usda.gov/complaint_filing_cust.html and at any USDA office or write a letter addressed to USDA and provide in the letter all of the information requested in the form. To request a copy of the complaint form, call (866) 632-9992. Submit your completed form or letter to USDA by: (1) mail: U.S. Department of Agriculture Office of the Assistant Secretary for Civil Rights 1400 Independence Avenue, SW Washington, D.C. 20250-9410; (2) fax: (202) 690-7442; or (3) email: program.intake@usda.gov.  USDA is an equal opportunity provider, employer, and lender."]
[null,null,null,null,null,null,null,null,null,null,null,null,null,null,null,"DATE STAMPED"]

{"sheet":"2020_521A","index":4,"n_rows":1001,"n_cols":18,"rows_kept":1001,"cut":false,"hidden":false,"merged":[[1,0,4,3],[1,4,4,9],[0,12,0,14],[6,0,6,5],[39,0,39,4],[86,0,86,4],[108,0,108,4],[155,0,155,4],[202,0,202,4],[249,0,249,4],[343,0,343,4],[296,0,296,4],[390,0,390,4],[437,0,437,4],[484,0,484,4],[531,0,531,4],[578,0,578,4],[106,0,106,12],[106,13,106,14],[107,0,107,12],[107,13,107,14],[101,0,101,12],[101,13,101,14],[102,0,102,12],[102,13,102,14],[103,0,103,12],[103,13,103,14],[97,0,97,12],[97,13,97,14],[98,0,98,12],[98,13,98,14],[99,0,99,14],[100,0,100,12],[100,13,100,14],[93,0,93,14],[94,0,94,12],[94,13,94,14],[95,0,95,12],[95,13,95,14],[96,0,96,12],[96,13,96,14],[104,0,104,12],[104,13,104,14],[105,0,105,14],[90,0,90,12],[90,13,90,14],[91,0,91,12],[91,13,91,14],[92,0,92,12],[92,13,92,14],[84,0,84,12],[84,13,84,14],[85,0,85,12],[85,13,85,14],[88,0,88,14],[89,0,89,12],[89,13,89,14],[86,5,86,12],[86,13,86,14],[87,0,87,4],[87,5,87,12],[87,13,87,14],[77,0,77,12],[77,13,77,14],[72,0,72,6],[72,11,72,12],[72,13,72,14],[73,0,73,6],[73,11,73,12],[73,13,73,14],[72,7,72,8],[73,7,73,8],[81,0,81,12],[81,13,81,14],[82,0,82,12],[82,13,82,14],[83,0,83,12],[83,13,83,14],[78,0,78,12],[78,13,78,14],[79,0,79,12],[79,13,79,14],[70,0,70,6],[70,11,70,12],[70,13,70,14],[80,0,80,12],[80,13,80,14],[71,0,71,6],[71,11,71,12],[71,13,71,14],[68,0,68,6],[68,11,68,12],[68,13,68,14],[69,0,69,6],[69,11,69,12],[69,13,69,14],[68,7,68,8],[69,7,69,8],[70,7,70,8],[71,7,71,8],[74,0,74,12],[74,13,74,14],[75,0,75,14],[76,0,76,12],[76,13,76,14],[63,0,63,6],[63,11,63,12],[63,13,63,14],[60,0,60,6],[60,11,60,12],[60,13,60,14],[61,0,61,6],[61,11,61,12],[61,13,61,14],[60,7,60,8],[61,7,61,8],[62,7,62,8],[63,7,63,8],[66,0,66,6],[66,11,66,12],[66,13,66,14],[67,0,67,6],[67,11,67,12],[67,13,67,14],[64,0,64,6],[64,11,64,12],[64,13,64,14],[65,0,65,6],[65,11,65,12],[65,13,65,14],[64,7,64,8],[65,7,65,8],[66,7,66,8],[67,7,67,8],[58,0,58,6],[58,11,58,12],[58,13,58,14],[59,0,59,6],[59,11,59,12],[59,13,59,14],[56,0,56,6],[56,11,56,12],[56,13,56,14],[57,0,57,6],[57,11,57,12],[57,13,57,14],[56,7,56,8],[57,7,57,8],[58,7,58,8],[59,7,59,8],[62,0,62,6],[62,11,62,12],[62,13,62,14],[49,0,49,14],[50,0,50,6],[50,11,50,12],[50,13,50,14],[46,0,46,12],[46,13,46,14],[47,0,47,12],[47,13,47,14],[48,0,48,12],[48,13,48,14],[50,7,50,8],[54,0,54,6],[54,11,54,12],[54,13,54,14],[55,0,55,6],[55,11,55,12],[55,13,55,14],[52,0,52,6],[52,11,52,12],[52,13,52,14],[53,0,53,6],[53,11,53,12],[53,13,53,14],[52,7,52,8],[53,7,53,8],[54,7,54,8],[55,7,55,8],[35,13,35,14],[36,13,36,14],[31,13,31,14],[32,13,32,14],[33,13,33,14],[31,1,31,12],[32,1,32,12],[33,1,33,12],[34,1,34,12],[35,1,35,12],[36,1,36,12],[43,0,43,12],[43,13,43,14],[44,0,44,12],[44,13,44,14],[45,0,45,12],[45,13,45,14],[37,13,37,14],[38,13,38,14],[41,0,41,14],[42,0,42,12],[42,13,42,14],[37,1,37,12],[38,1,38,12],[40,0,40,4],[39,13,39,14],[40,13,40,14],[39,5,39,12],[40,5,40,12],[18,0,18,14],[25,13,25,14],[19,1,19,12],[20,1,20,12],[21,1,21,12],[22,1,22,12],[23,1,23,12],[24,1,24,12],[25,1,25,12],[26,13,26,14],[29,0,29,14],[30,0,30,14],[22,13,22,14],[23,13,23,14],[24,13,24,14],[34,13,34,14],[26,1,26,12],[21,13,21,14],[27,0,27,4],[27,5,27,12],[27,13,27,14],[28,0,28,4],[28,5,28,12],[28,13,28,14],[108,5,108,12],[108,13,108,14],[109,0,109,4],[109,5,109,12],[109,13,109,14],[110,0,110,14],[111,0,111,12],[111,13,111,14],[51,13,51,14],[51,11,51,12],[51,7,51,8],[51,0,51,6],[4,12,4,14],[4,10,4,11],[2,10,2,13],[1,10,1,13],[3,10,3,11],[3,12,3,14],[5,0,5,14],[19,13,19,14],[20,13,20,14],[9,2,9,14],[10,2,10,14],[11,0,11,14],[12,2,12,14],[13,2,13,14],[14,0,14,14],[15,2,15,14],[16,2,16,14],[7,0,7,14],[8,0,8,14],[17,0,17,14],[117,0,117,12],[117,13,117,14],[118,0,118,14],[119,0,119,6],[119,7,119,8],[119,11,119,12],[119,13,119,14],[120,0,120,6],[120,7,120,8],[120,11,120,12],[120,13,120,14],[112,0,112,12],[112,13,112,14],[113,0,113,12],[113,13,113,14],[114,0,114,12],[114,13,114,14],[115,0,115,12],[115,13,115,14],[116,0,116,12],[116,13,116,14],[124,0,124,6],[124,7,124,8],[124,11,124,12],[124,13,124,14],[125,0,125,6],[125,7,125,8],[125,11,125,12],[125,13,125,14],[126,0,126,6],[126,7,126,8],[126,11,126,12],[126,13,126,14],[121,0,121,6],[121,7,121,8],[121,11,121,12],[121,13,121,14],[122,0,122,6],[122,7,122,8],[122,11,122,12],[122,13,122,14],[123,0,123,6],[123,7,123,8],[123,11,123,12],[123,13,123,14],[130,0,130,6],[130,7,130,8],[130,11,130,12],[130,13,130,14],[131,0,131,6],[131,7,131,8],[131,11,131,12],[131,13,131,14],[132,0,132,6],[132,7,132,8],[132,11,132,12],[132,13,132,14],[127,0,127,6],[127,7,127,8],[127,11,127,12],[127,13,127,14],[128,0,128,6],[128,7,128,8],[128,11,128,12],[128,13,128,14],[129,0,129,6],[129,7,129,8],[129,11,129,12],[129,13,129,14],[136,0,136,6],[136,7,136,8],[136,11,136,12],[136,13,136,14],[137,0,137,6],[137,7,137,8],[137,11,137,12],[137,13,137,14],[138,0,138,6],[138,7,138,8],[138,11,138,12],[138,13,138,14],[133,0,133,6],[133,7,133,8],[133,11,133,12],[133,13,133,14],[134,0,134,6],[134,7,134,8],[134,11,134,12],[134,13,134,14],[135,0,135,6],[135,7,135,8],[135,11,135,12],[135,13,135,14],[142,0,142,6],[142,7,142,8],[142,11,142,12],[142,13,142,14],[143,0,143,12],[143,13,143,14],[144,0,144,14],[145,0,145,12],[145,13,145,14],[139,0,139,6],[139,7,139,8],[139,11,139,12],[139,13,139,14],[140,0,140,6],[140,7,140,8],[140,11,140,12],[140,13,140,14],[141,0,141,6],[141,7,141,8],[141,11,141,12],[141,13,141,14],[158,0,158,12],[158,13,158,14],[159,0,159,12],[159,13,159,14],[160,0,160,12],[160,13,160,14],[151,0,151,12],[151,13,151,14],[152,0,152,12],[152,13,152,14],[153,0,153,12],[153,13,153,14],[154,0,154,12],[154,13,154,14],[146,0,146,12],[146,13,146,14],[147,0,147,12],[147,13,147,14],[148,0,148,12],[148,13,148,14],[149,0,149,12],[149,13,149,14],[150,0,150,12],[150,13,150,14],[155,5,155,12],[155,13,155,14],[169,7,169,8],[169,11,169,12],[166,13,166,14],[167,13,167,14],[169,13,169,14],[170,0,170,6],[170,7,170,8],[170,11,170,12],[171,13,171,14],[172,13,172,14],[173,13,173,14],[175,13,175,14],[171,0,171,6],[171,7,171,8],[171,11,171,12],[172,0,172,6],[172,7,172,8],[172,11,172,12],[173,0,173,6],[173,7,173,8],[173,11,173,12],[174,0,174,6],[174,7,174,8],[174,11,174,12],[174,13,174,14],[175,0,175,6],[175,7,175,8],[170,13,170,14],[161,0,161,12],[161,13,161,14],[163,0,163,12],[163,13,163,14],[164,0,164,12],[164,13,164,14],[156,0,156,4],[156,5,156,12],[156,13,156,14],[157,0,157,14],[179,0,179,6],[179,7,179,8],[179,11,179,12],[179,13,179,14],[180,0,180,6],[180,7,180,8],[180,11,180,12],[180,13,180,14],[162,0,162,12],[162,13,162,14],[165,0,165,14],[166,0,166,6],[166,7,166,8],[166,11,166,12],[167,0,167,6],[167,7,167,8],[167,11,167,12],[168,0,168,6],[168,7,168,8],[168,11,168,12],[168,13,168,14],[169,0,169,6],[181,0,181,6],[181,7,181,8],[181,11,181,12],[181,13,181,14],[175,11,175,12],[176,0,176,6],[176,7,176,8],[176,11,176,12],[177,0,177,6],[177,7,177,8],[177,11,177,12],[177,13,177,14],[178,0,178,6],[178,7,178,8],[178,11,178,12],[178,13,178,14],[176,13,176,14],[185,0,185,6],[185,7,185,8],[185,11,185,12],[185,13,185,14],[186,0,186,6],[186,7,186,8],[186,11,186,12],[186,13,186,14],[187,0,187,6],[187,7,187,8],[187,11,187,12],[187,13,187,14],[182,0,182,6],[182,7,182,8],[182,11,182,12],[182,13,182,14],[183,0,183,6],[183,7,183,8],[183,11,183,12],[183,13,183,14],[184,0,184,6],[184,7,184,8],[184,11,184,12],[184,13,184,14],[191,0,191,14],[192,0,192,12],[192,13,192,14],[193,0,193,12],[193,13,193,14],[194,0,194,12],[194,13,194,14],[195,0,195,12],[195,13,195,14],[188,0,188,6],[188,7,188,8],[188,11,188,12],[188,13,188,14],[189,0,189,6],[189,7,189,8],[189,11,189,12],[189,13,189,14],[190,0,190,12],[190,13,190,14],[201,0,201,12],[201,13,201,14],[202,5,202,12],[202,13,202,14],[203,0,203,4],[203,5,203,12],[203,13,203,14],[204,0,204,14],[196,0,196,12],[196,13,196,14],[197,0,197,12],[197,13,197,14],[198,0,198,12],[198,13,198,14],[199,0,199,12],[199,13,199,14],[200,0,200,12],[200,13,200,14],[210,0,210,12],[210,13,210,14],[211,0,211,12],[211,13,211,14],[212,0,212,14],[213,0,213,6],[213,7,213,8],[213,11,213,12],[213,13,213,14],[205,0,205,12],[205,13,205,14],[206,0,206,12],[206,13,206,14],[207,0,207,12],[207,13,207,14],[208,0,208,12],[208,13,208,14],[209,0,209,12],[209,13,209,14],[217,0,217,6],[217,7,217,8],[217,11,217,12],[217,13,217,14],[218,0,218,6],[218,7,218,8],[218,11,218,12],[218,13,218,14],[219,0,219,6],[219,7,219,8],[219,11,219,12],[219,13,219,14],[214,0,214,6],[214,7,214,8],[214,11,214,12],[214,13,214,14],[215,0,215,6],[215,7,215,8],[215,11,215,12],[215,13,215,14],[216,0,216,6],[216,7,216,8],[216,11,216,12],[216,13,216,14],[223,0,223,6],[223,7,223,8],[223,11,223,12],[223,13,223,14],[224,0,224,6],[224,7,224,8],[224,11,224,12],[224,13,224,14],[225,0,225,6],[225,7,225,8],[225,11,225,12],[225,13,225,14],[220,0,220,6],[220,7,220,8],[220,11,220,12],[220,13,220,14],[221,0,221,6],[221,7,221,8],[221,11,221,12],[221,13,221,14],[222,0,222,6],[222,7,222,8],[222,11,222,12],[222,13,222,14],[229,0,229,6],[229,7,229,8],[229,11,229,12],[229,13,229,14],[230,0,230,6],[230,7,230,8],[230,11,230,12],[230,13,230,14],[231,0,231,6],[231,7,231,8],[231,11,231,12],[231,13,231,14],[226,0,226,6],[226,7,226,8],[226,11,226,12],[226,13,226,14],[227,0,227,6],[227,7,227,8],[227,11,227,12],[227,13,227,14],[228,0,228,6],[228,7,228,8],[228,11,228,12],[228,13,228,14],[235,0,235,6],[235,7,235,8],[235,11,235,12],[235,13,235,14],[236,0,236,6],[236,7,236,8],[236,11,236,12],[236,13,236,14],[237,0,237,12],[237,13,237,14],[232,0,232,6],[232,7,232,8],[232,11,232,12],[232,13,232,14],[233,0,233,6],[233,7,233,8],[233,11,233,12],[233,13,233,14],[234,0,234,6],[234,7,234,8],[234,11,234,12],[234,13,234,14],[243,0,243,12],[243,13,243,14],[244,0,244,12],[244,13,244,14],[245,0,245,12],[245,13,245,14],[246,0,246,12],[246,13,246,14],[247,0,247,12],[247,13,247,14],[238,0,238,14],[239,0,239,12],[239,13,239,14],[240,0,240,12],[240,13,240,14],[241,0,241,12],[241,13,241,14],[242,0,242,12],[242,13,242,14],[252,0,252,12],[252,13,252,14],[253,0,253,12],[253,13,253,14],[254,0,254,12],[254,13,254,14],[255,0,255,12],[255,13,255,14],[256,0,256,12],[256,13,256,14],[248,0,248,12],[248,13,248,14],[249,5,249,12],[249,13,249,14],[250,0,250,4],[250,5,250,12],[250,13,250,14],[251,0,251,14],[261,0,261,6],[261,7,261,8],[261,11,261,12],[261,13,261,14],[262,0,262,6],[262,7,262,8],[262,11,262,12],[262,13,262,14],[263,0,263,6],[263,7,263,8],[263,11,263,12],[263,13,263,14],[257,0,257,12],[257,13,257,14],[258,0,258,12],[258,13,258,14],[259,0,259,14],[260,0,260,6],[260,7,260,8],[260,11,260,12],[260,13,260,14],[267,0,267,6],[267,7,267,8],[267,11,267,12],[267,13,267,14],[268,0,268,6],[268,7,268,8],[268,11,268,12],[268,13,268,14],[269,0,269,6],[269,7,269,8],[269,11,269,12],[269,13,269,14],[264,0,264,6],[264,7,264,8],[264,11,264,12],[264,13,264,14],[265,0,265,6],[265,7,265,8],[265,11,265,12],[265,13,265,14],[266,0,266,6],[266,7,266,8],[266,11,266,12],[266,13,266,14],[273,0,273,6],[273,7,273,8],[273,11,273,12],[273,13,273,14],[274,0,274,6],[274,7,274,8],[274,11,274,12],[274,13,274,14],[275,0,275,6],[275,7,275,8],[275,11,275,12],[275,13,275,14],[270,0,270,6],[270,7,270,8],[270,11,270,12],[270,13,270,14],[271,0,271,6],[271,7,271,8],[271,11,271,12],[271,13,271,14],[272,0,272,6],[272,7,272,8],[272,11,272,12],[272,13,272,14],[279,0,279,6],[279,7,279,8],[279,11,279,12],[279,13,279,14],[280,0,280,6],[280,7,280,8],[280,11,280,12],[280,13,280,14],[281,0,281,6],[281,7,281,8],[281,11,281,12],[281,13,281,14],[276,0,276,6],[276,7,276,8],[276,11,276,12],[276,13,276,14],[277,0,277,6],[277,7,277,8],[277,11,277,12],[277,13,277,14],[278,0,278,6],[278,7,278,8],[278,11,278,12],[278,13,278,14],[285,0,285,14],[286,0,286,12],[286,13,286,14],[287,0,287,12],[287,13,287,14],[288,0,288,12],[288,13,288,14],[289,0,289,12],[289,13,289,14],[282,0,282,6],[282,7,282,8],[282,11,282,12],[282,13,282,14],[283,0,283,6],[283,7,283,8],[283,11,283,12],[283,13,283,14],[284,0,284,12],[284,13,284,14],[295,0,295,12],[295,13,295,14],[296,5,296,12],[296,13,296,14],[297,0,297,4],[297,5,297,12],[297,13,297,14],[298,0,298,14],[290,0,290,12],[290,13,290,14],[291,0,291,12],[291,13,291,14],[292,0,292,12],[292,13,292,14],[293,0,293,12],[293,13,293,14],[294,0,294,12],[294,13,294,14],[304,0,304,12],[304,13,304,14],[305,0,305,12],[305,13,305,14],[306,0,306,14],[307,0,307,6],[307,7,307,8],[307,11,307,12],[307,13,307,14],[299,0,299,12],[299,13,299,14],[300,0,300,12],[300,13,300,14],[301,0,301,12],[301,13,301,14],[302,0,302,12],[302,13,302,14],[303,0,303,12],[303,13,303,14],[311,0,311,6],[311,7,311,8],[311,11,311,12],[311,13,311,14],[312,0,312,6],[312,7,312,8],[312,11,312,12],[312,13,312,14],[313,0,313,6],[313,7,313,8],[313,11,313,12],[313,13,313,14],[308,0,308,6],[308,7,308,8],[308,11,308,12],[308,13,308,14],[309,0,309,6],[309,7,309,8],[309,11,309,12],[309,13,309,14],[310,0,310,6],[310,7,310,8],[310,11,310,12],[310,13,310,14],[317,0,317,6],[317,7,317,8],[317,11,317,12],[317,13,317,14],[318,0,318,6],[318,7,318,8],[318,11,318,12],[318,13,318,14],[319,0,319,6],[319,7,319,8],[319,11,319,12],[319,13,319,14],[314,0,314,6],[314,7,314,8],[314,11,314,12],[314,13,314,14],[315,0,315,6],[315,7,315,8],[315,11,315,12],[315,13,315,14],[316,0,316,6],[316,7,316,8],[316,11,316,12],[316,13,316,14],[323,0,323,6],[323,7,323,8],[323,11,323,12],[323,13,323,14],[324,0,324,6],[324,7,324,8],[324,11,324,12],[324,13,324,14],[325,0,325,6],[325,7,325,8],[325,11,325,12],[325,13,325,14],[320,0,320,6],[320,7,320,8],[320,11,320,12],[320,13,320,14],[321,0,321,6],[321,7,321,8],[321,11,321,12],[321,13,321,14],[322,0,322,6],[322,7,322,8],[322,11,322,12],[322,13,322,14],[329,0,329,6],[329,7,329,8],[329,11,329,12],[329,13,329,14],[330,0,330,6],[330,7,330,8],[330,11,330,12],[330,13,330,14],[331,0,331,12],[331,13,331,14],[326,0,326,6],[326,7,326,8],[326,11,326,12],[326,13,326,14],[327,0,327,6],[327,7,327,8],[327,11,327,12],[327,13,327,14],[328,0,328,6],[328,7,328,8],[328,11,328,12],[328,13,328,14],[337,0,337,12],[337,13,337,14],[338,0,338,12],[338,13,338,14],[339,0,339,12],[339,13,339,14],[340,0,340,12],[340,13,340,14],[341,0,341,12],[341,13,341,14],[332,0,332,14],[333,0,333,12],[333,13,333,14],[334,0,334,12],[334,13,334,14],[335,0,335,12],[335,13,335,14],[336,0,336,12],[336,13,336,14],[346,0,346,12],[346,13,346,14],[347,0,347,12],[347,13,347,14],[348,0,348,12],[348,13,348,14],[349,0,349,12],[349,13,349,14],[350,0,350,12],[350,13,350,14],[342,0,342,12],[342,13,342,14],[343,5,343,12],[343,13,343,14],[344,0,344,4],[344,5,344,12],[344,13,344,14],[345,0,345,14],[355,0,355,6],[355,7,355,8],[355,11,355,12],[355,13,355,14],[356,0,356,6],[356,7,356,8],[356,11,356,12],[356,13,356,14],[357,0,357,6],[357,7,357,8],[357,11,357,12],[357,13,357,14],[351,0,351,12],[351,13,351,14],[352,0,352,12],[352,13,352,14],[353,0,353,14],[354,0,354,6],[354,7,354,8],[354,11,354,12],[354,13,354,14],[361,0,361,6],[361,7,361,8],[361,11,361,12],[361,13,361,14],[362,0,362,6],[362,7,362,8]],"merged_total":2925,"flags":["merged_cut"]}
[null,null,null,null,null,null,null,null,null,null,null,null,"OMB Approval # 0560-0309\nExpiration Date 12/31/2025"]
["FSA-521-A\n01-23-2023",null,null,null,"U.S. DEPARTMENT OF AGRICULTURE\nFarm Service Agency\nEMERGENCY RELIEF PROGRAM (ERP) PHASE 2 ALLOWABLE GROSS REVENUE WORKSHEET\n1.",null,null,null,null,null,"1.  Applicant Name:",null,null,null,"2.  Application Number:"]
[null,null,null,null,null,null,null,null,null,null,{"$f":"IF('Gross Rev Wrksht'!E10=\"\",\"\",'Gross Rev Wrksht'!E10)","v":""},null,null,null,null,null,null,4]
[null,null,null,null,null,null,null,null,null,null,"3. Recording State:",null,"4. Recording County:"]
[null,null,null,null,null,null,null,null,null,null,{"$f":"IF('Gross Rev Wrksht'!E8=\"\",\"\",'Gross Rev Wrksht'!E8)","v":""},null,{"$f":"IF('Gross Rev Wrksht'!E9=\"\",\"\",'Gross Rev Wrksht'!E9)","v":""}]
["SECTION A – SELECT DISASTER YEAR",null,null,null,null,null,null,null,null,null,null,null,null,null,null,null,{"$f":"IF(AND(K7=\"\",N7=\"\"),\"\",IF(K7=\"X\",2020,IF(N7=\"X\",2021)))","v":2020}]
["5. Select Disaster Year:",null,null,null,null,null,null,null,null,null,"X",2020,"OR  ",{"$f":"IF(AND(LEFT('Gross Rev Wrksht'!H7,4)=\"2021\",LEFT('Gross Rev Wrksht'!L9,8)=\"Adjusted\"),\"X\",IF(AND(LEFT('Gross Rev Wrksht'!H11,4)=\"2021\",LEFT('Gross Rev Wrksht'!L13,8)=\"Adjusted\",K7=\"\"),\"X\",\"\"))","v":""},2021]
["SECTION B – IDENTIFY SPECIAL REVENUE CONDITIONS"]
["6. Are you a new producer in 2020 or 2021 that did not have any allowable gross revenue in 2018 or 2019?\n"]
[{"$f":"IF('521A_entry'!AD1=\"Yes\",\"X\",\"\")","v":""},"YES","If \"YES\", complete Section D, complete Sections E through G to calculate Expected Allowable Disaster Year Revenue, and then complete Sections H and K."]
[{"$f":"IF(A10=\"X\",\"\",\"X\")","v":"X"},"NO","If “NO”, continue to Item 7"]
["7. Do you have allowable gross revenue in 2018 or 2019, but your operation has undergone a decrease in operating capacity from Benchmark Year to Disaster Year?\n"]
[{"$f":"IF(OR(AND(TEXT(Q6,0)=LEFT('521A_entry'!AE2,4),'521A_entry'!AD2=\"Yes\"),AND(TEXT(Q6,0)=RIGHT('521A_entry'!AE2,4),'521A_entry'!AD2=\"Yes\")),\"X\",\"\")","v":""},"YES","If \"YES\", complete Sections C and D, complete Sections E through G to calculate Expected Decrease in Revenue, and then complete Sections I and K."]
[{"$f":"IF(A13=\"X\",\"\",\"X\")","v":"X"},"NO","If “NO”, continue to Item 8"]
["8. Do you have allowable gross revenue in 2018 or 2019, but your operation has undergone an increase in operating capacity from Benchmark Year to Disaster Year?\n"]
[{"$f":"IF(OR(AND(TEXT(Q6,0)=TEXT(LEFT('521A_entry'!AE3,4),0),'521A_entry'!AD3=\"Yes\"),AND(TEXT(Q6,0)=TEXT(RIGHT('521A_entry'!AE3,4),0),'521A_entry'!AD3=\"Yes\")),\"X\",\"\")","v":""},"YES","If \"YES\", complete Sections C and D, complete Sections E through G to calculate Expected Increase in Revenue, and the complete Sections J and K"]
[{"$f":"IF(A16=\"X\",\"\",\"X\")","v":"X"},"NO","If “NO”, complete Section C and Section D, and then complete Section K"]
["SECTION C – ACTUAL ALLOWABLE BENCHMARK YEAR REVENUE"]
["Enter allowable gross revenue items based only on the selected Benchmark Year (refer to How to Determine Allowable Gross Revenue Table on Form FSA-521)."]
[9,"Enter amount of allowable gross revenue from sales of eligible crops purchased for resale that had a change in characteristic due to the time held, such as a plant purchased at a size of 2 inches and sold as an 18-inch plant after 4 months (Schedule F Line 1c):",null,null,null,null,null,null,null,null,null,null,null,{"$f":"IF('Gross Rev Wrksht'!AB19=\"\",\"\",'Gross Rev Wrksht'!AB19)","v":""}]
[10,"Enter amount of allowable gross revenue from sales of eligible crops grown and sold in the United States by the applicant (example: corn sold as grain); also include sales of eligible crops grown by the applicant resulting from value added through post production activities that could have been reported on Schedule F (example: strawberries into jam); and also include sales of aquatic species that are grown as food for human or livestock consumption, for industrial or biomass uses, as fish raised as feed for fish that are consumed by humans, as ornamental fish propagated and reared in an aquatic medium (Schedule F Line 2):",null,null,null,null,null,null,null,null,null,null,null,{"$f":"IF('Gross Rev Wrksht'!AB20=\"\",\"\",'Gross Rev Wrksht'!AB20)","v":""}]
[11,"Enter amount of allowable gross revenue from the taxable amount of cooperative distributions directly related to the sale of eligible crops produced by the applicant such as: per-unit allocations paid to patrons for gross grain sales (Schedule F Line 3a; Form 1099-PATR):",null,null,null,null,null,null,null,null,null,null,null,{"$f":"IF('Gross Rev Wrksht'!AB21=\"\",\"\",'Gross Rev Wrksht'!AB21)","v":""}]
[12,"Enter amount of allowable gross revenue from agricultural program payments such as ARC/PLC, BCAP, LDP, MLG – repayment of CCC loans less than the original amount, MFP, and STRP (Schedule F Line 4a, or Form 1099-G):",null,null,null,null,null,null,null,null,null,null,null,{"$f":"IF('Gross Rev Wrksht'!AB22=\"\",\"\",'Gross Rev Wrksht'!AB22)","v":""}]
[13,"Enter amount of allowable gross revenue from CCC loans reported under election if elected to be treated as income and reported to IRS when all or part of the production is used as collateral to secure the loan; and forfeited CCC loans (Schedule F Line 5a - 5c, Form 1099-A):",null,null,null,null,null,null,null,null,null,null,null,{"$f":"IF('Gross Rev Wrksht'!AB23=\"\",\"\",'Gross Rev Wrksht'!AB23)","v":""}]
[14,"Enter amount of allowable gross revenue from crop insurance proceeds less administrative fees and premiums, NAP\npayments less administrative fees and premiums, 2017 WHIP payments, 2018/2019 WHIP+ payments, QLA\npayments, OFSLP payments, ELAP payments specific to aquaculture, payments received through grant agreements\nwith FSA for losses of eligible crops, grants from the Department of Commerce, NOAA, and State program funds for\nthe direct loss of eligible crops or the loss of revenue for eligible crops (Schedule F Line 6):",null,null,null,null,null,null,null,null,null,null,null,{"$f":"IF('Gross Rev Wrksht'!AB24=\"\",\"\",'Gross Rev Wrksht'!AB24)","v":""}]
[15,"Enter amount of other allowable gross revenue directly related to the production of eligible crops that the IRS requires the applicant to report, such as but not limited to: commodity specific income received from state or local governments (Schedule F Line 8):",null,null,null,null,null,null,null,null,null,null,null,{"$f":"IF('Gross Rev Wrksht'!AB25=\"\",\"\",'Gross Rev Wrksht'!AB25)","v":""}]
[16,"Total Actual Allowable Benchmark Year Revenue (sum Items 9 through 15):",null,null,null,null,null,null,null,null,null,null,null,{"$f":"IF(AND(N20=\"\",N21=\"\",N22=\"\",N23=\"\",N24=\"\",N25=\"\",N26=\"\"),\"\",SUM(N20:O26))","v":""}]
["FSA-521-A (01-23-2023)",null,null,null,null,"1.  Applicant Name",null,null,null,null,null,null,null,"2.  Application Number:"]
[{"$f":"\"Page 2 of \"&$R$3","v":"Page 2 of 4"},null,null,null,null,{"$f":"IF(K3=\"\",\"\",K3)","v":""}]
["SECTION D – ACTUAL ALLOWABLE DISASTER YEAR REVENUE"]
["Enter allowable gross revenue items based only on the selected Disaster Year from Item 5 (refer to How to Determine Allowable Gross Revenue Table on Form FSA-521)."]
[17,"Enter amount of allowable gross revenue from sales of eligible crops purchased for resale that had a change in characteristic due to the time held, such as a plant purchased at a size of 2 inches and sold as an 18-inch plant after 4 months (Schedule F Line 1c):",null,null,null,null,null,null,null,null,null,null,null,{"$f":"IF('Gross Rev Wrksht'!AF19=\"\",\"\",'Gross Rev Wrksht'!AF19)","v":""}]
[18,"Enter amount of allowable gross revenue from sales of eligible crops grown and sold in the United States and its Territories by the applicant (example would corn sold as grain); also include sales of eligible crops grown by the applicant resulting from value-added through post-production activities that would have been reported on IRS Schedule F (example: strawberries into jam); and also include sales of aquatic species that are grown as food for human or livestock consumption, for industrial or biomass uses, as fish raised as feed for fish that are consumed by humans, as ornamental fish propagated and reared in an aquatic medium (Schedule F Line 2):",null,null,null,null,null,null,null,null,null,null,null,{"$f":"IF('Gross Rev Wrksht'!AF20=\"\",\"\",'Gross Rev Wrksht'!AF20)","v":""}]
[19,"Enter amount of allowable gross revenue from the taxable amount of cooperative distributions directly related to the sale of eligible crops produced by the applicant such as: per-unit allocations paid to patrons for gross grain sales (Schedule F Line 3a or Form 1099-PATR):",null,null,null,null,null,null,null,null,null,null,null,{"$f":"IF('Gross Rev Wrksht'!AF21=\"\",\"\",'Gross Rev Wrksht'!AF21)","v":""}]
[20,"Enter amount of allowable gross revenue from agricultural program payments such as ARC/PLC, BCAP, LDP, MLG – repayment of CCC loans less than the original amount, MFP, STRP, and ERP Phase 1 payments issued to another person or entity for the applicant's share of an eligible crop regardless of the tax year in which the payment would be reported to the IRS (Schedule F Line 4a, or Form 1099-G):",null,null,null,null,null,null,null,null,null,null,null,{"$f":"IF('Gross Rev Wrksht'!AF22=\"\",\"\",'Gross Rev Wrksht'!AF22)","v":""}]
[21,"Enter amount of allowable gross revenue from CCC loans reported under election if elected to be treated as income and reported to IRS when all or part of the production is used as collateral to secure the loan; and forfeited CCC loans (Schedule F Line 5a - 5c, Form 1099-A):",null,null,null,null,null,null,null,null,null,null,null,{"$f":"IF('Gross Rev Wrksht'!AF23=\"\",\"\",'Gross Rev Wrksht'!AF23)","v":""}]
[22,"Enter amount of allowable gross revenue from crop insurance proceeds less administrative fees and premiums, NAP payments less administrative fees and premiums, OFSLP payments, ELAP payments specific to aquaculture, payments received through grant agreements with FSA for losses of eligible crops, grants from the Department of Commerce, NOAA, and State program funds for the direct loss of eligible crops or the loss of revenue for eligible crops (Schedule F Line 6):",null,null,null,null,null,null,null,null,null,null,null,{"$f":"IF('Gross Rev Wrksht'!AF24=\"\",\"\",'Gross Rev Wrksht'!AF24)","v":""}]
[23,"Enter amount of other allowable gross revenue directly related to the production of eligible crops that the IRS requires the applicant to report, such as but not limited to: commodity specific income received from state or local governments (Schedule F Line 8):",null,null,null,null,null,null,null,null,null,null,null,{"$f":"IF('Gross Rev Wrksht'!AF25=\"\",\"\",'Gross Rev Wrksht'!AF25)","v":""},null,null,null,4]
[24,"Total Actual Allowable Disaster Year Revenue (sum Items 17 through 23):",null,null,null,null,null,null,null,null,null,null,null,{"$f":"IF(AND(N32=\"\",N33=\"\",N34=\"\",N35=\"\",N36=\"\",N37=\"\",N38=\"\"),\"\",SUM(N32:O38))","v":""}]
["FSA-521-A (01-23-2023)",null,null,null,null,"1.  Applicant Name",null,null,null,null,null,null,null,"2.  Application Number:"]
[{"$f":"\"Page 3 of \"&$R$3","v":"Page 3 of 4"},null,null,null,null,{"$f":"IF(K3=\"\",\"\",K3)","v":""}]
["SECTION E – ELIGIBLE VALUE-ADDED COMMODITIES"]
["25. Commodity:",null,null,null,null,null,null,null,null,null,null,null,null,"26. Expected Revenue:"]
[{"$f":"IF(OR('521A_entry'!L149=\"\",'521A_entry'!L149=0),\"\",'521A_entry'!L149)","v":""},null,null,null,null,null,null,null,null,null,null,null,null,{"$f":"IF(OR('521A_entry'!M149=\"\",'521A_entry'!M149=0),\"\",'521A_entry'!M149)","v":""}]
[{"$f":"IF(OR('521A_entry'!L150=\"\",'521A_entry'!L150=0),\"\",'521A_entry'!L150)","v":""},null,null,null,null,null,null,null,null,null,null,null,null,{"$f":"IF(OR('521A_entry'!M150=\"\",'521A_entry'!M150=0),\"\",'521A_entry'!M150)","v":""}]
[{"$f":"IF(OR('521A_entry'!L151=\"\",'521A_entry'!L151=0),\"\",'521A_entry'!L151)","v":""},null,null,null,null,null,null,null,null,null,null,null,null,{"$f":"IF(OR('521A_entry'!M151=\"\",'521A_entry'!M151=0),\"\",'521A_entry'!M151)","v":""}]
[{"$f":"IF(OR('521A_entry'!L152=\"\",'521A_entry'!L152=0),\"\",'521A_entry'!L152)","v":""},null,null,null,null,null,null,null,null,null,null,null,null,{"$f":"IF(OR('521A_entry'!M152=\"\",'521A_entry'!M152=0),\"\",'521A_entry'!M152)","v":""}]
[{"$f":"IF(OR('521A_entry'!L153=\"\",'521A_entry'!L153=0),\"\",'521A_entry'!L153)","v":""},null,null,null,null,null,null,null,null,null,null,null,null,{"$f":"IF(OR('521A_entry'!M153=\"\",'521A_entry'!M153=0),\"\",'521A_entry'!M153)","v":""}]
["27. Total Expected Revenue from Eligible Value Added Commodities (sum amounts in column for Item 26):",null,null,null,null,null,null,null,null,null,null,null,null,{"$f":"IF($Q$6='521A_entry'!$A$146,'521A_entry'!M251,IF($Q$6='521A_entry'!$A$255,'521A_entry'!M360,\"\"))","v":0}]
["SECTION F – ELIGIBLE YIELD-BASED CROPS/COMMODITIES"]
["28. Crop/Commodity:",null,null,null,null,null,null,"29. Expected Acres:",null,"30. Expected Yield:\nPer Acre","31. Unit of Measure:","32. Expected Price:\n(Per Unit)",null,"33.  Expected Revenue:"]
[{"$f":"IF(OR('521A_entry'!C149=\"\",'521A_entry'!C149=0),\"\",'521A_entry'!C149)","v":""},null,null,null,null,null,null,{"$f":"IF(OR('521A_entry'!D149=\"\",'521A_entry'!D149=0),\"\",'521A_entry'!D149)","v":""},null,{"$f":"IF(OR('521A_entry'!E149=\"\",'521A_entry'!E149=0),\"\",'521A_entry'!E149)","v":""},{"$f":"IF(OR('521A_entry'!F149=\"\",'521A_entry'!F149=0),\"\",'521A_entry'!F149)","v":""},{"$f":"IF(OR('521A_entry'!G149=\"\",'521A_entry'!G149=0),\"\",'521A_entry'!G149)","v":""},null,{"$f":"IF(OR('521A_entry'!H149=\"\",'521A_entry'!H149=0),\"\",'521A_entry'!H149)","v":""}]
[{"$f":"IF(OR('521A_entry'!C150=\"\",'521A_entry'!C150=0),\"\",'521A_entry'!C150)","v":""},null,null,null,null,null,null,{"$f":"IF(OR('521A_entry'!D150=\"\",'521A_entry'!D150=0),\"\",'521A_entry'!D150)","v":""},null,{"$f":"IF(OR('521A_entry'!E150=\"\",'521A_entry'!E150=0),\"\",'521A_entry'!E150)","v":""},{"$f":"IF(OR('521A_entry'!F150=\"\",'521A_entry'!F150=0),\"\",'521A_entry'!F150)","v":""},{"$f":"IF(OR('521A_entry'!G150=\"\",'521A_entry'!G150=0),\"\",'521A_entry'!G150)","v":""},null,{"$f":"IF(OR('521A_entry'!H150=\"\",'521A_entry'!H150=0),\"\",'521A_entry'!H150)","v":""}]
[{"$f":"IF(OR('521A_entry'!C151=\"\",'521A_entry'!C151=0),\"\",'521A_entry'!C151)","v":""},null,null,null,null,null,null,{"$f":"IF(OR('521A_entry'!D151=\"\",'521A_entry'!D151=0),\"\",'521A_entry'!D151)","v":""},null,{"$f":"IF(OR('521A_entry'!E151=\"\",'521A_entry'!E151=0),\"\",'521A_entry'!E151)","v":""},{"$f":"IF(OR('521A_entry'!F151=\"\",'521A_entry'!F151=0),\"\",'521A_entry'!F151)","v":""},{"$f":"IF(OR('521A_entry'!G151=\"\",'521A_entry'!G151=0),\"\",'521A_entry'!G151)","v":""},null,{"$f":"IF(OR('521A_entry'!H151=\"\",'521A_entry'!H151=0),\"\",'521A_entry'!H151)","v":""}]
[{"$f":"IF(OR('521A_entry'!C152=\"\",'521A_entry'!C152=0),\"\",'521A_entry'!C152)","v":""},null,null,null,null,null,null,{"$f":"IF(OR('521A_entry'!D152=\"\",'521A_entry'!D152=0),\"\",'521A_entry'!D152)","v":""},null,{"$f":"IF(OR('521A_entry'!E152=\"\",'521A_entry'!E152=0),\"\",'521A_entry'!E152)","v":""},{"$f":"IF(OR('521A_entry'!F152=\"\",'521A_entry'!F152=0),\"\",'521A_entry'!F152)","v":""},{"$f":"IF(OR('521A_entry'!G152=\"\",'521A_entry'!G152=0),\"\",'521A_entry'!G152)","v":""},null,{"$f":"IF(OR('521A_entry'!H152=\"\",'521A_entry'!H152=0),\"\",'521A_entry'!H152)","v":""}]
[{"$f":"IF(OR('521A_entry'!C153=\"\",'521A_entry'!C153=0),\"\",'521A_entry'!C153)","v":""},null,null,null,null,null,null,{"$f":"IF(OR('521A_entry'!D153=\"\",'521A_entry'!D153=0),\"\",'521A_entry'!D153)","v":""},null,{"$f":"IF(OR('521A_entry'!E153=\"\",'521A_entry'!E153=0),\"\",'521A_entry'!E153)","v":""},{"$f":"IF(OR('521A_entry'!F153=\"\",'521A_entry'!F153=0),\"\",'521A_entry'!F153)","v":""},{"$f":"IF(OR('521A_entry'!G153=\"\",'521A_entry'!G153=0),\"\",'521A_entry'!G153)","v":""},null,{"$f":"IF(OR('521A_entry'!H153=\"\",'521A_entry'!H153=0),\"\",'521A_entry'!H153)","v":""}]
[{"$f":"IF(OR('521A_entry'!C154=\"\",'521A_entry'!C154=0),\"\",'521A_entry'!C154)","v":""},null,null,null,null,null,null,{"$f":"IF(OR('521A_entry'!D154=\"\",'521A_entry'!D154=0),\"\",'521A_entry'!D154)","v":""},null,{"$f":"IF(OR('521A_entry'!E154=\"\",'521A_entry'!E154=0),\"\",'521A_entry'!E154)","v":""},{"$f":"IF(OR('521A_entry'!F154=\"\",'521A_entry'!F154=0),\"\",'521A_entry'!F154)","v":""},{"$f":"IF(OR('521A_entry'!G154=\"\",'521A_entry'!G154=0),\"\",'521A_entry'!G154)","v":""},null,{"$f":"IF(OR('521A_entry'!H154=\"\",'521A_entry'!H154=0),\"\",'521A_entry'!H154)","v":""}]
[{"$f":"IF(OR('521A_entry'!C155=\"\",'521A_entry'!C155=0),\"\",'521A_entry'!C155)","v":""},null,null,null,null,null,null,{"$f":"IF(OR('521A_entry'!D155=\"\",'521A_entry'!D155=0),\"\",'521A_entry'!D155)","v":""},null,{"$f":"IF(OR('521A_entry'!E155=\"\",'521A_entry'!E155=0),\"\",'521A_entry'!E155)","v":""},{"$f":"IF(OR('521A_entry'!F155=\"\",'521A_entry'!F155=0),\"\",'521A_entry'!F155)","v":""},{"$f":"IF(OR('521A_entry'!G155=\"\",'521A_entry'!G155=0),\"\",'521A_entry'!G155)","v":""},null,{"$f":"IF(OR('521A_entry'!H155=\"\",'521A_entry'!H155=0),\"\",'521A_entry'!H155)","v":""}]
[{"$f":"IF(OR('521A_entry'!C156=\"\",'521A_entry'!C156=0),\"\",'521A_entry'!C156)","v":""},null,null,null,null,null,null,{"$f":"IF(OR('521A_entry'!D156=\"\",'521A_entry'!D156=0),\"\",'521A_entry'!D156)","v":""},null,{"$f":"IF(OR('521A_entry'!E156=\"\",'521A_entry'!E156=0),\"\",'521A_entry'!E156)","v":""},{"$f":"IF(OR('521A_entry'!F156=\"\",'521A_entry'!F156=0),\"\",'521A_entry'!F156)","v":""},{"$f":"IF(OR('521A_entry'!G156=\"\",'521A_entry'!G156=0),\"\",'521A_entry'!G156)","v":""},null,{"$f":"IF(OR('521A_entry'!H156=\"\",'521A_entry'!H156=0),\"\",'521A_entry'!H156)","v":""}]
[{"$f":"IF(OR('521A_entry'!C157=\"\",'521A_entry'!C157=0),\"\",'521A_entry'!C157)","v":""},null,null,null,null,null,null,{"$f":"IF(OR('521A_entry'!D157=\"\",'521A_entry'!D157=0),\"\",'521A_entry'!D157)","v":""},null,{"$f":"IF(OR('521A_entry'!E157=\"\",'521A_entry'!E157=0),\"\",'521A_entry'!E157)","v":""},{"$f":"IF(OR('521A_entry'!F157=\"\",'521A_entry'!F157=0),\"\",'521A_entry'!F157)","v":""},{"$f":"IF(OR('521A_entry'!G157=\"\",'521A_entry'!G157=0),\"\",'521A_entry'!G157)","v":""},null,{"$f":"IF(OR('521A_entry'!H157=\"\",'521A_entry'!H157=0),\"\",'521A_entry'!H157)","v":""}]
[{"$f":"IF(OR('521A_entry'!C158=\"\",'521A_entry'!C158=0),\"\",'521A_entry'!C158)","v":""},null,null,null,null,null,null,{"$f":"IF(OR('521A_entry'!D158=\"\",'521A_entry'!D158=0),\"\",'521A_entry'!D158)","v":""},null,{"$f":"IF(OR('521A_entry'!E158=\"\",'521A_entry'!E158=0),\"\",'521A_entry'!E158)","v":""},{"$f":"IF(OR('521A_entry'!F158=\"\",'521A_entry'!F158=0),\"\",'521A_entry'!F158)","v":""},{"$f":"IF(OR('521A_entry'!G158=\"\",'521A_entry'!G158=0),\"\",'521A_entry'!G158)","v":""},null,{"$f":"IF(OR('521A_entry'!H158=\"\",'521A_entry'!H158=0),\"\",'521A_entry'!H158)","v":""}]
[{"$f":"IF(OR('521A_entry'!C159=\"\",'521A_entry'!C159=0),\"\",'521A_entry'!C159)","v":""},null,null,null,null,null,null,{"$f":"IF(OR('521A_entry'!D159=\"\",'521A_entry'!D159=0),\"\",'521A_entry'!D159)","v":""},null,{"$f":"IF(OR('521A_entry'!E159=\"\",'521A_entry'!E159=0),\"\",'521A_entry'!E159)","v":""},{"$f":"IF(OR('521A_entry'!F159=\"\",'521A_entry'!F159=0),\"\",'521A_entry'!F159)","v":""},{"$f":"IF(OR('521A_entry'!G159=\"\",'521A_entry'!G159=0),\"\",'521A_entry'!G159)","v":""},null,{"$f":"IF(OR('521A_entry'!H159=\"\",'521A_entry'!H159=0),\"\",'521A_entry'!H159)","v":""}]
[{"$f":"IF(OR('521A_entry'!C160=\"\",'521A_entry'!C160=0),\"\",'521A_entry'!C160)","v":""},null,null,null,null,null,null,{"$f":"IF(OR('521A_entry'!D160=\"\",'521A_entry'!D160=0),\"\",'521A_entry'!D160)","v":""},null,{"$f":"IF(OR('521A_entry'!E160=\"\",'521A_entry'!E160=0),\"\",'521A_entry'!E160)","v":""},{"$f":"IF(OR('521A_entry'!F160=\"\",'521A_entry'!F160=0),\"\",'521A_entry'!F160)","v":""},{"$f":"IF(OR('521A_entry'!G160=\"\",'521A_entry'!G160=0),\"\",'521A_entry'!G160)","v":""},null,{"$f":"IF(OR('521A_entry'!H160=\"\",'521A_entry'!H160=0),\"\",'521A_entry'!H160)","v":""}]
[{"$f":"IF(OR('521A_entry'!C161=\"\",'521A_entry'!C161=0),\"\",'521A_entry'!C161)","v":""},null,null,null,null,null,null,{"$f":"IF(OR('521A_entry'!D161=\"\",'521A_entry'!D161=0),\"\",'521A_entry'!D161)","v":""},null,{"$f":"IF(OR('521A_entry'!E161=\"\",'521A_entry'!E161=0),\"\",'521A_entry'!E161)","v":""},{"$f":"IF(OR('521A_entry'!F161=\"\",'521A_entry'!F161=0),\"\",'521A_entry'!F161)","v":""},{"$f":"IF(OR('521A_entry'!G161=\"\",'521A_entry'!G161=0),\"\",'521A_entry'!G161)","v":""},null,{"$f":"IF(OR('521A_entry'!H161=\"\",'521A_entry'!H161=0),\"\",'521A_entry'!H161)","v":""}]
[{"$f":"IF(OR('521A_entry'!C162=\"\",'521A_entry'!C162=0),\"\",'521A_entry'!C162)","v":""},null,null,null,null,null,null,{"$f":"IF(OR('521A_entry'!D162=\"\",'521A_entry'!D162=0),\"\",'521A_entry'!D162)","v":""},null,{"$f":"IF(OR('521A_entry'!E162=\"\",'521A_entry'!E162=0),\"\",'521A_entry'!E162)","v":""},{"$f":"IF(OR('521A_entry'!F162=\"\",'521A_entry'!F162=0),\"\",'521A_entry'!F162)","v":""},{"$f":"IF(OR('521A_entry'!G162=\"\",'521A_entry'!G162=0),\"\",'521A_entry'!G162)","v":""},null,{"$f":"IF(OR('521A_entry'!H162=\"\",'521A_entry'!H162=0),\"\",'521A_entry'!H162)","v":""}]
[{"$f":"IF(OR('521A_entry'!C163=\"\",'521A_entry'!C163=0),\"\",'521A_entry'!C163)","v":""},null,null,null,null,null,null,{"$f":"IF(OR('521A_entry'!D163=\"\",'521A_entry'!D163=0),\"\",'521A_entry'!D163)","v":""},null,{"$f":"IF(OR('521A_entry'!E163=\"\",'521A_entry'!E163=0),\"\",'521A_entry'!E163)","v":""},{"$f":"IF(OR('521A_entry'!F163=\"\",'521A_entry'!F163=0),\"\",'521A_entry'!F163)","v":""},{"$f":"IF(OR('521A_entry'!G163=\"\",'521A_entry'!G163=0),\"\",'521A_entry'!G163)","v":""},null,{"$f":"IF(OR('521A_entry'!H163=\"\",'521A_entry'!H163=0),\"\",'521A_entry'!H163)","v":""}]
[{"$f":"IF(OR('521A_entry'!C164=\"\",'521A_entry'!C164=0),\"\",'521A_entry'!C164)","v":""},null,null,null,null,null,null,{"$f":"IF(OR('521A_entry'!D164=\"\",'521A_entry'!D164=0),\"\",'521A_entry'!D164)","v":""},null,{"$f":"IF(OR('521A_entry'!E164=\"\",'521A_entry'!E164=0),\"\",'521A_entry'!E164)","v":""},{"$f":"IF(OR('521A_entry'!F164=\"\",'521A_entry'!F164=0),\"\",'521A_entry'!F164)","v":""},{"$f":"IF(OR('521A_entry'!G164=\"\",'521A_entry'!G164=0),\"\",'521A_entry'!G164)","v":""},null,{"$f":"IF(OR('521A_entry'!H164=\"\",'521A_entry'!H164=0),\"\",'521A_entry'!H164)","v":""}]
[{"$f":"IF(OR('521A_entry'!C165=\"\",'521A_entry'!C165=0),\"\",'521A_entry'!C165)","v":""},null,null,null,null,null,null,{"$f":"IF(OR('521A_entry'!D165=\"\",'521A_entry'!D165=0),\"\",'521A_entry'!D165)","v":""},null,{"$f":"IF(OR('521A_entry'!E165=\"\",'521A_entry'!E165=0),\"\",'521A_entry'!E165)","v":""},{"$f":"IF(OR('521A_entry'!F165=\"\",'521A_entry'!F165=0),\"\",'521A_entry'!F165)","v":""},{"$f":"IF(OR('521A_entry'!G165=\"\",'521A_entry'!G165=0),\"\",'521A_entry'!G165)","v":""},null,{"$f":"IF(OR('521A_entry'!H165=\"\",'521A_entry'!H165=0),\"\",'521A_entry'!H165)","v":""}]
[{"$f":"IF(OR('521A_entry'!C166=\"\",'521A_entry'!C166=0),\"\",'521A_entry'!C166)","v":""},null,null,null,null,null,null,{"$f":"IF(OR('521A_entry'!D166=\"\",'521A_entry'!D166=0),\"\",'521A_entry'!D166)","v":""},null,{"$f":"IF(OR('521A_entry'!E166=\"\",'521A_entry'!E166=0),\"\",'521A_entry'!E166)","v":""},{"$f":"IF(OR('521A_entry'!F166=\"\",'521A_entry'!F166=0),\"\",'521A_entry'!F166)","v":""},{"$f":"IF(OR('521A_entry'!G166=\"\",'521A_entry'!G166=0),\"\",'521A_entry'!G166)","v":""},null,{"$f":"IF(OR('521A_entry'!H166=\"\",'521A_entry'!H166=0),\"\",'521A_entry'!H166)","v":""}]
[{"$f":"IF(OR('521A_entry'!C167=\"\",'521A_entry'!C167=0),\"\",'521A_entry'!C167)","v":""},null,null,null,null,null,null,{"$f":"IF(OR('521A_entry'!D167=\"\",'521A_entry'!D167=0),\"\",'521A_entry'!D167)","v":""},null,{"$f":"IF(OR('521A_entry'!E167=\"\",'521A_entry'!E167=0),\"\",'521A_entry'!E167)","v":""},{"$f":"IF(OR('521A_entry'!F167=\"\",'521A_entry'!F167=0),\"\",'521A_entry'!F167)","v":""},{"$f":"IF(OR('521A_entry'!G167=\"\",'521A_entry'!G167=0),\"\",'521A_entry'!G167)","v":""},null,{"$f":"IF(OR('521A_entry'!H167=\"\",'521A_entry'!H167=0),\"\",'521A_entry'!H167)","v":""}]
[{"$f":"IF(OR('521A_entry'!C168=\"\",'521A_entry'!C168=0),\"\",'521A_entry'!C168)","v":""},null,null,null,null,null,null,{"$f":"IF(OR('521A_entry'!D168=\"\",'521A_entry'!D168=0),\"\",'521A_entry'!D168)","v":""},null,{"$f":"IF(OR('521A_entry'!E168=\"\",'521A_entry'!E168=0),\"\",'521A_entry'!E168)","v":""},{"$f":"IF(OR('521A_entry'!F168=\"\",'521A_entry'!F168=0),\"\",'521A_entry'!F168)","v":""},{"$f":"IF(OR('521A_entry'!G168=\"\",'521A_entry'!G168=0),\"\",'521A_entry'!G168)","v":""},null,{"$f":"IF(OR('521A_entry'!H168=\"\",'521A_entry'!H168=0),\"\",'521A_entry'!H168)","v":""}]
[{"$f":"IF(OR('521A_entry'!C169=\"\",'521A_entry'!C169=0),\"\",'521A_entry'!C169)","v":""},null,null,null,null,null,null,{"$f":"IF(OR('521A_entry'!D169=\"\",'521A_entry'!D169=0),\"\",'521A_entry'!D169)","v":""},null,{"$f":"IF(OR('521A_entry'!E169=\"\",'521A_entry'!E169=0),\"\",'521A_entry'!E169)","v":""},{"$f":"IF(OR('521A_entry'!F169=\"\",'521A_entry'!F169=0),\"\",'521A_entry'!F169)","v":""},{"$f":"IF(OR('521A_entry'!G169=\"\",'521A_entry'!G169=0),\"\",'521A_entry'!G169)","v":""},null,{"$f":"IF(OR('521A_entry'!H169=\"\",'521A_entry'!H169=0),\"\",'521A_entry'!H169)","v":""}]
[{"$f":"IF(OR('521A_entry'!C170=\"\",'521A_entry'!C170=0),\"\",'521A_entry'!C170)","v":""},null,null,null,null,null,null,{"$f":"IF(OR('521A_entry'!D170=\"\",'521A_entry'!D170=0),\"\",'521A_entry'!D170)","v":""},null,{"$f":"IF(OR('521A_entry'!E170=\"\",'521A_entry'!E170=0),\"\",'521A_entry'!E170)","v":""},{"$f":"IF(OR('521A_entry'!F170=\"\",'521A_entry'!F170=0),\"\",'521A_entry'!F170)","v":""},{"$f":"IF(OR('521A_entry'!G170=\"\",'521A_entry'!G170=0),\"\",'521A_entry'!G170)","v":""},null,{"$f":"IF(OR('521A_entry'!H170=\"\",'521A_entry'!H170=0),\"\",'521A_entry'!H170)","v":""}]
[{"$f":"IF(OR('521A_entry'!C171=\"\",'521A_entry'!C171=0),\"\",'521A_entry'!C171)","v":""},null,null,null,null,null,null,{"$f":"IF(OR('521A_entry'!D171=\"\",'521A_entry'!D171=0),\"\",'521A_entry'!D171)","v":""},null,{"$f":"IF(OR('521A_entry'!E171=\"\",'521A_entry'!E171=0),\"\",'521A_entry'!E171)","v":""},{"$f":"IF(OR('521A_entry'!F171=\"\",'521A_entry'!F171=0),\"\",'521A_entry'!F171)","v":""},{"$f":"IF(OR('521A_entry'!G171=\"\",'521A_entry'!G171=0),\"\",'521A_entry'!G171)","v":""},null,{"$f":"IF(OR('521A_entry'!H171=\"\",'521A_entry'!H171=0),\"\",'521A_entry'!H171)","v":""}]
["34. Total Expected Revenue from Eligible Yield Based Crops/Commodities (sum amounts in column for Item 33):",null,null,null,null,null,null,null,null,null,null,null,null,{"$f":"IF($Q$6='521A_entry'!$A$146,'521A_entry'!H251,IF($Q$6='521A_entry'!$A$255,'521A_entry'!H360,\"\"))","v":0}]
["SECTION G – ELIGIBLE INVENTORY-BASED CROPS/COMMODITIES"]
["35. Crops/Commodity:",null,null,null,null,null,null,null,null,null,null,null,null,"36. Expected Revenue:"]
[{"$f":"IF(OR('521A_entry'!Q149=\"\",'521A_entry'!Q149=0),\"\",'521A_entry'!Q149)","v":""},null,null,null,null,null,null,null,null,null,null,null,null,{"$f":"IF(OR('521A_entry'!R149=\"\",'521A_entry'!R149=0),\"\",'521A_entry'!R149)","v":""}]
[{"$f":"IF(OR('521A_entry'!Q150=\"\",'521A_entry'!Q150=0),\"\",'521A_entry'!Q150)","v":""},null,null,null,null,null,null,null,null,null,null,null,null,{"$f":"IF(OR('521A_entry'!R150=\"\",'521A_entry'!R150=0),\"\",'521A_entry'!R150)","v":""}]
[{"$f":"IF(OR('521A_entry'!Q151=\"\",'521A_entry'!Q151=0),\"\",'521A_entry'!Q151)","v":""},null,null,null,null,null,null,null,null,null,null,null,null,{"$f":"IF(OR('521A_entry'!R151=\"\",'521A_entry'!R151=0),\"\",'521A_entry'!R151)","v":""}]
[{"$f":"IF(OR('521A_entry'!Q152=\"\",'521A_entry'!Q152=0),\"\",'521A_entry'!Q152)","v":""},null,null,null,null,null,null,null,null,null,null,null,null,{"$f":"IF(OR('521A_entry'!R152=\"\",'521A_entry'!R152=0),\"\",'521A_entry'!R152)","v":""}]
[{"$f":"IF(OR('521A_entry'!Q153=\"\",'521A_entry'!Q153=0),\"\",'521A_entry'!Q153)","v":""},null,null,null,null,null,null,null,null,null,null,null,null,{"$f":"IF(OR('521A_entry'!R153=\"\",'521A_entry'!R153=0),\"\",'521A_entry'!R153)","v":""}]
[{"$f":"IF(OR('521A_entry'!Q154=\"\",'521A_entry'!Q154=0),\"\",'521A_entry'!Q154)","v":""},null,null,null,null,null,null,null,null,null,null,null,null,{"$f":"IF(OR('521A_entry'!R154=\"\",'521A_entry'!R154=0),\"\",'521A_entry'!R154)","v":""}]
[{"$f":"IF(OR('521A_entry'!Q155=\"\",'521A_entry'!Q155=0),\"\",'521A_entry'!Q155)","v":""},null,null,null,null,null,null,null,null,null,null,null,null,{"$f":"IF(OR('521A_entry'!R155=\"\",'521A_entry'!R155=0),\"\",'521A_entry'!R155)","v":""}]
[{"$f":"IF(OR('521A_entry'!Q156=\"\",'521A_entry'!Q156=0),\"\",'521A_entry'!Q156)","v":""},null,null,null,null,null,null,null,null,null,null,null,null,{"$f":"IF(OR('521A_entry'!R156=\"\",'521A_entry'!R156=0),\"\",'521A_entry'!R156)","v":""},null,null,null,2]
["37. Total Expected Revenue from Eligible Inventory Based Crops/Commodities (sum amounts in column for Item 36):",null,null,null,null,null,null,null,null,null,null,null,null,{"$f":"IF($Q$6='521A_entry'!$A$146,'521A_entry'!R251,IF($Q$6='521A_entry'!$A$255,'521A_entry'!R360,\"\"))","v":0}]
["FSA-521-A (01-23-2023)",null,null,null,null,"1.  Applicant Name",null,null,null,null,null,null,null,"2.  Application Number:"]
[{"$f":"\"Page 4 of \"&$R$3","v":"Page 4 of 4"},null,null,null,null,{"$f":"IF(K3=\"\",\"\",K3)","v":""}]
["SECTION H – TOTAL EXPECTED ALLOWABLE DISASTER YEAR REVENUE"]
["38. Total Expected Allowable Disaster Year Revenue from Eligible Value-Added Commodities (total from Item 27):",null,null,null,null,null,null,null,null,null,null,null,null,{"$f":"IF('521A_entry'!AD12=\"\",\"\",'521A_entry'!AD12)","v":""}]
["39. Total Expected Allowable Disaster Year Revenue from Eligible Yield-Based Crops/Commodities (total from Item 34):",null,null,null,null,null,null,null,null,null,null,null,null,{"$f":"IF('521A_entry'!AD13=\"\",\"\",'521A_entry'!AD13)","v":""}]
["40. Total Expected Allowable Disaster Year Revenue from Eligible Inventory-Based Crops/Commodities (total from Item 37):",null,null,null,null,null,null,null,null,null,null,null,null,{"$f":"IF('521A_entry'!AD14=\"\",\"\",'521A_entry'!AD14)","v":""}]
["41. Total Expected Allowable Disaster Year Revenue (sum Items 38 through 41):",null,null,null,null,null,null,null,null,null,null,null,null,{"$f":"IF('521A_entry'!AD15=\"\",\"\",'521A_entry'!AD15)","v":""}]
["SECTION I – TOTAL ADJUSTED BENCHMARK YEAR REVENUE FROM DECREASED OPERATING CAPACITY"]
["42. Total Actual Allowable Benchmark Year Revenue (total from Item 16)",null,null,null,null,null,null,null,null,null,null,null,null,{"$f":"IF('521A_entry'!AD17=\"\",\"\",'521A_entry'!AD17)","v":""}]
["43. Total Expected Decreased Revenue from Eligible Value-Added Commodities (total from Item 27):",null,null,null,null,null,null,null,null,null,null,null,null,{"$f":"IF('521A_entry'!AD18=\"\",\"\",'521A_entry'!AD18)","v":""}]
["44. Total Expected Decreased Revenue from Eligible Yield-Based Crops/Commodities (total from Item 34):",null,null,null,null,null,null,null,null,null,null,null,null,{"$f":"IF('521A_entry'!AD19=\"\",\"\",'521A_entry'!AD19)","v":""}]
["45. Total Expected Decreased Revenue from Eligible Inventory-Based Crops/Commodities (total from Item 37):",null,null,null,null,null,null,null,null,null,null,null,null,{"$f":"IF('521A_entry'!AD20=\"\",\"\",'521A_entry'!AD20)","v":""}]
["46. Total Adjusted Benchmark Year Revenue from Decreased Operating Capacity (subtract Items 43 through 45 from Item 42):",null,null,null,null,null,null,null,null,null,null,null,null,{"$f":"IF('521A_entry'!AD21=\"\",\"\",'521A_entry'!AD21)","v":""}]
["SECTION J – TOTAL ADJUSTED BENCHMARK YEAR REVENUE FROM INCREASED OPERATING CAPACITY"]
["47. Total Actual Allowable Benchmark Year Revenue (total from Item 16)",null,null,null,null,null,null,null,null,null,null,null,null,{"$f":"IF('521A_entry'!AD23=\"\",\"\",'521A_entry'!AD23)","v":""}]
["48. Total Expected Increased Revenue from Eligible Value-Added Commodities (total from Item 27):",null,null,null,null,null,null,null,null,null,null,null,null,{"$f":"IF('521A_entry'!AD24=\"\",\"\",'521A_entry'!AD24)","v":""}]
["49. Total Expected Increased Revenue from Eligible Yield-Based Crops/Commodities (total from Item 34):",null,null,null,null,null,null,null,null,null,null,null,null,{"$f":"IF('521A_entry'!AD25=\"\",\"\",'521A_entry'!AD25)","v":""}]
["50. Total Expected Increased Revenue from Eligible Inventory-Based Crops/Commodities (total from Item 37):",null,null,null,null,null,null,null,null,null,null,null,null,{"$f":"IF('521A_entry'!AD26=\"\",\"\",'521A_entry'!AD26)","v":""}]
["51. Total Adjusted Benchmark Year Revenue from Increased Operating Capacity (sum Items 47 through Item 50):",null,null,null,null,null,null,null,null,null,null,null,null,{"$f":"IF('521A_entry'!AD27=\"\",\"\",'521A_entry'!AD27)","v":""}]
["SECTION K – TOTAL ALLOWABLE BENCHMARK YEAR AND ALLOWABLE DISASTER YEAR REVENUE"]
["52. Total Allowable Benchmark Year Revenue (total from either Item 16, Item 41, Item 46, or Item 51):",null,null,null,null,null,null,null,null,null,null,null,null,{"$f":"IF('521A_entry'!AD29=\"\",\"\",'521A_entry'!AD29)","v":""},null,null,null,3]
["53. Total Allowable Disaster Year Revenue (total from Item 24):",null,null,null,null,null,null,null,null,null,null,null,null,{"$f":"IF('521A_entry'!AD30=\"\",\"\",'521A_entry'!AD30)","v":""}]
["FSA-521-A (01-23-2023)",null,null,null,null,"1.  Applicant Name",null,null,null,null,null,null,null,"2.  Application Number:"]
[{"$f":"\"Page 5 of \"&$R$3","v":"Page 5 of 4"},null,null,null,null,{"$f":"IF(K3=\"\",\"\",K3)","v":""}]
["SECTION E – ELIGIBLE VALUE-ADDED COMMODITIES"]
["25. Commodity:",null,null,null,null,null,null,null,null,null,null,null,null,"26. Expected Revenue:",null,null,null,{"$f":"IF(AND(A113=\"\",N113=\"\"),0,5)","v":0}]
[{"$f":"IF(OR('521A_entry'!L154=\"\",'521A_entry'!L154=0),\"\",'521A_entry'!L154)","v":""},null,null,null,null,null,null,null,null,null,null,null,null,{"$f":"IF(OR('521A_entry'!M154=\"\",'521A_entry'!M154=0),\"\",'521A_entry'!M154)","v":""}]
[{"$f":"IF(OR('521A_entry'!L155=\"\",'521A_entry'!L155=0),\"\",'521A_entry'!L155)","v":""},null,null,null,null,null,null,null,null,null,null,null,null,{"$f":"IF(OR('521A_entry'!M155=\"\",'521A_entry'!M155=0),\"\",'521A_entry'!M155)","v":""}]
[{"$f":"IF(OR('521A_entry'!L156=\"\",'521A_entry'!L156=0),\"\",'521A_entry'!L156)","v":""},null,null,null,null,null,null,null,null,null,null,null,null,{"$f":"IF(OR('521A_entry'!M156=\"\",'521A_entry'!M156=0),\"\",'521A_entry'!M156)","v":""}]
[{"$f":"IF(OR('521A_entry'!L157=\"\",'521A_entry'!L157=0),\"\",'521A_entry'!L157)","v":""},null,null,null,null,null,null,null,null,null,null,null,null,{"$f":"IF(OR('521A_entry'!M157=\"\",'521A_entry'!M157=0),\"\",'521A_entry'!M157)","v":""}]
[{"$f":"IF(OR('521A_entry'!L158=\"\",'521A_entry'!L158=0),\"\",'521A_entry'!L158)","v":""},null,null,null,null,null,null,null,null,null,null,null,null,{"$f":"IF(OR('521A_entry'!M158=\"\",'521A_entry'!M158=0),\"\",'521A_entry'!M158)","v":""}]
["27. Total Expected Revenue from Eligible Value Added Commodities (sum amounts in column for Item 26):",null,null,null,null,null,null,null,null,null,null,null,null,{"$f":"$N$49","v":0}]
["SECTION F – ELIGIBLE YIELD-BASED CROPS/COMMODITIES"]
["28. Crop/Commodity:",null,null,null,null,null,null,"29. Expected Acres:",null,"30. Expected Yield:\nPer Acre","31. Unit of Measure:","32. Expected Price:\n(Per Unit)",null,"33.  Expected Revenue:",null,null,null,{"$f":"IF(AND(A121=\"\",N121=\"\"),0,5)","v":0}]
[{"$f":"IF(OR('521A_entry'!C172=\"\",'521A_entry'!C172=0),\"\",'521A_entry'!C172)","v":""},null,null,null,null,null,null,{"$f":"IF(OR('521A_entry'!D172=\"\",'521A_entry'!D172=0),\"\",'521A_entry'!D172)","v":""},null,{"$f":"IF(OR('521A_entry'!E172=\"\",'521A_entry'!E172=0),\"\",'521A_entry'!E172)","v":""},{"$f":"IF(OR('521A_entry'!F172=\"\",'521A_entry'!F172=0),\"\",'521A_entry'!F172)","v":""},{"$f":"IF(OR('521A_entry'!G172=\"\",'521A_entry'!G172=0),\"\",'521A_entry'!G172)","v":""},null,{"$f":"IF(OR('521A_entry'!H172=\"\",'521A_entry'!H172=0),\"\",'521A_entry'!H172)","v":""}]
[{"$f":"IF(OR('521A_entry'!C173=\"\",'521A_entry'!C173=0),\"\",'521A_entry'!C173)","v":""},null,null,null,null,null,null,{"$f":"IF(OR('521A_entry'!D173=\"\",'521A_entry'!D173=0),\"\",'521A_entry'!D173)","v":""},null,{"$f":"IF(OR('521A_entry'!E173=\"\",'521A_entry'!E173=0),\"\",'521A_entry'!E173)","v":""},{"$f":"IF(OR('521A_entry'!F173=\"\",'521A_entry'!F173=0),\"\",'521A_entry'!F173)","v":""},{"$f":"IF(OR('521A_entry'!G173=\"\",'521A_entry'!G173=0),\"\",'521A_entry'!G173)","v":""},null,{"$f":"IF(OR('521A_entry'!H173=\"\",'521A_entry'!H173=0),\"\",'521A_entry'!H173)","v":""}]
[{"$f":"IF(OR('521A_entry'!C174=\"\",'521A_entry'!C174=0),\"\",'521A_entry'!C174)","v":""},null,null,null,null,null,null,{"$f":"IF(OR('521A_entry'!D174=\"\",'521A_entry'!D174=0),\"\",'521A_entry'!D174)","v":""},null,{"$f":"IF(OR('521A_entry'!E174=\"\",'521A_entry'!E174=0),\"\",'521A_entry'!E174)","v":""},{"$f":"IF(OR('521A_entry'!F174=\"\",'521A_entry'!F174=0),\"\",'521A_entry'!F174)","v":""},{"$f":"IF(OR('521A_entry'!G174=\"\",'521A_entry'!G174=0),\"\",'521A_entry'!G174)","v":""},null,{"$f":"IF(OR('521A_entry'!H174=\"\",'521A_entry'!H174=0),\"\",'521A_entry'!H174)","v":""}]
[{"$f":"IF(OR('521A_entry'!C175=\"\",'521A_entry'!C175=0),\"\",'521A_entry'!C175)","v":""},null,null,null,null,null,null,{"$f":"IF(OR('521A_entry'!D175=\"\",'521A_entry'!D175=0),\"\",'521A_entry'!D175)","v":""},null,{"$f":"IF(OR('521A_entry'!E175=\"\",'521A_entry'!E175=0),\"\",'521A_entry'!E175)","v":""},{"$f":"IF(OR('521A_entry'!F175=\"\",'521A_entry'!F175=0),\"\",'521A_entry'!F175)","v":""},{"$f":"IF(OR('521A_entry'!G175=\"\",'521A_entry'!G175=0),\"\",'521A_entry'!G175)","v":""},null,{"$f":"IF(OR('521A_entry'!H175=\"\",'521A_entry'!H175=0),\"\",'521A_entry'!H175)","v":""}]
[{"$f":"IF(OR('521A_entry'!C176=\"\",'521A_entry'!C176=0),\"\",'521A_entry'!C176)","v":""},null,null,null,null,null,null,{"$f":"IF(OR('521A_entry'!D176=\"\",'521A_entry'!D176=0),\"\",'521A_entry'!D176)","v":""},null,{"$f":"IF(OR('521A_entry'!E176=\"\",'521A_entry'!E176=0),\"\",'521A_entry'!E176)","v":""},{"$f":"IF(OR('521A_entry'!F176=\"\",'521A_entry'!F176=0),\"\",'521A_entry'!F176)","v":""},{"$f":"IF(OR('521A_entry'!G176=\"\",'521A_entry'!G176=0),\"\",'521A_entry'!G176)","v":""},null,{"$f":"IF(OR('521A_entry'!H176=\"\",'521A_entry'!H176=0),\"\",'521A_entry'!H176)","v":""}]
[{"$f":"IF(OR('521A_entry'!C177=\"\",'521A_entry'!C177=0),\"\",'521A_entry'!C177)","v":""},null,null,null,null,null,null,{"$f":"IF(OR('521A_entry'!D177=\"\",'521A_entry'!D177=0),\"\",'521A_entry'!D177)","v":""},null,{"$f":"IF(OR('521A_entry'!E177=\"\",'521A_entry'!E177=0),\"\",'521A_entry'!E177)","v":""},{"$f":"IF(OR('521A_entry'!F177=\"\",'521A_entry'!F177=0),\"\",'521A_entry'!F177)","v":""},{"$f":"IF(OR('521A_entry'!G177=\"\",'521A_entry'!G177=0),\"\",'521A_entry'!G177)","v":""},null,{"$f":"IF(OR('521A_entry'!H177=\"\",'521A_entry'!H177=0),\"\",'521A_entry'!H177)","v":""}]
[{"$f":"IF(OR('521A_entry'!C178=\"\",'521A_entry'!C178=0),\"\",'521A_entry'!C178)","v":""},null,null,null,null,null,null,{"$f":"IF(OR('521A_entry'!D178=\"\",'521A_entry'!D178=0),\"\",'521A_entry'!D178)","v":""},null,{"$f":"IF(OR('521A_entry'!E178=\"\",'521A_entry'!E178=0),\"\",'521A_entry'!E178)","v":""},{"$f":"IF(OR('521A_entry'!F178=\"\",'521A_entry'!F178=0),\"\",'521A_entry'!F178)","v":""},{"$f":"IF(OR('521A_entry'!G178=\"\",'521A_entry'!G178=0),\"\",'521A_entry'!G178)","v":""},null,{"$f":"IF(OR('521A_entry'!H178=\"\",'521A_entry'!H178=0),\"\",'521A_entry'!H178)","v":""}]
[{"$f":"IF(OR('521A_entry'!C179=\"\",'521A_entry'!C179=0),\"\",'521A_entry'!C179)","v":""},null,null,null,null,null,null,{"$f":"IF(OR('521A_entry'!D179=\"\",'521A_entry'!D179=0),\"\",'521A_entry'!D179)","v":""},null,{"$f":"IF(OR('521A_entry'!E179=\"\",'521A_entry'!E179=0),\"\",'521A_entry'!E179)","v":""},{"$f":"IF(OR('521A_entry'!F179=\"\",'521A_entry'!F179=0),\"\",'521A_entry'!F179)","v":""},{"$f":"IF(OR('521A_entry'!G179=\"\",'521A_entry'!G179=0),\"\",'521A_entry'!G179)","v":""},null,{"$f":"IF(OR('521A_entry'!H179=\"\",'521A_entry'!H179=0),\"\",'521A_entry'!H179)","v":""}]
[{"$f":"IF(OR('521A_entry'!C180=\"\",'521A_entry'!C180=0),\"\",'521A_entry'!C180)","v":""},null,null,null,null,null,null,{"$f":"IF(OR('521A_entry'!D180=\"\",'521A_entry'!D180=0),\"\",'521A_entry'!D180)","v":""},null,{"$f":"IF(OR('521A_entry'!E180=\"\",'521A_entry'!E180=0),\"\",'521A_entry'!E180)","v":""},{"$f":"IF(OR('521A_entry'!F180=\"\",'521A_entry'!F180=0),\"\",'521A_entry'!F180)","v":""},{"$f":"IF(OR('521A_entry'!G180=\"\",'521A_entry'!G180=0),\"\",'521A_entry'!G180)","v":""},null,{"$f":"IF(OR('521A_entry'!H180=\"\",'521A_entry'!H180=0),\"\",'521A_entry'!H180)","v":""}]
[{"$f":"IF(OR('521A_entry'!C181=\"\",'521A_entry'!C181=0),\"\",'521A_entry'!C181)","v":""},null,null,null,null,null,null,{"$f":"IF(OR('521A_entry'!D181=\"\",'521A_entry'!D181=0),\"\",'521A_entry'!D181)","v":""},null,{"$f":"IF(OR('521A_entry'!E181=\"\",'521A_entry'!E181=0),\"\",'521A_entry'!E181)","v":""},{"$f":"IF(OR('521A_entry'!F181=\"\",'521A_entry'!F181=0),\"\",'521A_entry'!F181)","v":""},{"$f":"IF(OR('521A_entry'!G181=\"\",'521A_entry'!G181=0),\"\",'521A_entry'!G181)","v":""},null,{"$f":"IF(OR('521A_entry'!H181=\"\",'521A_entry'!H181=0),\"\",'521A_entry'!H181)","v":""}]
[{"$f":"IF(OR('521A_entry'!C182=\"\",'521A_entry'!C182=0),\"\",'521A_entry'!C182)","v":""},null,null,null,null,null,null,{"$f":"IF(OR('521A_entry'!D182=\"\",'521A_entry'!D182=0),\"\",'521A_entry'!D182)","v":""},null,{"$f":"IF(OR('521A_entry'!E182=\"\",'521A_entry'!E182=0),\"\",'521A_entry'!E182)","v":""},{"$f":"IF(OR('521A_entry'!F182=\"\",'521A_entry'!F182=0),\"\",'521A_entry'!F182)","v":""},{"$f":"IF(OR('521A_entry'!G182=\"\",'521A_entry'!G182=0),\"\",'521A_entry'!G182)","v":""},null,{"$f":"IF(OR('521A_entry'!H182=\"\",'521A_entry'!H182=0),\"\",'521A_entry'!H182)","v":""}]
[{"$f":"IF(OR('521A_entry'!C183=\"\",'521A_entry'!C183=0),\"\",'521A_entry'!C183)","v":""},null,null,null,null,null,null,{"$f":"IF(OR('521A_entry'!D183=\"\",'521A_entry'!D183=0),\"\",'521A_entry'!D183)","v":""},null,{"$f":"IF(OR('521A_entry'!E183=\"\",'521A_entry'!E183=0),\"\",'521A_entry'!E183)","v":""},{"$f":"IF(OR('521A_entry'!F183=\"\",'521A_entry'!F183=0),\"\",'521A_entry'!F183)","v":""},{"$f":"IF(OR('521A_entry'!G183=\"\",'521A_entry'!G183=0),\"\",'521A_entry'!G183)","v":""},null,{"$f":"IF(OR('521A_entry'!H183=\"\",'521A_entry'!H183=0),\"\",'521A_entry'!H183)","v":""}]
[{"$f":"IF(OR('521A_entry'!C184=\"\",'521A_entry'!C184=0),\"\",'521A_entry'!C184)","v":""},null,null,null,null,null,null,{"$f":"IF(OR('521A_entry'!D184=\"\",'521A_entry'!D184=0),\"\",'521A_entry'!D184)","v":""},null,{"$f":"IF(OR('521A_entry'!E184=\"\",'521A_entry'!E184=0),\"\",'521A_entry'!E184)","v":""},{"$f":"IF(OR('521A_entry'!F184=\"\",'521A_entry'!F184=0),\"\",'521A_entry'!F184)","v":""},{"$f":"IF(OR('521A_entry'!G184=\"\",'521A_entry'!G184=0),\"\",'521A_entry'!G184)","v":""},null,{"$f":"IF(OR('521A_entry'!H184=\"\",'521A_entry'!H184=0),\"\",'521A_entry'!H184)","v":""}]
[{"$f":"IF(OR('521A_entry'!C185=\"\",'521A_entry'!C185=0),\"\",'521A_entry'!C185)","v":""},null,null,null,null,null,null,{"$f":"IF(OR('521A_entry'!D185=\"\",'521A_entry'!D185=0),\"\",'521A_entry'!D185)","v":""},null,{"$f":"IF(OR('521A_entry'!E185=\"\",'521A_entry'!E185=0),\"\",'521A_entry'!E185)","v":""},{"$f":"IF(OR('521A_entry'!F185=\"\",'521A_entry'!F185=0),\"\",'521A_entry'!F185)","v":""},{"$f":"IF(OR('521A_entry'!G185=\"\",'521A_entry'!G185=0),\"\",'521A_entry'!G185)","v":""},null,{"$f":"IF(OR('521A_entry'!H185=\"\",'521A_entry'!H185=0),\"\",'521A_entry'!H185)","v":""}]
[{"$f":"IF(OR('521A_entry'!C186=\"\",'521A_entry'!C186=0),\"\",'521A_entry'!C186)","v":""},null,null,null,null,null,null,{"$f":"IF(OR('521A_entry'!D186=\"\",'521A_entry'!D186=0),\"\",'521A_entry'!D186)","v":""},null,{"$f":"IF(OR('521A_entry'!E186=\"\",'521A_entry'!E186=0),\"\",'521A_entry'!E186)","v":""},{"$f":"IF(OR('521A_entry'!F186=\"\",'521A_entry'!F186=0),\"\",'521A_entry'!F186)","v":""},{"$f":"IF(OR('521A_entry'!G186=\"\",'521A_entry'!G186=0),\"\",'521A_entry'!G186)","v":""},null,{"$f":"IF(OR('521A_entry'!H186=\"\",'521A_entry'!H186=0),\"\",'521A_entry'!H186)","v":""}]
[{"$f":"IF(OR('521A_entry'!C187=\"\",'521A_entry'!C187=0),\"\",'521A_entry'!C187)","v":""},null,null,null,null,null,null,{"$f":"IF(OR('521A_entry'!D187=\"\",'521A_entry'!D187=0),\"\",'521A_entry'!D187)","v":""},null,{"$f":"IF(OR('521A_entry'!E187=\"\",'521A_entry'!E187=0),\"\",'521A_entry'!E187)","v":""},{"$f":"IF(OR('521A_entry'!F187=\"\",'521A_entry'!F187=0),\"\",'521A_entry'!F187)","v":""},{"$f":"IF(OR('521A_entry'!G187=\"\",'521A_entry'!G187=0),\"\",'521A_entry'!G187)","v":""},null,{"$f":"IF(OR('521A_entry'!H187=\"\",'521A_entry'!H187=0),\"\",'521A_entry'!H187)","v":""}]
[{"$f":"IF(OR('521A_entry'!C188=\"\",'521A_entry'!C188=0),\"\",'521A_entry'!C188)","v":""},null,null,null,null,null,null,{"$f":"IF(OR('521A_entry'!D188=\"\",'521A_entry'!D188=0),\"\",'521A_entry'!D188)","v":""},null,{"$f":"IF(OR('521A_entry'!E188=\"\",'521A_entry'!E188=0),\"\",'521A_entry'!E188)","v":""},{"$f":"IF(OR('521A_entry'!F188=\"\",'521A_entry'!F188=0),\"\",'521A_entry'!F188)","v":""},{"$f":"IF(OR('521A_entry'!G188=\"\",'521A_entry'!G188=0),\"\",'521A_entry'!G188)","v":""},null,{"$f":"IF(OR('521A_entry'!H188=\"\",'521A_entry'!H188=0),\"\",'521A_entry'!H188)","v":""}]
[{"$f":"IF(OR('521A_entry'!C189=\"\",'521A_entry'!C189=0),\"\",'521A_entry'!C189)","v":""},null,null,null,null,null,null,{"$f":"IF(OR('521A_entry'!D189=\"\",'521A_entry'!D189=0),\"\",'521A_entry'!D189)","v":""},null,{"$f":"IF(OR('521A_entry'!E189=\"\",'521A_entry'!E189=0),\"\",'521A_entry'!E189)","v":""},{"$f":"IF(OR('521A_entry'!F189=\"\",'521A_entry'!F189=0),\"\",'521A_entry'!F189)","v":""},{"$f":"IF(OR('521A_entry'!G189=\"\",'521A_entry'!G189=0),\"\",'521A_entry'!G189)","v":""},null,{"$f":"IF(OR('521A_entry'!H189=\"\",'521A_entry'!H189=0),\"\",'521A_entry'!H189)","v":""}]
[{"$f":"IF(OR('521A_entry'!C190=\"\",'521A_entry'!C190=0),\"\",'521A_entry'!C190)","v":""},null,null,null,null,null,null,{"$f":"IF(OR('521A_entry'!D190=\"\",'521A_entry'!D190=0),\"\",'521A_entry'!D190)","v":""},null,{"$f":"IF(OR('521A_entry'!E190=\"\",'521A_entry'!E190=0),\"\",'521A_entry'!E190)","v":""},{"$f":"IF(OR('521A_entry'!F190=\"\",'521A_entry'!F190=0),\"\",'521A_entry'!F190)","v":""},{"$f":"IF(OR('521A_entry'!G190=\"\",'521A_entry'!G190=0),\"\",'521A_entry'!G190)","v":""},null,{"$f":"IF(OR('521A_entry'!H190=\"\",'521A_entry'!H190=0),\"\",'521A_entry'!H190)","v":""}]
[{"$f":"IF(OR('521A_entry'!C191=\"\",'521A_entry'!C191=0),\"\",'521A_entry'!C191)","v":""},null,null,null,null,null,null,{"$f":"IF(OR('521A_entry'!D191=\"\",'521A_entry'!D191=0),\"\",'521A_entry'!D191)","v":""},null,{"$f":"IF(OR('521A_entry'!E191=\"\",'521A_entry'!E191=0),\"\",'521A_entry'!E191)","v":""},{"$f":"IF(OR('521A_entry'!F191=\"\",'521A_entry'!F191=0),\"\",'521A_entry'!F191)","v":""},{"$f":"IF(OR('521A_entry'!G191=\"\",'521A_entry'!G191=0),\"\",'521A_entry'!G191)","v":""},null,{"$f":"IF(OR('521A_entry'!H191=\"\",'521A_entry'!H191=0),\"\",'521A_entry'!H191)","v":""}]
[{"$f":"IF(OR('521A_entry'!C192=\"\",'521A_entry'!C192=0),\"\",'521A_entry'!C192)","v":""},null,null,null,null,null,null,{"$f":"IF(OR('521A_entry'!D192=\"\",'521A_entry'!D192=0),\"\",'521A_entry'!D192)","v":""},null,{"$f":"IF(OR('521A_entry'!E192=\"\",'521A_entry'!E192=0),\"\",'521A_entry'!E192)","v":""},{"$f":"IF(OR('521A_entry'!F192=\"\",'521A_entry'!F192=0),\"\",'521A_entry'!F192)","v":""},{"$f":"IF(OR('521A_entry'!G192=\"\",'521A_entry'!G192=0),\"\",'521A_entry'!G192)","v":""},null,{"$f":"IF(OR('521A_entry'!H192=\"\",'521A_entry'!H192=0),\"\",'521A_entry'!H192)","v":""}]
[{"$f":"IF(OR('521A_entry'!C193=\"\",'521A_entry'!C193=0),\"\",'521A_entry'!C193)","v":""},null,null,null,null,null,null,{"$f":"IF(OR('521A_entry'!D193=\"\",'521A_entry'!D193=0),\"\",'521A_entry'!D193)","v":""},null,{"$f":"IF(OR('521A_entry'!E193=\"\",'521A_entry'!E193=0),\"\",'521A_entry'!E193)","v":""},{"$f":"IF(OR('521A_entry'!F193=\"\",'521A_entry'!F193=0),\"\",'521A_entry'!F193)","v":""},{"$f":"IF(OR('521A_entry'!G193=\"\",'521A_entry'!G193=0),\"\",'521A_entry'!G193)","v":""},null,{"$f":"IF(OR('521A_entry'!H193=\"\",'521A_entry'!H193=0),\"\",'521A_entry'!H193)","v":""}]
[{"$f":"IF(OR('521A_entry'!C194=\"\",'521A_entry'!C194=0),\"\",'521A_entry'!C194)","v":""},null,null,null,null,null,null,{"$f":"IF(OR('521A_entry'!D194=\"\",'521A_entry'!D194=0),\"\",'521A_entry'!D194)","v":""},null,{"$f":"IF(OR('521A_entry'!E194=\"\",'521A_entry'!E194=0),\"\",'521A_entry'!E194)","v":""},{"$f":"IF(OR('521A_entry'!F194=\"\",'521A_entry'!F194=0),\"\",'521A_entry'!F194)","v":""},{"$f":"IF(OR('521A_entry'!G194=\"\",'521A_entry'!G194=0),\"\",'521A_entry'!G194)","v":""},null,{"$f":"IF(OR('521A_entry'!H194=\"\",'521A_entry'!H194=0),\"\",'521A_entry'!H194)","v":""}]
["34. Total Expected Revenue from Eligible Yield Based Crops/Commodities (sum amounts in column for Item 33):",null,null,null,null,null,null,null,null,null,null,null,null,{"$f":"$N$75","v":0}]
["SECTION G – ELIGIBLE INVENTORY-BASED CROPS/COMMODITIES"]
["35. Crops/Commodity:",null,null,null,null,null,null,null,null,null,null,null,null,"36. Expected Revenue:",null,null,null,{"$f":"IF(AND(A147=\"\",N147=\"\"),0,5)","v":0}]
[{"$f":"IF(OR('521A_entry'!Q157=\"\",'521A_entry'!Q157=0),\"\",'521A_entry'!Q157)","v":""},null,null,null,null,null,null,null,null,null,null,null,null,{"$f":"IF(OR('521A_entry'!R157=\"\",'521A_entry'!R157=0),\"\",'521A_entry'!R157)","v":""}]
[{"$f":"IF(OR('521A_entry'!Q158=\"\",'521A_entry'!Q158=0),\"\",'521A_entry'!Q158)","v":""},null,null,null,null,null,null,null,null,null,null,null,null,{"$f":"IF(OR('521A_entry'!R158=\"\",'521A_entry'!R158=0),\"\",'521A_entry'!R158)","v":""}]
[{"$f":"IF(OR('521A_entry'!Q159=\"\",'521A_entry'!Q159=0),\"\",'521A_entry'!Q159)","v":""},null,null,null,null,null,null,null,null,null,null,null,null,{"$f":"IF(OR('521A_entry'!R159=\"\",'521A_entry'!R159=0),\"\",'521A_entry'!R159)","v":""}]
[{"$f":"IF(OR('521A_entry'!Q160=\"\",'521A_entry'!Q160=0),\"\",'521A_entry'!Q160)","v":""},null,null,null,null,null,null,null,null,null,null,null,null,{"$f":"IF(OR('521A_entry'!R160=\"\",'521A_entry'!R160=0),\"\",'521A_entry'!R160)","v":""}]
[{"$f":"IF(OR('521A_entry'!Q161=\"\",'521A_entry'!Q161=0),\"\",'521A_entry'!Q161)","v":""},null,null,null,null,null,null,null,null,null,null,null,null,{"$f":"IF(OR('521A_entry'!R161=\"\",'521A_entry'!R161=0),\"\",'521A_entry'!R161)","v":""}]
[{"$f":"IF(OR('521A_entry'!Q162=\"\",'521A_entry'!Q162=0),\"\",'521A_entry'!Q162)","v":""},null,null,null,null,null,null,null,null,null,null,null,null,{"$f":"IF(OR('521A_entry'!R162=\"\",'521A_entry'!R162=0),\"\",'521A_entry'!R162)","v":""}]
[{"$f":"IF(OR('521A_entry'!Q163=\"\",'521A_entry'!Q163=0),\"\",'521A_entry'!Q163)","v":""},null,null,null,null,null,null,null,null,null,null,null,null,{"$f":"IF(OR('521A_entry'!R163=\"\",'521A_entry'!R163=0),\"\",'521A_entry'!R163)","v":""}]
[{"$f":"IF(OR('521A_entry'!Q164=\"\",'521A_entry'!Q164=0),\"\",'521A_entry'!Q164)","v":""},null,null,null,null,null,null,null,null,null,null,null,null,{"$f":"IF(OR('521A_entry'!R164=\"\",'521A_entry'!R164=0),\"\",'521A_entry'!R164)","v":""}]
["37. Total Expected Revenue from Eligible Inventory Based Crops/Commodities (sum amounts in column for Item 36):",null,null,null,null,null,null,null,null,null,null,null,null,{"$f":"$N$86","v":0}]
["FSA-521-A (01-23-2023)",null,null,null,null,"1.  Applicant Name",null,null,null,null,null,null,null,"2.  Application Number:"]
[{"$f":"\"Page 6 of \"&$R$3","v":"Page 6 of 4"},null,null,null,null,{"$f":"IF(K3=\"\",\"\",K3)","v":""}]
["SECTION E – ELIGIBLE VALUE-ADDED COMMODITIES"]
["25. Commodity:",null,null,null,null,null,null,null,null,null,null,null,null,"26. Expected Revenue:",null,null,null,{"$f":"IF(AND(A160=\"\",N160=\"\"),0,6)","v":0}]
[{"$f":"IF(OR('521A_entry'!L159=\"\",'521A_entry'!L159=0),\"\",'521A_entry'!L159)","v":""},null,null,null,null,null,null,null,null,null,null,null,null,{"$f":"IF(OR('521A_entry'!M159=\"\",'521A_entry'!M159=0),\"\",'521A_entry'!M159)","v":""}]
[{"$f":"IF(OR('521A_entry'!L160=\"\",'521A_entry'!L160=0),\"\",'521A_entry'!L160)","v":""},null,null,null,null,null,null,null,null,null,null,null,null,{"$f":"IF(OR('521A_entry'!M160=\"\",'521A_entry'!M160=0),\"\",'521A_entry'!M160)","v":""}]
[{"$f":"IF(OR('521A_entry'!L161=\"\",'521A_entry'!L161=0),\"\",'521A_entry'!L161)","v":""},null,null,null,null,null,null,null,null,null,null,null,null,{"$f":"IF(OR('521A_entry'!M161=\"\",'521A_entry'!M161=0),\"\",'521A_entry'!M161)","v":""}]
[{"$f":"IF(OR('521A_entry'!L162=\"\",'521A_entry'!L162=0),\"\",'521A_entry'!L162)","v":""},null,null,null,null,null,null,null,null,null,null,null,null,{"$f":"IF(OR('521A_entry'!M162=\"\",'521A_entry'!M162=0),\"\",'521A_entry'!M162)","v":""}]
[{"$f":"IF(OR('521A_entry'!L163=\"\",'521A_entry'!L163=0),\"\",'521A_entry'!L163)","v":""},null,null,null,null,null,null,null,null,null,null,null,null,{"$f":"IF(OR('521A_entry'!M163=\"\",'521A_entry'!M163=0),\"\",'521A_entry'!M163)","v":""}]
["27. Total Expected Revenue from Eligible Value Added Commodities (sum amounts in column for Item 26):",null,null,null,null,null,null,null,null,null,null,null,null,{"$f":"$N$49","v":0}]
["SECTION F – ELIGIBLE YIELD-BASED CROPS/COMMODITIES"]
["28. Crop/Commodity:",null,null,null,null,null,null,"29. Expected Acres:",null,"30. Expected Yield:\nPer Acre","31. Unit of Measure:","32. Expected Price:\n(Per Unit)",null,"33.  Expected Revenue:",null,null,null,{"$f":"IF(AND(A168=\"\",N168=\"\"),0,6)","v":0}]
[{"$f":"IF(OR('521A_entry'!C195=\"\",'521A_entry'!C195=0),\"\",'521A_entry'!C195)","v":""},null,null,null,null,null,null,{"$f":"IF(OR('521A_entry'!D195=\"\",'521A_entry'!D195=0),\"\",'521A_entry'!D195)","v":""},null,{"$f":"IF(OR('521A_entry'!E195=\"\",'521A_entry'!E195=0),\"\",'521A_entry'!E195)","v":""},{"$f":"IF(OR('521A_entry'!F195=\"\",'521A_entry'!F195=0),\"\",'521A_entry'!F195)","v":""},{"$f":"IF(OR('521A_entry'!G195=\"\",'521A_entry'!G195=0),\"\",'521A_entry'!G195)","v":""},null,{"$f":"IF(OR('521A_entry'!H195=\"\",'521A_entry'!H195=0),\"\",'521A_entry'!H195)","v":""}]
[{"$f":"IF(OR('521A_entry'!C196=\"\",'521A_entry'!C196=0),\"\",'521A_entry'!C196)","v":""},null,null,null,null,null,null,{"$f":"IF(OR('521A_entry'!D196=\"\",'521A_entry'!D196=0),\"\",'521A_entry'!D196)","v":""},null,{"$f":"IF(OR('521A_entry'!E196=\"\",'521A_entry'!E196=0),\"\",'521A_entry'!E196)","v":""},{"$f":"IF(OR('521A_entry'!F196=\"\",'521A_entry'!F196=0),\"\",'521A_entry'!F196)","v":""},{"$f":"IF(OR('521A_entry'!G196=\"\",'521A_entry'!G196=0),\"\",'521A_entry'!G196)","v":""},null,{"$f":"IF(OR('521A_entry'!H196=\"\",'521A_entry'!H196=0),\"\",'521A_entry'!H196)","v":""}]
[{"$f":"IF(OR('521A_entry'!C197=\"\",'521A_entry'!C197=0),\"\",'521A_entry'!C197)","v":""},null,null,null,null,null,null,{"$f":"IF(OR('521A_entry'!D197=\"\",'521A_entry'!D197=0),\"\",'521A_entry'!D197)","v":""},null,{"$f":"IF(OR('521A_entry'!E197=\"\",'521A_entry'!E197=0),\"\",'521A_entry'!E197)","v":""},{"$f":"IF(OR('521A_entry'!F197=\"\",'521A_entry'!F197=0),\"\",'521A_entry'!F197)","v":""},{"$f":"IF(OR('521A_entry'!G197=\"\",'521A_entry'!G197=0),\"\",'521A_entry'!G197)","v":""},null,{"$f":"IF(OR('521A_entry'!H197=\"\",'521A_entry'!H197=0),\"\",'521A_entry'!H197)","v":""}]
[{"$f":"IF(OR('521A_entry'!C198=\"\",'521A_entry'!C198=0),\"\",'521A_entry'!C198)","v":""},null,null,null,null,null,null,{"$f":"IF(OR('521A_entry'!D198=\"\",'521A_entry'!D198=0),\"\",'521A_entry'!D198)","v":""},null,{"$f":"IF(OR('521A_entry'!E198=\"\",'521A_entry'!E198=0),\"\",'521A_entry'!E198)","v":""},{"$f":"IF(OR('521A_entry'!F198=\"\",'521A_entry'!F198=0),\"\",'521A_entry'!F198)","v":""},{"$f":"IF(OR('521A_entry'!G198=\"\",'521A_entry'!G198=0),\"\",'521A_entry'!G198)","v":""},null,{"$f":"IF(OR('521A_entry'!H198=\"\",'521A_entry'!H198=0),\"\",'521A_entry'!H198)","v":""}]
[{"$f":"IF(OR('521A_entry'!C199=\"\",'521A_entry'!C199=0),\"\",'521A_entry'!C199)","v":""},null,null,null,null,null,null,{"$f":"IF(OR('521A_entry'!D199=\"\",'521A_entry'!D199=0),\"\",'521A_entry'!D199)","v":""},null,{"$f":"IF(OR('521A_entry'!E199=\"\",'521A_entry'!E199=0),\"\",'521A_entry'!E199)","v":""},{"$f":"IF(OR('521A_entry'!F199=\"\",'521A_entry'!F199=0),\"\",'521A_entry'!F199)","v":""},{"$f":"IF(OR('521A_entry'!G199=\"\",'521A_entry'!G199=0),\"\",'521A_entry'!G199)","v":""},null,{"$f":"IF(OR('521A_entry'!H199=\"\",'521A_entry'!H199=0),\"\",'521A_entry'!H199)","v":""}]
[{"$f":"IF(OR('521A_entry'!C200=\"\",'521A_entry'!C200=0),\"\",'521A_entry'!C200)","v":""},null,null,null,null,null,null,{"$f":"IF(OR('521A_entry'!D200=\"\",'521A_entry'!D200=0),\"\",'521A_entry'!D200)","v":""},null,{"$f":"IF(OR('521A_entry'!E200=\"\",'521A_entry'!E200=0),\"\",'521A_entry'!E200)","v":""},{"$f":"IF(OR('521A_entry'!F200=\"\",'521A_entry'!F200=0),\"\",'521A_entry'!F200)","v":""},{"$f":"IF(OR('521A_entry'!G200=\"\",'521A_entry'!G200=0),\"\",'521A_entry'!G200)","v":""},null,{"$f":"IF(OR('521A_entry'!H200=\"\",'521A_entry'!H200=0),\"\",'521A_entry'!H200)","v":""}]
[{"$f":"IF(OR('521A_entry'!C201=\"\",'521A_entry'!C201=0),\"\",'521A_entry'!C201)","v":""},null,null,null,null,null,null,{"$f":"IF(OR('521A_entry'!D201=\"\",'521A_entry'!D201=0),\"\",'521A_entry'!D201)","v":""},null,{"$f":"IF(OR('521A_entry'!E201=\"\",'521A_entry'!E201=0),\"\",'521A_entry'!E201)","v":""},{"$f":"IF(OR('521A_entry'!F201=\"\",'521A_entry'!F201=0),\"\",'521A_entry'!F201)","v":""},{"$f":"IF(OR('521A_entry'!G201=\"\",'521A_entry'!G201=0),\"\",'521A_entry'!G201)","v":""},null,{"$f":"IF(OR('521A_entry'!H201=\"\",'521A_entry'!H201=0),\"\",'521A_entry'!H201)","v":""}]
[{"$f":"IF(OR('521A_entry'!C202=\"\",'521A_entry'!C202=0),\"\",'521A_entry'!C202)","v":""},null,null,null,null,null,null,{"$f":"IF(OR('521A_entry'!D202=\"\",'521A_entry'!D202=0),\"\",'521A_entry'!D202)","v":""},null,{"$f":"IF(OR('521A_entry'!E202=\"\",'521A_entry'!E202=0),\"\",'521A_entry'!E202)","v":""},{"$f":"IF(OR('521A_entry'!F202=\"\",'521A_entry'!F202=0),\"\",'521A_entry'!F202)","v":""},{"$f":"IF(OR('521A_entry'!G202=\"\",'521A_entry'!G202=0),\"\",'521A_entry'!G202)","v":""},null,{"$f":"IF(OR('521A_entry'!H202=\"\",'521A_entry'!H202=0),\"\",'521A_entry'!H202)","v":""}]
[{"$f":"IF(OR('521A_entry'!C203=\"\",'521A_entry'!C203=0),\"\",'521A_entry'!C203)","v":""},null,null,null,null,null,null,{"$f":"IF(OR('521A_entry'!D203=\"\",'521A_entry'!D203=0),\"\",'521A_entry'!D203)","v":""},null,{"$f":"IF(OR('521A_entry'!E203=\"\",'521A_entry'!E203=0),\"\",'521A_entry'!E203)","v":""},{"$f":"IF(OR('521A_entry'!F203=\"\",'521A_entry'!F203=0),\"\",'521A_entry'!F203)","v":""},{"$f":"IF(OR('521A_entry'!G203=\"\",'521A_entry'!G203=0),\"\",'521A_entry'!G203)","v":""},null,{"$f":"IF(OR('521A_entry'!H203=\"\",'521A_entry'!H203=0),\"\",'521A_entry'!H203)","v":""}]
[{"$f":"IF(OR('521A_entry'!C204=\"\",'521A_entry'!C204=0),\"\",'521A_entry'!C204)","v":""},null,null,null,null,null,null,{"$f":"IF(OR('521A_entry'!D204=\"\",'521A_entry'!D204=0),\"\",'521A_entry'!D204)","v":""},null,{"$f":"IF(OR('521A_entry'!E204=\"\",'521A_entry'!E204=0),\"\",'521A_entry'!E204)","v":""},{"$f":"IF(OR('521A_entry'!F204=\"\",'521A_entry'!F204=0),\"\",'521A_entry'!F204)","v":""},{"$f":"IF(OR('521A_entry'!G204=\"\",'521A_entry'!G204=0),\"\",'521A_entry'!G204)","v":""},null,{"$f":"IF(OR('521A_entry'!H204=\"\",'521A_entry'!H204=0),\"\",'521A_entry'!H204)","v":""}]
[{"$f":"IF(OR('521A_entry'!C205=\"\",'521A_entry'!C205=0),\"\",'521A_entry'!C205)","v":""},null,null,null,null,null,null,{"$f":"IF(OR('521A_entry'!D205=\"\",'521A_entry'!D205=0),\"\",'521A_entry'!D205)","v":""},null,{"$f":"IF(OR('521A_entry'!E205=\"\",'521A_entry'!E205=0),\"\",'521A_entry'!E205)","v":""},{"$f":"IF(OR('521A_entry'!F205=\"\",'521A_entry'!F205=0),\"\",'521A_entry'!F205)","v":""},{"$f":"IF(OR('521A_entry'!G205=\"\",'521A_entry'!G205=0),\"\",'521A_entry'!G205)","v":""},null,{"$f":"IF(OR('521A_entry'!H205=\"\",'521A_entry'!H205=0),\"\",'521A_entry'!H205)","v":""}]
[{"$f":"IF(OR('521A_entry'!C206=\"\",'521A_entry'!C206=0),\"\",'521A_entry'!C206)","v":""},null,null,null,null,null,null,{"$f":"IF(OR('521A_entry'!D206=\"\",'521A_entry'!D206=0),\"\",'521A_entry'!D206)","v":""},null,{"$f":"IF(OR('521A_entry'!E206=\"\",'521A_entry'!E206=0),\"\",'521A_entry'!E206)","v":""},{"$f":"IF(OR('521A_entry'!F206=\"\",'521A_entry'!F206=0),\"\",'521A_entry'!F206)","v":""},{"$f":"IF(OR('521A_entry'!G206=\"\",'521A_entry'!G206=0),\"\",'521A_entry'!G206)","v":""},null,{"$f":"IF(OR('521A_entry'!H206=\"\",'521A_entry'!H206=0),\"\",'521A_entry'!H206)","v":""}]
[{"$f":"IF(OR('521A_entry'!C207=\"\",'521A_entry'!C207=0),\"\",'521A_entry'!C207)","v":""},null,null,null,null,null,null,{"$f":"IF(OR('521A_entry'!D207=\"\",'521A_entry'!D207=0),\"\",'521A_entry'!D207)","v":""},null,{"$f":"IF(OR('521A_entry'!E207=\"\",'521A_entry'!E207=0),\"\",'521A_entry'!E207)","v":""},{"$f":"IF(OR('521A_entry'!F207=\"\",'521A_entry'!F207=0),\"\",'521A_entry'!F207)","v":""},{"$f":"IF(OR('521A_entry'!G207=\"\",'521A_entry'!G207=0),\"\",'521A_entry'!G207)","v":""},null,{"$f":"IF(OR('521A_entry'!H207=\"\",'521A_entry'!H207=0),\"\",'521A_entry'!H207)","v":""}]
[{"$f":"IF(OR('521A_entry'!C208=\"\",'521A_entry'!C208=0),\"\",'521A_entry'!C208)","v":""},null,null,null,null,null,null,{"$f":"IF(OR('521A_entry'!D208=\"\",'521A_entry'!D208=0),\"\",'521A_entry'!D208)","v":""},null,{"$f":"IF(OR('521A_entry'!E208=\"\",'521A_entry'!E208=0),\"\",'521A_entry'!E208)","v":""},{"$f":"IF(OR('521A_entry'!F208=\"\",'521A_entry'!F208=0),\"\",'521A_entry'!F208)","v":""},{"$f":"IF(OR('521A_entry'!G208=\"\",'521A_entry'!G208=0),\"\",'521A_entry'!G208)","v":""},null,{"$f":"IF(OR('521A_entry'!H208=\"\",'521A_entry'!H208=0),\"\",'521A_entry'!H208)","v":""}]
[{"$f":"IF(OR('521A_entry'!C209=\"\",'521A_entry'!C209=0),\"\",'521A_entry'!C209)","v":""},null,null,null,null,null,null,{"$f":"IF(OR('521A_entry'!D209=\"\",'521A_entry'!D209=0),\"\",'521A_entry'!D209)","v":""},null,{"$f":"IF(OR('521A_entry'!E209=\"\",'521A_entry'!E209=0),\"\",'521A_entry'!E209)","v":""},{"$f":"IF(OR('521A_entry'!F209=\"\",'521A_entry'!F209=0),\"\",'521A_entry'!F209)","v":""},{"$f":"IF(OR('521A_entry'!G209=\"\",'521A_entry'!G209=0),\"\",'521A_entry'!G209)","v":""},null,{"$f":"IF(OR('521A_entry'!H209=\"\",'521A_entry'!H209=0),\"\",'521A_entry'!H209)","v":""}]
[{"$f":"IF(OR('521A_entry'!C210=\"\",'521A_entry'!C210=0),\"\",'521A_entry'!C210)","v":""},null,null,null,null,null,null,{"$f":"IF(OR('521A_entry'!D210=\"\",'521A_entry'!D210=0),\"\",'521A_entry'!D210)","v":""},null,{"$f":"IF(OR('521A_entry'!E210=\"\",'521A_entry'!E210=0),\"\",'521A_entry'!E210)","v":""},{"$f":"IF(OR('521A_entry'!F210=\"\",'521A_entry'!F210=0),\"\",'521A_entry'!F210)","v":""},{"$f":"IF(OR('521A_entry'!G210=\"\",'521A_entry'!G210=0),\"\",'521A_entry'!G210)","v":""},null,{"$f":"IF(OR('521A_entry'!H210=\"\",'521A_entry'!H210=0),\"\",'521A_entry'!H210)","v":""}]
[{"$f":"IF(OR('521A_entry'!C211=\"\",'521A_entry'!C211=0),\"\",'521A_entry'!C211)","v":""},null,null,null,null,null,null,{"$f":"IF(OR('521A_entry'!D211=\"\",'521A_entry'!D211=0),\"\",'521A_entry'!D211)","v":""},null,{"$f":"IF(OR('521A_entry'!E211=\"\",'521A_entry'!E211=0),\"\",'521A_entry'!E211)","v":""},{"$f":"IF(OR('521A_entry'!F211=\"\",'521A_entry'!F211=0),\"\",'521A_entry'!F211)","v":""},{"$f":"IF(OR('521A_entry'!G211=\"\",'521A_entry'!G211=0),\"\",'521A_entry'!G211)","v":""},null,{"$f":"IF(OR('521A_entry'!H211=\"\",'521A_entry'!H211=0),\"\",'521A_entry'!H211)","v":""}]
[{"$f":"IF(OR('521A_entry'!C212=\"\",'521A_entry'!C212=0),\"\",'521A_entry'!C212)","v":""},null,null,null,null,null,null,{"$f":"IF(OR('521A_entry'!D212=\"\",'521A_entry'!D212=0),\"\",'521A_entry'!D212)","v":""},null,{"$f":"IF(OR('521A_entry'!E212=\"\",'521A_entry'!E212=0),\"\",'521A_entry'!E212)","v":""},{"$f":"IF(OR('521A_entry'!F212=\"\",'521A_entry'!F212=0),\"\",'521A_entry'!F212)","v":""},{"$f":"IF(OR('521A_entry'!G212=\"\",'521A_entry'!G212=0),\"\",'521A_entry'!G212)","v":""},null,{"$f":"IF(OR('521A_entry'!H212=\"\",'521A_entry'!H212=0),\"\",'521A_entry'!H212)","v":""}]
[{"$f":"IF(OR('521A_entry'!C213=\"\",'521A_entry'!C213=0),\"\",'521A_entry'!C213)","v":""},null,null,null,null,null,null,{"$f":"IF(OR('521A_entry'!D213=\"\",'521A_entry'!D213=0),\"\",'521A_entry'!D213)","v":""},null,{"$f":"IF(OR('521A_entry'!E213=\"\",'521A_entry'!E213=0),\"\",'521A_entry'!E213)","v":""},{"$f":"IF(OR('521A_entry'!F213=\"\",'521A_entry'!F213=0),\"\",'521A_entry'!F213)","v":""},{"$f":"IF(OR('521A_entry'!G213=\"\",'521A_entry'!G213=0),\"\",'521A_entry'!G213)","v":""},null,{"$f":"IF(OR('521A_entry'!H213=\"\",'521A_entry'!H213=0),\"\",'521A_entry'!H213)","v":""}]
[{"$f":"IF(OR('521A_entry'!C214=\"\",'521A_entry'!C214=0),\"\",'521A_entry'!C214)","v":""},null,null,null,null,null,null,{"$f":"IF(OR('521A_entry'!D214=\"\",'521A_entry'!D214=0),\"\",'521A_entry'!D214)","v":""},null,{"$f":"IF(OR('521A_entry'!E214=\"\",'521A_entry'!E214=0),\"\",'521A_entry'!E214)","v":""},{"$f":"IF(OR('521A_entry'!F214=\"\",'521A_entry'!F214=0),\"\",'521A_entry'!F214)","v":""},{"$f":"IF(OR('521A_entry'!G214=\"\",'521A_entry'!G214=0),\"\",'521A_entry'!G214)","v":""},null,{"$f":"IF(OR('521A_entry'!H214=\"\",'521A_entry'!H214=0),\"\",'521A_entry'!H214)","v":""}]
[{"$f":"IF(OR('521A_entry'!C215=\"\",'521A_entry'!C215=0),\"\",'521A_entry'!C215)","v":""},null,null,null,null,null,null,{"$f":"IF(OR('521A_entry'!D215=\"\",'521A_entry'!D215=0),\"\",'521A_entry'!D215)","v":""},null,{"$f":"IF(OR('521A_entry'!E215=\"\",'521A_entry'!E215=0),\"\",'521A_entry'!E215)","v":""},{"$f":"IF(OR('521A_entry'!F215=\"\",'521A_entry'!F215=0),\"\",'521A_entry'!F215)","v":""},{"$f":"IF(OR('521A_entry'!G215=\"\",'521A_entry'!G215=0),\"\",'521A_entry'!G215)","v":""},null,{"$f":"IF(OR('521A_entry'!H215=\"\",'521A_entry'!H215=0),\"\",'521A_entry'!H215)","v":""}]
[{"$f":"IF(OR('521A_entry'!C216=\"\",'521A_entry'!C216=0),\"\",'521A_entry'!C216)","v":""},null,null,null,null,null,null,{"$f":"IF(OR('521A_entry'!D216=\"\",'521A_entry'!D216=0),\"\",'521A_entry'!D216)","v":""},null,{"$f":"IF(OR('521A_entry'!E216=\"\",'521A_entry'!E216=0),\"\",'521A_entry'!E216)","v":""},{"$f":"IF(OR('521A_entry'!F216=\"\",'521A_entry'!F216=0),\"\",'521A_entry'!F216)","v":""},{"$f":"IF(OR('521A_entry'!G216=\"\",'521A_entry'!G216=0),\"\",'521A_entry'!G216)","v":""},null,{"$f":"IF(OR('521A_entry'!H216=\"\",'521A_entry'!H216=0),\"\",'521A_entry'!H216)","v":""}]
[{"$f":"IF(OR('521A_entry'!C217=\"\",'521A_entry'!C217=0),\"\",'521A_entry'!C217)","v":""},null,null,null,null,null,null,{"$f":"IF(OR('521A_entry'!D217=\"\",'521A_entry'!D217=0),\"\",'521A_entry'!D217)","v":""},null,{"$f":"IF(OR('521A_entry'!E217=\"\",'521A_entry'!E217=0),\"\",'521A_entry'!E217)","v":""},{"$f":"IF(OR('521A_entry'!F217=\"\",'521A_entry'!F217=0),\"\",'521A_entry'!F217)","v":""},{"$f":"IF(OR('521A_entry'!G217=\"\",'521A_entry'!G217=0),\"\",'521A_entry'!G217)","v":""},null,{"$f":"IF(OR('521A_entry'!H217=\"\",'521A_entry'!H217=0),\"\",'521A_entry'!H217)","v":""}]
["34. Total Expected Revenue from Eligible Yield Based Crops/Commodities (sum amounts in column for Item 33):",null,null,null,null,null,null,null,null,null,null,null,null,{"$f":"$N$75","v":0}]
["SECTION G – ELIGIBLE INVENTORY-BASED CROPS/COMMODITIES"]
["35. Crops/Commodity:",null,null,null,null,null,null,null,null,null,null,null,null,"36. Expected Revenue:",null,null,null,{"$f":"IF(AND(A194=\"\",N194=\"\"),0,6)","v":0}]
[{"$f":"IF(OR('521A_entry'!Q165=\"\",'521A_entry'!Q165=0),\"\",'521A_entry'!Q165)","v":""},null,null,null,null,null,null,null,null,null,null,null,null,{"$f":"IF(OR('521A_entry'!R165=\"\",'521A_entry'!R165=0),\"\",'521A_entry'!R165)","v":""}]
[{"$f":"IF(OR('521A_entry'!Q166=\"\",'521A_entry'!Q166=0),\"\",'521A_entry'!Q166)","v":""},null,null,null,null,null,null,null,null,null,null,null,null,{"$f":"IF(OR('521A_entry'!R166=\"\",'521A_entry'!R166=0),\"\",'521A_entry'!R166)","v":""}]
[{"$f":"IF(OR('521A_entry'!Q167=\"\",'521A_entry'!Q167=0),\"\",'521A_entry'!Q167)","v":""},null,null,null,null,null,null,null,null,null,null,null,null,{"$f":"IF(OR('521A_entry'!R167=\"\",'521A_entry'!R167=0),\"\",'521A_entry'!R167)","v":""}]
[{"$f":"IF(OR('521A_entry'!Q168=\"\",'521A_entry'!Q168=0),\"\",'521A_entry'!Q168)","v":""},null,null,null,null,null,null,null,null,null,null,null,null,{"$f":"IF(OR('521A_entry'!R168=\"\",'521A_entry'!R168=0),\"\",'521A_entry'!R168)","v":""}]
[{"$f":"IF(OR('521A_entry'!Q169=\"\",'521A_entry'!Q169=0),\"\",'521A_entry'!Q169)","v":""},null,null,null,null,null,null,null,null,null,null,null,null,{"$f":"IF(OR('521A_entry'!R169=\"\",'521A_entry'!R169=0),\"\",'521A_entry'!R169)","v":""}]
[{"$f":"IF(OR('521A_entry'!Q170=\"\",'521A_entry'!Q170=0),\"\",'521A_entry'!Q170)","v":""},null,null,null,null,null,null,null,null,null,null,null,null,{"$f":"IF(OR('521A_entry'!R170=\"\",'521A_entry'!R170=0),\"\",'521A_entry'!R170)","v":""}]
[{"$f":"IF(OR('521A_entry'!Q171=\"\",'521A_entry'!Q171=0),\"\",'521A_entry'!Q171)","v":""},null,null,null,null,null,null,null,null,null,null,null,null,{"$f":"IF(OR('521A_entry'!R171=\"\",'521A_entry'!R171=0),\"\",'521A_entry'!R171)","v":""}]
[{"$f":"IF(OR('521A_entry'!Q172=\"\",'521A_entry'!Q172=0),\"\",'521A_entry'!Q172)","v":""},null,null,null,null,null,null,null,null,null,null,null,null,{"$f":"IF(OR('521A_entry'!R172=\"\",'521A_entry'!R172=0),\"\",'521A_entry'!R172)","v":""}]
["37. Total Expected Revenue from Eligible Inventory Based Crops/Commodities (sum amounts in column for Item 36):",null,null,null,null,null,null,null,null,null,null,null,null,{"$f":"$N$86","v":0}]
["FSA-521-A (01-23-2023)",null,null,null,null,"1.  Applicant Name",null,null,null,null,null,null,null,"2.  Application Number:"]
[{"$f":"\"Page 7 of \"&$R$3","v":"Page 7 of 4"},null,null,null,null,{"$f":"IF(K3=\"\",\"\",K3)","v":""}]
["SECTION E – ELIGIBLE VALUE-ADDED COMMODITIES"]
["25. Commodity:",null,null,null,null,null,null,null,null,null,null,null,null,"26. Expected Revenue:",null,null,null,{"$f":"IF(AND(A207=\"\",N207=\"\"),0,7)","v":0}]
[{"$f":"IF(OR('521A_entry'!L164=\"\",'521A_entry'!L164=0),\"\",'521A_entry'!L164)","v":""},null,null,null,null,null,null,null,null,null,null,null,null,{"$f":"IF(OR('521A_entry'!M164=\"\",'521A_entry'!M164=0),\"\",'521A_entry'!M164)","v":""}]
[{"$f":"IF(OR('521A_entry'!L165=\"\",'521A_entry'!L165=0),\"\",'521A_entry'!L165)","v":""},null,null,null,null,null,null,null,null,null,null,null,null,{"$f":"IF(OR('521A_entry'!M165=\"\",'521A_entry'!M165=0),\"\",'521A_entry'!M165)","v":""}]
[{"$f":"IF(OR('521A_entry'!L166=\"\",'521A_entry'!L166=0),\"\",'521A_entry'!L166)","v":""},null,null,null,null,null,null,null,null,null,null,null,null,{"$f":"IF(OR('521A_entry'!M166=\"\",'521A_entry'!M166=0),\"\",'521A_entry'!M166)","v":""}]
[{"$f":"IF(OR('521A_entry'!L167=\"\",'521A_entry'!L167=0),\"\",'521A_entry'!L167)","v":""},null,null,null,null,null,null,null,null,null,null,null,null,{"$f":"IF(OR('521A_entry'!M167=\"\",'521A_entry'!M167=0),\"\",'521A_entry'!M167)","v":""}]
[{"$f":"IF(OR('521A_entry'!L168=\"\",'521A_entry'!L168=0),\"\",'521A_entry'!L168)","v":""},null,null,null,null,null,null,null,null,null,null,null,null,{"$f":"IF(OR('521A_entry'!M168=\"\",'521A_entry'!M168=0),\"\",'521A_entry'!M168)","v":""}]
["27. Total Expected Revenue from Eligible Value Added Commodities (sum amounts in column for Item 26):",null,null,null,null,null,null,null,null,null,null,null,null,{"$f":"$N$49","v":0}]
["SECTION F – ELIGIBLE YIELD-BASED CROPS/COMMODITIES"]
["28. Crop/Commodity:",null,null,null,null,null,null,"29. Expected Acres:",null,"30. Expected Yield:\nPer Acre","31. Unit of Measure:","32. Expected Price:\n(Per Unit)",null,"33.  Expected Revenue:",null,null,null,{"$f":"IF(AND(A215=\"\",N215=\"\"),0,7)","v":0}]
[{"$f":"IF(OR('521A_entry'!C218=\"\",'521A_entry'!C218=0),\"\",'521A_entry'!C218)","v":""},null,null,null,null,null,null,{"$f":"IF(OR('521A_entry'!D218=\"\",'521A_entry'!D218=0),\"\",'521A_entry'!D218)","v":""},null,{"$f":"IF(OR('521A_entry'!E218=\"\",'521A_entry'!E218=0),\"\",'521A_entry'!E218)","v":""},{"$f":"IF(OR('521A_entry'!F218=\"\",'521A_entry'!F218=0),\"\",'521A_entry'!F218)","v":""},{"$f":"IF(OR('521A_entry'!G218=\"\",'521A_entry'!G218=0),\"\",'521A_entry'!G218)","v":""},null,{"$f":"IF(OR('521A_entry'!H218=\"\",'521A_entry'!H218=0),\"\",'521A_entry'!H218)","v":""}]
[{"$f":"IF(OR('521A_entry'!C219=\"\",'521A_entry'!C219=0),\"\",'521A_entry'!C219)","v":""},null,null,null,null,null,null,{"$f":"IF(OR('521A_entry'!D219=\"\",'521A_entry'!D219=0),\"\",'521A_entry'!D219)","v":""},null,{"$f":"IF(OR('521A_entry'!E219=\"\",'521A_entry'!E219=0),\"\",'521A_entry'!E219)","v":""},{"$f":"IF(OR('521A_entry'!F219=\"\",'521A_entry'!F219=0),\"\",'521A_entry'!F219)","v":""},{"$f":"IF(OR('521A_entry'!G219=\"\",'521A_entry'!G219=0),\"\",'521A_entry'!G219)","v":""},null,{"$f":"IF(OR('521A_entry'!H219=\"\",'521A_entry'!H219=0),\"\",'521A_entry'!H219)","v":""}]
[{"$f":"IF(OR('521A_entry'!C220=\"\",'521A_entry'!C220=0),\"\",'521A_entry'!C220)","v":""},null,null,null,null,null,null,{"$f":"IF(OR('521A_entry'!D220=\"\",'521A_entry'!D220=0),\"\",'521A_entry'!D220)","v":""},null,{"$f":"IF(OR('521A_entry'!E220=\"\",'521A_entry'!E220=0),\"\",'521A_entry'!E220)","v":""},{"$f":"IF(OR('521A_entry'!F220=\"\",'521A_entry'!F220=0),\"\",'521A_entry'!F220)","v":""},{"$f":"IF(OR('521A_entry'!G220=\"\",'521A_entry'!G220=0),\"\",'521A_entry'!G220)","v":""},null,{"$f":"IF(OR('521A_entry'!H220=\"\",'521A_entry'!H220=0),\"\",'521A_entry'!H220)","v":""}]
[{"$f":"IF(OR('521A_entry'!C221=\"\",'521A_entry'!C221=0),\"\",'521A_entry'!C221)","v":""},null,null,null,null,null,null,{"$f":"IF(OR('521A_entry'!D221=\"\",'521A_entry'!D221=0),\"\",'521A_entry'!D221)","v":""},null,{"$f":"IF(OR('521A_entry'!E221=\"\",'521A_entry'!E221=0),\"\",'521A_entry'!E221)","v":""},{"$f":"IF(OR('521A_entry'!F221=\"\",'521A_entry'!F221=0),\"\",'521A_entry'!F221)","v":""},{"$f":"IF(OR('521A_entry'!G221=\"\",'521A_entry'!G221=0),\"\",'521A_entry'!G221)","v":""},null,{"$f":"IF(OR('521A_entry'!H221=\"\",'521A_entry'!H221=0),\"\",'521A_entry'!H221)","v":""}]
[{"$f":"IF(OR('521A_entry'!C222=\"\",'521A_entry'!C222=0),\"\",'521A_entry'!C222)","v":""},null,null,null,null,null,null,{"$f":"IF(OR('521A_entry'!D222=\"\",'521A_entry'!D222=0),\"\",'521A_entry'!D222)","v":""},null,{"$f":"IF(OR('521A_entry'!E222=\"\",'521A_entry'!E222=0),\"\",'521A_entry'!E222)","v":""},{"$f":"IF(OR('521A_entry'!F222=\"\",'521A_entry'!F222=0),\"\",'521A_entry'!F222)","v":""},{"$f":"IF(OR('521A_entry'!G222=\"\",'521A_entry'!G222=0),\"\",'521A_entry'!G222)","v":""},null,{"$f":"IF(OR('521A_entry'!H222=\"\",'521A_entry'!H222=0),\"\",'521A_entry'!H222)","v":""}]
[{"$f":"IF(OR('521A_entry'!C223=\"\",'521A_entry'!C223=0),\"\",'521A_entry'!C223)","v":""},null,null,null,null,null,null,{"$f":"IF(OR('521A_entry'!D223=\"\",'521A_entry'!D223=0),\"\",'521A_entry'!D223)","v":""},null,{"$f":"IF(OR('521A_entry'!E223=\"\",'521A_entry'!E223=0),\"\",'521A_entry'!E223)","v":""},{"$f":"IF(OR('521A_entry'!F223=\"\",'521A_entry'!F223=0),\"\",'521A_entry'!F223)","v":""},{"$f":"IF(OR('521A_entry'!G223=\"\",'521A_entry'!G223=0),\"\",'521A_entry'!G223)","v":""},null,{"$f":"IF(OR('521A_entry'!H223=\"\",'521A_entry'!H223=0),\"\",'521A_entry'!H223)","v":""}]
[{"$f":"IF(OR('521A_entry'!C224=\"\",'521A_entry'!C224=0),\"\",'521A_entry'!C224)","v":""},null,null,null,null,null,null,{"$f":"IF(OR('521A_entry'!D224=\"\",'521A_entry'!D224=0),\"\",'521A_entry'!D224)","v":""},null,{"$f":"IF(OR('521A_entry'!E224=\"\",'521A_entry'!E224=0),\"\",'521A_entry'!E224)","v":""},{"$f":"IF(OR('521A_entry'!F224=\"\",'521A_entry'!F224=0),\"\",'521A_entry'!F224)","v":""},{"$f":"IF(OR('521A_entry'!G224=\"\",'521A_entry'!G224=0),\"\",'521A_entry'!G224)","v":""},null,{"$f":"IF(OR('521A_entry'!H224=\"\",'521A_entry'!H224=0),\"\",'521A_entry'!H224)","v":""}]
[{"$f":"IF(OR('521A_entry'!C225=\"\",'521A_entry'!C225=0),\"\",'521A_entry'!C225)","v":""},null,null,null,null,null,null,{"$f":"IF(OR('521A_entry'!D225=\"\",'521A_entry'!D225=0),\"\",'521A_entry'!D225)","v":""},null,{"$f":"IF(OR('521A_entry'!E225=\"\",'521A_entry'!E225=0),\"\",'521A_entry'!E225)","v":""},{"$f":"IF(OR('521A_entry'!F225=\"\",'521A_entry'!F225=0),\"\",'521A_entry'!F225)","v":""},{"$f":"IF(OR('521A_entry'!G225=\"\",'521A_entry'!G225=0),\"\",'521A_entry'!G225)","v":""},null,{"$f":"IF(OR('521A_entry'!H225=\"\",'521A_entry'!H225=0),\"\",'521A_entry'!H225)","v":""}]
[{"$f":"IF(OR('521A_entry'!C226=\"\",'521A_entry'!C226=0),\"\",'521A_entry'!C226)","v":""},null,null,null,null,null,null,{"$f":"IF(OR('521A_entry'!D226=\"\",'521A_entry'!D226=0),\"\",'521A_entry'!D226)","v":""},null,{"$f":"IF(OR('521A_entry'!E226=\"\",'521A_entry'!E226=0),\"\",'521A_entry'!E226)","v":""},{"$f":"IF(OR('521A_entry'!F226=\"\",'521A_entry'!F226=0),\"\",'521A_entry'!F226)","v":""},{"$f":"IF(OR('521A_entry'!G226=\"\",'521A_entry'!G226=0),\"\",'521A_entry'!G226)","v":""},null,{"$f":"IF(OR('521A_entry'!H226=\"\",'521A_entry'!H226=0),\"\",'521A_entry'!H226)","v":""}]
[{"$f":"IF(OR('521A_entry'!C227=\"\",'521A_entry'!C227=0),\"\",'521A_entry'!C227)","v":""},null,null,null,null,null,null,{"$f":"IF(OR('521A_entry'!D227=\"\",'521A_entry'!D227=0),\"\",'521A_entry'!D227)","v":""},null,{"$f":"IF(OR('521A_entry'!E227=\"\",'521A_entry'!E227=0),\"\",'521A_entry'!E227)","v":""},{"$f":"IF(OR('521A_entry'!F227=\"\",'521A_entry'!F227=0),\"\",'521A_entry'!F227)","v":""},{"$f":"IF(OR('521A_entry'!G227=\"\",'521A_entry'!G227=0),\"\",'521A_entry'!G227)","v":""},null,{"$f":"IF(OR('521A_entry'!H227=\"\",'521A_entry'!H227=0),\"\",'521A_entry'!H227)","v":""}]
[{"$f":"IF(OR('521A_entry'!C228=\"\",'521A_entry'!C228=0),\"\",'521A_entry'!C228)","v":""},null,null,null,null,null,null,{"$f":"IF(OR('521A_entry'!D228=\"\",'521A_entry'!D228=0),\"\",'521A_entry'!D228)","v":""},null,{"$f":"IF(OR('521A_entry'!E228=\"\",'521A_entry'!E228=0),\"\",'521A_entry'!E228)","v":""},{"$f":"IF(OR('521A_entry'!F228=\"\",'521A_entry'!F228=0),\"\",'521A_entry'!F228)","v":""},{"$f":"IF(OR('521A_entry'!G228=\"\",'521A_entry'!G228=0),\"\",'521A_entry'!G228)","v":""},null,{"$f":"IF(OR('521A_entry'!H228=\"\",'521A_entry'!H228=0),\"\",'521A_entry'!H228)","v":""}]
[{"$f":"IF(OR('521A_entry'!C229=\"\",'521A_entry'!C229=0),\"\",'521A_entry'!C229)","v":""},null,null,null,null,null,null,{"$f":"IF(OR('521A_entry'!D229=\"\",'521A_entry'!D229=0),\"\",'521A_entry'!D229)","v":""},null,{"$f":"IF(OR('521A_entry'!E229=\"\",'521A_entry'!E229=0),\"\",'521A_entry'!E229)","v":""},{"$f":"IF(OR('521A_entry'!F229=\"\",'521A_entry'!F229=0),\"\",'521A_entry'!F229)","v":""},{"$f":"IF(OR('521A_entry'!G229=\"\",'521A_entry'!G229=0),\"\",'521A_entry'!G229)","v":""},null,{"$f":"IF(OR('521A_entry'!H229=\"\",'521A_entry'!H229=0),\"\",'521A_entry'!H229)","v":""}]
[{"$f":"IF(OR('521A_entry'!C230=\"\",'521A_entry'!C230=0),\"\",'521A_entry'!C230)","v":""},null,null,null,null,null,null,{"$f":"IF(OR('521A_entry'!D230=\"\",'521A_entry'!D230=0),\"\",'521A_entry'!D230)","v":""},null,{"$f":"IF(OR('521A_entry'!E230=\"\",'521A_entry'!E230=0),\"\",'521A_entry'!E230)","v":""},{"$f":"IF(OR('521A_entry'!F230=\"\",'521A_entry'!F230=0),\"\",'521A_entry'!F230)","v":""},{"$f":"IF(OR('521A_entry'!G230=\"\",'521A_entry'!G230=0),\"\",'521A_entry'!G230)","v":""},null,{"$f":"IF(OR('521A_entry'!H230=\"\",'521A_entry'!H230=0),\"\",'521A_entry'!H230)","v":""}]
[{"$f":"IF(OR('521A_entry'!C231=\"\",'521A_entry'!C231=0),\"\",'521A_entry'!C231)","v":""},null,null,null,null,null,null,{"$f":"IF(OR('521A_entry'!D231=\"\",'521A_entry'!D231=0),\"\",'521A_entry'!D231)","v":""},null,{"$f":"IF(OR('521A_entry'!E231=\"\",'521A_entry'!E231=0),\"\",'521A_entry'!E231)","v":""},{"$f":"IF(OR('521A_entry'!F231=\"\",'521A_entry'!F231=0),\"\",'521A_entry'!F231)","v":""},{"$f":"IF(OR('521A_entry'!G231=\"\",'521A_entry'!G231=0),\"\",'521A_entry'!G231)","v":""},null,{"$f":"IF(OR('521A_entry'!H231=\"\",'521A_entry'!H231=0),\"\",'521A_entry'!H231)","v":""}]
[{"$f":"IF(OR('521A_entry'!C232=\"\",'521A_entry'!C232=0),\"\",'521A_entry'!C232)","v":""},null,null,null,null,null,null,{"$f":"IF(OR('521A_entry'!D232=\"\",'521A_entry'!D232=0),\"\",'521A_entry'!D232)","v":""},null,{"$f":"IF(OR('521A_entry'!E232=\"\",'521A_entry'!E232=0),\"\",'521A_entry'!E232)","v":""},{"$f":"IF(OR('521A_entry'!F232=\"\",'521A_entry'!F232=0),\"\",'521A_entry'!F232)","v":""},{"$f":"IF(OR('521A_entry'!G232=\"\",'521A_entry'!G232=0),\"\",'521A_entry'!G232)","v":""},null,{"$f":"IF(OR('521A_entry'!H232=\"\",'521A_entry'!H232=0),\"\",'521A_entry'!H232)","v":""}]
[{"$f":"IF(OR('521A_entry'!C233=\"\",'521A_entry'!C233=0),\"\",'521A_entry'!C233)","v":""},null,null,null,null,null,null,{"$f":"IF(OR('521A_entry'!D233=\"\",'521A_entry'!D233=0),\"\",'521A_entry'!D233)","v":""},null,{"$f":"IF(OR('521A_entry'!E233=\"\",'521A_entry'!E233=0),\"\",'521A_entry'!E233)","v":""},{"$f":"IF(OR('521A_entry'!F233=\"\",'521A_entry'!F233=0),\"\",'521A_entry'!F233)","v":""},{"$f":"IF(OR('521A_entry'!G233=\"\",'521A_entry'!G233=0),\"\",'521A_entry'!G233)","v":""},null,{"$f":"IF(OR('521A_entry'!H233=\"\",'521A_entry'!H233=0),\"\",'521A_entry'!H233)","v":""}]
[{"$f":"IF(OR('521A_entry'!C234=\"\",'521A_entry'!C234=0),\"\",'521A_entry'!C234)","v":""},null,null,null,null,null,null,{"$f":"IF(OR('521A_entry'!D234=\"\",'521A_entry'!D234=0),\"\",'521A_entry'!D234)","v":""},null,{"$f":"IF(OR('521A_entry'!E234=\"\",'521A_entry'!E234=0),\"\",'521A_entry'!E234)","v":""},{"$f":"IF(OR('521A_entry'!F234=\"\",'521A_entry'!F234=0),\"\",'521A_entry'!F234)","v":""},{"$f":"IF(OR('521A_entry'!G234=\"\",'521A_entry'!G234=0),\"\",'521A_entry'!G234)","v":""},null,{"$f":"IF(OR('521A_entry'!H234=\"\",'521A_entry'!H234=0),\"\",'521A_entry'!H234)","v":""}]
[{"$f":"IF(OR('521A_entry'!C235=\"\",'521A_entry'!C235=0),\"\",'521A_entry'!C235)","v":""},null,null,null,null,null,null,{"$f":"IF(OR('521A_entry'!D235=\"\",'521A_entry'!D235=0),\"\",'521A_entry'!D235)","v":""},null,{"$f":"IF(OR('521A_entry'!E235=\"\",'521A_entry'!E235=0),\"\",'521A_entry'!E235)","v":""},{"$f":"IF(OR('521A_entry'!F235=\"\",'521A_entry'!F235=0),\"\",'521A_entry'!F235)","v":""},{"$f":"IF(OR('521A_entry'!G235=\"\",'521A_entry'!G235=0),\"\",'521A_entry'!G235)","v":""},null,{"$f":"IF(OR('521A_entry'!H235=\"\",'521A_entry'!H235=0),\"\",'521A_entry'!H235)","v":""}]
[{"$f":"IF(OR('521A_entry'!C236=\"\",'521A_entry'!C236=0),\"\",'521A_entry'!C236)","v":""},null,null,null,null,null,null,{"$f":"IF(OR('521A_entry'!D236=\"\",'521A_entry'!D236=0),\"\",'521A_entry'!D236)","v":""},null,{"$f":"IF(OR('521A_entry'!E236=\"\",'521A_entry'!E236=0),\"\",'521A_entry'!E236)","v":""},{"$f":"IF(OR('521A_entry'!F236=\"\",'521A_entry'!F236=0),\"\",'521A_entry'!F236)","v":""},{"$f":"IF(OR('521A_entry'!G236=\"\",'521A_entry'!G236=0),\"\",'521A_entry'!G236)","v":""},null,{"$f":"IF(OR('521A_entry'!H236=\"\",'521A_entry'!H236=0),\"\",'521A_entry'!H236)","v":""}]
[{"$f":"IF(OR('521A_entry'!C237=\"\",'521A_entry'!C237=0),\"\",'521A_entry'!C237)","v":""},null,null,null,null,null,null,{"$f":"IF(OR('521A_entry'!D237=\"\",'521A_entry'!D237=0),\"\",'521A_entry'!D237)","v":""},null,{"$f":"IF(OR('521A_entry'!E237=\"\",'521A_entry'!E237=0),\"\",'521A_entry'!E237)","v":""},{"$f":"IF(OR('521A_entry'!F237=\"\",'521A_entry'!F237=0),\"\",'521A_entry'!F237)","v":""},{"$f":"IF(OR('521A_entry'!G237=\"\",'521A_entry'!G237=0),\"\",'521A_entry'!G237)","v":""},null,{"$f":"IF(OR('521A_entry'!H237=\"\",'521A_entry'!H237=0),\"\",'521A_entry'!H237)","v":""}]
[{"$f":"IF(OR('521A_entry'!C238=\"\",'521A_entry'!C238=0),\"\",'521A_entry'!C238)","v":""},null,null,null,null,null,null,{"$f":"IF(OR('521A_entry'!D238=\"\",'521A_entry'!D238=0),\"\",'521A_entry'!D238)","v":""},null,{"$f":"IF(OR('521A_entry'!E238=\"\",'521A_entry'!E238=0),\"\",'521A_entry'!E238)","v":""},{"$f":"IF(OR('521A_entry'!F238=\"\",'521A_entry'!F238=0),\"\",'521A_entry'!F238)","v":""},{"$f":"IF(OR('521A_entry'!G238=\"\",'521A_entry'!G238=0),\"\",'521A_entry'!G238)","v":""},null,{"$f":"IF(OR('521A_entry'!H238=\"\",'521A_entry'!H238=0),\"\",'521A_entry'!H238)","v":""}]
[{"$f":"IF(OR('521A_entry'!C239=\"\",'521A_entry'!C239=0),\"\",'521A_entry'!C239)","v":""},null,null,null,null,null,null,{"$f":"IF(OR('521A_entry'!D239=\"\",'521A_entry'!D239=0),\"\",'521A_entry'!D239)","v":""},null,{"$f":"IF(OR('521A_entry'!E239=\"\",'521A_entry'!E239=0),\"\",'521A_entry'!E239)","v":""},{"$f":"IF(OR('521A_entry'!F239=\"\",'521A_entry'!F239=0),\"\",'521A_entry'!F239)","v":""},{"$f":"IF(OR('521A_entry'!G239=\"\",'521A_entry'!G239=0),\"\",'521A_entry'!G239)","v":""},null,{"$f":"IF(OR('521A_entry'!H239=\"\",'521A_entry'!H239=0),\"\",'521A_entry'!H239)","v":""}]
[{"$f":"IF(OR('521A_entry'!C240=\"\",'521A_entry'!C240=0),\"\",'521A_entry'!C240)","v":""},null,null,null,null,null,null,{"$f":"IF(OR('521A_entry'!D240=\"\",'521A_entry'!D240=0),\"\",'521A_entry'!D240)","v":""},null,{"$f":"IF(OR('521A_entry'!E240=\"\",'521A_entry'!E240=0),\"\",'521A_entry'!E240)","v":""},{"$f":"IF(OR('521A_entry'!F240=\"\",'521A_entry'!F240=0),\"\",'521A_entry'!F240)","v":""},{"$f":"IF(OR('521A_entry'!G240=\"\",'521A_entry'!G240=0),\"\",'521A_entry'!G240)","v":""},null,{"$f":"IF(OR('521A_entry'!H240=\"\",'521A_entry'!H240=0),\"\",'521A_entry'!H240)","v":""}]
["34. Total Expected Revenue from Eligible Yield Based Crops/Commodities (sum amounts in column for Item 33):",null,null,null,null,null,null,null,null,null,null,null,null,{"$f":"$N$75","v":0}]
["SECTION G – ELIGIBLE INVENTORY-BASED CROPS/COMMODITIES"]
["35. Crops/Commodity:",null,null,null,null,null,null,null,null,null,null,null,null,"36. Expected Revenue:",null,null,null,{"$f":"IF(AND(A241=\"\",N241=\"\"),0,7)","v":0}]
[{"$f":"IF(OR('521A_entry'!Q173=\"\",'521A_entry'!Q173=0),\"\",'521A_entry'!Q173)","v":""},null,null,null,null,null,null,null,null,null,null,null,null,{"$f":"IF(OR('521A_entry'!R173=\"\",'521A_entry'!R173=0),\"\",'521A_entry'!R173)","v":""}]
[{"$f":"IF(OR('521A_entry'!Q174=\"\",'521A_entry'!Q174=0),\"\",'521A_entry'!Q174)","v":""},null,null,null,null,null,null,null,null,null,null,null,null,{"$f":"IF(OR('521A_entry'!R174=\"\",'521A_entry'!R174=0),\"\",'521A_entry'!R174)","v":""}]
[{"$f":"IF(OR('521A_entry'!Q175=\"\",'521A_entry'!Q175=0),\"\",'521A_entry'!Q175)","v":""},null,null,null,null,null,null,null,null,null,null,null,null,{"$f":"IF(OR('521A_entry'!R175=\"\",'521A_entry'!R175=0),\"\",'521A_entry'!R175)","v":""}]
[{"$f":"IF(OR('521A_entry'!Q176=\"\",'521A_entry'!Q176=0),\"\",'521A_entry'!Q176)","v":""},null,null,null,null,null,null,null,null,null,null,null,null,{"$f":"IF(OR('521A_entry'!R176=\"\",'521A_entry'!R176=0),\"\",'521A_entry'!R176)","v":""}]
[{"$f":"IF(OR('521A_entry'!Q177=\"\",'521A_entry'!Q177=0),\"\",'521A_entry'!Q177)","v":""},null,null,null,null,null,null,null,null,null,null,null,null,{"$f":"IF(OR('521A_entry'!R177=\"\",'521A_entry'!R177=0),\"\",'521A_entry'!R177)","v":""}]
[{"$f":"IF(OR('521A_entry'!Q178=\"\",'521A_entry'!Q178=0),\"\",'521A_entry'!Q178)","v":""},null,null,null,null,null,null,null,null,null,null,null,null,{"$f":"IF(OR('521A_entry'!R178=\"\",'521A_entry'!R178=0),\"\",'521A_entry'!R178)","v":""}]
[{"$f":"IF(OR('521A_entry'!Q179=\"\",'521A_entry'!Q179=0),\"\",'521A_entry'!Q179)","v":""},null,null,null,null,null,null,null,null,null,null,null,null,{"$f":"IF(OR('521A_entry'!R179=\"\",'521A_entry'!R179=0),\"\",'521A_entry'!R179)","v":""}]
[{"$f":"IF(OR('521A_entry'!Q180=\"\",'521A_entry'!Q180=0),\"\",'521A_entry'!Q180)","v":""},null,null,null,null,null,null,null,null,null,null,null,null,{"$f":"IF(OR('521A_entry'!R180=\"\",'521A_entry'!R180=0),\"\",'521A_entry'!R180)","v":""}]
["37. Total Expected Revenue from Eligible Inventory Based Crops/Commodities (sum amounts in column for Item 36):",null,null,null,null,null,null,null,null,null,null,null,null,{"$f":"$N$86","v":0}]
["FSA-521-A (01-23-2023)",null,null,null,null,"1.  Applicant Name",null,null,null,null,null,null,null,"2.  Application Number:"]
[{"$f":"\"Page 8 of \"&$R$3","v":"Page 8 of 4"},null,null,null,null,{"$f":"IF(K3=\"\",\"\",K3)","v":""}]
["SECTION E – ELIGIBLE VALUE-ADDED COMMODITIES"]
["25. Commodity:",null,null,null,null,null,null,null,null,null,null,null,null,"26. Expected Revenue:",null,null,null,{"$f":"IF(AND(A254=\"\",N254=\"\"),0,8)","v":0}]
[{"$f":"IF(OR('521A_entry'!L169=\"\",'521A_entry'!L169=0),\"\",'521A_entry'!L169)","v":""},null,null,null,null,null,null,null,null,null,null,null,null,{"$f":"IF(OR('521A_entry'!M169=\"\",'521A_entry'!M169=0),\"\",'521A_entry'!M169)","v":""}]
[{"$f":"IF(OR('521A_entry'!L170=\"\",'521A_entry'!L170=0),\"\",'521A_entry'!L170)","v":""},null,null,null,null,null,null,null,null,null,null,null,null,{"$f":"IF(OR('521A_entry'!M170=\"\",'521A_entry'!M170=0),\"\",'521A_entry'!M170)","v":""}]
[{"$f":"IF(OR('521A_entry'!L171=\"\",'521A_entry'!L171=0),\"\",'521A_entry'!L171)","v":""},null,null,null,null,null,null,null,null,null,null,null,null,{"$f":"IF(OR('521A_entry'!M171=\"\",'521A_entry'!M171=0),\"\",'521A_entry'!M171)","v":""}]
[{"$f":"IF(OR('521A_entry'!L172=\"\",'521A_entry'!L172=0),\"\",'521A_entry'!L172)","v":""},null,null,null,null,null,null,null,null,null,null,null,null,{"$f":"IF(OR('521A_entry'!M172=\"\",'521A_entry'!M172=0),\"\",'521A_entry'!M172)","v":""}]
[{"$f":"IF(OR('521A_entry'!L173=\"\",'521A_entry'!L173=0),\"\",'521A_entry'!L173)","v":""},null,null,null,null,null,null,null,null,null,null,null,null,{"$f":"IF(OR('521A_entry'!M173=\"\",'521A_entry'!M173=0),\"\",'521A_entry'!M173)","v":""}]
["27. Total Expected Revenue from Eligible Value Added Commodities (sum amounts in column for Item 26):",null,null,null,null,null,null,null,null,null,null,null,null,{"$f":"$N$49","v":0}]
["SECTION F – ELIGIBLE YIELD-BASED CROPS/COMMODITIES"]
["28. Crop/Commodity:",null,null,null,null,null,null,"29. Expected Acres:",null,"30. Expected Yield:\nPer Acre","31. Unit of Measure:","32. Expected Price:\n(Per Unit)",null,"33.  Expected Revenue:",null,null,null,{"$f":"IF(AND(A262=\"\",N262=\"\"),0,8)","v":0}]
[{"$f":"IF(OR('521A_entry'!C241=\"\",'521A_entry'!C241=0),\"\",'521A_entry'!C241)","v":""},null,null,null,null,null,null,{"$f":"IF(OR('521A_entry'!D241=\"\",'521A_entry'!D241=0),\"\",'521A_entry'!D241)","v":""},null,{"$f":"IF(OR('521A_entry'!E241=\"\",'521A_entry'!E241=0),\"\",'521A_entry'!E241)","v":""},{"$f":"IF(OR('521A_entry'!F241=\"\",'521A_entry'!F241=0),\"\",'521A_entry'!F241)","v":""},{"$f":"IF(OR('521A_entry'!G241=\"\",'521A_entry'!G241=0),\"\",'521A_entry'!G241)","v":""},null,{"$f":"IF(OR('521A_entry'!H241=\"\",'521A_entry'!H241=0),\"\",'521A_entry'!H241)","v":""}]
[{"$f":"IF(OR('521A_entry'!C242=\"\",'521A_entry'!C242=0),\"\",'521A_entry'!C242)","v":""},null,null,null,null,null,null,{"$f":"IF(OR('521A_entry'!D242=\"\",'521A_entry'!D242=0),\"\",'521A_entry'!D242)","v":""},null,{"$f":"IF(OR('521A_entry'!E242=\"\",'521A_entry'!E242=0),\"\",'521A_entry'!E242)","v":""},{"$f":"IF(OR('521A_entry'!F242=\"\",'521A_entry'!F242=0),\"\",'521A_entry'!F242)","v":""},{"$f":"IF(OR('521A_entry'!G242=\"\",'521A_entry'!G242=0),\"\",'521A_entry'!G242)","v":""},null,{"$f":"IF(OR('521A_entry'!H242=\"\",'521A_entry'!H242=0),\"\",'521A_entry'!H242)","v":""}]
[{"$f":"IF(OR('521A_entry'!C243=\"\",'521A_entry'!C243=0),\"\",'521A_entry'!C243)","v":""},null,null,null,null,null,null,{"$f":"IF(OR('521A_entry'!D243=\"\",'521A_entry'!D243=0),\"\",'521A_entry'!D243)","v":""},null,{"$f":"IF(OR('521A_entry'!E243=\"\",'521A_entry'!E243=0),\"\",'521A_entry'!E243)","v":""},{"$f":"IF(OR('521A_entry'!F243=\"\",'521A_entry'!F243=0),\"\",'521A_entry'!F243)","v":""},{"$f":"IF(OR('521A_entry'!G243=\"\",'521A_entry'!G243=0),\"\",'521A_entry'!G243)","v":""},null,{"$f":"IF(OR('521A_entry'!H243=\"\",'521A_entry'!H243=0),\"\",'521A_entry'!H243)","v":""}]
[{"$f":"IF(OR('521A_entry'!C244=\"\",'521A_entry'!C244=0),\"\",'521A_entry'!C244)","v":""},null,null,null,null,null,null,{"$f":"IF(OR('521A_entry'!D244=\"\",'521A_entry'!D244=0),\"\",'521A_entry'!D244)","v":""},null,{"$f":"IF(OR('521A_entry'!E244=\"\",'521A_entry'!E244=0),\"\",'521A_entry'!E244)","v":""},{"$f":"IF(OR('521A_entry'!F244=\"\",'521A_entry'!F244=0),\"\",'521A_entry'!F244)","v":""},{"$f":"IF(OR('521A_entry'!G244=\"\",'521A_entry'!G244=0),\"\",'521A_entry'!G244)","v":""},null,{"$f":"IF(OR('521A_entry'!H244=\"\",'521A_entry'!H244=0),\"\",'521A_entry'!H244)","v":""}]
[{"$f":"IF(OR('521A_entry'!C245=\"\",'521A_entry'!C245=0),\"\",'521A_entry'!C245)","v":""},null,null,null,null,null,null,{"$f":"IF(OR('521A_entry'!D245=\"\",'521A_entry'!D245=0),\"\",'521A_entry'!D245)","v":""},null,{"$f":"IF(OR('521A_entry'!E245=\"\",'521A_entry'!E245=0),\"\",'521A_entry'!E245)","v":""},{"$f":"IF(OR('521A_entry'!F245=\"\",'521A_entry'!F245=0),\"\",'521A_entry'!F245)","v":""},{"$f":"IF(OR('521A_entry'!G245=\"\",'521A_entry'!G245=0),\"\",'521A_entry'!G245)","v":""},null,{"$f":"IF(OR('521A_entry'!H245=\"\",'521A_entry'!H245=0),\"\",'521A_entry'!H245)","v":""}]
[{"$f":"IF(OR('521A_entry'!C246=\"\",'521A_entry'!C246=0),\"\",'521A_entry'!C246)","v":""},null,null,null,null,null,null,{"$f":"IF(OR('521A_entry'!D246=\"\",'521A_entry'!D246=0),\"\",'521A_entry'!D246)","v":""},null,{"$f":"IF(OR('521A_entry'!E246=\"\",'521A_entry'!E246=0),\"\",'521A_entry'!E246)","v":""},{"$f":"IF(OR('521A_entry'!F246=\"\",'521A_entry'!F246=0),\"\",'521A_entry'!F246)","v":""},{"$f":"IF(OR('521A_entry'!G246=\"\",'521A_entry'!G246=0),\"\",'521A_entry'!G246)","v":""},null,{"$f":"IF(OR('521A_entry'!H246=\"\",'521A_entry'!H246=0),\"\",'521A_entry'!H246)","v":""}]
[{"$f":"IF(OR('521A_entry'!C247=\"\",'521A_entry'!C247=0),\"\",'521A_entry'!C247)","v":""},null,null,null,null,null,null,{"$f":"IF(OR('521A_entry'!D247=\"\",'521A_entry'!D247=0),\"\",'521A_entry'!D247)","v":""},null,{"$f":"IF(OR('521A_entry'!E247=\"\",'521A_entry'!E247=0),\"\",'521A_entry'!E247)","v":""},{"$f":"IF(OR('521A_entry'!F247=\"\",'521A_entry'!F247=0),\"\",'521A_entry'!F247)","v":""},{"$f":"IF(OR('521A_entry'!G247=\"\",'521A_entry'!G247=0),\"\",'521A_entry'!G247)","v":""},null,{"$f":"IF(OR('521A_entry'!H247=\"\",'521A_entry'!H247=0),\"\",'521A_entry'!H247)","v":""}]
[{"$f":"IF(OR('521A_entry'!C248=\"\",'521A_entry'!C248=0),\"\",'521A_entry'!C248)","v":""},null,null,null,null,null,null,{"$f":"IF(OR('521A_entry'!D248=\"\",'521A_entry'!D248=0),\"\",'521A_entry'!D248)","v":""},null,{"$f":"IF(OR('521A_entry'!E248=\"\",'521A_entry'!E248=0),\"\",'521A_entry'!E248)","v":""},{"$f":"IF(OR('521A_entry'!F248=\"\",'521A_entry'!F248=0),\"\",'521A_entry'!F248)","v":""},{"$f":"IF(OR('521A_entry'!G248=\"\",'521A_entry'!G248=0),\"\",'521A_entry'!G248)","v":""},null,{"$f":"IF(OR('521A_entry'!H248=\"\",'521A_entry'!H248=0),\"\",'521A_entry'!H248)","v":""}]
[{"$f":"IF(OR('521A_entry'!C249=\"\",'521A_entry'!C249=0),\"\",'521A_entry'!C249)","v":""}]
[]
[]
[]
[]
[]
[]
[]
[]
[]
[]
[]
[]
[]
[]
["34. Total Expected Revenue from Eligible Yield Based Crops/Commodities (sum amounts in column for Item 33):",null,null,null,null,null,null,null,null,null,null,null,null,{"$f":"$N$75","v":0}]
["SECTION G – ELIGIBLE INVENTORY-BASED CROPS/COMMODITIES"]
["35. Crops/Commodity:",null,null,null,null,null,null,null,null,null,null,null,null,"36. Expected Revenue:",null,null,null,{"$f":"IF(AND(A288=\"\",N288=\"\"),0,8)","v":0}]
[{"$f":"IF(OR('521A_entry'!Q181=\"\",'521A_entry'!Q181=0),\"\",'521A_entry'!Q181)","v":""},null,null,null,null,null,null,null,null,null,null,null,null,{"$f":"IF(OR('521A_entry'!R181=\"\",'521A_entry'!R181=0),\"\",'521A_entry'!R181)","v":""}]
[{"$f":"IF(OR('521A_entry'!Q182=\"\",'521A_entry'!Q182=0),\"\",'521A_entry'!Q182)","v":""},null,null,null,null,null,null,null,null,null,null,null,null,{"$f":"IF(OR('521A_entry'!R182=\"\",'521A_entry'!R182=0),\"\",'521A_entry'!R182)","v":""}]
[{"$f":"IF(OR('521A_entry'!Q183=\"\",'521A_entry'!Q183=0),\"\",'521A_entry'!Q183)","v":""},null,null,null,null,null,null,null,null,null,null,null,null,{"$f":"IF(OR('521A_entry'!R183=\"\",'521A_entry'!R183=0),\"\",'521A_entry'!R183)","v":""}]
[{"$f":"IF(OR('521A_entry'!Q184=\"\",'521A_entry'!Q184=0),\"\",'521A_entry'!Q184)","v":""},null,null,null,null,null,null,null,null,null,null,null,null,{"$f":"IF(OR('521A_entry'!R184=\"\",'521A_entry'!R184=0),\"\",'521A_entry'!R184)","v":""}]
[{"$f":"IF(OR('521A_entry'!Q185=\"\",'521A_entry'!Q185=0),\"\",'521A_entry'!Q185)","v":""},null,null,null,null,null,null,null,null,null,null,null,null,{"$f":"IF(OR('521A_entry'!R185=\"\",'521A_entry'!R185=0),\"\",'521A_entry'!R185)","v":""}]
[{"$f":"IF(OR('521A_entry'!Q186=\"\",'521A_entry'!Q186=0),\"\",'521A_entry'!Q186)","v":""},null,null,null,null,null,null,null,null,null,null,null,null,{"$f":"IF(OR('521A_entry'!R186=\"\",'521A_entry'!R186=0),\"\",'521A_entry'!R186)","v":""}]
[{"$f":"IF(OR('521A_entry'!Q187=\"\",'521A_entry'!Q187=0),\"\",'521A_entry'!Q187)","v":""},null,null,null,null,null,null,null,null,null,null,null,null,{"$f":"IF(OR('521A_entry'!R187=\"\",'521A_entry'!R187=0),\"\",'521A_entry'!R187)","v":""}]
[{"$f":"IF(OR('521A_entry'!Q188=\"\",'521A_entry'!Q188=0),\"\",'521A_entry'!Q188)","v":""},null,null,null,null,null,null,null,null,null,null,null,null,{"$f":"IF(OR('521A_entry'!R188=\"\",'521A_entry'!R188=0),\"\",'521A_entry'!R188)","v":""}]
["37. Total Expected Revenue from Eligible Inventory Based Crops/Commodities (sum amounts in column for Item 36):",null,null,null,null,null,null,null,null,null,null,null,null,{"$f":"$N$86","v":0}]
["FSA-521-A (01-23-2023)",null,null,null,null,"1.  Applicant Name",null,null,null,null,null,null,null,"2.  Application Number:"]
[{"$f":"\"Page 9 of \"&$R$3","v":"Page 9 of 4"},null,null,null,null,{"$f":"IF(K193=\"\",\"\",K193)","v":""}]
["SECTION E – ELIGIBLE VALUE-ADDED COMMODITIES"]
["25. Commodity:",null,null,null,null,null,null,null,null,null,null,null,null,"26. Expected Revenue:",null,null,null,{"$f":"IF(AND(A301=\"\",N301=\"\"),0,9)","v":0}]
[{"$f":"IF(OR('521A_entry'!L174=\"\",'521A_entry'!L174=0),\"\",'521A_entry'!L174)","v":""},null,null,null,null,null,null,null,null,null,null,null,null,{"$f":"IF(OR('521A_entry'!M174=\"\",'521A_entry'!M174=0),\"\",'521A_entry'!M174)","v":""}]
[{"$f":"IF(OR('521A_entry'!L175=\"\",'521A_entry'!L175=0),\"\",'521A_entry'!L175)","v":""},null,null,null,null,null,null,null,null,null,null,null,null,{"$f":"IF(OR('521A_entry'!M175=\"\",'521A_entry'!M175=0),\"\",'521A_entry'!M175)","v":""}]
[{"$f":"IF(OR('521A_entry'!L176=\"\",'521A_entry'!L176=0),\"\",'521A_entry'!L176)","v":""},null,null,null,null,null,null,null,null,null,null,null,null,{"$f":"IF(OR('521A_entry'!M176=\"\",'521A_entry'!M176=0),\"\",'521A_entry'!M176)","v":""}]
[{"$f":"IF(OR('521A_entry'!L177=\"\",'521A_entry'!L177=0),\"\",'521A_entry'!L177)","v":""},null,null,null,null,null,null,null,null,null,null,null,null,{"$f":"IF(OR('521A_entry'!M177=\"\",'521A_entry'!M177=0),\"\",'521A_entry'!M177)","v":""}]
[{"$f":"IF(OR('521A_entry'!L178=\"\",'521A_entry'!L178=0),\"\",'521A_entry'!L178)","v":""},null,null,null,null,null,null,null,null,null,null,null,null,{"$f":"IF(OR('521A_entry'!M178=\"\",'521A_entry'!M178=0),\"\",'521A_entry'!M178)","v":""}]
["27. Total Expected Revenue from Eligible Value Added Commodities (sum amounts in column for Item 26):",null,null,null,null,null,null,null,null,null,null,null,null,{"$f":"$N$49","v":0}]
["SECTION F – ELIGIBLE YIELD-BASED CROPS/COMMODITIES"]
["28. Crop/Commodity:",null,null,null,null,null,null,"29. Expected Acres:",null,"30. Expected Yield:\nPer Acre","31. Unit of Measure:","32. Expected Price:\n(Per Unit)",null,"33.  Expected Revenue:"]
[]
[]
[]
[]
[]
[]
[]
[]
[]
[]
[]
[]
[]
[]
[]
[]
[]
[]
[]
[]
[]
[]
[]
["34. Total Expected Revenue from Eligible Yield Based Crops/Commodities (sum amounts in column for Item 33):",null,null,null,null,null,null,null,null,null,null,null,null,{"$f":"$N$75","v":0}]
["SECTION G – ELIGIBLE INVENTORY-BASED CROPS/COMMODITIES"]
["35. Crops/Commodity:",null,null,null,null,null,null,null,null,null,null,null,null,"36. Expected Revenue:",null,null,null,{"$f":"IF(AND(A335=\"\",N335=\"\"),0,9)","v":0}]
[{"$f":"IF(OR('521A_entry'!Q189=\"\",'521A_entry'!Q189=0),\"\",'521A_entry'!Q189)","v":""},null,null,null,null,null,null,null,null,null,null,null,null,{"$f":"IF(OR('521A_entry'!R189=\"\",'521A_entry'!R189=0),\"\",'521A_entry'!R189)","v":""}]
[{"$f":"IF(OR('521A_entry'!Q190=\"\",'521A_entry'!Q190=0),\"\",'521A_entry'!Q190)","v":""},null,null,null,null,null,null,null,null,null,null,null,null,{"$f":"IF(OR('521A_entry'!R190=\"\",'521A_entry'!R190=0),\"\",'521A_entry'!R190)","v":""}]
[{"$f":"IF(OR('521A_entry'!Q191=\"\",'521A_entry'!Q191=0),\"\",'521A_entry'!Q191)","v":""},null,null,null,null,null,null,null,null,null,null,null,null,{"$f":"IF(OR('521A_entry'!R191=\"\",'521A_entry'!R191=0),\"\",'521A_entry'!R191)","v":""}]
[{"$f":"IF(OR('521A_entry'!Q192=\"\",'521A_entry'!Q192=0),\"\",'521A_entry'!Q192)","v":""},null,null,null,null,null,null,null,null,null,null,null,null,{"$f":"IF(OR('521A_entry'!R192=\"\",'521A_entry'!R192=0),\"\",'521A_entry'!R192)","v":""}]
[{"$f":"IF(OR('521A_entry'!Q193=\"\",'521A_entry'!Q193=0),\"\",'521A_entry'!Q193)","v":""},null,null,null,null,null,null,null,null,null,null,null,null,{"$f":"IF(OR('521A_entry'!R193=\"\",'521A_entry'!R193=0),\"\",'521A_entry'!R193)","v":""}]
[{"$f":"IF(OR('521A_entry'!Q194=\"\",'521A_entry'!Q194=0),\"\",'521A_entry'!Q194)","v":""},null,null,null,null,null,null,null,null,null,null,null,null,{"$f":"IF(OR('521A_entry'!R194=\"\",'521A_entry'!R194=0),\"\",'521A_entry'!R194)","v":""}]
[{"$f":"IF(OR('521A_entry'!Q195=\"\",'521A_entry'!Q195=0),\"\",'521A_entry'!Q195)","v":""},null,null,null,null,null,null,null,null,null,null,null,null,{"$f":"IF(OR('521A_entry'!R195=\"\",'521A_entry'!R195=0),\"\",'521A_entry'!R195)","v":""}]
[{"$f":"IF(OR('521A_entry'!Q196=\"\",'521A_entry'!Q196=0),\"\",'521A_entry'!Q196)","v":""},null,null,null,null,null,null,null,null,null,null,null,null,{"$f":"IF(OR('521A_entry'!R196=\"\",'521A_entry'!R196=0),\"\",'521A_entry'!R196)","v":""}]
["37. Total Expected Revenue from Eligible Inventory Based Crops/Commodities (sum amounts in column for Item 36):",null,null,null,null,null,null,null,null,null,null,null,null,{"$f":"$N$86","v":0}]
["FSA-521-A (01-23-2023)",null,null,null,null,"1.  Applicant Name",null,null,null,null,null,null,null,"2.  Application Number:"]
[{"$f":"\"Page 10 of \"&$R$3","v":"Page 10 of 4"},null,null,null,null,{"$f":"IF(K240=\"\",\"\",K240)","v":""}]
["SECTION E – ELIGIBLE VALUE-ADDED COMMODITIES"]
["25. Commodity:",null,null,null,null,null,null,null,null,null,null,null,null,"26. Expected Revenue:",null,null,null,{"$f":"IF(AND(A348=\"\",N348=\"\"),0,10)","v":0}]
[{"$f":"IF(OR('521A_entry'!L179=\"\",'521A_entry'!L179=0),\"\",'521A_entry'!L179)","v":""},null,null,null,null,null,null,null,null,null,null,null,null,{"$f":"IF(OR('521A_entry'!M179=\"\",'521A_entry'!M179=0),\"\",'521A_entry'!M179)","v":""}]
[{"$f":"IF(OR('521A_entry'!L180=\"\",'521A_entry'!L180=0),\"\",'521A_entry'!L180)","v":""},null,null,null,null,null,null,null,null,null,null,null,null,{"$f":"IF(OR('521A_entry'!M180=\"\",'521A_entry'!M180=0),\"\",'521A_entry'!M180)","v":""}]
[{"$f":"IF(OR('521A_entry'!L181=\"\",'521A_entry'!L181=0),\"\",'521A_entry'!L181)","v":""},null,null,null,null,null,null,null,null,null,null,null,null,{"$f":"IF(OR('521A_entry'!M181=\"\",'521A_entry'!M181=0),\"\",'521A_entry'!M181)","v":""}]
[{"$f":"IF(OR('521A_entry'!L182=\"\",'521A_entry'!L182=0),\"\",'521A_entry'!L182)","v":""},null,null,null,null,null,null,null,null,null,null,null,null,{"$f":"IF(OR('521A_entry'!M182=\"\",'521A_entry'!M182=0),\"\",'521A_entry'!M182)","v":""}]
[{"$f":"IF(OR('521A_entry'!L183=\"\",'521A_entry'!L183=0),\"\",'521A_entry'!L183)","v":""},null,null,null,null,null,null,null,null,null,null,null,null,{"$f":"IF(OR('521A_entry'!M183=\"\",'521A_entry'!M183=0),\"\",'521A_entry'!M183)","v":""}]
["27. Total Expected Revenue from Eligible Value Added Commodities (sum amounts in column for Item 26):",null,null,null,null,null,null,null,null,null,null,null,null,{"$f":"$N$49","v":0}]
["SECTION F – ELIGIBLE YIELD-BASED CROPS/COMMODITIES"]
["28. Crop/Commodity:",null,null,null,null,null,null,"29. Expected Acres:",null,"30. Expected Yield:\nPer Acre","31. Unit of Measure:","32. Expected Price:\n(Per Unit)",null,"33.  Expected Revenue:"]
[]
[]
[]
[]
[]
[]
[]
[]
[]
[]
[]
[]
[]
[]
[]
[]
[]
[]
[]
[]
[]
[]
[]
["34. Total Expected Revenue from Eligible Yield Based Crops/Commodities (sum amounts in column for Item 33):",null,null,null,null,null,null,null,null,null,null,null,null,{"$f":"$N$75","v":0}]
["SECTION G – ELIGIBLE INVENTORY-BASED CROPS/COMMODITIES"]
["35. Crops/Commodity:",null,null,null,null,null,null,null,null,null,null,null,null,"36. Expected Revenue:",null,null,null,{"$f":"IF(AND(A382=\"\",N382=\"\"),0,10)","v":0}]
[{"$f":"IF(OR('521A_entry'!Q197=\"\",'521A_entry'!Q197=0),\"\",'521A_entry'!Q197)","v":""},null,null,null,null,null,null,null,null,null,null,null,null,{"$f":"IF(OR('521A_entry'!R197=\"\",'521A_entry'!R197=0),\"\",'521A_entry'!R197)","v":""}]
[{"$f":"IF(OR('521A_entry'!Q198=\"\",'521A_entry'!Q198=0),\"\",'521A_entry'!Q198)","v":""},null,null,null,null,null,null,null,null,null,null,null,null,{"$f":"IF(OR('521A_entry'!R198=\"\",'521A_entry'!R198=0),\"\",'521A_entry'!R198)","v":""}]
[{"$f":"IF(OR('521A_entry'!Q199=\"\",'521A_entry'!Q199=0),\"\",'521A_entry'!Q199)","v":""},null,null,null,null,null,null,null,null,null,null,null,null,{"$f":"IF(OR('521A_entry'!R199=\"\",'521A_entry'!R199=0),\"\",'521A_entry'!R199)","v":""}]
[{"$f":"IF(OR('521A_entry'!Q200=\"\",'521A_entry'!Q200=0),\"\",'521A_entry'!Q200)","v":""},null,null,null,null,null,null,null,null,null,null,null,null,{"$f":"IF(OR('521A_entry'!R200=\"\",'521A_entry'!R200=0),\"\",'521A_entry'!R200)","v":""}]
[{"$f":"IF(OR('521A_entry'!Q201=\"\",'521A_entry'!Q201=0),\"\",'521A_entry'!Q201)","v":""},null,null,null,null,null,null,null,null,null,null,null,null,{"$f":"IF(OR('521A_entry'!R201=\"\",'521A_entry'!R201=0),\"\",'521A_entry'!R201)","v":""}]
[{"$f":"IF(OR('521A_entry'!Q202=\"\",'521A_entry'!Q202=0),\"\",'521A_entry'!Q202)","v":""},null,null,null,null,null,null,null,null,null,null,null,null,{"$f":"IF(OR('521A_entry'!R202=\"\",'521A_entry'!R202=0),\"\",'521A_entry'!R202)","v":""}]
[{"$f":"IF(OR('521A_entry'!Q203=\"\",'521A_entry'!Q203=0),\"\",'521A_entry'!Q203)","v":""},null,null,null,null,null,null,null,null,null,null,null,null,{"$f":"IF(OR('521A_entry'!R203=\"\",'521A_entry'!R203=0),\"\",'521A_entry'!R203)","v":""}]
[{"$f":"IF(OR('521A_entry'!Q204=\"\",'521A_entry'!Q204=0),\"\",'521A_entry'!Q204)","v":""},null,null,null,null,null,null,null,null,null,null,null,null,{"$f":"IF(OR('521A_entry'!R204=\"\",'521A_entry'!R204=0),\"\",'521A_entry'!R204)","v":""}]
["37. Total Expected Revenue from Eligible Inventory Based Crops/Commodities (sum amounts in column for Item 36):",null,null,null,null,null,null,null,null,null,null,null,null,{"$f":"$N$86","v":0}]
["FSA-521-A (01-23-2023)",null,null,null,null,"1.  Applicant Name",null,null,null,null,null,null,null,"2.  Application Number:"]
[{"$f":"\"Page 11 of \"&$R$3","v":"Page 11 of 4"},null,null,null,null,{"$f":"IF(K287=\"\",\"\",K287)","v":""}]
["SECTION E – ELIGIBLE VALUE-ADDED COMMODITIES"]
["25. Commodity:",null,null,null,null,null,null,null,null,null,null,null,null,"26. Expected Revenue:",null,null,null,{"$f":"IF(AND(A395=\"\",N395=\"\"),0,11)","v":0}]
[{"$f":"IF(OR('521A_entry'!L184=\"\",'521A_entry'!L184=0),\"\",'521A_entry'!L184)","v":""},null,null,null,null,null,null,null,null,null,null,null,null,{"$f":"IF(OR('521A_entry'!M184=\"\",'521A_entry'!M184=0),\"\",'521A_entry'!M184)","v":""}]
[{"$f":"IF(OR('521A_entry'!L185=\"\",'521A_entry'!L185=0),\"\",'521A_entry'!L185)","v":""},null,null,null,null,null,null,null,null,null,null,null,null,{"$f":"IF(OR('521A_entry'!M185=\"\",'521A_entry'!M185=0),\"\",'521A_entry'!M185)","v":""}]
[{"$f":"IF(OR('521A_entry'!L186=\"\",'521A_entry'!L186=0),\"\",'521A_entry'!L186)","v":""},null,null,null,null,null,null,null,null,null,null,null,null,{"$f":"IF(OR('521A_entry'!M186=\"\",'521A_entry'!M186=0),\"\",'521A_entry'!M186)","v":""}]
[{"$f":"IF(OR('521A_entry'!L187=\"\",'521A_entry'!L187=0),\"\",'521A_entry'!L187)","v":""},null,null,null,null,null,null,null,null,null,null,null,null,{"$f":"IF(OR('521A_entry'!M187=\"\",'521A_entry'!M187=0),\"\",'521A_entry'!M187)","v":""}]
[{"$f":"IF(OR('521A_entry'!L188=\"\",'521A_entry'!L188=0),\"\",'521A_entry'!L188)","v":""},null,null,null,null,null,null,null,null,null,null,null,null,{"$f":"IF(OR('521A_entry'!M188=\"\",'521A_entry'!M188=0),\"\",'521A_entry'!M188)","v":""}]
["27. Total Expected Revenue from Eligible Value Added Commodities (sum amounts in column for Item 26):",null,null,null,null,null,null,null,null,null,null,null,null,{"$f":"$N$49","v":0}]
["SECTION F – ELIGIBLE YIELD-BASED CROPS/COMMODITIES"]
["28. Crop/Commodity:",null,null,null,null,null,null,"29. Expected Acres:",null,"30. Expected Yield:\nPer Acre","31. Unit of Measure:","32. Expected Price:\n(Per Unit)",null,"33.  Expected Revenue:"]
[]
[]
[]
[]
[]
[]
[]
[]
[]
[]
[]
[]
[]
[]
[]
[]
[]
[]
[]
[]
[]
[]
[]
["34. Total Expected Revenue from Eligible Yield Based Crops/Commodities (sum amounts in column for Item 33):",null,null,null,null,null,null,null,null,null,null,null,null,{"$f":"$N$75","v":0}]
["SECTION G – ELIGIBLE INVENTORY-BASED CROPS/COMMODITIES"]
["35. Crops/Commodity:",null,null,null,null,null,null,null,null,null,null,null,null,"36. Expected Revenue:",null,null,null,{"$f":"IF(AND(A429=\"\",N429=\"\"),0,11)","v":0}]
[{"$f":"IF(OR('521A_entry'!Q205=\"\",'521A_entry'!Q205=0),\"\",'521A_entry'!Q205)","v":""},null,null,null,null,null,null,null,null,null,null,null,null,{"$f":"IF(OR('521A_entry'!R205=\"\",'521A_entry'!R205=0),\"\",'521A_entry'!R205)","v":""}]
[{"$f":"IF(OR('521A_entry'!Q206=\"\",'521A_entry'!Q206=0),\"\",'521A_entry'!Q206)","v":""},null,null,null,null,null,null,null,null,null,null,null,null,{"$f":"IF(OR('521A_entry'!R206=\"\",'521A_entry'!R206=0),\"\",'521A_entry'!R206)","v":""}]
[{"$f":"IF(OR('521A_entry'!Q207=\"\",'521A_entry'!Q207=0),\"\",'521A_entry'!Q207)","v":""},null,null,null,null,null,null,null,null,null,null,null,null,{"$f":"IF(OR('521A_entry'!R207=\"\",'521A_entry'!R207=0),\"\",'521A_entry'!R207)","v":""}]
[{"$f":"IF(OR('521A_entry'!Q208=\"\",'521A_entry'!Q208=0),\"\",'521A_entry'!Q208)","v":""},null,null,null,null,null,null,null,null,null,null,null,null,{"$f":"IF(OR('521A_entry'!R208=\"\",'521A_entry'!R208=0),\"\",'521A_entry'!R208)","v":""}]
[{"$f":"IF(OR('521A_entry'!Q209=\"\",'521A_entry'!Q209=0),\"\",'521A_entry'!Q209)","v":""},null,null,null,null,null,null,null,null,null,null,null,null,{"$f":"IF(OR('521A_entry'!R209=\"\",'521A_entry'!R209=0),\"\",'521A_entry'!R209)","v":""}]
[{"$f":"IF(OR('521A_entry'!Q210=\"\",'521A_entry'!Q210=0),\"\",'521A_entry'!Q210)","v":""},null,null,null,null,null,null,null,null,null,null,null,null,{"$f":"IF(OR('521A_entry'!R210=\"\",'521A_entry'!R210=0),\"\",'521A_entry'!R210)","v":""}]
[{"$f":"IF(OR('521A_entry'!Q211=\"\",'521A_entry'!Q211=0),\"\",'521A_entry'!Q211)","v":""},null,null,null,null,null,null,null,null,null,null,null,null,{"$f":"IF(OR('521A_entry'!R211=\"\",'521A_entry'!R211=0),\"\",'521A_entry'!R211)","v":""}]
[{"$f":"IF(OR('521A_entry'!Q212=\"\",'521A_entry'!Q212=0),\"\",'521A_entry'!Q212)","v":""},null,null,null,null,null,null,null,null,null,null,null,null,{"$f":"IF(OR('521A_entry'!R212=\"\",'521A_entry'!R212=0),\"\",'521A_entry'!R212)","v":""}]
["37. Total Expected Revenue from Eligible Inventory Based Crops/Commodities (sum amounts in column for Item 36):",null,null,null,null,null,null,null,null,null,null,null,null,{"$f":"$N$86","v":0}]
["FSA-521-A (01-23-2023)",null,null,null,null,"1.  Applicant Name",null,null,null,null,null,null,null,"2.  Application Number:"]
[{"$f":"\"Page 12 of \"&$R$3","v":"Page 12 of 4"},null,null,null,null,{"$f":"IF(K334=\"\",\"\",K334)","v":""}]
["SECTION E – ELIGIBLE VALUE-ADDED COMMODITIES"]
["25. Commodity:",null,null,null,null,null,null,null,null,null,null,null,null,"26. Expected Revenue:",null,null,null,{"$f":"IF(AND(A442=\"\",N442=\"\"),0,12)","v":0}]
[{"$f":"IF(OR('521A_entry'!L189=\"\",'521A_entry'!L189=0),\"\",'521A_entry'!L189)","v":""},null,null,null,null,null,null,null,null,null,null,null,null,{"$f":"IF(OR('521A_entry'!M189=\"\",'521A_entry'!M189=0),\"\",'521A_entry'!M189)","v":""}]
[{"$f":"IF(OR('521A_entry'!L190=\"\",'521A_entry'!L190=0),\"\",'521A_entry'!L190)","v":""},null,null,null,null,null,null,null,null,null,null,null,null,{"$f":"IF(OR('521A_entry'!M190=\"\",'521A_entry'!M190=0),\"\",'521A_entry'!M190)","v":""}]
[{"$f":"IF(OR('521A_entry'!L191=\"\",'521A_entry'!L191=0),\"\",'521A_entry'!L191)","v":""},null,null,null,null,null,null,null,null,null,null,null,null,{"$f":"IF(OR('521A_entry'!M191=\"\",'521A_entry'!M191=0),\"\",'521A_entry'!M191)","v":""}]
[{"$f":"IF(OR('521A_entry'!L192=\"\",'521A_entry'!L192=0),\"\",'521A_entry'!L192)","v":""},null,null,null,null,null,null,null,null,null,null,null,null,{"$f":"IF(OR('521A_entry'!M192=\"\",'521A_entry'!M192=0),\"\",'521A_entry'!M192)","v":""}]
[{"$f":"IF(OR('521A_entry'!L193=\"\",'521A_entry'!L193=0),\"\",'521A_entry'!L193)","v":""},null,null,null,null,null,null,null,null,null,null,null,null,{"$f":"IF(OR('521A_entry'!M193=\"\",'521A_entry'!M193=0),\"\",'521A_entry'!M193)","v":""}]
["27. Total Expected Revenue from Eligible Value Added Commodities (sum amounts in column for Item 26):",null,null,null,null,null,null,null,null,null,null,null,null,{"$f":"$N$49","v":0}]
["SECTION F – ELIGIBLE YIELD-BASED CROPS/COMMODITIES"]
["28. Crop/Commodity:",null,null,null,null,null,null,"29. Expected Acres:",null,"30. Expected Yield:\nPer Acre","31. Unit of Measure:","32. Expected Price:\n(Per Unit)",null,"33.  Expected Revenue:"]
[]
[]
[]
[]
[]
[]
[]
[]
[]
[]
[]
[]
[]
[]
[]
[]
[]
[]
[]
[]
[]
[]
[]
["34. Total Expected Revenue from Eligible Yield Based Crops/Commodities (sum amounts in column for Item 33):",null,null,null,null,null,null,null,null,null,null,null,null,{"$f":"$N$75","v":0}]
["SECTION G – ELIGIBLE INVENTORY-BASED CROPS/COMMODITIES"]
["35. Crops/Commodity:",null,null,null,null,null,null,null,null,null,null,null,null,"36. Expected Revenue:",null,null,null,{"$f":"IF(AND(A476=\"\",N476=\"\"),0,12)","v":0}]
[{"$f":"IF(OR('521A_entry'!Q213=\"\",'521A_entry'!Q213=0),\"\",'521A_entry'!Q213)","v":""},null,null,null,null,null,null,null,null,null,null,null,null,{"$f":"IF(OR('521A_entry'!R213=\"\",'521A_entry'!R213=0),\"\",'521A_entry'!R213)","v":""}]
[{"$f":"IF(OR('521A_entry'!Q214=\"\",'521A_entry'!Q214=0),\"\",'521A_entry'!Q214)","v":""},null,null,null,null,null,null,null,null,null,null,null,null,{"$f":"IF(OR('521A_entry'!R214=\"\",'521A_entry'!R214=0),\"\",'521A_entry'!R214)","v":""}]
[{"$f":"IF(OR('521A_entry'!Q215=\"\",'521A_entry'!Q215=0),\"\",'521A_entry'!Q215)","v":""},null,null,null,null,null,null,null,null,null,null,null,null,{"$f":"IF(OR('521A_entry'!R215=\"\",'521A_entry'!R215=0),\"\",'521A_entry'!R215)","v":""}]
[{"$f":"IF(OR('521A_entry'!Q216=\"\",'521A_entry'!Q216=0),\"\",'521A_entry'!Q216)","v":""},null,null,null,null,null,null,null,null,null,null,null,null,{"$f":"IF(OR('521A_entry'!R216=\"\",'521A_entry'!R216=0),\"\",'521A_entry'!R216)","v":""}]
[{"$f":"IF(OR('521A_entry'!Q217=\"\",'521A_entry'!Q217=0),\"\",'521A_entry'!Q217)","v":""},null,null,null,null,null,null,null,null,null,null,null,null,{"$f":"IF(OR('521A_entry'!R217=\"\",'521A_entry'!R217=0),\"\",'521A_entry'!R217)","v":""}]
[{"$f":"IF(OR('521A_entry'!Q218=\"\",'521A_entry'!Q218=0),\"\",'521A_entry'!Q218)","v":""},null,null,null,null,null,null,null,null,null,null,null,null,{"$f":"IF(OR('521A_entry'!R218=\"\",'521A_entry'!R218=0),\"\",'521A_entry'!R218)","v":""}]
[{"$f":"IF(OR('521A_entry'!Q219=\"\",'521A_entry'!Q219=0),\"\",'521A_entry'!Q219)","v":""},null,null,null,null,null,null,null,null,null,null,null,null,{"$f":"IF(OR('521A_entry'!R219=\"\",'521A_entry'!R219=0),\"\",'521A_entry'!R219)","v":""}]
[{"$f":"IF(OR('521A_entry'!Q220=\"\",'521A_entry'!Q220=0),\"\",'521A_entry'!Q220)","v":""},null,null,null,null,null,null,null,null,null,null,null,null,{"$f":"IF(OR('521A_entry'!R220=\"\",'521A_entry'!R220=0),\"\",'521A_entry'!R220)","v":""}]
["37. Total Expected Revenue from Eligible Inventory Based Crops/Commodities (sum amounts in column for Item 36):",null,null,null,null,null,null,null,null,null,null,null,null,{"$f":"$N$86","v":0}]
["FSA-521-A (01-23-2023)",null,null,null,null,"1.  Applicant Name",null,null,null,null,null,null,null,"2.  Application Number:"]
[{"$f":"\"Page 13 of \"&$R$3","v":"Page 13 of 4"},null,null,null,null,{"$f":"IF(K381=\"\",\"\",K381)","v":""}]
["SECTION E – ELIGIBLE VALUE-ADDED COMMODITIES"]
["25. Commodity:",null,null,null,null,null,null,null,null,null,null,null,null,"26. Expected Revenue:",null,null,null,{"$f":"IF(AND(A489=\"\",N489=\"\"),0,13)","v":0}]
[{"$f":"IF(OR('521A_entry'!L194=\"\",'521A_entry'!L194=0),\"\",'521A_entry'!L194)","v":""},null,null,null,null,null,null,null,null,null,null,null,null,{"$f":"IF(OR('521A_entry'!M194=\"\",'521A_entry'!M194=0),\"\",'521A_entry'!M194)","v":""}]
[{"$f":"IF(OR('521A_entry'!L195=\"\",'521A_entry'!L195=0),\"\",'521A_entry'!L195)","v":""},null,null,null,null,null,null,null,null,null,null,null,null,{"$f":"IF(OR('521A_entry'!M195=\"\",'521A_entry'!M195=0),\"\",'521A_entry'!M195)","v":""}]
[{"$f":"IF(OR('521A_entry'!L196=\"\",'521A_entry'!L196=0),\"\",'521A_entry'!L196)","v":""},null,null,null,null,null,null,null,null,null,null,null,null,{"$f":"IF(OR('521A_entry'!M196=\"\",'521A_entry'!M196=0),\"\",'521A_entry'!M196)","v":""}]
[{"$f":"IF(OR('521A_entry'!L197=\"\",'521A_entry'!L197=0),\"\",'521A_entry'!L197)","v":""},null,null,null,null,null,null,null,null,null,null,null,null,{"$f":"IF(OR('521A_entry'!M197=\"\",'521A_entry'!M197=0),\"\",'521A_entry'!M197)","v":""}]
[{"$f":"IF(OR('521A_entry'!L198=\"\",'521A_entry'!L198=0),\"\",'521A_entry'!L198)","v":""},null,null,null,null,null,null,null,null,null,null,null,null,{"$f":"IF(OR('521A_entry'!M198=\"\",'521A_entry'!M198=0),\"\",'521A_entry'!M198)","v":""}]
["27. Total Expected Revenue from Eligible Value Added Commodities (sum amounts in column for Item 26):",null,null,null,null,null,null,null,null,null,null,null,null,{"$f":"$N$49","v":0}]
["SECTION F – ELIGIBLE YIELD-BASED CROPS/COMMODITIES"]
["28. Crop/Commodity:",null,null,null,null,null,null,"29. Expected Acres:",null,"30. Expected Yield:\nPer Acre","31. Unit of Measure:","32. Expected Price:\n(Per Unit)",null,"33.  Expected Revenue:"]
[]
[]
[]
[]
[]
[]
[]
[]
[]
[]
[]
[]
[]
[]
[]
[]
[]
[]
[]
[]
[]
[]
[]
["34. Total Expected Revenue from Eligible Yield Based Crops/Commodities (sum amounts in column for Item 33):",null,null,null,null,null,null,null,null,null,null,null,null,{"$f":"$N$75","v":0}]
["SECTION G – ELIGIBLE INVENTORY-BASED CROPS/COMMODITIES"]
["35. Crops/Commodity:",null,null,null,null,null,null,null,null,null,null,null,null,"36. Expected Revenue:",null,null,null,{"$f":"IF(AND(A523=\"\",N523=\"\"),0,13)","v":0}]
[{"$f":"IF(OR('521A_entry'!Q221=\"\",'521A_entry'!Q221=0),\"\",'521A_entry'!Q221)","v":""},null,null,null,null,null,null,null,null,null,null,null,null,{"$f":"IF(OR('521A_entry'!R221=\"\",'521A_entry'!R221=0),\"\",'521A_entry'!R221)","v":""}]
[{"$f":"IF(OR('521A_entry'!Q222=\"\",'521A_entry'!Q222=0),\"\",'521A_entry'!Q222)","v":""},null,null,null,null,null,null,null,null,null,null,null,null,{"$f":"IF(OR('521A_entry'!R222=\"\",'521A_entry'!R222=0),\"\",'521A_entry'!R222)","v":""}]
[{"$f":"IF(OR('521A_entry'!Q223=\"\",'521A_entry'!Q223=0),\"\",'521A_entry'!Q223)","v":""},null,null,null,null,null,null,null,null,null,null,null,null,{"$f":"IF(OR('521A_entry'!R223=\"\",'521A_entry'!R223=0),\"\",'521A_entry'!R223)","v":""}]
[{"$f":"IF(OR('521A_entry'!Q224=\"\",'521A_entry'!Q224=0),\"\",'521A_entry'!Q224)","v":""},null,null,null,null,null,null,null,null,null,null,null,null,{"$f":"IF(OR('521A_entry'!R224=\"\",'521A_entry'!R224=0),\"\",'521A_entry'!R224)","v":""}]
[{"$f":"IF(OR('521A_entry'!Q225=\"\",'521A_entry'!Q225=0),\"\",'521A_entry'!Q225)","v":""},null,null,null,null,null,null,null,null,null,null,null,null,{"$f":"IF(OR('521A_entry'!R225=\"\",'521A_entry'!R225=0),\"\",'521A_entry'!R225)","v":""}]
[{"$f":"IF(OR('521A_entry'!Q226=\"\",'521A_entry'!Q226=0),\"\",'521A_entry'!Q226)","v":""},null,null,null,null,null,null,null,null,null,null,null,null,{"$f":"IF(OR('521A_entry'!R226=\"\",'521A_entry'!R226=0),\"\",'521A_entry'!R226)","v":""}]
[{"$f":"IF(OR('521A_entry'!Q227=\"\",'521A_entry'!Q227=0),\"\",'521A_entry'!Q227)","v":""},null,null,null,null,null,null,null,null,null,null,null,null,{"$f":"IF(OR('521A_entry'!R227=\"\",'521A_entry'!R227=0),\"\",'521A_entry'!R227)","v":""}]
[{"$f":"IF(OR('521A_entry'!Q228=\"\",'521A_entry'!Q228=0),\"\",'521A_entry'!Q228)","v":""},null,null,null,null,null,null,null,null,null,null,null,null,{"$f":"IF(OR('521A_entry'!R228=\"\",'521A_entry'!R228=0),\"\",'521A_entry'!R228)","v":""}]
["37. Total Expected Revenue from Eligible Inventory Based Crops/Commodities (sum amounts in column for Item 36):",null,null,null,null,null,null,null,null,null,null,null,null,{"$f":"$N$86","v":0}]
["FSA-521-A (01-23-2023)",null,null,null,null,"1.  Applicant Name",null,null,null,null,null,null,null,"2.  Application Number:"]
[{"$f":"\"Page 14 of \"&$R$3","v":"Page 14 of 4"},null,null,null,null,{"$f":"IF(K428=\"\",\"\",K428)","v":""}]
["SECTION E – ELIGIBLE VALUE-ADDED COMMODITIES"]
["25. Commodity:",null,null,null,null,null,null,null,null,null,null,null,null,"26. Expected Revenue:",null,null,null,{"$f":"IF(AND(A536=\"\",N536=\"\"),0,14)","v":0}]
[{"$f":"IF(OR('521A_entry'!L199=\"\",'521A_entry'!L199=0),\"\",'521A_entry'!L199)","v":""},null,null,null,null,null,null,null,null,null,null,null,null,{"$f":"IF(OR('521A_entry'!M199=\"\",'521A_entry'!M199=0),\"\",'521A_entry'!M199)","v":""}]
[{"$f":"IF(OR('521A_entry'!L200=\"\",'521A_entry'!L200=0),\"\",'521A_entry'!L200)","v":""},null,null,null,null,null,null,null,null,null,null,null,null,{"$f":"IF(OR('521A_entry'!M200=\"\",'521A_entry'!M200=0),\"\",'521A_entry'!M200)","v":""}]
[{"$f":"IF(OR('521A_entry'!L201=\"\",'521A_entry'!L201=0),\"\",'521A_entry'!L201)","v":""},null,null,null,null,null,null,null,null,null,null,null,null,{"$f":"IF(OR('521A_entry'!M201=\"\",'521A_entry'!M201=0),\"\",'521A_entry'!M201)","v":""}]
[{"$f":"IF(OR('521A_entry'!L202=\"\",'521A_entry'!L202=0),\"\",'521A_entry'!L202)","v":""},null,null,null,null,null,null,null,null,null,null,null,null,{"$f":"IF(OR('521A_entry'!M202=\"\",'521A_entry'!M202=0),\"\",'521A_entry'!M202)","v":""}]
[{"$f":"IF(OR('521A_entry'!L203=\"\",'521A_entry'!L203=0),\"\",'521A_entry'!L203)","v":""},null,null,null,null,null,null,null,null,null,null,null,null,{"$f":"IF(OR('521A_entry'!M203=\"\",'521A_entry'!M203=0),\"\",'521A_entry'!M203)","v":""}]
["27. Total Expected Revenue from Eligible Value Added Commodities (sum amounts in column for Item 26):",null,null,null,null,null,null,null,null,null,null,null,null,{"$f":"$N$49","v":0}]
["SECTION F – ELIGIBLE YIELD-BASED CROPS/COMMODITIES"]
["28. Crop/Commodity:",null,null,null,null,null,null,"29. Expected Acres:",null,"30. Expected Yield:\nPer Acre","31. Unit of Measure:","32. Expected Price:\n(Per Unit)",null,"33.  Expected Revenue:"]
[]
[]
[]
[]
[]
[]
[]
[]
[]
[]
[]
[]
[]
[]
[]
[]
[]
[]
[]
[]
[]
[]
[]
["34. Total Expected Revenue from Eligible Yield Based Crops/Commodities (sum amounts in column for Item 33):",null,null,null,null,null,null,null,null,null,null,null,null,{"$f":"$N$75","v":0}]
["SECTION G – ELIGIBLE INVENTORY-BASED CROPS/COMMODITIES"]
["35. Crops/Commodity:",null,null,null,null,null,null,null,null,null,null,null,null,"36. Expected Revenue:",null,null,null,{"$f":"IF(AND(A570=\"\",N570=\"\"),0,14)","v":0}]
[{"$f":"IF(OR('521A_entry'!Q229=\"\",'521A_entry'!Q229=0),\"\",'521A_entry'!Q229)","v":""},null,null,null,null,null,null,null,null,null,null,null,null,{"$f":"IF(OR('521A_entry'!R229=\"\",'521A_entry'!R229=0),\"\",'521A_entry'!R229)","v":""}]
[{"$f":"IF(OR('521A_entry'!Q230=\"\",'521A_entry'!Q230=0),\"\",'521A_entry'!Q230)","v":""},null,null,null,null,null,null,null,null,null,null,null,null,{"$f":"IF(OR('521A_entry'!R230=\"\",'521A_entry'!R230=0),\"\",'521A_entry'!R230)","v":""}]
[{"$f":"IF(OR('521A_entry'!Q231=\"\",'521A_entry'!Q231=0),\"\",'521A_entry'!Q231)","v":""},null,null,null,null,null,null,null,null,null,null,null,null,{"$f":"IF(OR('521A_entry'!R231=\"\",'521A_entry'!R231=0),\"\",'521A_entry'!R231)","v":""}]
[{"$f":"IF(OR('521A_entry'!Q232=\"\",'521A_entry'!Q232=0),\"\",'521A_entry'!Q232)","v":""},null,null,null,null,null,null,null,null,null,null,null,null,{"$f":"IF(OR('521A_entry'!R232=\"\",'521A_entry'!R232=0),\"\",'521A_entry'!R232)","v":""}]
[{"$f":"IF(OR('521A_entry'!Q233=\"\",'521A_entry'!Q233=0),\"\",'521A_entry'!Q233)","v":""},null,null,null,null,null,null,null,null,null,null,null,null,{"$f":"IF(OR('521A_entry'!R233=\"\",'521A_entry'!R233=0),\"\",'521A_entry'!R233)","v":""}]
[{"$f":"IF(OR('521A_entry'!Q234=\"\",'521A_entry'!Q234=0),\"\",'521A_entry'!Q234)","v":""},null,null,null,null,null,null,null,null,null,null,null,null,{"$f":"IF(OR('521A_entry'!R234=\"\",'521A_entry'!R234=0),\"\",'521A_entry'!R234)","v":""}]
[{"$f":"IF(OR('521A_entry'!Q235=\"\",'521A_entry'!Q235=0),\"\",'521A_entry'!Q235)","v":""},null,null,null,null,null,null,null,null,null,null,null,null,{"$f":"IF(OR('521A_entry'!R235=\"\",'521A_entry'!R235=0),\"\",'521A_entry'!R235)","v":""}]
[{"$f":"IF(OR('521A_entry'!Q236=\"\",'521A_entry'!Q236=0),\"\",'521A_entry'!Q236)","v":""},null,null,null,null,null,null,null,null,null,null,null,null,{"$f":"IF(OR('521A_entry'!R236=\"\",'521A_entry'!R236=0),\"\",'521A_entry'!R236)","v":""}]
["37. Total Expected Revenue from Eligible Inventory Based Crops/Commodities (sum amounts in column for Item 36):",null,null,null,null,null,null,null,null,null,null,null,null,{"$f":"$N$86","v":0}]
["FSA-521-A (01-23-2023)",null,null,null,null,"1.  Applicant Name",null,null,null,null,null,null,null,"2.  Application Number:"]
[{"$f":"\"Page 15 of \"&$R$3","v":"Page 15 of 4"},null,null,null,null,{"$f":"IF(K475=\"\",\"\",K475)","v":""}]
["SECTION E – ELIGIBLE VALUE-ADDED COMMODITIES"]
["25. Commodity:",null,null,null,null,null,null,null,null,null,null,null,null,"26. Expected Revenue:",null,null,null,{"$f":"IF(AND(A583=\"\",N583=\"\"),0,15)","v":0}]
[{"$f":"IF(OR('521A_entry'!L204=\"\",'521A_entry'!L204=0),\"\",'521A_entry'!L204)","v":""},null,null,null,null,null,null,null,null,null,null,null,null,{"$f":"IF(OR('521A_entry'!M204=\"\",'521A_entry'!M204=0),\"\",'521A_entry'!M204)","v":""}]
[{"$f":"IF(OR('521A_entry'!L205=\"\",'521A_entry'!L205=0),\"\",'521A_entry'!L205)","v":""},null,null,null,null,null,null,null,null,null,null,null,null,{"$f":"IF(OR('521A_entry'!M205=\"\",'521A_entry'!M205=0),\"\",'521A_entry'!M205)","v":""}]
[{"$f":"IF(OR('521A_entry'!L206=\"\",'521A_entry'!L206=0),\"\",'521A_entry'!L206)","v":""},null,null,null,null,null,null,null,null,null,null,null,null,{"$f":"IF(OR('521A_entry'!M206=\"\",'521A_entry'!M206=0),\"\",'521A_entry'!M206)","v":""}]
[{"$f":"IF(OR('521A_entry'!L207=\"\",'521A_entry'!L207=0),\"\",'521A_entry'!L207)","v":""},null,null,null,null,null,null,null,null,null,null,null,null,{"$f":"IF(OR('521A_entry'!M207=\"\",'521A_entry'!M207=0),\"\",'521A_entry'!M207)","v":""}]
[{"$f":"IF(OR('521A_entry'!L208=\"\",'521A_entry'!L208=0),\"\",'521A_entry'!L208)","v":""},null,null,null,null,null,null,null,null,null,null,null,null,{"$f":"IF(OR('521A_entry'!M208=\"\",'521A_entry'!M208=0),\"\",'521A_entry'!M208)","v":""}]
["27. Total Expected Revenue from Eligible Value Added Commodities (sum amounts in column for Item 26):",null,null,null,null,null,null,null,null,null,null,null,null,{"$f":"$N$49","v":0}]
["SECTION F – ELIGIBLE YIELD-BASED CROPS/COMMODITIES"]
["28. Crop/Commodity:",null,null,null,null,null,null,"29. Expected Acres:",null,"30. Expected Yield:\nPer Acre","31. Unit of Measure:","32. Expected Price:\n(Per Unit)",null,"33.  Expected Revenue:"]
[]
[]
[]
[]
[]
[]
[]
[]
[]
[]
[]
[]
[]
[]
[]
[]
[]
[]
[]
[]
[]
[]
[]
["34. Total Expected Revenue from Eligible Yield Based Crops/Commodities (sum amounts in column for Item 33):",null,null,null,null,null,null,null,null,null,null,null,null,{"$f":"$N$75","v":0}]
["SECTION G – ELIGIBLE INVENTORY-BASED CROPS/COMMODITIES"]
["35. Crops/Commodity:",null,null,null,null,null,null,null,null,null,null,null,null,"36. Expected Revenue:",null,null,null,{"$f":"IF(AND(A617=\"\",N617=\"\"),0,15)","v":0}]
[{"$f":"IF(OR('521A_entry'!Q237=\"\",'521A_entry'!Q237=0),\"\",'521A_entry'!Q237)","v":""},null,null,null,null,null,null,null,null,null,null,null,null,{"$f":"IF(OR('521A_entry'!R237=\"\",'521A_entry'!R237=0),\"\",'521A_entry'!R237)","v":""}]
[{"$f":"IF(OR('521A_entry'!Q238=\"\",'521A_entry'!Q238=0),\"\",'521A_entry'!Q238)","v":""},null,null,null,null,null,null,null,null,null,null,null,null,{"$f":"IF(OR('521A_entry'!R238=\"\",'521A_entry'!R238=0),\"\",'521A_entry'!R238)","v":""}]
[{"$f":"IF(OR('521A_entry'!Q239=\"\",'521A_entry'!Q239=0),\"\",'521A_entry'!Q239)","v":""},null,null,null,null,null,null,null,null,null,null,null,null,{"$f":"IF(OR('521A_entry'!R239=\"\",'521A_entry'!R239=0),\"\",'521A_entry'!R239)","v":""}]
[{"$f":"IF(OR('521A_entry'!Q240=\"\",'521A_entry'!Q240=0),\"\",'521A_entry'!Q240)","v":""},null,null,null,null,null,null,null,null,null,null,null,null,{"$f":"IF(OR('521A_entry'!R240=\"\",'521A_entry'!R240=0),\"\",'521A_entry'!R240)","v":""}]
[{"$f":"IF(OR('521A_entry'!Q241=\"\",'521A_entry'!Q241=0),\"\",'521A_entry'!Q241)","v":""},null,null,null,null,null,null,null,null,null,null,null,null,{"$f":"IF(OR('521A_entry'!R241=\"\",'521A_entry'!R241=0),\"\",'521A_entry'!R241)","v":""}]
[{"$f":"IF(OR('521A_entry'!Q242=\"\",'521A_entry'!Q242=0),\"\",'521A_entry'!Q242)","v":""},null,null,null,null,null,null,null,null,null,null,null,null,{"$f":"IF(OR('521A_entry'!R242=\"\",'521A_entry'!R242=0),\"\",'521A_entry'!R242)","v":""}]
[{"$f":"IF(OR('521A_entry'!Q243=\"\",'521A_entry'!Q243=0),\"\",'521A_entry'!Q243)","v":""},null,null,null,null,null,null,null,null,null,null,null,null,{"$f":"IF(OR('521A_entry'!R243=\"\",'521A_entry'!R243=0),\"\",'521A_entry'!R243)","v":""}]
[{"$f":"IF(OR('521A_entry'!Q244=\"\",'521A_entry'!Q244=0),\"\",'521A_entry'!Q244)","v":""},null,null,null,null,null,null,null,null,null,null,null,null,{"$f":"IF(OR('521A_entry'!R244=\"\",'521A_entry'!R244=0),\"\",'521A_entry'!R244)","v":""}]
["37. Total Expected Revenue from Eligible Inventory Based Crops/Commodities (sum amounts in column for Item 36):",null,null,null,null,null,null,null,null,null,null,null,null,{"$f":"$N$86","v":0}]
["FSA-521-A (01-23-2023)",null,null,null,null,"1.  Applicant Name",null,null,null,null,null,null,null,"2.  Application Number:"]
[{"$f":"\"Page 16 of \"&$R$3","v":"Page 16 of 4"},null,null,null,null,{"$f":"IF(K522=\"\",\"\",K522)","v":""}]
["SECTION E – ELIGIBLE VALUE-ADDED COMMODITIES"]
["25. Commodity:",null,null,null,null,null,null,null,null,null,null,null,null,"26. Expected Revenue:",null,null,null,{"$f":"IF(AND(A630=\"\",N630=\"\"),0,16)","v":0}]
[{"$f":"IF(OR('521A_entry'!L209=\"\",'521A_entry'!L209=0),\"\",'521A_entry'!L209)","v":""},null,null,null,null,null,null,null,null,null,null,null,null,{"$f":"IF(OR('521A_entry'!M209=\"\",'521A_entry'!M209=0),\"\",'521A_entry'!M209)","v":""}]
[{"$f":"IF(OR('521A_entry'!L210=\"\",'521A_entry'!L210=0),\"\",'521A_entry'!L210)","v":""},null,null,null,null,null,null,null,null,null,null,null,null,{"$f":"IF(OR('521A_entry'!M210=\"\",'521A_entry'!M210=0),\"\",'521A_entry'!M210)","v":""}]
[{"$f":"IF(OR('521A_entry'!L211=\"\",'521A_entry'!L211=0),\"\",'521A_entry'!L211)","v":""},null,null,null,null,null,null,null,null,null,null,null,null,{"$f":"IF(OR('521A_entry'!M211=\"\",'521A_entry'!M211=0),\"\",'521A_entry'!M211)","v":""}]
[{"$f":"IF(OR('521A_entry'!L212=\"\",'521A_entry'!L212=0),\"\",'521A_entry'!L212)","v":""},null,null,null,null,null,null,null,null,null,null,null,null,{"$f":"IF(OR('521A_entry'!M212=\"\",'521A_entry'!M212=0),\"\",'521A_entry'!M212)","v":""}]
[{"$f":"IF(OR('521A_entry'!L213=\"\",'521A_entry'!L213=0),\"\",'521A_entry'!L213)","v":""},null,null,null,null,null,null,null,null,null,null,null,null,{"$f":"IF(OR('521A_entry'!M213=\"\",'521A_entry'!M213=0),\"\",'521A_entry'!M213)","v":""}]
["27. Total Expected Revenue from Eligible Value Added Commodities (sum amounts in column for Item 26):",null,null,null,null,null,null,null,null,null,null,null,null,{"$f":"$N$49","v":0}]
["SECTION F – ELIGIBLE YIELD-BASED CROPS/COMMODITIES"]
["28. Crop/Commodity:",null,null,null,null,null,null,"29. Expected Acres:",null,"30. Expected Yield:\nPer Acre","31. Unit of Measure:","32. Expected Price:\n(Per Unit)",null,"33.  Expected Revenue:"]
[]
[]
[]
[]
[]
[]
[]
[]
[]
[]
[]
[]
[]
[]
[]
[]
[]
[]
[]
[]
[]
[]
[]
["34. Total Expected Revenue from Eligible Yield Based Crops/Commodities (sum amounts in column for Item 33):",null,null,null,null,null,null,null,null,null,null,null,null,{"$f":"$N$75","v":0}]
["SECTION G – ELIGIBLE INVENTORY-BASED CROPS/COMMODITIES"]
["35. Crops/Commodity:",null,null,null,null,null,null,null,null,null,null,null,null,"36. Expected Revenue:",null,null,null,{"$f":"IF(AND(A664=\"\",N664=\"\"),0,16)","v":0}]
[{"$f":"IF(OR('521A_entry'!Q245=\"\",'521A_entry'!Q245=0),\"\",'521A_entry'!Q245)","v":""},null,null,null,null,null,null,null,null,null,null,null,null,{"$f":"IF(OR('521A_entry'!R245=\"\",'521A_entry'!R245=0),\"\",'521A_entry'!R245)","v":""}]
[{"$f":"IF(OR('521A_entry'!Q246=\"\",'521A_entry'!Q246=0),\"\",'521A_entry'!Q246)","v":""},null,null,null,null,null,null,null,null,null,null,null,null,{"$f":"IF(OR('521A_entry'!R246=\"\",'521A_entry'!R246=0),\"\",'521A_entry'!R246)","v":""}]
[{"$f":"IF(OR('521A_entry'!Q247=\"\",'521A_entry'!Q247=0),\"\",'521A_entry'!Q247)","v":""},null,null,null,null,null,null,null,null,null,null,null,null,{"$f":"IF(OR('521A_entry'!R247=\"\",'521A_entry'!R247=0),\"\",'521A_entry'!R247)","v":""}]
[{"$f":"IF(OR('521A_entry'!Q248=\"\",'521A_entry'!Q248=0),\"\",'521A_entry'!Q248)","v":""},null,null,null,null,null,null,null,null,null,null,null,null,{"$f":"IF(OR('521A_entry'!R248=\"\",'521A_entry'!R248=0),\"\",'521A_entry'!R248)","v":""}]
[]
[]
[]
[]
["37. Total Expected Revenue from Eligible Inventory Based Crops/Commodities (sum amounts in column for Item 36):",null,null,null,null,null,null,null,null,null,null,null,null,{"$f":"$N$86","v":0}]
["FSA-521-A (01-23-2023)",null,null,null,null,"1.  Applicant Name",null,null,null,null,null,null,null,"2.  Application Number:"]
[{"$f":"\"Page 17 of \"&$R$3","v":"Page 17 of 4"},null,null,null,null,{"$f":"IF(K569=\"\",\"\",K569)","v":""}]
["SECTION E – ELIGIBLE VALUE-ADDED COMMODITIES"]
["25. Commodity:",null,null,null,null,null,null,null,null,null,null,null,null,"26. Expected Revenue:",null,null,null,{"$f":"IF(AND(A677=\"\",N677=\"\"),0,17)","v":0}]
[{"$f":"IF(OR('521A_entry'!L214=\"\",'521A_entry'!L214=0),\"\",'521A_entry'!L214)","v":""},null,null,null,null,null,null,null,null,null,null,null,null,{"$f":"IF(OR('521A_entry'!M214=\"\",'521A_entry'!M214=0),\"\",'521A_entry'!M214)","v":""}]
[{"$f":"IF(OR('521A_entry'!L215=\"\",'521A_entry'!L215=0),\"\",'521A_entry'!L215)","v":""},null,null,null,null,null,null,null,null,null,null,null,null,{"$f":"IF(OR('521A_entry'!M215=\"\",'521A_entry'!M215=0),\"\",'521A_entry'!M215)","v":""}]
[{"$f":"IF(OR('521A_entry'!L216=\"\",'521A_entry'!L216=0),\"\",'521A_entry'!L216)","v":""},null,null,null,null,null,null,null,null,null,null,null,null,{"$f":"IF(OR('521A_entry'!M216=\"\",'521A_entry'!M216=0),\"\",'521A_entry'!M216)","v":""}]
[{"$f":"IF(OR('521A_entry'!L217=\"\",'521A_entry'!L217=0),\"\",'521A_entry'!L217)","v":""},null,null,null,null,null,null,null,null,null,null,null,null,{"$f":"IF(OR('521A_entry'!M217=\"\",'521A_entry'!M217=0),\"\",'521A_entry'!M217)","v":""}]
[{"$f":"IF(OR('521A_entry'!L218=\"\",'521A_entry'!L218=0),\"\",'521A_entry'!L218)","v":""},null,null,null,null,null,null,null,null,null,null,null,null,{"$f":"IF(OR('521A_entry'!M218=\"\",'521A_entry'!M218=0),\"\",'521A_entry'!M218)","v":""}]
["27. Total Expected Revenue from Eligible Value Added Commodities (sum amounts in column for Item 26):",null,null,null,null,null,null,null,null,null,null,null,null,{"$f":"$N$49","v":0}]
["SECTION F – ELIGIBLE YIELD-BASED CROPS/COMMODITIES"]
["28. Crop/Commodity:",null,null,null,null,null,null,"29. Expected Acres:",null,"30. Expected Yield:\nPer Acre","31. Unit of Measure:","32. Expected Price:\n(Per Unit)",null,"33.  Expected Revenue:"]
[]
[]
[]
[]
[]
[]
[]
[]
[]
[]
[]
[]
[]
[]
[]
[]
[]
[]
[]
[]
[]
[]
[]
["34. Total Expected Revenue from Eligible Yield Based Crops/Commodities (sum amounts in column for Item 33):",null,null,null,null,null,null,null,null,null,null,null,null,{"$f":"$N$75","v":0}]
["SECTION G – ELIGIBLE INVENTORY-BASED CROPS/COMMODITIES"]
["35. Crops/Commodity:",null,null,null,null,null,null,null,null,null,null,null,null,"36. Expected Revenue:"]
[]
[]
[]
[]
[]
[]
[]
[]
["37. Total Expected Revenue from Eligible Inventory Based Crops/Commodities (sum amounts in column for Item 36):",null,null,null,null,null,null,null,null,null,null,null,null,{"$f":"$N$86","v":0}]
["FSA-521-A (01-23-2023)",null,null,null,null,"1.  Applicant Name",null,null,null,null,null,null,null,"2.  Application Number:"]
[{"$f":"\"Page 18 of \"&$R$3","v":"Page 18 of 4"},null,null,null,null,{"$f":"IF(K616=\"\",\"\",K616)","v":""}]
["SECTION E – ELIGIBLE VALUE-ADDED COMMODITIES"]
["25. Commodity:",null,null,null,null,null,null,null,null,null,null,null,null,"26. Expected Revenue:",null,null,null,{"$f":"IF(AND(A724=\"\",N724=\"\"),0,18)","v":0}]
[{"$f":"IF(OR('521A_entry'!L219=\"\",'521A_entry'!L219=0),\"\",'521A_entry'!L219)","v":""},null,null,null,null,null,null,null,null,null,null,null,null,{"$f":"IF(OR('521A_entry'!M219=\"\",'521A_entry'!M219=0),\"\",'521A_entry'!M219)","v":""}]
[{"$f":"IF(OR('521A_entry'!L220=\"\",'521A_entry'!L220=0),\"\",'521A_entry'!L220)","v":""},null,null,null,null,null,null,null,null,null,null,null,null,{"$f":"IF(OR('521A_entry'!M220=\"\",'521A_entry'!M220=0),\"\",'521A_entry'!M220)","v":""}]
[{"$f":"IF(OR('521A_entry'!L221=\"\",'521A_entry'!L221=0),\"\",'521A_entry'!L221)","v":""},null,null,null,null,null,null,null,null,null,null,null,null,{"$f":"IF(OR('521A_entry'!M221=\"\",'521A_entry'!M221=0),\"\",'521A_entry'!M221)","v":""}]
[{"$f":"IF(OR('521A_entry'!L222=\"\",'521A_entry'!L222=0),\"\",'521A_entry'!L222)","v":""},null,null,null,null,null,null,null,null,null,null,null,null,{"$f":"IF(OR('521A_entry'!M222=\"\",'521A_entry'!M222=0),\"\",'521A_entry'!M222)","v":""}]
[{"$f":"IF(OR('521A_entry'!L223=\"\",'521A_entry'!L223=0),\"\",'521A_entry'!L223)","v":""},null,null,null,null,null,null,null,null,null,null,null,null,{"$f":"IF(OR('521A_entry'!M223=\"\",'521A_entry'!M223=0),\"\",'521A_entry'!M223)","v":""}]
["27. Total Expected Revenue from Eligible Value Added Commodities (sum amounts in column for Item 26):",null,null,null,null,null,null,null,null,null,null,null,null,{"$f":"$N$49","v":0}]
["SECTION F – ELIGIBLE YIELD-BASED CROPS/COMMODITIES"]
["28. Crop/Commodity:",null,null,null,null,null,null,"29. Expected Acres:",null,"30. Expected Yield:\nPer Acre","31. Unit of Measure:","32. Expected Price:\n(Per Unit)",null,"33.  Expected Revenue:"]
[]
[]
[]
[]
[]
[]
[]
[]
[]
[]
[]
[]
[]
[]
[]
[]
[]
[]
[]
[]
[]
[]
[]
["34. Total Expected Revenue from Eligible Yield Based Crops/Commodities (sum amounts in column for Item 33):",null,null,null,null,null,null,null,null,null,null,null,null,{"$f":"$N$75","v":0}]
["SECTION G – ELIGIBLE INVENTORY-BASED CROPS/COMMODITIES"]
["35. Crops/Commodity:",null,null,null,null,null,null,null,null,null,null,null,null,"36. Expected Revenue:"]
[]
[]
[]
[]
[]
[]
[]
[]
["37. Total Expected Revenue from Eligible Inventory Based Crops/Commodities (sum amounts in column for Item 36):",null,null,null,null,null,null,null,null,null,null,null,null,{"$f":"$N$86","v":0}]
["FSA-521-A (01-23-2023)",null,null,null,null,"1.  Applicant Name",null,null,null,null,null,null,null,"2.  Application Number:"]
[{"$f":"\"Page 19 of \"&$R$3","v":"Page 19 of 4"},null,null,null,null,{"$f":"IF(K663=\"\",\"\",K663)","v":""}]
["SECTION E – ELIGIBLE VALUE-ADDED BASED COMMODITIES"]
["25. Commodity:",null,null,null,null,null,null,null,null,null,null,null,null,"26. Expected Revenue:",null,null,null,{"$f":"IF(AND(A771=\"\",N771=\"\"),0,19)","v":0}]
[{"$f":"IF(OR('521A_entry'!L224=\"\",'521A_entry'!L224=0),\"\",'521A_entry'!L224)","v":""},null,null,null,null,null,null,null,null,null,null,null,null,{"$f":"IF(OR('521A_entry'!M224=\"\",'521A_entry'!M224=0),\"\",'521A_entry'!M224)","v":""}]
[{"$f":"IF(OR('521A_entry'!L225=\"\",'521A_entry'!L225=0),\"\",'521A_entry'!L225)","v":""},null,null,null,null,null,null,null,null,null,null,null,null,{"$f":"IF(OR('521A_entry'!M225=\"\",'521A_entry'!M225=0),\"\",'521A_entry'!M225)","v":""}]
[{"$f":"IF(OR('521A_entry'!L226=\"\",'521A_entry'!L226=0),\"\",'521A_entry'!L226)","v":""},null,null,null,null,null,null,null,null,null,null,null,null,{"$f":"IF(OR('521A_entry'!M226=\"\",'521A_entry'!M226=0),\"\",'521A_entry'!M226)","v":""}]
[{"$f":"IF(OR('521A_entry'!L227=\"\",'521A_entry'!L227=0),\"\",'521A_entry'!L227)","v":""},null,null,null,null,null,null,null,null,null,null,null,null,{"$f":"IF(OR('521A_entry'!M227=\"\",'521A_entry'!M227=0),\"\",'521A_entry'!M227)","v":""}]
[{"$f":"IF(OR('521A_entry'!L228=\"\",'521A_entry'!L228=0),\"\",'521A_entry'!L228)","v":""},null,null,null,null,null,null,null,null,null,null,null,null,{"$f":"IF(OR('521A_entry'!M228=\"\",'521A_entry'!M228=0),\"\",'521A_entry'!M228)","v":""}]
["27. Total Expected Revenue from Eligible Value Added Commodities (sum amounts in column for Item 26):",null,null,null,null,null,null,null,null,null,null,null,null,{"$f":"$N$49","v":0}]
["SECTION F – ELIGIBLE YIELD-BASED CROPS/COMMODITIES"]
["28. Crop/Commodity:",null,null,null,null,null,null,"29. Expected Acres:",null,"30. Expected Yield:\nPer Acre","31. Unit of Measure:","32. Expected Price:\n(Per Unit)",null,"33.  Expected Revenue:"]
[]
[]
[]
[]
[]
[]
[]
[]
[]
[]
[]
[]
[]
[]
[]
[]
[]
[]
[]
[]
[]
[]
[]
["34. Total Expected Revenue from Eligible Yield Based Crops/Commodities (sum amounts in column for Item 33):",null,null,null,null,null,null,null,null,null,null,null,null,{"$f":"$N$75","v":0}]
["SECTION G – ELIGIBLE INVENTORY-BASED CROPS/COMMODITIES"]
["35. Crops/Commodity:",null,null,null,null,null,null,null,null,null,null,null,null,"36. Expected Revenue:"]
[]
[]
[]
[]
[]
[]
[]
[]
["37. Total Expected Revenue from Eligible Inventory Based Crops/Commodities (sum amounts in column for Item 36):",null,null,null,null,null,null,null,null,null,null,null,null,{"$f":"$N$86","v":0}]
["FSA-521-A (01-23-2023)",null,null,null,null,"1.  Applicant Name",null,null,null,null,null,null,null,"2.  Application Number:"]
[{"$f":"\"Page 20 of \"&$R$3","v":"Page 20 of 4"},null,null,null,null,{"$f":"IF(K710=\"\",\"\",K710)","v":""}]
["SECTION E – ELIGIBLE VALUE-ADDED COMMODITIES"]
["25. Commodity:",null,null,null,null,null,null,null,null,null,null,null,null,"26. Expected Revenue:",null,null,null,{"$f":"IF(AND(A818=\"\",N818=\"\"),0,20)","v":0}]
[{"$f":"IF(OR('521A_entry'!L229=\"\",'521A_entry'!L229=0),\"\",'521A_entry'!L229)","v":""},null,null,null,null,null,null,null,null,null,null,null,null,{"$f":"IF(OR('521A_entry'!M229=\"\",'521A_entry'!M229=0),\"\",'521A_entry'!M229)","v":""}]
[{"$f":"IF(OR('521A_entry'!L230=\"\",'521A_entry'!L230=0),\"\",'521A_entry'!L230)","v":""},null,null,null,null,null,null,null,null,null,null,null,null,{"$f":"IF(OR('521A_entry'!M230=\"\",'521A_entry'!M230=0),\"\",'521A_entry'!M230)","v":""}]
[{"$f":"IF(OR('521A_entry'!L231=\"\",'521A_entry'!L231=0),\"\",'521A_entry'!L231)","v":""},null,null,null,null,null,null,null,null,null,null,null,null,{"$f":"IF(OR('521A_entry'!M231=\"\",'521A_entry'!M231=0),\"\",'521A_entry'!M231)","v":""}]
[{"$f":"IF(OR('521A_entry'!L232=\"\",'521A_entry'!L232=0),\"\",'521A_entry'!L232)","v":""},null,null,null,null,null,null,null,null,null,null,null,null,{"$f":"IF(OR('521A_entry'!M232=\"\",'521A_entry'!M232=0),\"\",'521A_entry'!M232)","v":""}]
[{"$f":"IF(OR('521A_entry'!L233=\"\",'521A_entry'!L233=0),\"\",'521A_entry'!L233)","v":""},null,null,null,null,null,null,null,null,null,null,null,null,{"$f":"IF(OR('521A_entry'!M233=\"\",'521A_entry'!M233=0),\"\",'521A_entry'!M233)","v":""}]
["27. Total Expected Revenue from Eligible Value Added Commodities (sum amounts in column for Item 26):",null,null,null,null,null,null,null,null,null,null,null,null,{"$f":"$N$49","v":0}]
["SECTION F – ELIGIBLE YIELD-BASED CROPS/COMMODITIES"]
["28. Crop/Commodity:",null,null,null,null,null,null,"29. Expected Acres:",null,"30. Expected Yield:\nPer Acre","31. Unit of Measure:","32. Expected Price:\n(Per Unit)",null,"33.  Expected Revenue:"]
[]
[]
[]
[]
[]
[]
[]
[]
[]
[]
[]
[]
[]
[]
[]
[]
[]
[]
[]
[]
[]
[]
[]
["34. Total Expected Revenue from Eligible Yield Based Crops/Commodities (sum amounts in column for Item 33):",null,null,null,null,null,null,null,null,null,null,null,null,{"$f":"$N$75","v":0}]
["SECTION G – ELIGIBLE INVENTORY-BASED CROPS/COMMODITIES"]
["35. Crops/Commodity:",null,null,null,null,null,null,null,null,null,null,null,null,"36. Expected Revenue:"]
[]
[]
[]
[]
[]
[]
[]
[]
["37. Total Expected Revenue from Eligible Inventory Based Crops/Commodities (sum amounts in column for Item 36):",null,null,null,null,null,null,null,null,null,null,null,null,{"$f":"$N$86","v":0}]
["FSA-521-A (01-23-2023)",null,null,null,null,"1.  Applicant Name",null,null,null,null,null,null,null,"2.  Application Number:"]
[{"$f":"\"Page 21 of \"&$R$3","v":"Page 21 of 4"},null,null,null,null,{"$f":"IF(K757=\"\",\"\",K757)","v":""}]
["SECTION E – ELIGIBLE VALUE-ADDED COMMODITIES"]
["25. Commodity:",null,null,null,null,null,null,null,null,null,null,null,null,"26. Expected Revenue:",null,null,null,{"$f":"IF(AND(A865=\"\",N865=\"\"),0,21)","v":0}]
[{"$f":"IF(OR('521A_entry'!L234=\"\",'521A_entry'!L234=0),\"\",'521A_entry'!L234)","v":""},null,null,null,null,null,null,null,null,null,null,null,null,{"$f":"IF(OR('521A_entry'!M234=\"\",'521A_entry'!M234=0),\"\",'521A_entry'!M234)","v":""}]
[{"$f":"IF(OR('521A_entry'!L235=\"\",'521A_entry'!L235=0),\"\",'521A_entry'!L235)","v":""},null,null,null,null,null,null,null,null,null,null,null,null,{"$f":"IF(OR('521A_entry'!M235=\"\",'521A_entry'!M235=0),\"\",'521A_entry'!M235)","v":""}]
[{"$f":"IF(OR('521A_entry'!L236=\"\",'521A_entry'!L236=0),\"\",'521A_entry'!L236)","v":""},null,null,null,null,null,null,null,null,null,null,null,null,{"$f":"IF(OR('521A_entry'!M236=\"\",'521A_entry'!M236=0),\"\",'521A_entry'!M236)","v":""}]
[{"$f":"IF(OR('521A_entry'!L237=\"\",'521A_entry'!L237=0),\"\",'521A_entry'!L237)","v":""},null,null,null,null,null,null,null,null,null,null,null,null,{"$f":"IF(OR('521A_entry'!M237=\"\",'521A_entry'!M237=0),\"\",'521A_entry'!M237)","v":""}]
[{"$f":"IF(OR('521A_entry'!L238=\"\",'521A_entry'!L238=0),\"\",'521A_entry'!L238)","v":""},null,null,null,null,null,null,null,null,null,null,null,null,{"$f":"IF(OR('521A_entry'!M238=\"\",'521A_entry'!M238=0),\"\",'521A_entry'!M238)","v":""}]
["27. Total Expected Revenue from Eligible Value Added Commodities (sum amounts in column for Item 26):",null,null,null,null,null,null,null,null,null,null,null,null,{"$f":"$N$49","v":0}]
["SECTION F – ELIGIBLE YIELD-BASED CROPS/COMMODITIES"]
["28. Crop/Commodity:",null,null,null,null,null,null,"29. Expected Acres:",null,"30. Expected Yield:\nPer Acre","31. Unit of Measure:","32. Expected Price:\n(Per Unit)",null,"33.  Expected Revenue:"]
[]
[]
[]
[]
[]
[]
[]
[]
[]
[]
[]
[]
[]
[]
[]
[]
[]
[]
[]
[]
[]
[]
[]
["34. Total Expected Revenue from Eligible Yield Based Crops/Commodities (sum amounts in column for Item 33):",null,null,null,null,null,null,null,null,null,null,null,null,{"$f":"$N$75","v":0}]
["SECTION G – ELIGIBLE INVENTORY-BASED CROPS/COMMODITIES"]
["35. Crops/Commodity:",null,null,null,null,null,null,null,null,null,null,null,null,"36. Expected Revenue:"]
[]
[]
[]
[]
[]
[]
[]
[]
["37. Total Expected Revenue from Eligible Inventory Based Crops/Commodities (sum amounts in column for Item 36):",null,null,null,null,null,null,null,null,null,null,null,null,{"$f":"$N$86","v":0}]
["FSA-521-A (01-23-2023)",null,null,null,null,"1.  Applicant Name",null,null,null,null,null,null,null,"2.  Application Number:"]
[{"$f":"\"Page 22 of \"&$R$3","v":"Page 22 of 4"},null,null,null,null,{"$f":"IF(K804=\"\",\"\",K804)","v":""}]
["SECTION E – ELIGIBLE VALUE-ADDED COMMODITIES"]
["25. Commodity:",null,null,null,null,null,null,null,null,null,null,null,null,"26. Expected Revenue:",null,null,null,{"$f":"IF(AND(A912=\"\",N912=\"\"),0,21)","v":0}]
[{"$f":"IF(OR('521A_entry'!L239=\"\",'521A_entry'!L239=0),\"\",'521A_entry'!L239)","v":""},null,null,null,null,null,null,null,null,null,null,null,null,{"$f":"IF(OR('521A_entry'!M239=\"\",'521A_entry'!M239=0),\"\",'521A_entry'!M239)","v":""}]
[{"$f":"IF(OR('521A_entry'!L240=\"\",'521A_entry'!L240=0),\"\",'521A_entry'!L240)","v":""},null,null,null,null,null,null,null,null,null,null,null,null,{"$f":"IF(OR('521A_entry'!M240=\"\",'521A_entry'!M240=0),\"\",'521A_entry'!M240)","v":""}]
[{"$f":"IF(OR('521A_entry'!L241=\"\",'521A_entry'!L241=0),\"\",'521A_entry'!L241)","v":""},null,null,null,null,null,null,null,null,null,null,null,null,{"$f":"IF(OR('521A_entry'!M241=\"\",'521A_entry'!M241=0),\"\",'521A_entry'!M241)","v":""}]
[{"$f":"IF(OR('521A_entry'!L242=\"\",'521A_entry'!L242=0),\"\",'521A_entry'!L242)","v":""},null,null,null,null,null,null,null,null,null,null,null,null,{"$f":"IF(OR('521A_entry'!M242=\"\",'521A_entry'!M242=0),\"\",'521A_entry'!M242)","v":""}]
[{"$f":"IF(OR('521A_entry'!L243=\"\",'521A_entry'!L243=0),\"\",'521A_entry'!L243)","v":""},null,null,null,null,null,null,null,null,null,null,null,null,{"$f":"IF(OR('521A_entry'!M243=\"\",'521A_entry'!M243=0),\"\",'521A_entry'!M243)","v":""}]
["27. Total Expected Revenue from Eligible Value Added Commodities (sum amounts in column for Item 26):",null,null,null,null,null,null,null,null,null,null,null,null,{"$f":"$N$49","v":0}]
["SECTION F – ELIGIBLE YIELD-BASED CROPS/COMMODITIES"]
["28. Crop/Commodity:",null,null,null,null,null,null,"29. Expected Acres:",null,"30. Expected Yield:\nPer Acre","31. Unit of Measure:","32. Expected Price:\n(Per Unit)",null,"33.  Expected Revenue:"]
[]
[]
[]
[]
[]
[]
[]
[]
[]
[]
[]
[]
[]
[]
[]
[]
[]
[]
[]
[]
[]
[]
[]
["34. Total Expected Revenue from Eligible Yield Based Crops/Commodities (sum amounts in column for Item 33):",null,null,null,null,null,null,null,null,null,null,null,null,{"$f":"$N$75","v":0}]
["SECTION G – ELIGIBLE INVENTORY-BASED CROPS/COMMODITIES"]
["35. Crops/Commodity:",null,null,null,null,null,null,null,null,null,null,null,null,"36. Expected Revenue:"]
[]
[]
[]
[]
[]
[]
[]
[]
["37. Total Expected Revenue from Eligible Inventory Based Crops/Commodities (sum amounts in column for Item 36):",null,null,null,null,null,null,null,null,null,null,null,null,{"$f":"$N$86","v":0}]
["FSA-521-A (01-23-2023)",null,null,null,null,"1.  Applicant Name",null,null,null,null,null,null,null,"2.  Application Number:"]
[{"$f":"\"Page 22 of \"&$R$3","v":"Page 22 of 4"},null,null,null,null,{"$f":"IF(K851=\"\",\"\",K851)","v":""}]
["SECTION E – ELIGIBLE VALUE-ADDED COMMODITIES"]
["25. Commodity:",null,null,null,null,null,null,null,null,null,null,null,null,"26. Expected Revenue:",null,null,null,{"$f":"IF(AND(A959=\"\",N959=\"\"),0,23)","v":0}]
[{"$f":"IF(OR('521A_entry'!L244=\"\",'521A_entry'!L244=0),\"\",'521A_entry'!L244)","v":""},null,null,null,null,null,null,null,null,null,null,null,null,{"$f":"IF(OR('521A_entry'!M244=\"\",'521A_entry'!M244=0),\"\",'521A_entry'!M244)","v":""}]
[{"$f":"IF(OR('521A_entry'!L245=\"\",'521A_entry'!L245=0),\"\",'521A_entry'!L245)","v":""},null,null,null,null,null,null,null,null,null,null,null,null,{"$f":"IF(OR('521A_entry'!M245=\"\",'521A_entry'!M245=0),\"\",'521A_entry'!M245)","v":""}]
[{"$f":"IF(OR('521A_entry'!L246=\"\",'521A_entry'!L246=0),\"\",'521A_entry'!L246)","v":""},null,null,null,null,null,null,null,null,null,null,null,null,{"$f":"IF(OR('521A_entry'!M246=\"\",'521A_entry'!M246=0),\"\",'521A_entry'!M246)","v":""}]
[{"$f":"IF(OR('521A_entry'!L247=\"\",'521A_entry'!L247=0),\"\",'521A_entry'!L247)","v":""},null,null,null,null,null,null,null,null,null,null,null,null,{"$f":"IF(OR('521A_entry'!M247=\"\",'521A_entry'!M247=0),\"\",'521A_entry'!M247)","v":""}]
[{"$f":"IF(OR('521A_entry'!L248=\"\",'521A_entry'!L248=0),\"\",'521A_entry'!L248)","v":""},null,null,null,null,null,null,null,null,null,null,null,null,{"$f":"IF(OR('521A_entry'!M248=\"\",'521A_entry'!M248=0),\"\",'521A_entry'!M248)","v":""}]
["27. Total Expected Revenue from Eligible Value Added Commodities (sum amounts in column for Item 26):",null,null,null,null,null,null,null,null,null,null,null,null,{"$f":"$N$49","v":0}]
["SECTION F – ELIGIBLE YIELD-BASED CROPS/COMMODITIES"]
["28. Crop/Commodity:",null,null,null,null,null,null,"29. Expected Acres:",null,"30. Expected Yield:\nPer Acre","31. Unit of Measure:","32. Expected Price:\n(Per Unit)",null,"33.  Expected Revenue:"]
[]
[]
[]
[]
[]
[]
[]
[]
[]
[]
[]
[]
[]
[]
[]
[]
[]
[]
[]
[]
[]
[]
[]
["34. Total Expected Revenue from Eligible Yield Based Crops/Commodities (sum amounts in column for Item 33):",null,null,null,null,null,null,null,null,null,null,null,null,{"$f":"$N$75","v":0}]
["SECTION G – ELIGIBLE INVENTORY-BASED CROPS/COMMODITIES"]
["35. Crops/Commodity:",null,null,null,null,null,null,null,null,null,null,null,null,"36. Expected Revenue:"]
[]
[]
[]
[]
[]
[]
[]
[]
["37. Total Expected Revenue from Eligible Inventory Based Crops/Commodities (sum amounts in column for Item 36):",null,null,null,null,null,null,null,null,null,null,null,null,{"$f":"$N$86","v":0}]

{"sheet":"2021_521A ","index":5,"n_rows":1001,"n_cols":18,"rows_kept":1001,"cut":false,"hidden":false,"merged":[[27,0,27,4],[27,5,27,12],[27,13,27,14],[28,0,28,4],[28,5,28,12],[28,13,28,14],[484,0,484,4],[437,0,437,4],[390,0,390,4],[343,0,343,4],[86,0,86,4],[249,0,249,4],[202,0,202,4],[155,0,155,4],[108,0,108,4],[578,0,578,4],[954,0,954,4],[907,0,907,4],[860,0,860,4],[813,0,813,4],[766,0,766,4],[719,0,719,4],[672,0,672,4],[625,0,625,4],[531,0,531,4],[950,0,950,12],[950,13,950,14],[951,0,951,12],[951,13,951,14],[952,0,952,12],[952,13,952,14],[947,0,947,12],[0,12,0,14],[296,0,296,4],[6,0,6,4],[39,0,39,4],[1000,0,1000,12],[1000,13,1000,14],[997,0,997,12],[997,13,997,14],[998,0,998,12],[998,13,998,14],[999,0,999,12],[999,13,999,14],[994,0,994,12],[994,13,994,14],[995,0,995,12],[995,13,995,14],[996,0,996,12],[996,13,996,14],[990,0,990,14],[991,0,991,12],[991,13,991,14],[992,0,992,12],[992,13,992,14],[993,0,993,12],[993,13,993,14],[988,0,988,6],[988,7,988,8],[988,11,988,12],[988,13,988,14],[989,0,989,12],[989,13,989,14],[986,0,986,6],[986,7,986,8],[986,11,986,12],[986,13,986,14],[987,0,987,6],[987,7,987,8],[987,11,987,12],[987,13,987,14],[984,0,984,6],[984,7,984,8],[984,11,984,12],[984,13,984,14],[985,0,985,6],[985,7,985,8],[985,11,985,12],[985,13,985,14],[982,0,982,6],[982,7,982,8],[982,11,982,12],[982,13,982,14],[983,0,983,6],[983,7,983,8],[983,11,983,12],[983,13,983,14],[980,0,980,6],[980,7,980,8],[980,11,980,12],[980,13,980,14],[981,0,981,6],[981,7,981,8],[981,11,981,12],[981,13,981,14],[978,0,978,6],[978,7,978,8],[978,11,978,12],[978,13,978,14],[979,0,979,6],[979,7,979,8],[979,11,979,12],[979,13,979,14],[976,0,976,6],[976,7,976,8],[976,11,976,12],[976,13,976,14],[977,0,977,6],[977,7,977,8],[977,11,977,12],[977,13,977,14],[974,0,974,6],[974,7,974,8],[974,11,974,12],[974,13,974,14],[975,0,975,6],[975,7,975,8],[975,11,975,12],[975,13,975,14],[972,0,972,6],[972,7,972,8],[972,11,972,12],[972,13,972,14],[973,0,973,6],[973,7,973,8],[973,11,973,12],[973,13,973,14],[970,0,970,6],[970,7,970,8],[970,11,970,12],[970,13,970,14],[971,0,971,6],[971,7,971,8],[971,11,971,12],[971,13,971,14],[968,0,968,6],[968,7,968,8],[968,11,968,12],[968,13,968,14],[969,0,969,6],[969,7,969,8],[969,11,969,12],[969,13,969,14],[966,0,966,6],[966,7,966,8],[966,11,966,12],[966,13,966,14],[967,0,967,6],[967,7,967,8],[967,11,967,12],[967,13,967,14],[963,0,963,12],[963,13,963,14],[964,0,964,14],[965,0,965,6],[965,7,965,8],[965,11,965,12],[965,13,965,14],[960,0,960,12],[960,13,960,14],[961,0,961,12],[961,13,961,14],[962,0,962,12],[962,13,962,14],[956,0,956,14],[957,0,957,12],[957,13,957,14],[958,0,958,12],[958,13,958,14],[959,0,959,12],[959,13,959,14],[953,0,953,12],[953,13,953,14],[954,5,954,12],[954,13,954,14],[955,0,955,4],[955,5,955,12],[955,13,955,14],[947,13,947,14],[948,0,948,12],[948,13,948,14],[949,0,949,12],[949,13,949,14],[943,0,943,14],[944,0,944,12],[944,13,944,14],[945,0,945,12],[945,13,945,14],[946,0,946,12],[946,13,946,14],[941,0,941,6],[941,7,941,8],[941,11,941,12],[941,13,941,14],[942,0,942,12],[942,13,942,14],[939,0,939,6],[939,7,939,8],[939,11,939,12],[939,13,939,14],[940,0,940,6],[940,7,940,8],[940,11,940,12],[940,13,940,14],[937,0,937,6],[937,7,937,8],[937,11,937,12],[937,13,937,14],[938,0,938,6],[938,7,938,8],[938,11,938,12],[938,13,938,14],[935,0,935,6],[935,7,935,8],[935,11,935,12],[935,13,935,14],[936,0,936,6],[936,7,936,8],[936,11,936,12],[936,13,936,14],[933,0,933,6],[933,7,933,8],[933,11,933,12],[933,13,933,14],[934,0,934,6],[934,7,934,8],[934,11,934,12],[934,13,934,14],[931,0,931,6],[931,7,931,8],[931,11,931,12],[931,13,931,14],[932,0,932,6],[932,7,932,8],[932,11,932,12],[932,13,932,14],[929,0,929,6],[929,7,929,8],[929,11,929,12],[929,13,929,14],[930,0,930,6],[930,7,930,8],[930,11,930,12],[930,13,930,14],[927,0,927,6],[927,7,927,8],[927,11,927,12],[927,13,927,14],[928,0,928,6],[928,7,928,8],[928,11,928,12],[928,13,928,14],[925,0,925,6],[925,7,925,8],[925,11,925,12],[925,13,925,14],[926,0,926,6],[926,7,926,8],[926,11,926,12],[926,13,926,14],[923,0,923,6],[923,7,923,8],[923,11,923,12],[923,13,923,14],[924,0,924,6],[924,7,924,8],[924,11,924,12],[924,13,924,14],[921,0,921,6],[921,7,921,8],[921,11,921,12],[921,13,921,14],[922,0,922,6],[922,7,922,8],[922,11,922,12],[922,13,922,14],[919,0,919,6],[919,7,919,8],[919,11,919,12],[919,13,919,14],[920,0,920,6],[920,7,920,8],[920,11,920,12],[920,13,920,14],[916,0,916,12],[916,13,916,14],[917,0,917,14],[918,0,918,6],[918,7,918,8],[918,11,918,12],[918,13,918,14],[913,0,913,12],[913,13,913,14],[914,0,914,12],[914,13,914,14],[915,0,915,12],[915,13,915,14],[909,0,909,14],[910,0,910,12],[910,13,910,14],[911,0,911,12],[911,13,911,14],[912,0,912,12],[912,13,912,14],[906,0,906,12],[906,13,906,14],[907,5,907,12],[907,13,907,14],[908,0,908,4],[908,5,908,12],[908,13,908,14],[903,0,903,12],[903,13,903,14],[904,0,904,12],[904,13,904,14],[905,0,905,12],[905,13,905,14],[900,0,900,12],[900,13,900,14],[901,0,901,12],[901,13,901,14],[902,0,902,12],[902,13,902,14],[896,0,896,14],[897,0,897,12],[897,13,897,14],[898,0,898,12],[898,13,898,14],[899,0,899,12],[899,13,899,14],[894,0,894,6],[894,7,894,8],[894,11,894,12],[894,13,894,14],[895,0,895,12],[895,13,895,14],[892,0,892,6],[892,7,892,8],[892,11,892,12],[892,13,892,14],[893,0,893,6],[893,7,893,8],[893,11,893,12],[893,13,893,14],[890,0,890,6],[890,7,890,8],[890,11,890,12],[890,13,890,14],[891,0,891,6],[891,7,891,8],[891,11,891,12],[891,13,891,14],[888,0,888,6],[888,7,888,8],[888,11,888,12],[888,13,888,14],[889,0,889,6],[889,7,889,8],[889,11,889,12],[889,13,889,14],[886,0,886,6],[886,7,886,8],[886,11,886,12],[886,13,886,14],[887,0,887,6],[887,7,887,8],[887,11,887,12],[887,13,887,14],[884,0,884,6],[884,7,884,8],[884,11,884,12],[884,13,884,14],[885,0,885,6],[885,7,885,8],[885,11,885,12],[885,13,885,14],[882,0,882,6],[882,7,882,8],[882,11,882,12],[882,13,882,14],[883,0,883,6],[883,7,883,8],[883,11,883,12],[883,13,883,14],[880,0,880,6],[880,7,880,8],[880,11,880,12],[880,13,880,14],[881,0,881,6],[881,7,881,8],[881,11,881,12],[881,13,881,14],[878,0,878,6],[878,7,878,8],[878,11,878,12],[878,13,878,14],[879,0,879,6],[879,7,879,8],[879,11,879,12],[879,13,879,14],[876,0,876,6],[876,7,876,8],[876,11,876,12],[876,13,876,14],[877,0,877,6],[877,7,877,8],[877,11,877,12],[877,13,877,14],[874,0,874,6],[874,7,874,8],[874,11,874,12],[874,13,874,14],[875,0,875,6],[875,7,875,8],[875,11,875,12],[875,13,875,14],[872,0,872,6],[872,7,872,8],[872,11,872,12],[872,13,872,14],[873,0,873,6],[873,7,873,8],[873,11,873,12],[873,13,873,14],[869,0,869,12],[869,13,869,14],[870,0,870,14],[871,0,871,6],[871,7,871,8],[871,11,871,12],[871,13,871,14],[866,0,866,12],[866,13,866,14],[867,0,867,12],[867,13,867,14],[868,0,868,12],[868,13,868,14],[862,0,862,14],[863,0,863,12],[863,13,863,14],[864,0,864,12],[864,13,864,14],[865,0,865,12],[865,13,865,14],[859,0,859,12],[859,13,859,14],[860,5,860,12],[860,13,860,14],[861,0,861,4],[861,5,861,12],[861,13,861,14],[856,0,856,12],[856,13,856,14],[857,0,857,12],[857,13,857,14],[858,0,858,12],[858,13,858,14],[853,0,853,12],[853,13,853,14],[854,0,854,12],[854,13,854,14],[855,0,855,12],[855,13,855,14],[849,0,849,14],[850,0,850,12],[850,13,850,14],[851,0,851,12],[851,13,851,14],[852,0,852,12],[852,13,852,14],[847,0,847,6],[847,7,847,8],[847,11,847,12],[847,13,847,14],[848,0,848,12],[848,13,848,14],[845,0,845,6],[845,7,845,8],[845,11,845,12],[845,13,845,14],[846,0,846,6],[846,7,846,8],[846,11,846,12],[846,13,846,14],[843,0,843,6],[843,7,843,8],[843,11,843,12],[843,13,843,14],[844,0,844,6],[844,7,844,8],[844,11,844,12],[844,13,844,14],[841,0,841,6],[841,7,841,8],[841,11,841,12],[841,13,841,14],[842,0,842,6],[842,7,842,8],[842,11,842,12],[842,13,842,14],[839,0,839,6],[839,7,839,8],[839,11,839,12],[839,13,839,14],[840,0,840,6],[840,7,840,8],[840,11,840,12],[840,13,840,14],[837,0,837,6],[837,7,837,8],[837,11,837,12],[837,13,837,14],[838,0,838,6],[838,7,838,8],[838,11,838,12],[838,13,838,14],[835,0,835,6],[835,7,835,8],[835,11,835,12],[835,13,835,14],[836,0,836,6],[836,7,836,8],[836,11,836,12],[836,13,836,14],[833,0,833,6],[833,7,833,8],[833,11,833,12],[833,13,833,14],[834,0,834,6],[834,7,834,8],[834,11,834,12],[834,13,834,14],[831,0,831,6],[831,7,831,8],[831,11,831,12],[831,13,831,14],[832,0,832,6],[832,7,832,8],[832,11,832,12],[832,13,832,14],[829,0,829,6],[829,7,829,8],[829,11,829,12],[829,13,829,14],[830,0,830,6],[830,7,830,8],[830,11,830,12],[830,13,830,14],[827,0,827,6],[827,7,827,8],[827,11,827,12],[827,13,827,14],[828,0,828,6],[828,7,828,8],[828,11,828,12],[828,13,828,14],[825,0,825,6],[825,7,825,8],[825,11,825,12],[825,13,825,14],[826,0,826,6],[826,7,826,8],[826,11,826,12],[826,13,826,14],[822,0,822,12],[822,13,822,14],[823,0,823,14],[824,0,824,6],[824,7,824,8],[824,11,824,12],[824,13,824,14],[819,0,819,12],[819,13,819,14],[820,0,820,12],[820,13,820,14],[821,0,821,12],[821,13,821,14],[815,0,815,14],[816,0,816,12],[816,13,816,14],[817,0,817,12],[817,13,817,14],[818,0,818,12],[818,13,818,14],[812,0,812,12],[812,13,812,14],[813,5,813,12],[813,13,813,14],[814,0,814,4],[814,5,814,12],[814,13,814,14],[809,0,809,12],[809,13,809,14],[810,0,810,12],[810,13,810,14],[811,0,811,12],[811,13,811,14],[806,0,806,12],[806,13,806,14],[807,0,807,12],[807,13,807,14],[808,0,808,12],[808,13,808,14],[802,0,802,14],[803,0,803,12],[803,13,803,14],[804,0,804,12],[804,13,804,14],[805,0,805,12],[805,13,805,14],[800,0,800,6],[800,7,800,8],[800,11,800,12],[800,13,800,14],[801,0,801,12],[801,13,801,14],[798,0,798,6],[798,7,798,8],[798,11,798,12],[798,13,798,14],[799,0,799,6],[799,7,799,8],[799,11,799,12],[799,13,799,14],[796,0,796,6],[796,7,796,8],[796,11,796,12],[796,13,796,14],[797,0,797,6],[797,7,797,8],[797,11,797,12],[797,13,797,14],[794,0,794,6],[794,7,794,8],[794,11,794,12],[794,13,794,14],[795,0,795,6],[795,7,795,8],[795,11,795,12],[795,13,795,14],[792,0,792,6],[792,7,792,8],[792,11,792,12],[792,13,792,14],[793,0,793,6],[793,7,793,8],[793,11,793,12],[793,13,793,14],[790,0,790,6],[790,7,790,8],[790,11,790,12],[790,13,790,14],[791,0,791,6],[791,7,791,8],[791,11,791,12],[791,13,791,14],[788,0,788,6],[788,7,788,8],[788,11,788,12],[788,13,788,14],[789,0,789,6],[789,7,789,8],[789,11,789,12],[789,13,789,14],[786,0,786,6],[786,7,786,8],[786,11,786,12],[786,13,786,14],[787,0,787,6],[787,7,787,8],[787,11,787,12],[787,13,787,14],[784,0,784,6],[784,7,784,8],[784,11,784,12],[784,13,784,14],[785,0,785,6],[785,7,785,8],[785,11,785,12],[785,13,785,14],[782,0,782,6],[782,7,782,8],[782,11,782,12],[782,13,782,14],[783,0,783,6],[783,7,783,8],[783,11,783,12],[783,13,783,14],[780,0,780,6],[780,7,780,8],[780,11,780,12],[780,13,780,14],[781,0,781,6],[781,7,781,8],[781,11,781,12],[781,13,781,14],[778,0,778,6],[778,7,778,8],[778,11,778,12],[778,13,778,14],[779,0,779,6],[779,7,779,8],[779,11,779,12],[779,13,779,14],[775,0,775,12],[775,13,775,14],[776,0,776,14],[777,0,777,6],[777,7,777,8],[777,11,777,12],[777,13,777,14],[772,0,772,12],[772,13,772,14],[773,0,773,12],[773,13,773,14],[774,0,774,12],[774,13,774,14],[768,0,768,14],[769,0,769,12],[769,13,769,14],[770,0,770,12],[770,13,770,14],[771,0,771,12],[771,13,771,14],[765,0,765,12],[765,13,765,14],[766,5,766,12],[766,13,766,14],[767,0,767,4],[767,5,767,12],[767,13,767,14],[762,0,762,12],[762,13,762,14],[763,0,763,12],[763,13,763,14],[764,0,764,12],[764,13,764,14],[759,0,759,12],[759,13,759,14],[760,0,760,12],[760,13,760,14],[761,0,761,12],[761,13,761,14],[755,0,755,14],[756,0,756,12],[756,13,756,14],[757,0,757,12],[757,13,757,14],[758,0,758,12],[758,13,758,14],[753,0,753,6],[753,7,753,8],[753,11,753,12],[753,13,753,14],[754,0,754,12],[754,13,754,14],[751,0,751,6],[751,7,751,8],[751,11,751,12],[751,13,751,14],[752,0,752,6],[752,7,752,8],[752,11,752,12],[752,13,752,14],[749,0,749,6],[749,7,749,8],[749,11,749,12],[749,13,749,14],[750,0,750,6],[750,7,750,8],[750,11,750,12],[750,13,750,14],[747,0,747,6],[747,7,747,8],[747,11,747,12],[747,13,747,14],[748,0,748,6],[748,7,748,8],[748,11,748,12],[748,13,748,14],[745,0,745,6],[745,7,745,8],[745,11,745,12],[745,13,745,14],[746,0,746,6],[746,7,746,8],[746,11,746,12],[746,13,746,14],[743,0,743,6],[743,7,743,8],[743,11,743,12],[743,13,743,14],[744,0,744,6],[744,7,744,8],[744,11,744,12],[744,13,744,14],[741,0,741,6],[741,7,741,8],[741,11,741,12],[741,13,741,14],[742,0,742,6],[742,7,742,8],[742,11,742,12],[742,13,742,14],[739,0,739,6],[739,7,739,8],[739,11,739,12],[739,13,739,14],[740,0,740,6],[740,7,740,8],[740,11,740,12],[740,13,740,14],[737,0,737,6],[737,7,737,8],[737,11,737,12],[737,13,737,14],[738,0,738,6],[738,7,738,8],[738,11,738,12],[738,13,738,14],[735,0,735,6],[735,7,735,8],[735,11,735,12],[735,13,735,14],[736,0,736,6],[736,7,736,8],[736,11,736,12],[736,13,736,14],[733,0,733,6],[733,7,733,8],[733,11,733,12],[733,13,733,14],[734,0,734,6],[734,7,734,8],[734,11,734,12],[734,13,734,14],[731,0,731,6],[731,7,731,8],[731,11,731,12],[731,13,731,14],[732,0,732,6],[732,7,732,8],[732,11,732,12],[732,13,732,14],[728,0,728,12],[728,13,728,14],[729,0,729,14],[730,0,730,6],[730,7,730,8],[730,11,730,12],[730,13,730,14],[725,0,725,12],[725,13,725,14],[726,0,726,12],[726,13,726,14],[727,0,727,12],[727,13,727,14],[721,0,721,14],[722,0,722,12],[722,13,722,14],[723,0,723,12],[723,13,723,14],[724,0,724,12],[724,13,724,14],[718,0,718,12],[718,13,718,14],[719,5,719,12],[719,13,719,14],[720,0,720,4],[720,5,720,12],[720,13,720,14],[715,0,715,12],[715,13,715,14],[716,0,716,12],[716,13,716,14],[717,0,717,12],[717,13,717,14],[712,0,712,12],[712,13,712,14],[713,0,713,12],[713,13,713,14],[714,0,714,12],[714,13,714,14],[708,0,708,14],[709,0,709,12],[709,13,709,14],[710,0,710,12],[710,13,710,14],[711,0,711,12],[711,13,711,14],[706,0,706,6],[706,7,706,8],[706,11,706,12],[706,13,706,14],[707,0,707,12],[707,13,707,14],[704,0,704,6],[704,7,704,8],[704,11,704,12],[704,13,704,14],[705,0,705,6],[705,7,705,8],[705,11,705,12],[705,13,705,14],[702,0,702,6],[702,7,702,8],[702,11,702,12],[702,13,702,14],[703,0,703,6],[703,7,703,8],[703,11,703,12],[703,13,703,14],[700,0,700,6],[700,7,700,8],[700,11,700,12],[700,13,700,14],[701,0,701,6],[701,7,701,8],[701,11,701,12],[701,13,701,14],[698,0,698,6],[698,7,698,8],[698,11,698,12],[698,13,698,14],[699,0,699,6],[699,7,699,8],[699,11,699,12],[699,13,699,14],[696,0,696,6],[696,7,696,8],[696,11,696,12],[696,13,696,14],[697,0,697,6],[697,7,697,8],[697,11,697,12],[697,13,697,14],[694,0,694,6],[694,7,694,8],[694,11,694,12],[694,13,694,14],[695,0,695,6],[695,7,695,8],[695,11,695,12],[695,13,695,14],[692,0,692,6],[692,7,692,8],[692,11,692,12],[692,13,692,14],[693,0,693,6],[693,7,693,8],[693,11,693,12],[693,13,693,14],[690,0,690,6],[690,7,690,8],[690,11,690,12],[690,13,690,14],[691,0,691,6],[691,7,691,8],[691,11,691,12],[691,13,691,14],[688,0,688,6],[688,7,688,8],[688,11,688,12],[688,13,688,14],[689,0,689,6],[689,7,689,8],[689,11,689,12],[689,13,689,14],[686,0,686,6],[686,7,686,8],[686,11,686,12],[686,13,686,14],[687,0,687,6],[687,7,687,8],[687,11,687,12],[687,13,687,14],[684,0,684,6],[684,7,684,8],[684,11,684,12],[684,13,684,14],[685,0,685,6],[685,7,685,8],[685,11,685,12],[685,13,685,14],[681,0,681,12],[681,13,681,14],[682,0,682,14],[683,0,683,6],[683,7,683,8],[683,11,683,12],[683,13,683,14],[678,0,678,12],[678,13,678,14],[679,0,679,12],[679,13,679,14],[680,0,680,12],[680,13,680,14],[674,0,674,14],[675,0,675,12],[675,13,675,14]],"merged_total":2925,"flags":["merged_cut"]}
[null,null,null,null,null,null,null,null,null,null,null,null,"OMB Approval # 0560-0309\nExpiration Date 12/31/2025"]
["FSA-521-A\n01-23-2023",null,null,null,"U.S. DEPARTMENT OF AGRICULTURE\nFarm Service Agency\nEMERGENCY RELIEF PROGRAM (ERP) PHASE 2 ALLOWABLE GROSS REVENUE WORKSHEET\n1.",null,null,null,null,null,"1.  Applicant Name:",null,null,null,"2.  Application Number:"]
[null,null,null,null,null,null,null,null,null,null,{"$f":"IF('Gross Rev Wrksht'!E10=\"\",\"\",'Gross Rev Wrksht'!E10)","v":""},null,null,null,null,null,null,{"$f":"MAX(R6:R1000)","v":4}]
[null,null,null,null,null,null,null,null,null,null,"3. Recording State:",null,"4. Recording County:"]
[null,null,null,null,null,null,null,null,null,null,{"$f":"IF('Gross Rev Wrksht'!E8=\"\",\"\",'Gross Rev Wrksht'!E8)","v":""},null,{"$f":"IF('Gross Rev Wrksht'!E9=\"\",\"\",'Gross Rev Wrksht'!E9)","v":""}]
["SECTION A – SELECT DISASTER YEAR",null,null,null,null,null,null,null,null,null,null,null,null,null,null,null,{"$f":"IF(AND(E7=\"\",N7=\"\"),\"\",IF(E7=\"X\",2020,IF(N7=\"X\",2021)))","v":2021}]
["5. Select Disaster Year:",null,null,null,null,null,null,null,null,null,null,2020,"OR  ","X",2021]
["SECTION B – IDENTIFY SPECIAL REVENUE CONDITIONS"]
["6. Are you a new producer in 2020 or 2021 that did not have any allowable gross revenue in 2018 or 2019?\n"]
[{"$f":"IF('521A_entry'!AD1=\"Yes\",\"X\",\"\")","v":""},"YES","If \"YES\", complete Section D, complete Sections E through G to calculate Expected Allowable Disaster Year Revenue, and then complete Sections H and K."]
[{"$f":"IF(A10=\"X\",\"\",\"X\")","v":"X"},"NO","If “NO”, continue to Item 7"]
["7. Do you have allowable gross revenue in 2018 or 2019, but your operation has undergone a decrease in operating capacity from Benchmark Year to Disaster Year?\n"]
[{"$f":"IF(OR(AND(TEXT(Q6,0)=LEFT('521A_entry'!AE2,4),'521A_entry'!AD2=\"Yes\"),AND(TEXT(Q6,0)=RIGHT('521A_entry'!AE2,4),'521A_entry'!AD2=\"Yes\")),\"X\",\"\")","v":""},"YES","If \"YES\", complete Sections C and D, complete Sections E through G to calculate Expected Decrease in Revenue, and then complete Sections I and K."]
[{"$f":"IF(A13=\"X\",\"\",\"X\")","v":"X"},"NO","If “NO”, continue to Item 8"]
["8. Do you have allowable gross revenue in 2018 or 2019, but your operation has undergone an increase in operating capacity from Benchmark Year to Disaster Year?\n"]
[{"$f":"IF(OR(AND(TEXT(Q6,0)=TEXT(LEFT('521A_entry'!AE3,4),0),'521A_entry'!AD3=\"Yes\"),AND(TEXT(Q6,0)=TEXT(RIGHT('521A_entry'!AE3,4),0),'521A_entry'!AD3=\"Yes\")),\"X\",\"\")","v":""},"YES","If \"YES\", complete Sections C and D, complete SectionsE through G to calculate Expected Increase in Revenue, and complete Section J and K."]
[{"$f":"IF(A16=\"X\",\"\",\"X\")","v":"X"},"NO","If “NO”, complete Section C and Section D, and then complete Section K"]
["SECTION C – ACTUAL ALLOWABLE BENCHMARK YEAR REVENUE"]
["Enter allowable gross revenue items based only on the selected Benchmark Year (refer to How to Determine Allowable Gross Revenue Table on Form FSA-521)."]
[9,"Enter amount of allowable gross revenue from sales of eligible crops purchased for resale that had a change in characteristic due to the time held, such as a plant purchased at a size of 2 inches and sold as an 18-inch plant after 4 months (Schedule F Line 1c):",null,null,null,null,null,null,null,null,null,null,null,{"$f":"IF('Gross Rev Wrksht'!AC19=\"\",\"\",'Gross Rev Wrksht'!AC19)","v":""}]
[10,"Enter amount of allowable gross revenue from sales of eligible crops grown and sold in the United States by the applicant (example: corn sold as grain); also include sales of eligible crops grown by the applicant resulting from value added through post production activities that could have been reported on Schedule F (example: strawberries into jam); and also include sales of aquatic species that are grown as food for human or livestock consumption, for industrial or biomass uses, as fish raised as feed for fish that are consumed by humans, as ornamental fish propagated and reared in an aquatic medium (Schedule F Line 2):",null,null,null,null,null,null,null,null,null,null,null,{"$f":"IF('Gross Rev Wrksht'!AC20=\"\",\"\",'Gross Rev Wrksht'!AC20)","v":""}]
[11,"Enter amount of allowable gross revenue from the taxable amount of cooperative distributions directly related to the sale of eligible crops produced by the applicant such as: per-unit allocations paid to patrons for gross grain sales (Schedule F Line 3a; Form 1099-PATR):",null,null,null,null,null,null,null,null,null,null,null,{"$f":"IF('Gross Rev Wrksht'!AC21=\"\",\"\",'Gross Rev Wrksht'!AC21)","v":""}]
[12,"Enter amount of allowable gross revenue from agricultural program payments such as ARC/PLC, BCAP, LDP, MLG – repayment of CCC loans less than the original amount, MFP, and STRP (Schedule F Line 4a, or Form 1099-G):",null,null,null,null,null,null,null,null,null,null,null,{"$f":"IF('Gross Rev Wrksht'!AC22=\"\",\"\",'Gross Rev Wrksht'!AC22)","v":""}]
[13,"Enter amount of allowable gross revenue from CCC loans reported under election if elected to be treated as income and reported to IRS when all or part of the production is used as collateral to secure the loan; and forfeited CCC loans (Schedule F Line 5a - 5c, Form 1099-A):",null,null,null,null,null,null,null,null,null,null,null,{"$f":"IF('Gross Rev Wrksht'!AC23=\"\",\"\",'Gross Rev Wrksht'!AC23)","v":""}]
[14,"Enter amount of allowable gross revenue from crop insurance proceeds less administrative fees and premiums, NAP payments less administrative fees and premiums, 2017 WHIP payments, OFSLP payments, ELAP payments specific to aquaculture, payments received through grant agreements with FSA for losses of eligible crops, grants from the Department of Commerce, NOAA, and State program funds for the direct loss of eligible crops or the loss of revenue for eligible crops (Schedule F Line 6):",null,null,null,null,null,null,null,null,null,null,null,{"$f":"IF('Gross Rev Wrksht'!AC24=\"\",\"\",'Gross Rev Wrksht'!AC24)","v":""}]
[15,"Enter amount of other allowable gross revenue directly related to the production of eligible crops that the IRS requires the applicant to report, such as but not limited to: commodity specific income received from state or local governments (Schedule F Line 8):",null,null,null,null,null,null,null,null,null,null,null,{"$f":"IF('Gross Rev Wrksht'!AC25=\"\",\"\",'Gross Rev Wrksht'!AC25)","v":""}]
[16,"Total Actual Allowable Benchmark Year Revenue (sum Items 9 through 15):",null,null,null,null,null,null,null,null,null,null,null,{"$f":"IF(AND(N20=\"\",N21=\"\",N22=\"\",N23=\"\",N24=\"\",N25=\"\",N26=\"\"),\"\",SUM(N20:O26))","v":""}]
["FSA-521-A (01-23-2023)",null,null,null,null,"1.  Applicant Name",null,null,null,null,null,null,null,"2.  Application Number:"]
[{"$f":"\"Page 2 of \"&$R$3","v":"Page 2 of 4"},null,null,null,null,{"$f":"IF(K3=\"\",\"\",K3)","v":""}]
["SECTION D – ACTUAL ALLOWABLE DISASTER YEAR REVENUE"]
["Enter allowable gross revenue items based only on the selected Disaster Year from Item 5 (refer to How to Determine Allowable Gross Revenue Table on Form FSA-521)."]
[17,"Enter amount of allowable gross revenue from sales of eligible crops purchased for resale that had a change in characteristic due to the time held, such as a plant purchased at a size of 2 inches and sold as an 18-inch plant after 4 months (Schedule F Line 1c):",null,null,null,null,null,null,null,null,null,null,null,{"$f":"IF('Gross Rev Wrksht'!AG19=\"\",\"\",'Gross Rev Wrksht'!AG19)","v":""}]
[18,"Enter amount of allowable gross revenue from sales of eligible crops grown and sold in the United States and its Territories by the applicant (example would corn sold as grain); also include sales of eligible crops grown by the applicant resulting from value-added through post-production activities that would have been reported on IRS Schedule F (example: strawberries into jam); and also include sales of aquatic species that are grown as food for human or livestock consumption, for industrial or biomass uses, as fish raised as feed for fish that are consumed by humans, as ornamental fish propagated and reared in an aquatic medium (Schedule F Line 2):",null,null,null,null,null,null,null,null,null,null,null,{"$f":"IF('Gross Rev Wrksht'!AG20=\"\",\"\",'Gross Rev Wrksht'!AG20)","v":""}]
[19,"Enter amount of allowable gross revenue from the taxable amount of cooperative distributions directly related to the sale of eligible crops produced by the applicant such as: per-unit allocations paid to patrons for gross grain sales (Schedule F Line 3a or Form 1099-PATR):",null,null,null,null,null,null,null,null,null,null,null,{"$f":"IF('Gross Rev Wrksht'!AG21=\"\",\"\",'Gross Rev Wrksht'!AG21)","v":""}]
[20,"Enter amount of allowable gross revenue from agricultural program payments such as ARC/PLC, BCAP, LDP, MLG – repayment of CCC loans less than the original amount, MFP, STRP, and ERP Phase 1 payments issued to another person or entity for the applicant's share of an eligible crop regardless of the tax year in which the payment would be reported to the IRS (Schedule F Line 4a, or Form 1099-G):",null,null,null,null,null,null,null,null,null,null,null,{"$f":"IF('Gross Rev Wrksht'!AG22=\"\",\"\",'Gross Rev Wrksht'!AG22)","v":""}]
[21,"Enter amount of allowable gross revenue from CCC loans reported under election if elected to be treated as income and reported to IRS when all or part of the production is used as collateral to secure the loan; and forfeited CCC loans (Schedule F Line 5a - 5c, Form 1099-A):",null,null,null,null,null,null,null,null,null,null,null,{"$f":"IF('Gross Rev Wrksht'!AG23=\"\",\"\",'Gross Rev Wrksht'!AG23)","v":""}]
[22,"Enter amount of allowable gross revenue from crop insurance proceeds less administrative fees and premiums, NAP payments less administrative fees and premiums, OFSLP payments, ELAP payments specific to aquaculture, payments received through grant agreements with FSA for losses of eligible crops, grants from the Department of Commerce, NOAA, and State program funds for the direct loss of eligible crops or the loss of revenue for eligible crops (Schedule F Line 6):",null,null,null,null,null,null,null,null,null,null,null,{"$f":"IF('Gross Rev Wrksht'!AG24=\"\",\"\",'Gross Rev Wrksht'!AG24)","v":""}]
[23,"Enter amount of other allowable gross revenue directly related to the production of eligible crops that the IRS requires the applicant to report, such as but not limited to: commodity specific income received from state or local governments (Schedule F Line 8):",null,null,null,null,null,null,null,null,null,null,null,{"$f":"IF('Gross Rev Wrksht'!AG25=\"\",\"\",'Gross Rev Wrksht'!AG25)","v":""},null,null,null,4]
[24,"Total Actual Allowable Disaster Year Revenue (sum Items 17 through 23):",null,null,null,null,null,null,null,null,null,null,null,{"$f":"IF(AND(N32=\"\",N33=\"\",N34=\"\",N35=\"\",N36=\"\",N37=\"\",N38=\"\"),\"\",SUM(N32:O38))","v":""}]
["FSA-521A (01-23-2023)",null,null,null,null,"1.  Applicant Name",null,null,null,null,null,null,null,"2.  Application Number:"]
[{"$f":"\"Page 3 of \"&$R$3","v":"Page 3 of 4"},null,null,null,null,{"$f":"IF(K3=\"\",\"\",K3)","v":""}]
["SECTION E – ELIGIBLE VALUE-ADDED COMMODITIES"]
["25. Commodity:",null,null,null,null,null,null,null,null,null,null,null,null,"26. Expected Revenue:"]
[{"$f":"IF(OR('521A_entry'!L258=\"\",'521A_entry'!L258=0),\"\",'521A_entry'!L258)","v":""},null,null,null,null,null,null,null,null,null,null,null,null,{"$f":"IF(OR('521A_entry'!M258=\"\",'521A_entry'!M258=0),\"\",'521A_entry'!M258)","v":""}]
[{"$f":"IF(OR('521A_entry'!L259=\"\",'521A_entry'!L259=0),\"\",'521A_entry'!L259)","v":""},null,null,null,null,null,null,null,null,null,null,null,null,{"$f":"IF(OR('521A_entry'!M259=\"\",'521A_entry'!M259=0),\"\",'521A_entry'!M259)","v":""}]
[{"$f":"IF(OR('521A_entry'!L260=\"\",'521A_entry'!L260=0),\"\",'521A_entry'!L260)","v":""},null,null,null,null,null,null,null,null,null,null,null,null,{"$f":"IF(OR('521A_entry'!M260=\"\",'521A_entry'!M260=0),\"\",'521A_entry'!M260)","v":""}]
[{"$f":"IF(OR('521A_entry'!L261=\"\",'521A_entry'!L261=0),\"\",'521A_entry'!L261)","v":""},null,null,null,null,null,null,null,null,null,null,null,null,{"$f":"IF(OR('521A_entry'!M261=\"\",'521A_entry'!M261=0),\"\",'521A_entry'!M261)","v":""}]
[{"$f":"IF(OR('521A_entry'!L262=\"\",'521A_entry'!L262=0),\"\",'521A_entry'!L262)","v":""},null,null,null,null,null,null,null,null,null,null,null,null,{"$f":"IF(OR('521A_entry'!M262=\"\",'521A_entry'!M262=0),\"\",'521A_entry'!M262)","v":""}]
["27. Total Expected Revenue from Eligible Value Added Commodities (sum amounts in column for Item 26):",null,null,null,null,null,null,null,null,null,null,null,null,{"$f":"IF($Q$6='521A_entry'!$A$146,'521A_entry'!M251,IF($Q$6='521A_entry'!$A$255,'521A_entry'!M360,\"\"))","v":0}]
["SECTION F – ELIGIBLE YIELD-BASED CROPS/COMMODITIES"]
["28. Crop/Commodity:",null,null,null,null,null,null,"29. Expected Acres:",null,"30. Expected Yield:\nPer Acre","31. Unit of Measure:","32. Expected Price:\n(Per Unit)",null,"33.  Expected Revenue:"]
[{"$f":"IF(OR('521A_entry'!C258=\"\",'521A_entry'!C258=0),\"\",'521A_entry'!C258)","v":""},null,null,null,null,null,null,{"$f":"IF(OR('521A_entry'!D258=\"\",'521A_entry'!D258=0),\"\",'521A_entry'!D258)","v":""},null,{"$f":"IF(OR('521A_entry'!E258=\"\",'521A_entry'!E258=0),\"\",'521A_entry'!E258)","v":""},{"$f":"IF(OR('521A_entry'!F258=\"\",'521A_entry'!F258=0),\"\",'521A_entry'!F258)","v":""},{"$f":"IF(OR('521A_entry'!G258=\"\",'521A_entry'!G258=0),\"\",'521A_entry'!G258)","v":""},null,{"$f":"IF(OR('521A_entry'!H258=\"\",'521A_entry'!H258=0),\"\",'521A_entry'!H258)","v":""}]
[{"$f":"IF(OR('521A_entry'!C259=\"\",'521A_entry'!C259=0),\"\",'521A_entry'!C259)","v":""},null,null,null,null,null,null,{"$f":"IF(OR('521A_entry'!D259=\"\",'521A_entry'!D259=0),\"\",'521A_entry'!D259)","v":""},null,{"$f":"IF(OR('521A_entry'!E259=\"\",'521A_entry'!E259=0),\"\",'521A_entry'!E259)","v":""},{"$f":"IF(OR('521A_entry'!F259=\"\",'521A_entry'!F259=0),\"\",'521A_entry'!F259)","v":""},{"$f":"IF(OR('521A_entry'!G259=\"\",'521A_entry'!G259=0),\"\",'521A_entry'!G259)","v":""},null,{"$f":"IF(OR('521A_entry'!H259=\"\",'521A_entry'!H259=0),\"\",'521A_entry'!H259)","v":""}]
[{"$f":"IF(OR('521A_entry'!C260=\"\",'521A_entry'!C260=0),\"\",'521A_entry'!C260)","v":""},null,null,null,null,null,null,{"$f":"IF(OR('521A_entry'!D260=\"\",'521A_entry'!D260=0),\"\",'521A_entry'!D260)","v":""},null,{"$f":"IF(OR('521A_entry'!E260=\"\",'521A_entry'!E260=0),\"\",'521A_entry'!E260)","v":""},{"$f":"IF(OR('521A_entry'!F260=\"\",'521A_entry'!F260=0),\"\",'521A_entry'!F260)","v":""},{"$f":"IF(OR('521A_entry'!G260=\"\",'521A_entry'!G260=0),\"\",'521A_entry'!G260)","v":""},null,{"$f":"IF(OR('521A_entry'!H260=\"\",'521A_entry'!H260=0),\"\",'521A_entry'!H260)","v":""}]
[{"$f":"IF(OR('521A_entry'!C261=\"\",'521A_entry'!C261=0),\"\",'521A_entry'!C261)","v":""},null,null,null,null,null,null,{"$f":"IF(OR('521A_entry'!D261=\"\",'521A_entry'!D261=0),\"\",'521A_entry'!D261)","v":""},null,{"$f":"IF(OR('521A_entry'!E261=\"\",'521A_entry'!E261=0),\"\",'521A_entry'!E261)","v":""},{"$f":"IF(OR('521A_entry'!F261=\"\",'521A_entry'!F261=0),\"\",'521A_entry'!F261)","v":""},{"$f":"IF(OR('521A_entry'!G261=\"\",'521A_entry'!G261=0),\"\",'521A_entry'!G261)","v":""},null,{"$f":"IF(OR('521A_entry'!H261=\"\",'521A_entry'!H261=0),\"\",'521A_entry'!H261)","v":""}]
[{"$f":"IF(OR('521A_entry'!C262=\"\",'521A_entry'!C262=0),\"\",'521A_entry'!C262)","v":""},null,null,null,null,null,null,{"$f":"IF(OR('521A_entry'!D262=\"\",'521A_entry'!D262=0),\"\",'521A_entry'!D262)","v":""},null,{"$f":"IF(OR('521A_entry'!E262=\"\",'521A_entry'!E262=0),\"\",'521A_entry'!E262)","v":""},{"$f":"IF(OR('521A_entry'!F262=\"\",'521A_entry'!F262=0),\"\",'521A_entry'!F262)","v":""},{"$f":"IF(OR('521A_entry'!G262=\"\",'521A_entry'!G262=0),\"\",'521A_entry'!G262)","v":""},null,{"$f":"IF(OR('521A_entry'!H262=\"\",'521A_entry'!H262=0),\"\",'521A_entry'!H262)","v":""}]
[{"$f":"IF(OR('521A_entry'!C263=\"\",'521A_entry'!C263=0),\"\",'521A_entry'!C263)","v":""},null,null,null,null,null,null,{"$f":"IF(OR('521A_entry'!D263=\"\",'521A_entry'!D263=0),\"\",'521A_entry'!D263)","v":""},null,{"$f":"IF(OR('521A_entry'!E263=\"\",'521A_entry'!E263=0),\"\",'521A_entry'!E263)","v":""},{"$f":"IF(OR('521A_entry'!F263=\"\",'521A_entry'!F263=0),\"\",'521A_entry'!F263)","v":""},{"$f":"IF(OR('521A_entry'!G263=\"\",'521A_entry'!G263=0),\"\",'521A_entry'!G263)","v":""},null,{"$f":"IF(OR('521A_entry'!H263=\"\",'521A_entry'!H263=0),\"\",'521A_entry'!H263)","v":""}]
[{"$f":"IF(OR('521A_entry'!C264=\"\",'521A_entry'!C264=0),\"\",'521A_entry'!C264)","v":""},null,null,null,null,null,null,{"$f":"IF(OR('521A_entry'!D264=\"\",'521A_entry'!D264=0),\"\",'521A_entry'!D264)","v":""},null,{"$f":"IF(OR('521A_entry'!E264=\"\",'521A_entry'!E264=0),\"\",'521A_entry'!E264)","v":""},{"$f":"IF(OR('521A_entry'!F264=\"\",'521A_entry'!F264=0),\"\",'521A_entry'!F264)","v":""},{"$f":"IF(OR('521A_entry'!G264=\"\",'521A_entry'!G264=0),\"\",'521A_entry'!G264)","v":""},null,{"$f":"IF(OR('521A_entry'!H264=\"\",'521A_entry'!H264=0),\"\",'521A_entry'!H264)","v":""}]
[{"$f":"IF(OR('521A_entry'!C265=\"\",'521A_entry'!C265=0),\"\",'521A_entry'!C265)","v":""},null,null,null,null,null,null,{"$f":"IF(OR('521A_entry'!D265=\"\",'521A_entry'!D265=0),\"\",'521A_entry'!D265)","v":""},null,{"$f":"IF(OR('521A_entry'!E265=\"\",'521A_entry'!E265=0),\"\",'521A_entry'!E265)","v":""},{"$f":"IF(OR('521A_entry'!F265=\"\",'521A_entry'!F265=0),\"\",'521A_entry'!F265)","v":""},{"$f":"IF(OR('521A_entry'!G265=\"\",'521A_entry'!G265=0),\"\",'521A_entry'!G265)","v":""},null,{"$f":"IF(OR('521A_entry'!H265=\"\",'521A_entry'!H265=0),\"\",'521A_entry'!H265)","v":""}]
[{"$f":"IF(OR('521A_entry'!C266=\"\",'521A_entry'!C266=0),\"\",'521A_entry'!C266)","v":""},null,null,null,null,null,null,{"$f":"IF(OR('521A_entry'!D266=\"\",'521A_entry'!D266=0),\"\",'521A_entry'!D266)","v":""},null,{"$f":"IF(OR('521A_entry'!E266=\"\",'521A_entry'!E266=0),\"\",'521A_entry'!E266)","v":""},{"$f":"IF(OR('521A_entry'!F266=\"\",'521A_entry'!F266=0),\"\",'521A_entry'!F266)","v":""},{"$f":"IF(OR('521A_entry'!G266=\"\",'521A_entry'!G266=0),\"\",'521A_entry'!G266)","v":""},null,{"$f":"IF(OR('521A_entry'!H266=\"\",'521A_entry'!H266=0),\"\",'521A_entry'!H266)","v":""}]
[{"$f":"IF(OR('521A_entry'!C267=\"\",'521A_entry'!C267=0),\"\",'521A_entry'!C267)","v":""},null,null,null,null,null,null,{"$f":"IF(OR('521A_entry'!D267=\"\",'521A_entry'!D267=0),\"\",'521A_entry'!D267)","v":""},null,{"$f":"IF(OR('521A_entry'!E267=\"\",'521A_entry'!E267=0),\"\",'521A_entry'!E267)","v":""},{"$f":"IF(OR('521A_entry'!F267=\"\",'521A_entry'!F267=0),\"\",'521A_entry'!F267)","v":""},{"$f":"IF(OR('521A_entry'!G267=\"\",'521A_entry'!G267=0),\"\",'521A_entry'!G267)","v":""},null,{"$f":"IF(OR('521A_entry'!H267=\"\",'521A_entry'!H267=0),\"\",'521A_entry'!H267)","v":""}]
[{"$f":"IF(OR('521A_entry'!C268=\"\",'521A_entry'!C268=0),\"\",'521A_entry'!C268)","v":""},null,null,null,null,null,null,{"$f":"IF(OR('521A_entry'!D268=\"\",'521A_entry'!D268=0),\"\",'521A_entry'!D268)","v":""},null,{"$f":"IF(OR('521A_entry'!E268=\"\",'521A_entry'!E268=0),\"\",'521A_entry'!E268)","v":""},{"$f":"IF(OR('521A_entry'!F268=\"\",'521A_entry'!F268=0),\"\",'521A_entry'!F268)","v":""},{"$f":"IF(OR('521A_entry'!G268=\"\",'521A_entry'!G268=0),\"\",'521A_entry'!G268)","v":""},null,{"$f":"IF(OR('521A_entry'!H268=\"\",'521A_entry'!H268=0),\"\",'521A_entry'!H268)","v":""}]
[{"$f":"IF(OR('521A_entry'!C269=\"\",'521A_entry'!C269=0),\"\",'521A_entry'!C269)","v":""},null,null,null,null,null,null,{"$f":"IF(OR('521A_entry'!D269=\"\",'521A_entry'!D269=0),\"\",'521A_entry'!D269)","v":""},null,{"$f":"IF(OR('521A_entry'!E269=\"\",'521A_entry'!E269=0),\"\",'521A_entry'!E269)","v":""},{"$f":"IF(OR('521A_entry'!F269=\"\",'521A_entry'!F269=0),\"\",'521A_entry'!F269)","v":""},{"$f":"IF(OR('521A_entry'!G269=\"\",'521A_entry'!G269=0),\"\",'521A_entry'!G269)","v":""},null,{"$f":"IF(OR('521A_entry'!H269=\"\",'521A_entry'!H269=0),\"\",'521A_entry'!H269)","v":""}]
[{"$f":"IF(OR('521A_entry'!C270=\"\",'521A_entry'!C270=0),\"\",'521A_entry'!C270)","v":""},null,null,null,null,null,null,{"$f":"IF(OR('521A_entry'!D270=\"\",'521A_entry'!D270=0),\"\",'521A_entry'!D270)","v":""},null,{"$f":"IF(OR('521A_entry'!E270=\"\",'521A_entry'!E270=0),\"\",'521A_entry'!E270)","v":""},{"$f":"IF(OR('521A_entry'!F270=\"\",'521A_entry'!F270=0),\"\",'521A_entry'!F270)","v":""},{"$f":"IF(OR('521A_entry'!G270=\"\",'521A_entry'!G270=0),\"\",'521A_entry'!G270)","v":""},null,{"$f":"IF(OR('521A_entry'!H270=\"\",'521A_entry'!H270=0),\"\",'521A_entry'!H270)","v":""}]
[{"$f":"IF(OR('521A_entry'!C271=\"\",'521A_entry'!C271=0),\"\",'521A_entry'!C271)","v":""},null,null,null,null,null,null,{"$f":"IF(OR('521A_entry'!D271=\"\",'521A_entry'!D271=0),\"\",'521A_entry'!D271)","v":""},null,{"$f":"IF(OR('521A_entry'!E271=\"\",'521A_entry'!E271=0),\"\",'521A_entry'!E271)","v":""},{"$f":"IF(OR('521A_entry'!F271=\"\",'521A_entry'!F271=0),\"\",'521A_entry'!F271)","v":""},{"$f":"IF(OR('521A_entry'!G271=\"\",'521A_entry'!G271=0),\"\",'521A_entry'!G271)","v":""},null,{"$f":"IF(OR('521A_entry'!H271=\"\",'521A_entry'!H271=0),\"\",'521A_entry'!H271)","v":""}]
[{"$f":"IF(OR('521A_entry'!C272=\"\",'521A_entry'!C272=0),\"\",'521A_entry'!C272)","v":""},null,null,null,null,null,null,{"$f":"IF(OR('521A_entry'!D272=\"\",'521A_entry'!D272=0),\"\",'521A_entry'!D272)","v":""},null,{"$f":"IF(OR('521A_entry'!E272=\"\",'521A_entry'!E272=0),\"\",'521A_entry'!E272)","v":""},{"$f":"IF(OR('521A_entry'!F272=\"\",'521A_entry'!F272=0),\"\",'521A_entry'!F272)","v":""},{"$f":"IF(OR('521A_entry'!G272=\"\",'521A_entry'!G272=0),\"\",'521A_entry'!G272)","v":""},null,{"$f":"IF(OR('521A_entry'!H272=\"\",'521A_entry'!H272=0),\"\",'521A_entry'!H272)","v":""}]
[{"$f":"IF(OR('521A_entry'!C273=\"\",'521A_entry'!C273=0),\"\",'521A_entry'!C273)","v":""},null,null,null,null,null,null,{"$f":"IF(OR('521A_entry'!D273=\"\",'521A_entry'!D273=0),\"\",'521A_entry'!D273)","v":""},null,{"$f":"IF(OR('521A_entry'!E273=\"\",'521A_entry'!E273=0),\"\",'521A_entry'!E273)","v":""},{"$f":"IF(OR('521A_entry'!F273=\"\",'521A_entry'!F273=0),\"\",'521A_entry'!F273)","v":""},{"$f":"IF(OR('521A_entry'!G273=\"\",'521A_entry'!G273=0),\"\",'521A_entry'!G273)","v":""},null,{"$f":"IF(OR('521A_entry'!H273=\"\",'521A_entry'!H273=0),\"\",'521A_entry'!H273)","v":""}]
[{"$f":"IF(OR('521A_entry'!C274=\"\",'521A_entry'!C274=0),\"\",'521A_entry'!C274)","v":""},null,null,null,null,null,null,{"$f":"IF(OR('521A_entry'!D274=\"\",'521A_entry'!D274=0),\"\",'521A_entry'!D274)","v":""},null,{"$f":"IF(OR('521A_entry'!E274=\"\",'521A_entry'!E274=0),\"\",'521A_entry'!E274)","v":""},{"$f":"IF(OR('521A_entry'!F274=\"\",'521A_entry'!F274=0),\"\",'521A_entry'!F274)","v":""},{"$f":"IF(OR('521A_entry'!G274=\"\",'521A_entry'!G274=0),\"\",'521A_entry'!G274)","v":""},null,{"$f":"IF(OR('521A_entry'!H274=\"\",'521A_entry'!H274=0),\"\",'521A_entry'!H274)","v":""}]
[{"$f":"IF(OR('521A_entry'!C275=\"\",'521A_entry'!C275=0),\"\",'521A_entry'!C275)","v":""},null,null,null,null,null,null,{"$f":"IF(OR('521A_entry'!D275=\"\",'521A_entry'!D275=0),\"\",'521A_entry'!D275)","v":""},null,{"$f":"IF(OR('521A_entry'!E275=\"\",'521A_entry'!E275=0),\"\",'521A_entry'!E275)","v":""},{"$f":"IF(OR('521A_entry'!F275=\"\",'521A_entry'!F275=0),\"\",'521A_entry'!F275)","v":""},{"$f":"IF(OR('521A_entry'!G275=\"\",'521A_entry'!G275=0),\"\",'521A_entry'!G275)","v":""},null,{"$f":"IF(OR('521A_entry'!H275=\"\",'521A_entry'!H275=0),\"\",'521A_entry'!H275)","v":""}]
[{"$f":"IF(OR('521A_entry'!C276=\"\",'521A_entry'!C276=0),\"\",'521A_entry'!C276)","v":""},null,null,null,null,null,null,{"$f":"IF(OR('521A_entry'!D276=\"\",'521A_entry'!D276=0),\"\",'521A_entry'!D276)","v":""},null,{"$f":"IF(OR('521A_entry'!E276=\"\",'521A_entry'!E276=0),\"\",'521A_entry'!E276)","v":""},{"$f":"IF(OR('521A_entry'!F276=\"\",'521A_entry'!F276=0),\"\",'521A_entry'!F276)","v":""},{"$f":"IF(OR('521A_entry'!G276=\"\",'521A_entry'!G276=0),\"\",'521A_entry'!G276)","v":""},null,{"$f":"IF(OR('521A_entry'!H276=\"\",'521A_entry'!H276=0),\"\",'521A_entry'!H276)","v":""}]
[{"$f":"IF(OR('521A_entry'!C277=\"\",'521A_entry'!C277=0),\"\",'521A_entry'!C277)","v":""},null,null,null,null,null,null,{"$f":"IF(OR('521A_entry'!D277=\"\",'521A_entry'!D277=0),\"\",'521A_entry'!D277)","v":""},null,{"$f":"IF(OR('521A_entry'!E277=\"\",'521A_entry'!E277=0),\"\",'521A_entry'!E277)","v":""},{"$f":"IF(OR('521A_entry'!F277=\"\",'521A_entry'!F277=0),\"\",'521A_entry'!F277)","v":""},{"$f":"IF(OR('521A_entry'!G277=\"\",'521A_entry'!G277=0),\"\",'521A_entry'!G277)","v":""},null,{"$f":"IF(OR('521A_entry'!H277=\"\",'521A_entry'!H277=0),\"\",'521A_entry'!H277)","v":""}]
[{"$f":"IF(OR('521A_entry'!C278=\"\",'521A_entry'!C278=0),\"\",'521A_entry'!C278)","v":""},null,null,null,null,null,null,{"$f":"IF(OR('521A_entry'!D278=\"\",'521A_entry'!D278=0),\"\",'521A_entry'!D278)","v":""},null,{"$f":"IF(OR('521A_entry'!E278=\"\",'521A_entry'!E278=0),\"\",'521A_entry'!E278)","v":""},{"$f":"IF(OR('521A_entry'!F278=\"\",'521A_entry'!F278=0),\"\",'521A_entry'!F278)","v":""},{"$f":"IF(OR('521A_entry'!G278=\"\",'521A_entry'!G278=0),\"\",'521A_entry'!G278)","v":""},null,{"$f":"IF(OR('521A_entry'!H278=\"\",'521A_entry'!H278=0),\"\",'521A_entry'!H278)","v":""}]
[{"$f":"IF(OR('521A_entry'!C279=\"\",'521A_entry'!C279=0),\"\",'521A_entry'!C279)","v":""},null,null,null,null,null,null,{"$f":"IF(OR('521A_entry'!D279=\"\",'521A_entry'!D279=0),\"\",'521A_entry'!D279)","v":""},null,{"$f":"IF(OR('521A_entry'!E279=\"\",'521A_entry'!E279=0),\"\",'521A_entry'!E279)","v":""},{"$f":"IF(OR('521A_entry'!F279=\"\",'521A_entry'!F279=0),\"\",'521A_entry'!F279)","v":""},{"$f":"IF(OR('521A_entry'!G279=\"\",'521A_entry'!G279=0),\"\",'521A_entry'!G279)","v":""},null,{"$f":"IF(OR('521A_entry'!H279=\"\",'521A_entry'!H279=0),\"\",'521A_entry'!H279)","v":""}]
[{"$f":"IF(OR('521A_entry'!C280=\"\",'521A_entry'!C280=0),\"\",'521A_entry'!C280)","v":""},null,null,null,null,null,null,{"$f":"IF(OR('521A_entry'!D280=\"\",'521A_entry'!D280=0),\"\",'521A_entry'!D280)","v":""},null,{"$f":"IF(OR('521A_entry'!E280=\"\",'521A_entry'!E280=0),\"\",'521A_entry'!E280)","v":""},{"$f":"IF(OR('521A_entry'!F280=\"\",'521A_entry'!F280=0),\"\",'521A_entry'!F280)","v":""},{"$f":"IF(OR('521A_entry'!G280=\"\",'521A_entry'!G280=0),\"\",'521A_entry'!G280)","v":""},null,{"$f":"IF(OR('521A_entry'!H280=\"\",'521A_entry'!H280=0),\"\",'521A_entry'!H280)","v":""}]
["34. Total Expected Revenue from Eligible Yield Based Crops/Commodities (sum amounts in column for Item 33):",null,null,null,null,null,null,null,null,null,null,null,null,{"$f":"IF($Q$6='521A_entry'!$A$146,'521A_entry'!H251,IF($Q$6='521A_entry'!$A$255,'521A_entry'!H360,\"\"))","v":0}]
["SECTION G – ELIGIBLE INVENTORY-BASED CROPS/COMMODITIES"]
["35. Crops/Commodity:",null,null,null,null,null,null,null,null,null,null,null,null,"36. Expected Revenue:"]
[{"$f":"IF(OR('521A_entry'!Q258=\"\",'521A_entry'!Q258=0),\"\",'521A_entry'!Q258)","v":""},null,null,null,null,null,null,null,null,null,null,null,null,{"$f":"IF(OR('521A_entry'!R258=\"\",'521A_entry'!R258=0),\"\",'521A_entry'!R258)","v":""}]
[{"$f":"IF(OR('521A_entry'!Q259=\"\",'521A_entry'!Q259=0),\"\",'521A_entry'!Q259)","v":""},null,null,null,null,null,null,null,null,null,null,null,null,{"$f":"IF(OR('521A_entry'!R259=\"\",'521A_entry'!R259=0),\"\",'521A_entry'!R259)","v":""}]
[{"$f":"IF(OR('521A_entry'!Q260=\"\",'521A_entry'!Q260=0),\"\",'521A_entry'!Q260)","v":""},null,null,null,null,null,null,null,null,null,null,null,null,{"$f":"IF(OR('521A_entry'!R260=\"\",'521A_entry'!R260=0),\"\",'521A_entry'!R260)","v":""}]
[{"$f":"IF(OR('521A_entry'!Q261=\"\",'521A_entry'!Q261=0),\"\",'521A_entry'!Q261)","v":""},null,null,null,null,null,null,null,null,null,null,null,null,{"$f":"IF(OR('521A_entry'!R261=\"\",'521A_entry'!R261=0),\"\",'521A_entry'!R261)","v":""}]
[{"$f":"IF(OR('521A_entry'!Q262=\"\",'521A_entry'!Q262=0),\"\",'521A_entry'!Q262)","v":""},null,null,null,null,null,null,null,null,null,null,null,null,{"$f":"IF(OR('521A_entry'!R262=\"\",'521A_entry'!R262=0),\"\",'521A_entry'!R262)","v":""}]
[{"$f":"IF(OR('521A_entry'!Q263=\"\",'521A_entry'!Q263=0),\"\",'521A_entry'!Q263)","v":""},null,null,null,null,null,null,null,null,null,null,null,null,{"$f":"IF(OR('521A_entry'!R263=\"\",'521A_entry'!R263=0),\"\",'521A_entry'!R263)","v":""}]
[{"$f":"IF(OR('521A_entry'!Q264=\"\",'521A_entry'!Q264=0),\"\",'521A_entry'!Q264)","v":""},null,null,null,null,null,null,null,null,null,null,null,null,{"$f":"IF(OR('521A_entry'!R264=\"\",'521A_entry'!R264=0),\"\",'521A_entry'!R264)","v":""}]
[{"$f":"IF(OR('521A_entry'!Q265=\"\",'521A_entry'!Q265=0),\"\",'521A_entry'!Q265)","v":""},null,null,null,null,null,null,null,null,null,null,null,null,{"$f":"IF(OR('521A_entry'!R265=\"\",'521A_entry'!R265=0),\"\",'521A_entry'!R265)","v":""},null,null,null,4]
["37. Total Expected Revenue from Eligible Inventory Based Crops/Commodities (sum amounts in column for Item 36):",null,null,null,null,null,null,null,null,null,null,null,null,{"$f":"IF($Q$6='521A_entry'!$A$146,'521A_entry'!R251,IF($Q$6='521A_entry'!$A$255,'521A_entry'!R360,\"\"))","v":0}]
["FSA-521-A (01-23-2023)",null,null,null,null,"1.  Applicant Name",null,null,null,null,null,null,null,"2.  Application Number:"]
[{"$f":"\"Page 3 of \"&$R$3","v":"Page 3 of 4"},null,null,null,null,{"$f":"IF(K3=\"\",\"\",K3)","v":""}]
["SECTION H – TOTAL EXPECTED ALLOWABLE DISASTER YEAR REVENUE"]
["38. Total Expected Allowable Disaster Year Revenue from Eligible Value-Added Commodities (total from Item 27):",null,null,null,null,null,null,null,null,null,null,null,null,{"$f":"IF('521A_entry'!AE12=\"\",\"\",'521A_entry'!AE12)","v":""}]
["39. Total Expected Allowable Disaster Year Revenue from Eligible Yield-Based Crops/Commodities (total from Item 34):",null,null,null,null,null,null,null,null,null,null,null,null,{"$f":"IF('521A_entry'!AE13=\"\",\"\",'521A_entry'!AE13)","v":""}]
["40. Total Expected Allowable Disaster Year Revenue from Eligible Inventory-Based Crops/Commodities (total from Item 37):",null,null,null,null,null,null,null,null,null,null,null,null,{"$f":"IF('521A_entry'!AE14=\"\",\"\",'521A_entry'!AE14)","v":""}]
["41. Total Expected Allowable Disaster Year Revenue (sum Items 38 through 41):",null,null,null,null,null,null,null,null,null,null,null,null,{"$f":"IF('521A_entry'!AE15=\"\",\"\",'521A_entry'!AE15)","v":""}]
["SECTION I – TOTAL ADJUSTED BENCHMARK YEAR REVENUE FROM DECREASED OPERATING CAPACITY"]
["42. Total Actual Allowable Benchmark Year Revenue (total from Item 16)",null,null,null,null,null,null,null,null,null,null,null,null,{"$f":"IF('521A_entry'!AE17=\"\",\"\",'521A_entry'!AE17)","v":""}]
["43. Total Expected Decreased Revenue from Eligible Value-Added Commodities (total from Item 27):",null,null,null,null,null,null,null,null,null,null,null,null,{"$f":"IF('521A_entry'!AE18=\"\",\"\",'521A_entry'!AE18)","v":""}]
["44. Total Expected Decreased Revenue from Eligible Yield-Based Crops/Commodities (total from Item 34):",null,null,null,null,null,null,null,null,null,null,null,null,{"$f":"IF('521A_entry'!AE19=\"\",\"\",'521A_entry'!AE19)","v":""}]
["45. Total Expected Decreased Revenue from Eligible Inventory-Based Crops/Commodities (total from Item 37):",null,null,null,null,null,null,null,null,null,null,null,null,{"$f":"IF('521A_entry'!AE20=\"\",\"\",'521A_entry'!AE20)","v":""}]
["46. Total Adjusted Benchmark Year Revenue from Decreased Operating Capacity (subtract Items 43 through 45 from Item 42):",null,null,null,null,null,null,null,null,null,null,null,null,{"$f":"IF('521A_entry'!AE21=\"\",\"\",'521A_entry'!AE21)","v":""}]
["SECTION J – TOTAL ADJUSTED BENCHMARK YEAR REVENUE FROM INCREASED OPERATING CAPACITY"]
["47. Total Actual Allowable Benchmark Year Revenue (total from Item 16)",null,null,null,null,null,null,null,null,null,null,null,null,{"$f":"IF('521A_entry'!AE23=\"\",\"\",'521A_entry'!AE23)","v":""}]
["48. Total Expected Increased Revenue from Eligible Value-Added Commodities (total from Item 27):",null,null,null,null,null,null,null,null,null,null,null,null,{"$f":"IF('521A_entry'!AE24=\"\",\"\",'521A_entry'!AE24)","v":""}]
["49. Total Expected Increased Revenue from Eligible Yield-Based Crops/Commodities (total from Item 34):",null,null,null,null,null,null,null,null,null,null,null,null,{"$f":"IF('521A_entry'!AE25=\"\",\"\",'521A_entry'!AE25)","v":""}]
["50. Total Expected Increased Revenue from Eligible Inventory-Based Crops/Commodities (total from Item 37):",null,null,null,null,null,null,null,null,null,null,null,null,{"$f":"IF('521A_entry'!AE26=\"\",\"\",'521A_entry'!AE26)","v":""}]
["51. Total Adjusted Benchmark Year Revenue from Increased Operating Capacity (sum Items 47 through Item 50):",null,null,null,null,null,null,null,null,null,null,null,null,{"$f":"IF('521A_entry'!AE27=\"\",\"\",'521A_entry'!AE27)","v":""}]
["SECTION K – TOTAL ALLOWABLE BENCHMARK YEAR AND ALLOWABLE DISASTER YEAR REVENUE"]
["52. Total Allowable Benchmark Year Revenue (total from either Item 16, Item 41, Item 46, or Item 51):",null,null,null,null,null,null,null,null,null,null,null,null,{"$f":"IF('521A_entry'!AE29=\"\",\"\",'521A_entry'!AE29)","v":""},null,null,null,4]
["53. Total Allowable Disaster Year Revenue (total from Item 24):",null,null,null,null,null,null,null,null,null,null,null,null,{"$f":"IF('521A_entry'!AE30=\"\",\"\",'521A_entry'!AE30)","v":""}]
["FSA-521-A (01-23-2023)",null,null,null,null,"1.  Applicant Name",null,null,null,null,null,null,null,"2.  Application Number:"]
[{"$f":"\"Page 5 of \"&$R$3","v":"Page 5 of 4"},null,null,null,null,{"$f":"IF(K3=\"\",\"\",K3)","v":""}]
["SECTION E – ELIGIBLE VALUE-ADDED COMMODITIES"]
["25. Commodity:",null,null,null,null,null,null,null,null,null,null,null,null,"26. Expected Revenue:",null,null,null,{"$f":"IF(AND(A113=\"\",N113=\"\"),0,5)","v":0}]
[{"$f":"IF(OR('521A_entry'!L263=\"\",'521A_entry'!L263=0),\"\",'521A_entry'!L263)","v":""},null,null,null,null,null,null,null,null,null,null,null,null,{"$f":"IF(OR('521A_entry'!M263=\"\",'521A_entry'!M263=0),\"\",'521A_entry'!M263)","v":""}]
[{"$f":"IF(OR('521A_entry'!L264=\"\",'521A_entry'!L264=0),\"\",'521A_entry'!L264)","v":""},null,null,null,null,null,null,null,null,null,null,null,null,{"$f":"IF(OR('521A_entry'!M264=\"\",'521A_entry'!M264=0),\"\",'521A_entry'!M264)","v":""}]
[{"$f":"IF(OR('521A_entry'!L265=\"\",'521A_entry'!L265=0),\"\",'521A_entry'!L265)","v":""},null,null,null,null,null,null,null,null,null,null,null,null,{"$f":"IF(OR('521A_entry'!M265=\"\",'521A_entry'!M265=0),\"\",'521A_entry'!M265)","v":""}]
[{"$f":"IF(OR('521A_entry'!L266=\"\",'521A_entry'!L266=0),\"\",'521A_entry'!L266)","v":""},null,null,null,null,null,null,null,null,null,null,null,null,{"$f":"IF(OR('521A_entry'!M266=\"\",'521A_entry'!M266=0),\"\",'521A_entry'!M266)","v":""}]
[{"$f":"IF(OR('521A_entry'!L267=\"\",'521A_entry'!L267=0),\"\",'521A_entry'!L267)","v":""},null,null,null,null,null,null,null,null,null,null,null,null,{"$f":"IF(OR('521A_entry'!M267=\"\",'521A_entry'!M267=0),\"\",'521A_entry'!M267)","v":""}]
["27. Total Expected Revenue from Eligible Value Added Commodities (sum amounts in column for Item 26):",null,null,null,null,null,null,null,null,null,null,null,null,{"$f":"$N$49","v":0}]
["SECTION F – ELIGIBLE YIELD-BASED CROPS/COMMODITIES"]
["28. Crop/Commodity:",null,null,null,null,null,null,"29. Expected Acres:",null,"30. Expected Yield:\nPer Acre","31. Unit of Measure:","32. Expected Price:\n(Per Unit)",null,"33.  Expected Revenue:",null,null,null,{"$f":"IF(AND(A121=\"\",N121=\"\"),0,5)","v":0}]
[{"$f":"IF(OR('521A_entry'!C281=\"\",'521A_entry'!C281=0),\"\",'521A_entry'!C281)","v":""},null,null,null,null,null,null,{"$f":"IF(OR('521A_entry'!D281=\"\",'521A_entry'!D281=0),\"\",'521A_entry'!D281)","v":""},null,{"$f":"IF(OR('521A_entry'!E281=\"\",'521A_entry'!E281=0),\"\",'521A_entry'!E281)","v":""},{"$f":"IF(OR('521A_entry'!F281=\"\",'521A_entry'!F281=0),\"\",'521A_entry'!F281)","v":""},{"$f":"IF(OR('521A_entry'!G281=\"\",'521A_entry'!G281=0),\"\",'521A_entry'!G281)","v":""},null,{"$f":"IF(OR('521A_entry'!H281=\"\",'521A_entry'!H281=0),\"\",'521A_entry'!H281)","v":""}]
[{"$f":"IF(OR('521A_entry'!C282=\"\",'521A_entry'!C282=0),\"\",'521A_entry'!C282)","v":""},null,null,null,null,null,null,{"$f":"IF(OR('521A_entry'!D282=\"\",'521A_entry'!D282=0),\"\",'521A_entry'!D282)","v":""},null,{"$f":"IF(OR('521A_entry'!E282=\"\",'521A_entry'!E282=0),\"\",'521A_entry'!E282)","v":""},{"$f":"IF(OR('521A_entry'!F282=\"\",'521A_entry'!F282=0),\"\",'521A_entry'!F282)","v":""},{"$f":"IF(OR('521A_entry'!G282=\"\",'521A_entry'!G282=0),\"\",'521A_entry'!G282)","v":""},null,{"$f":"IF(OR('521A_entry'!H282=\"\",'521A_entry'!H282=0),\"\",'521A_entry'!H282)","v":""}]
[{"$f":"IF(OR('521A_entry'!C283=\"\",'521A_entry'!C283=0),\"\",'521A_entry'!C283)","v":""},null,null,null,null,null,null,{"$f":"IF(OR('521A_entry'!D283=\"\",'521A_entry'!D283=0),\"\",'521A_entry'!D283)","v":""},null,{"$f":"IF(OR('521A_entry'!E283=\"\",'521A_entry'!E283=0),\"\",'521A_entry'!E283)","v":""},{"$f":"IF(OR('521A_entry'!F283=\"\",'521A_entry'!F283=0),\"\",'521A_entry'!F283)","v":""},{"$f":"IF(OR('521A_entry'!G283=\"\",'521A_entry'!G283=0),\"\",'521A_entry'!G283)","v":""},null,{"$f":"IF(OR('521A_entry'!H283=\"\",'521A_entry'!H283=0),\"\",'521A_entry'!H283)","v":""}]
[{"$f":"IF(OR('521A_entry'!C284=\"\",'521A_entry'!C284=0),\"\",'521A_entry'!C284)","v":""},null,null,null,null,null,null,{"$f":"IF(OR('521A_entry'!D284=\"\",'521A_entry'!D284=0),\"\",'521A_entry'!D284)","v":""},null,{"$f":"IF(OR('521A_entry'!E284=\"\",'521A_entry'!E284=0),\"\",'521A_entry'!E284)","v":""},{"$f":"IF(OR('521A_entry'!F284=\"\",'521A_entry'!F284=0),\"\",'521A_entry'!F284)","v":""},{"$f":"IF(OR('521A_entry'!G284=\"\",'521A_entry'!G284=0),\"\",'521A_entry'!G284)","v":""},null,{"$f":"IF(OR('521A_entry'!H284=\"\",'521A_entry'!H284=0),\"\",'521A_entry'!H284)","v":""}]
[{"$f":"IF(OR('521A_entry'!C285=\"\",'521A_entry'!C285=0),\"\",'521A_entry'!C285)","v":""},null,null,null,null,null,null,{"$f":"IF(OR('521A_entry'!D285=\"\",'521A_entry'!D285=0),\"\",'521A_entry'!D285)","v":""},null,{"$f":"IF(OR('521A_entry'!E285=\"\",'521A_entry'!E285=0),\"\",'521A_entry'!E285)","v":""},{"$f":"IF(OR('521A_entry'!F285=\"\",'521A_entry'!F285=0),\"\",'521A_entry'!F285)","v":""},{"$f":"IF(OR('521A_entry'!G285=\"\",'521A_entry'!G285=0),\"\",'521A_entry'!G285)","v":""},null,{"$f":"IF(OR('521A_entry'!H285=\"\",'521A_entry'!H285=0),\"\",'521A_entry'!H285)","v":""}]
[{"$f":"IF(OR('521A_entry'!C286=\"\",'521A_entry'!C286=0),\"\",'521A_entry'!C286)","v":""},null,null,null,null,null,null,{"$f":"IF(OR('521A_entry'!D286=\"\",'521A_entry'!D286=0),\"\",'521A_entry'!D286)","v":""},null,{"$f":"IF(OR('521A_entry'!E286=\"\",'521A_entry'!E286=0),\"\",'521A_entry'!E286)","v":""},{"$f":"IF(OR('521A_entry'!F286=\"\",'521A_entry'!F286=0),\"\",'521A_entry'!F286)","v":""},{"$f":"IF(OR('521A_entry'!G286=\"\",'521A_entry'!G286=0),\"\",'521A_entry'!G286)","v":""},null,{"$f":"IF(OR('521A_entry'!H286=\"\",'521A_entry'!H286=0),\"\",'521A_entry'!H286)","v":""}]
[{"$f":"IF(OR('521A_entry'!C287=\"\",'521A_entry'!C287=0),\"\",'521A_entry'!C287)","v":""},null,null,null,null,null,null,{"$f":"IF(OR('521A_entry'!D287=\"\",'521A_entry'!D287=0),\"\",'521A_entry'!D287)","v":""},null,{"$f":"IF(OR('521A_entry'!E287=\"\",'521A_entry'!E287=0),\"\",'521A_entry'!E287)","v":""},{"$f":"IF(OR('521A_entry'!F287=\"\",'521A_entry'!F287=0),\"\",'521A_entry'!F287)","v":""},{"$f":"IF(OR('521A_entry'!G287=\"\",'521A_entry'!G287=0),\"\",'521A_entry'!G287)","v":""},null,{"$f":"IF(OR('521A_entry'!H287=\"\",'521A_entry'!H287=0),\"\",'521A_entry'!H287)","v":""}]
[{"$f":"IF(OR('521A_entry'!C288=\"\",'521A_entry'!C288=0),\"\",'521A_entry'!C288)","v":""},null,null,null,null,null,null,{"$f":"IF(OR('521A_entry'!D288=\"\",'521A_entry'!D288=0),\"\",'521A_entry'!D288)","v":""},null,{"$f":"IF(OR('521A_entry'!E288=\"\",'521A_entry'!E288=0),\"\",'521A_entry'!E288)","v":""},{"$f":"IF(OR('521A_entry'!F288=\"\",'521A_entry'!F288=0),\"\",'521A_entry'!F288)","v":""},{"$f":"IF(OR('521A_entry'!G288=\"\",'521A_entry'!G288=0),\"\",'521A_entry'!G288)","v":""},null,{"$f":"IF(OR('521A_entry'!H288=\"\",'521A_entry'!H288=0),\"\",'521A_entry'!H288)","v":""}]
[{"$f":"IF(OR('521A_entry'!C289=\"\",'521A_entry'!C289=0),\"\",'521A_entry'!C289)","v":""},null,null,null,null,null,null,{"$f":"IF(OR('521A_entry'!D289=\"\",'521A_entry'!D289=0),\"\",'521A_entry'!D289)","v":""},null,{"$f":"IF(OR('521A_entry'!E289=\"\",'521A_entry'!E289=0),\"\",'521A_entry'!E289)","v":""},{"$f":"IF(OR('521A_entry'!F289=\"\",'521A_entry'!F289=0),\"\",'521A_entry'!F289)","v":""},{"$f":"IF(OR('521A_entry'!G289=\"\",'521A_entry'!G289=0),\"\",'521A_entry'!G289)","v":""},null,{"$f":"IF(OR('521A_entry'!H289=\"\",'521A_entry'!H289=0),\"\",'521A_entry'!H289)","v":""}]
[{"$f":"IF(OR('521A_entry'!C290=\"\",'521A_entry'!C290=0),\"\",'521A_entry'!C290)","v":""},null,null,null,null,null,null,{"$f":"IF(OR('521A_entry'!D290=\"\",'521A_entry'!D290=0),\"\",'521A_entry'!D290)","v":""},null,{"$f":"IF(OR('521A_entry'!E290=\"\",'521A_entry'!E290=0),\"\",'521A_entry'!E290)","v":""},{"$f":"IF(OR('521A_entry'!F290=\"\",'521A_entry'!F290=0),\"\",'521A_entry'!F290)","v":""},{"$f":"IF(OR('521A_entry'!G290=\"\",'521A_entry'!G290=0),\"\",'521A_entry'!G290)","v":""},null,{"$f":"IF(OR('521A_entry'!H290=\"\",'521A_entry'!H290=0),\"\",'521A_entry'!H290)","v":""}]
[{"$f":"IF(OR('521A_entry'!C291=\"\",'521A_entry'!C291=0),\"\",'521A_entry'!C291)","v":""},null,null,null,null,null,null,{"$f":"IF(OR('521A_entry'!D291=\"\",'521A_entry'!D291=0),\"\",'521A_entry'!D291)","v":""},null,{"$f":"IF(OR('521A_entry'!E291=\"\",'521A_entry'!E291=0),\"\",'521A_entry'!E291)","v":""},{"$f":"IF(OR('521A_entry'!F291=\"\",'521A_entry'!F291=0),\"\",'521A_entry'!F291)","v":""},{"$f":"IF(OR('521A_entry'!G291=\"\",'521A_entry'!G291=0),\"\",'521A_entry'!G291)","v":""},null,{"$f":"IF(OR('521A_entry'!H291=\"\",'521A_entry'!H291=0),\"\",'521A_entry'!H291)","v":""}]
[{"$f":"IF(OR('521A_entry'!C292=\"\",'521A_entry'!C292=0),\"\",'521A_entry'!C292)","v":""},null,null,null,null,null,null,{"$f":"IF(OR('521A_entry'!D292=\"\",'521A_entry'!D292=0),\"\",'521A_entry'!D292)","v":""},null,{"$f":"IF(OR('521A_entry'!E292=\"\",'521A_entry'!E292=0),\"\",'521A_entry'!E292)","v":""},{"$f":"IF(OR('521A_entry'!F292=\"\",'521A_entry'!F292=0),\"\",'521A_entry'!F292)","v":""},{"$f":"IF(OR('521A_entry'!G292=\"\",'521A_entry'!G292=0),\"\",'521A_entry'!G292)","v":""},null,{"$f":"IF(OR('521A_entry'!H292=\"\",'521A_entry'!H292=0),\"\",'521A_entry'!H292)","v":""}]
[{"$f":"IF(OR('521A_entry'!C293=\"\",'521A_entry'!C293=0),\"\",'521A_entry'!C293)","v":""},null,null,null,null,null,null,{"$f":"IF(OR('521A_entry'!D293=\"\",'521A_entry'!D293=0),\"\",'521A_entry'!D293)","v":""},null,{"$f":"IF(OR('521A_entry'!E293=\"\",'521A_entry'!E293=0),\"\",'521A_entry'!E293)","v":""},{"$f":"IF(OR('521A_entry'!F293=\"\",'521A_entry'!F293=0),\"\",'521A_entry'!F293)","v":""},{"$f":"IF(OR('521A_entry'!G293=\"\",'521A_entry'!G293=0),\"\",'521A_entry'!G293)","v":""},null,{"$f":"IF(OR('521A_entry'!H293=\"\",'521A_entry'!H293=0),\"\",'521A_entry'!H293)","v":""}]
[{"$f":"IF(OR('521A_entry'!C294=\"\",'521A_entry'!C294=0),\"\",'521A_entry'!C294)","v":""},null,null,null,null,null,null,{"$f":"IF(OR('521A_entry'!D294=\"\",'521A_entry'!D294=0),\"\",'521A_entry'!D294)","v":""},null,{"$f":"IF(OR('521A_entry'!E294=\"\",'521A_entry'!E294=0),\"\",'521A_entry'!E294)","v":""},{"$f":"IF(OR('521A_entry'!F294=\"\",'521A_entry'!F294=0),\"\",'521A_entry'!F294)","v":""},{"$f":"IF(OR('521A_entry'!G294=\"\",'521A_entry'!G294=0),\"\",'521A_entry'!G294)","v":""},null,{"$f":"IF(OR('521A_entry'!H294=\"\",'521A_entry'!H294=0),\"\",'521A_entry'!H294)","v":""}]
[{"$f":"IF(OR('521A_entry'!C295=\"\",'521A_entry'!C295=0),\"\",'521A_entry'!C295)","v":""},null,null,null,null,null,null,{"$f":"IF(OR('521A_entry'!D295=\"\",'521A_entry'!D295=0),\"\",'521A_entry'!D295)","v":""},null,{"$f":"IF(OR('521A_entry'!E295=\"\",'521A_entry'!E295=0),\"\",'521A_entry'!E295)","v":""},{"$f":"IF(OR('521A_entry'!F295=\"\",'521A_entry'!F295=0),\"\",'521A_entry'!F295)","v":""},{"$f":"IF(OR('521A_entry'!G295=\"\",'521A_entry'!G295=0),\"\",'521A_entry'!G295)","v":""},null,{"$f":"IF(OR('521A_entry'!H295=\"\",'521A_entry'!H295=0),\"\",'521A_entry'!H295)","v":""}]
[{"$f":"IF(OR('521A_entry'!C296=\"\",'521A_entry'!C296=0),\"\",'521A_entry'!C296)","v":""},null,null,null,null,null,null,{"$f":"IF(OR('521A_entry'!D296=\"\",'521A_entry'!D296=0),\"\",'521A_entry'!D296)","v":""},null,{"$f":"IF(OR('521A_entry'!E296=\"\",'521A_entry'!E296=0),\"\",'521A_entry'!E296)","v":""},{"$f":"IF(OR('521A_entry'!F296=\"\",'521A_entry'!F296=0),\"\",'521A_entry'!F296)","v":""},{"$f":"IF(OR('521A_entry'!G296=\"\",'521A_entry'!G296=0),\"\",'521A_entry'!G296)","v":""},null,{"$f":"IF(OR('521A_entry'!H296=\"\",'521A_entry'!H296=0),\"\",'521A_entry'!H296)","v":""}]
[{"$f":"IF(OR('521A_entry'!C297=\"\",'521A_entry'!C297=0),\"\",'521A_entry'!C297)","v":""},null,null,null,null,null,null,{"$f":"IF(OR('521A_entry'!D297=\"\",'521A_entry'!D297=0),\"\",'521A_entry'!D297)","v":""},null,{"$f":"IF(OR('521A_entry'!E297=\"\",'521A_entry'!E297=0),\"\",'521A_entry'!E297)","v":""},{"$f":"IF(OR('521A_entry'!F297=\"\",'521A_entry'!F297=0),\"\",'521A_entry'!F297)","v":""},{"$f":"IF(OR('521A_entry'!G297=\"\",'521A_entry'!G297=0),\"\",'521A_entry'!G297)","v":""},null,{"$f":"IF(OR('521A_entry'!H297=\"\",'521A_entry'!H297=0),\"\",'521A_entry'!H297)","v":""}]
[{"$f":"IF(OR('521A_entry'!C298=\"\",'521A_entry'!C298=0),\"\",'521A_entry'!C298)","v":""},null,null,null,null,null,null,{"$f":"IF(OR('521A_entry'!D298=\"\",'521A_entry'!D298=0),\"\",'521A_entry'!D298)","v":""},null,{"$f":"IF(OR('521A_entry'!E298=\"\",'521A_entry'!E298=0),\"\",'521A_entry'!E298)","v":""},{"$f":"IF(OR('521A_entry'!F298=\"\",'521A_entry'!F298=0),\"\",'521A_entry'!F298)","v":""},{"$f":"IF(OR('521A_entry'!G298=\"\",'521A_entry'!G298=0),\"\",'521A_entry'!G298)","v":""},null,{"$f":"IF(OR('521A_entry'!H298=\"\",'521A_entry'!H298=0),\"\",'521A_entry'!H298)","v":""}]
[{"$f":"IF(OR('521A_entry'!C299=\"\",'521A_entry'!C299=0),\"\",'521A_entry'!C299)","v":""},null,null,null,null,null,null,{"$f":"IF(OR('521A_entry'!D299=\"\",'521A_entry'!D299=0),\"\",'521A_entry'!D299)","v":""},null,{"$f":"IF(OR('521A_entry'!E299=\"\",'521A_entry'!E299=0),\"\",'521A_entry'!E299)","v":""},{"$f":"IF(OR('521A_entry'!F299=\"\",'521A_entry'!F299=0),\"\",'521A_entry'!F299)","v":""},{"$f":"IF(OR('521A_entry'!G299=\"\",'521A_entry'!G299=0),\"\",'521A_entry'!G299)","v":""},null,{"$f":"IF(OR('521A_entry'!H299=\"\",'521A_entry'!H299=0),\"\",'521A_entry'!H299)","v":""}]
[{"$f":"IF(OR('521A_entry'!C300=\"\",'521A_entry'!C300=0),\"\",'521A_entry'!C300)","v":""},null,null,null,null,null,null,{"$f":"IF(OR('521A_entry'!D300=\"\",'521A_entry'!D300=0),\"\",'521A_entry'!D300)","v":""},null,{"$f":"IF(OR('521A_entry'!E300=\"\",'521A_entry'!E300=0),\"\",'521A_entry'!E300)","v":""},{"$f":"IF(OR('521A_entry'!F300=\"\",'521A_entry'!F300=0),\"\",'521A_entry'!F300)","v":""},{"$f":"IF(OR('521A_entry'!G300=\"\",'521A_entry'!G300=0),\"\",'521A_entry'!G300)","v":""},null,{"$f":"IF(OR('521A_entry'!H300=\"\",'521A_entry'!H300=0),\"\",'521A_entry'!H300)","v":""}]
[{"$f":"IF(OR('521A_entry'!C301=\"\",'521A_entry'!C301=0),\"\",'521A_entry'!C301)","v":""},null,null,null,null,null,null,{"$f":"IF(OR('521A_entry'!D301=\"\",'521A_entry'!D301=0),\"\",'521A_entry'!D301)","v":""},null,{"$f":"IF(OR('521A_entry'!E301=\"\",'521A_entry'!E301=0),\"\",'521A_entry'!E301)","v":""},{"$f":"IF(OR('521A_entry'!F301=\"\",'521A_entry'!F301=0),\"\",'521A_entry'!F301)","v":""},{"$f":"IF(OR('521A_entry'!G301=\"\",'521A_entry'!G301=0),\"\",'521A_entry'!G301)","v":""},null,{"$f":"IF(OR('521A_entry'!H301=\"\",'521A_entry'!H301=0),\"\",'521A_entry'!H301)","v":""}]
[{"$f":"IF(OR('521A_entry'!C302=\"\",'521A_entry'!C302=0),\"\",'521A_entry'!C302)","v":""},null,null,null,null,null,null,{"$f":"IF(OR('521A_entry'!D302=\"\",'521A_entry'!D302=0),\"\",'521A_entry'!D302)","v":""},null,{"$f":"IF(OR('521A_entry'!E302=\"\",'521A_entry'!E302=0),\"\",'521A_entry'!E302)","v":""},{"$f":"IF(OR('521A_entry'!F302=\"\",'521A_entry'!F302=0),\"\",'521A_entry'!F302)","v":""},{"$f":"IF(OR('521A_entry'!G302=\"\",'521A_entry'!G302=0),\"\",'521A_entry'!G302)","v":""},null,{"$f":"IF(OR('521A_entry'!H302=\"\",'521A_entry'!H302=0),\"\",'521A_entry'!H302)","v":""}]
[{"$f":"IF(OR('521A_entry'!C303=\"\",'521A_entry'!C303=0),\"\",'521A_entry'!C303)","v":""},null,null,null,null,null,null,{"$f":"IF(OR('521A_entry'!D303=\"\",'521A_entry'!D303=0),\"\",'521A_entry'!D303)","v":""},null,{"$f":"IF(OR('521A_entry'!E303=\"\",'521A_entry'!E303=0),\"\",'521A_entry'!E303)","v":""},{"$f":"IF(OR('521A_entry'!F303=\"\",'521A_entry'!F303=0),\"\",'521A_entry'!F303)","v":""},{"$f":"IF(OR('521A_entry'!G303=\"\",'521A_entry'!G303=0),\"\",'521A_entry'!G303)","v":""},null,{"$f":"IF(OR('521A_entry'!H303=\"\",'521A_entry'!H303=0),\"\",'521A_entry'!H303)","v":""}]
["34. Total Expected Revenue from Eligible Yield Based Crops/Commodities (sum amounts in column for Item 33):",null,null,null,null,null,null,null,null,null,null,null,null,{"$f":"$N$75","v":0}]
["SECTION G – ELIGIBLE INVENTORY-BASED CROPS/COMMODITIES"]
["35. Crops/Commodity:",null,null,null,null,null,null,null,null,null,null,null,null,"36. Expected Revenue:",null,null,null,{"$f":"IF(AND(A147=\"\",N147=\"\"),0,5)","v":0}]
[{"$f":"IF(OR('521A_entry'!Q266=\"\",'521A_entry'!Q266=0),\"\",'521A_entry'!Q266)","v":""},null,null,null,null,null,null,null,null,null,null,null,null,{"$f":"IF(OR('521A_entry'!R266=\"\",'521A_entry'!R266=0),\"\",'521A_entry'!R266)","v":""}]
[{"$f":"IF(OR('521A_entry'!Q267=\"\",'521A_entry'!Q267=0),\"\",'521A_entry'!Q267)","v":""},null,null,null,null,null,null,null,null,null,null,null,null,{"$f":"IF(OR('521A_entry'!R267=\"\",'521A_entry'!R267=0),\"\",'521A_entry'!R267)","v":""}]
[{"$f":"IF(OR('521A_entry'!Q268=\"\",'521A_entry'!Q268=0),\"\",'521A_entry'!Q268)","v":""},null,null,null,null,null,null,null,null,null,null,null,null,{"$f":"IF(OR('521A_entry'!R268=\"\",'521A_entry'!R268=0),\"\",'521A_entry'!R268)","v":""}]
[{"$f":"IF(OR('521A_entry'!Q269=\"\",'521A_entry'!Q269=0),\"\",'521A_entry'!Q269)","v":""},null,null,null,null,null,null,null,null,null,null,null,null,{"$f":"IF(OR('521A_entry'!R269=\"\",'521A_entry'!R269=0),\"\",'521A_entry'!R269)","v":""}]
[{"$f":"IF(OR('521A_entry'!Q270=\"\",'521A_entry'!Q270=0),\"\",'521A_entry'!Q270)","v":""},null,null,null,null,null,null,null,null,null,null,null,null,{"$f":"IF(OR('521A_entry'!R270=\"\",'521A_entry'!R270=0),\"\",'521A_entry'!R270)","v":""}]
[{"$f":"IF(OR('521A_entry'!Q271=\"\",'521A_entry'!Q271=0),\"\",'521A_entry'!Q271)","v":""},null,null,null,null,null,null,null,null,null,null,null,null,{"$f":"IF(OR('521A_entry'!R271=\"\",'521A_entry'!R271=0),\"\",'521A_entry'!R271)","v":""}]
[{"$f":"IF(OR('521A_entry'!Q272=\"\",'521A_entry'!Q272=0),\"\",'521A_entry'!Q272)","v":""},null,null,null,null,null,null,null,null,null,null,null,null,{"$f":"IF(OR('521A_entry'!R272=\"\",'521A_entry'!R272=0),\"\",'521A_entry'!R272)","v":""}]
[{"$f":"IF(OR('521A_entry'!Q273=\"\",'521A_entry'!Q273=0),\"\",'521A_entry'!Q273)","v":""},null,null,null,null,null,null,null,null,null,null,null,null,{"$f":"IF(OR('521A_entry'!R273=\"\",'521A_entry'!R273=0),\"\",'521A_entry'!R273)","v":""}]
["37. Total Expected Revenue from Eligible Inventory Based Crops/Commodities (sum amounts in column for Item 36):",null,null,null,null,null,null,null,null,null,null,null,null,{"$f":"$N$86","v":0}]
["FSA-521-A (01-23-2023)",null,null,null,null,"1.  Applicant Name",null,null,null,null,null,null,null,"2.  Application Number:"]
[{"$f":"\"Page 6 of \"&$R$3","v":"Page 6 of 4"},null,null,null,null,{"$f":"IF(K3=\"\",\"\",K3)","v":""}]
["SECTION E – ELIGIBLE VALUE-ADDED COMMODITIES"]
["25. Commodity:",null,null,null,null,null,null,null,null,null,null,null,null,"26. Expected Revenue:",null,null,null,{"$f":"IF(AND(A160=\"\",N160=\"\"),0,6)","v":0}]
[{"$f":"IF(OR('521A_entry'!L268=\"\",'521A_entry'!L268=0),\"\",'521A_entry'!L268)","v":""},null,null,null,null,null,null,null,null,null,null,null,null,{"$f":"IF(OR('521A_entry'!M268=\"\",'521A_entry'!M268=0),\"\",'521A_entry'!M268)","v":""}]
[{"$f":"IF(OR('521A_entry'!L269=\"\",'521A_entry'!L269=0),\"\",'521A_entry'!L269)","v":""},null,null,null,null,null,null,null,null,null,null,null,null,{"$f":"IF(OR('521A_entry'!M269=\"\",'521A_entry'!M269=0),\"\",'521A_entry'!M269)","v":""}]
[{"$f":"IF(OR('521A_entry'!L270=\"\",'521A_entry'!L270=0),\"\",'521A_entry'!L270)","v":""},null,null,null,null,null,null,null,null,null,null,null,null,{"$f":"IF(OR('521A_entry'!M270=\"\",'521A_entry'!M270=0),\"\",'521A_entry'!M270)","v":""}]
[{"$f":"IF(OR('521A_entry'!L271=\"\",'521A_entry'!L271=0),\"\",'521A_entry'!L271)","v":""},null,null,null,null,null,null,null,null,null,null,null,null,{"$f":"IF(OR('521A_entry'!M271=\"\",'521A_entry'!M271=0),\"\",'521A_entry'!M271)","v":""}]
[{"$f":"IF(OR('521A_entry'!L272=\"\",'521A_entry'!L272=0),\"\",'521A_entry'!L272)","v":""},null,null,null,null,null,null,null,null,null,null,null,null,{"$f":"IF(OR('521A_entry'!M272=\"\",'521A_entry'!M272=0),\"\",'521A_entry'!M272)","v":""}]
["27. Total Expected Revenue from Eligible Value Added Commodities (sum amounts in column for Item 26):",null,null,null,null,null,null,null,null,null,null,null,null,{"$f":"$N$49","v":0}]
["SECTION F – ELIGIBLE YIELD-BASED CROPS/COMMODITIES"]
["28. Crop/Commodity:",null,null,null,null,null,null,"29. Expected Acres:",null,"30. Expected Yield:\nPer Acre","31. Unit of Measure:","32. Expected Price:\n(Per Unit)",null,"33.  Expected Revenue:",null,null,null,{"$f":"IF(AND(A168=\"\",N168=\"\"),0,6)","v":0}]
[{"$f":"IF(OR('521A_entry'!C304=\"\",'521A_entry'!C304=0),\"\",'521A_entry'!C304)","v":""},null,null,null,null,null,null,{"$f":"IF(OR('521A_entry'!D304=\"\",'521A_entry'!D304=0),\"\",'521A_entry'!D304)","v":""},null,{"$f":"IF(OR('521A_entry'!E304=\"\",'521A_entry'!E304=0),\"\",'521A_entry'!E304)","v":""},{"$f":"IF(OR('521A_entry'!F304=\"\",'521A_entry'!F304=0),\"\",'521A_entry'!F304)","v":""},{"$f":"IF(OR('521A_entry'!G304=\"\",'521A_entry'!G304=0),\"\",'521A_entry'!G304)","v":""},null,{"$f":"IF(OR('521A_entry'!H304=\"\",'521A_entry'!H304=0),\"\",'521A_entry'!H304)","v":""}]
[{"$f":"IF(OR('521A_entry'!C305=\"\",'521A_entry'!C305=0),\"\",'521A_entry'!C305)","v":""},null,null,null,null,null,null,{"$f":"IF(OR('521A_entry'!D305=\"\",'521A_entry'!D305=0),\"\",'521A_entry'!D305)","v":""},null,{"$f":"IF(OR('521A_entry'!E305=\"\",'521A_entry'!E305=0),\"\",'521A_entry'!E305)","v":""},{"$f":"IF(OR('521A_entry'!F305=\"\",'521A_entry'!F305=0),\"\",'521A_entry'!F305)","v":""},{"$f":"IF(OR('521A_entry'!G305=\"\",'521A_entry'!G305=0),\"\",'521A_entry'!G305)","v":""},null,{"$f":"IF(OR('521A_entry'!H305=\"\",'521A_entry'!H305=0),\"\",'521A_entry'!H305)","v":""}]
[{"$f":"IF(OR('521A_entry'!C306=\"\",'521A_entry'!C306=0),\"\",'521A_entry'!C306)","v":""},null,null,null,null,null,null,{"$f":"IF(OR('521A_entry'!D306=\"\",'521A_entry'!D306=0),\"\",'521A_entry'!D306)","v":""},null,{"$f":"IF(OR('521A_entry'!E306=\"\",'521A_entry'!E306=0),\"\",'521A_entry'!E306)","v":""},{"$f":"IF(OR('521A_entry'!F306=\"\",'521A_entry'!F306=0),\"\",'521A_entry'!F306)","v":""},{"$f":"IF(OR('521A_entry'!G306=\"\",'521A_entry'!G306=0),\"\",'521A_entry'!G306)","v":""},null,{"$f":"IF(OR('521A_entry'!H306=\"\",'521A_entry'!H306=0),\"\",'521A_entry'!H306)","v":""}]
[{"$f":"IF(OR('521A_entry'!C307=\"\",'521A_entry'!C307=0),\"\",'521A_entry'!C307)","v":""},null,null,null,null,null,null,{"$f":"IF(OR('521A_entry'!D307=\"\",'521A_entry'!D307=0),\"\",'521A_entry'!D307)","v":""},null,{"$f":"IF(OR('521A_entry'!E307=\"\",'521A_entry'!E307=0),\"\",'521A_entry'!E307)","v":""},{"$f":"IF(OR('521A_entry'!F307=\"\",'521A_entry'!F307=0),\"\",'521A_entry'!F307)","v":""},{"$f":"IF(OR('521A_entry'!G307=\"\",'521A_entry'!G307=0),\"\",'521A_entry'!G307)","v":""},null,{"$f":"IF(OR('521A_entry'!H307=\"\",'521A_entry'!H307=0),\"\",'521A_entry'!H307)","v":""}]
[{"$f":"IF(OR('521A_entry'!C308=\"\",'521A_entry'!C308=0),\"\",'521A_entry'!C308)","v":""},null,null,null,null,null,null,{"$f":"IF(OR('521A_entry'!D308=\"\",'521A_entry'!D308=0),\"\",'521A_entry'!D308)","v":""},null,{"$f":"IF(OR('521A_entry'!E308=\"\",'521A_entry'!E308=0),\"\",'521A_entry'!E308)","v":""},{"$f":"IF(OR('521A_entry'!F308=\"\",'521A_entry'!F308=0),\"\",'521A_entry'!F308)","v":""},{"$f":"IF(OR('521A_entry'!G308=\"\",'521A_entry'!G308=0),\"\",'521A_entry'!G308)","v":""},null,{"$f":"IF(OR('521A_entry'!H308=\"\",'521A_entry'!H308=0),\"\",'521A_entry'!H308)","v":""}]
[{"$f":"IF(OR('521A_entry'!C309=\"\",'521A_entry'!C309=0),\"\",'521A_entry'!C309)","v":""},null,null,null,null,null,null,{"$f":"IF(OR('521A_entry'!D309=\"\",'521A_entry'!D309=0),\"\",'521A_entry'!D309)","v":""},null,{"$f":"IF(OR('521A_entry'!E309=\"\",'521A_entry'!E309=0),\"\",'521A_entry'!E309)","v":""},{"$f":"IF(OR('521A_entry'!F309=\"\",'521A_entry'!F309=0),\"\",'521A_entry'!F309)","v":""},{"$f":"IF(OR('521A_entry'!G309=\"\",'521A_entry'!G309=0),\"\",'521A_entry'!G309)","v":""},null,{"$f":"IF(OR('521A_entry'!H309=\"\",'521A_entry'!H309=0),\"\",'521A_entry'!H309)","v":""}]
[{"$f":"IF(OR('521A_entry'!C310=\"\",'521A_entry'!C310=0),\"\",'521A_entry'!C310)","v":""},null,null,null,null,null,null,{"$f":"IF(OR('521A_entry'!D310=\"\",'521A_entry'!D310=0),\"\",'521A_entry'!D310)","v":""},null,{"$f":"IF(OR('521A_entry'!E310=\"\",'521A_entry'!E310=0),\"\",'521A_entry'!E310)","v":""},{"$f":"IF(OR('521A_entry'!F310=\"\",'521A_entry'!F310=0),\"\",'521A_entry'!F310)","v":""},{"$f":"IF(OR('521A_entry'!G310=\"\",'521A_entry'!G310=0),\"\",'521A_entry'!G310)","v":""},null,{"$f":"IF(OR('521A_entry'!H310=\"\",'521A_entry'!H310=0),\"\",'521A_entry'!H310)","v":""}]
[{"$f":"IF(OR('521A_entry'!C311=\"\",'521A_entry'!C311=0),\"\",'521A_entry'!C311)","v":""},null,null,null,null,null,null,{"$f":"IF(OR('521A_entry'!D311=\"\",'521A_entry'!D311=0),\"\",'521A_entry'!D311)","v":""},null,{"$f":"IF(OR('521A_entry'!E311=\"\",'521A_entry'!E311=0),\"\",'521A_entry'!E311)","v":""},{"$f":"IF(OR('521A_entry'!F311=\"\",'521A_entry'!F311=0),\"\",'521A_entry'!F311)","v":""},{"$f":"IF(OR('521A_entry'!G311=\"\",'521A_entry'!G311=0),\"\",'521A_entry'!G311)","v":""},null,{"$f":"IF(OR('521A_entry'!H311=\"\",'521A_entry'!H311=0),\"\",'521A_entry'!H311)","v":""}]
[{"$f":"IF(OR('521A_entry'!C312=\"\",'521A_entry'!C312=0),\"\",'521A_entry'!C312)","v":""},null,null,null,null,null,null,{"$f":"IF(OR('521A_entry'!D312=\"\",'521A_entry'!D312=0),\"\",'521A_entry'!D312)","v":""},null,{"$f":"IF(OR('521A_entry'!E312=\"\",'521A_entry'!E312=0),\"\",'521A_entry'!E312)","v":""},{"$f":"IF(OR('521A_entry'!F312=\"\",'521A_entry'!F312=0),\"\",'521A_entry'!F312)","v":""},{"$f":"IF(OR('521A_entry'!G312=\"\",'521A_entry'!G312=0),\"\",'521A_entry'!G312)","v":""},null,{"$f":"IF(OR('521A_entry'!H312=\"\",'521A_entry'!H312=0),\"\",'521A_entry'!H312)","v":""}]
[{"$f":"IF(OR('521A_entry'!C313=\"\",'521A_entry'!C313=0),\"\",'521A_entry'!C313)","v":""},null,null,null,null,null,null,{"$f":"IF(OR('521A_entry'!D313=\"\",'521A_entry'!D313=0),\"\",'521A_entry'!D313)","v":""},null,{"$f":"IF(OR('521A_entry'!E313=\"\",'521A_entry'!E313=0),\"\",'521A_entry'!E313)","v":""},{"$f":"IF(OR('521A_entry'!F313=\"\",'521A_entry'!F313=0),\"\",'521A_entry'!F313)","v":""},{"$f":"IF(OR('521A_entry'!G313=\"\",'521A_entry'!G313=0),\"\",'521A_entry'!G313)","v":""},null,{"$f":"IF(OR('521A_entry'!H313=\"\",'521A_entry'!H313=0),\"\",'521A_entry'!H313)","v":""}]
[{"$f":"IF(OR('521A_entry'!C314=\"\",'521A_entry'!C314=0),\"\",'521A_entry'!C314)","v":""},null,null,null,null,null,null,{"$f":"IF(OR('521A_entry'!D314=\"\",'521A_entry'!D314=0),\"\",'521A_entry'!D314)","v":""},null,{"$f":"IF(OR('521A_entry'!E314=\"\",'521A_entry'!E314=0),\"\",'521A_entry'!E314)","v":""},{"$f":"IF(OR('521A_entry'!F314=\"\",'521A_entry'!F314=0),\"\",'521A_entry'!F314)","v":""},{"$f":"IF(OR('521A_entry'!G314=\"\",'521A_entry'!G314=0),\"\",'521A_entry'!G314)","v":""},null,{"$f":"IF(OR('521A_entry'!H314=\"\",'521A_entry'!H314=0),\"\",'521A_entry'!H314)","v":""}]
[{"$f":"IF(OR('521A_entry'!C315=\"\",'521A_entry'!C315=0),\"\",'521A_entry'!C315)","v":""},null,null,null,null,null,null,{"$f":"IF(OR('521A_entry'!D315=\"\",'521A_entry'!D315=0),\"\",'521A_entry'!D315)","v":""},null,{"$f":"IF(OR('521A_entry'!E315=\"\",'521A_entry'!E315=0),\"\",'521A_entry'!E315)","v":""},{"$f":"IF(OR('521A_entry'!F315=\"\",'521A_entry'!F315=0),\"\",'521A_entry'!F315)","v":""},{"$f":"IF(OR('521A_entry'!G315=\"\",'521A_entry'!G315=0),\"\",'521A_entry'!G315)","v":""},null,{"$f":"IF(OR('521A_entry'!H315=\"\",'521A_entry'!H315=0),\"\",'521A_entry'!H315)","v":""}]
[{"$f":"IF(OR('521A_entry'!C316=\"\",'521A_entry'!C316=0),\"\",'521A_entry'!C316)","v":""},null,null,null,null,null,null,{"$f":"IF(OR('521A_entry'!D316=\"\",'521A_entry'!D316=0),\"\",'521A_entry'!D316)","v":""},null,{"$f":"IF(OR('521A_entry'!E316=\"\",'521A_entry'!E316=0),\"\",'521A_entry'!E316)","v":""},{"$f":"IF(OR('521A_entry'!F316=\"\",'521A_entry'!F316=0),\"\",'521A_entry'!F316)","v":""},{"$f":"IF(OR('521A_entry'!G316=\"\",'521A_entry'!G316=0),\"\",'521A_entry'!G316)","v":""},null,{"$f":"IF(OR('521A_entry'!H316=\"\",'521A_entry'!H316=0),\"\",'521A_entry'!H316)","v":""}]
[{"$f":"IF(OR('521A_entry'!C317=\"\",'521A_entry'!C317=0),\"\",'521A_entry'!C317)","v":""},null,null,null,null,null,null,{"$f":"IF(OR('521A_entry'!D317=\"\",'521A_entry'!D317=0),\"\",'521A_entry'!D317)","v":""},null,{"$f":"IF(OR('521A_entry'!E317=\"\",'521A_entry'!E317=0),\"\",'521A_entry'!E317)","v":""},{"$f":"IF(OR('521A_entry'!F317=\"\",'521A_entry'!F317=0),\"\",'521A_entry'!F317)","v":""},{"$f":"IF(OR('521A_entry'!G317=\"\",'521A_entry'!G317=0),\"\",'521A_entry'!G317)","v":""},null,{"$f":"IF(OR('521A_entry'!H317=\"\",'521A_entry'!H317=0),\"\",'521A_entry'!H317)","v":""}]
[{"$f":"IF(OR('521A_entry'!C318=\"\",'521A_entry'!C318=0),\"\",'521A_entry'!C318)","v":""},null,null,null,null,null,null,{"$f":"IF(OR('521A_entry'!D318=\"\",'521A_entry'!D318=0),\"\",'521A_entry'!D318)","v":""},null,{"$f":"IF(OR('521A_entry'!E318=\"\",'521A_entry'!E318=0),\"\",'521A_entry'!E318)","v":""},{"$f":"IF(OR('521A_entry'!F318=\"\",'521A_entry'!F318=0),\"\",'521A_entry'!F318)","v":""},{"$f":"IF(OR('521A_entry'!G318=\"\",'521A_entry'!G318=0),\"\",'521A_entry'!G318)","v":""},null,{"$f":"IF(OR('521A_entry'!H318=\"\",'521A_entry'!H318=0),\"\",'521A_entry'!H318)","v":""}]
[{"$f":"IF(OR('521A_entry'!C319=\"\",'521A_entry'!C319=0),\"\",'521A_entry'!C319)","v":""},null,null,null,null,null,null,{"$f":"IF(OR('521A_entry'!D319=\"\",'521A_entry'!D319=0),\"\",'521A_entry'!D319)","v":""},null,{"$f":"IF(OR('521A_entry'!E319=\"\",'521A_entry'!E319=0),\"\",'521A_entry'!E319)","v":""},{"$f":"IF(OR('521A_entry'!F319=\"\",'521A_entry'!F319=0),\"\",'521A_entry'!F319)","v":""},{"$f":"IF(OR('521A_entry'!G319=\"\",'521A_entry'!G319=0),\"\",'521A_entry'!G319)","v":""},null,{"$f":"IF(OR('521A_entry'!H319=\"\",'521A_entry'!H319=0),\"\",'521A_entry'!H319)","v":""}]
[{"$f":"IF(OR('521A_entry'!C320=\"\",'521A_entry'!C320=0),\"\",'521A_entry'!C320)","v":""},null,null,null,null,null,null,{"$f":"IF(OR('521A_entry'!D320=\"\",'521A_entry'!D320=0),\"\",'521A_entry'!D320)","v":""},null,{"$f":"IF(OR('521A_entry'!E320=\"\",'521A_entry'!E320=0),\"\",'521A_entry'!E320)","v":""},{"$f":"IF(OR('521A_entry'!F320=\"\",'521A_entry'!F320=0),\"\",'521A_entry'!F320)","v":""},{"$f":"IF(OR('521A_entry'!G320=\"\",'521A_entry'!G320=0),\"\",'521A_entry'!G320)","v":""},null,{"$f":"IF(OR('521A_entry'!H320=\"\",'521A_entry'!H320=0),\"\",'521A_entry'!H320)","v":""}]
[{"$f":"IF(OR('521A_entry'!C321=\"\",'521A_entry'!C321=0),\"\",'521A_entry'!C321)","v":""},null,null,null,null,null,null,{"$f":"IF(OR('521A_entry'!D321=\"\",'521A_entry'!D321=0),\"\",'521A_entry'!D321)","v":""},null,{"$f":"IF(OR('521A_entry'!E321=\"\",'521A_entry'!E321=0),\"\",'521A_entry'!E321)","v":""},{"$f":"IF(OR('521A_entry'!F321=\"\",'521A_entry'!F321=0),\"\",'521A_entry'!F321)","v":""},{"$f":"IF(OR('521A_entry'!G321=\"\",'521A_entry'!G321=0),\"\",'521A_entry'!G321)","v":""},null,{"$f":"IF(OR('521A_entry'!H321=\"\",'521A_entry'!H321=0),\"\",'521A_entry'!H321)","v":""}]
[{"$f":"IF(OR('521A_entry'!C322=\"\",'521A_entry'!C322=0),\"\",'521A_entry'!C322)","v":""},null,null,null,null,null,null,{"$f":"IF(OR('521A_entry'!D322=\"\",'521A_entry'!D322=0),\"\",'521A_entry'!D322)","v":""},null,{"$f":"IF(OR('521A_entry'!E322=\"\",'521A_entry'!E322=0),\"\",'521A_entry'!E322)","v":""},{"$f":"IF(OR('521A_entry'!F322=\"\",'521A_entry'!F322=0),\"\",'521A_entry'!F322)","v":""},{"$f":"IF(OR('521A_entry'!G322=\"\",'521A_entry'!G322=0),\"\",'521A_entry'!G322)","v":""},null,{"$f":"IF(OR('521A_entry'!H322=\"\",'521A_entry'!H322=0),\"\",'521A_entry'!H322)","v":""}]
[{"$f":"IF(OR('521A_entry'!C323=\"\",'521A_entry'!C323=0),\"\",'521A_entry'!C323)","v":""},null,null,null,null,null,null,{"$f":"IF(OR('521A_entry'!D323=\"\",'521A_entry'!D323=0),\"\",'521A_entry'!D323)","v":""},null,{"$f":"IF(OR('521A_entry'!E323=\"\",'521A_entry'!E323=0),\"\",'521A_entry'!E323)","v":""},{"$f":"IF(OR('521A_entry'!F323=\"\",'521A_entry'!F323=0),\"\",'521A_entry'!F323)","v":""},{"$f":"IF(OR('521A_entry'!G323=\"\",'521A_entry'!G323=0),\"\",'521A_entry'!G323)","v":""},null,{"$f":"IF(OR('521A_entry'!H323=\"\",'521A_entry'!H323=0),\"\",'521A_entry'!H323)","v":""}]
[{"$f":"IF(OR('521A_entry'!C324=\"\",'521A_entry'!C324=0),\"\",'521A_entry'!C324)","v":""},null,null,null,null,null,null,{"$f":"IF(OR('521A_entry'!D324=\"\",'521A_entry'!D324=0),\"\",'521A_entry'!D324)","v":""},null,{"$f":"IF(OR('521A_entry'!E324=\"\",'521A_entry'!E324=0),\"\",'521A_entry'!E324)","v":""},{"$f":"IF(OR('521A_entry'!F324=\"\",'521A_entry'!F324=0),\"\",'521A_entry'!F324)","v":""},{"$f":"IF(OR('521A_entry'!G324=\"\",'521A_entry'!G324=0),\"\",'521A_entry'!G324)","v":""},null,{"$f":"IF(OR('521A_entry'!H324=\"\",'521A_entry'!H324=0),\"\",'521A_entry'!H324)","v":""}]
[{"$f":"IF(OR('521A_entry'!C325=\"\",'521A_entry'!C325=0),\"\",'521A_entry'!C325)","v":""},null,null,null,null,null,null,{"$f":"IF(OR('521A_entry'!D325=\"\",'521A_entry'!D325=0),\"\",'521A_entry'!D325)","v":""},null,{"$f":"IF(OR('521A_entry'!E325=\"\",'521A_entry'!E325=0),\"\",'521A_entry'!E325)","v":""},{"$f":"IF(OR('521A_entry'!F325=\"\",'521A_entry'!F325=0),\"\",'521A_entry'!F325)","v":""},{"$f":"IF(OR('521A_entry'!G325=\"\",'521A_entry'!G325=0),\"\",'521A_entry'!G325)","v":""},null,{"$f":"IF(OR('521A_entry'!H325=\"\",'521A_entry'!H325=0),\"\",'521A_entry'!H325)","v":""}]
[{"$f":"IF(OR('521A_entry'!C326=\"\",'521A_entry'!C326=0),\"\",'521A_entry'!C326)","v":""},null,null,null,null,null,null,{"$f":"IF(OR('521A_entry'!D326=\"\",'521A_entry'!D326=0),\"\",'521A_entry'!D326)","v":""},null,{"$f":"IF(OR('521A_entry'!E326=\"\",'521A_entry'!E326=0),\"\",'521A_entry'!E326)","v":""},{"$f":"IF(OR('521A_entry'!F326=\"\",'521A_entry'!F326=0),\"\",'521A_entry'!F326)","v":""},{"$f":"IF(OR('521A_entry'!G326=\"\",'521A_entry'!G326=0),\"\",'521A_entry'!G326)","v":""},null,{"$f":"IF(OR('521A_entry'!H326=\"\",'521A_entry'!H326=0),\"\",'521A_entry'!H326)","v":""}]
["34. Total Expected Revenue from Eligible Yield Based Crops/Commodities (sum amounts in column for Item 33):",null,null,null,null,null,null,null,null,null,null,null,null,{"$f":"$N$75","v":0}]
["SECTION G – ELIGIBLE INVENTORY-BASED CROPS/COMMODITIES"]
["35. Crops/Commodity:",null,null,null,null,null,null,null,null,null,null,null,null,"36. Expected Revenue:",null,null,null,{"$f":"IF(AND(A194=\"\",N194=\"\"),0,6)","v":0}]
[{"$f":"IF(OR('521A_entry'!Q274=\"\",'521A_entry'!Q274=0),\"\",'521A_entry'!Q274)","v":""},null,null,null,null,null,null,null,null,null,null,null,null,{"$f":"IF(OR('521A_entry'!R274=\"\",'521A_entry'!R274=0),\"\",'521A_entry'!R274)","v":""}]
[{"$f":"IF(OR('521A_entry'!Q275=\"\",'521A_entry'!Q275=0),\"\",'521A_entry'!Q275)","v":""},null,null,null,null,null,null,null,null,null,null,null,null,{"$f":"IF(OR('521A_entry'!R275=\"\",'521A_entry'!R275=0),\"\",'521A_entry'!R275)","v":""}]
[{"$f":"IF(OR('521A_entry'!Q276=\"\",'521A_entry'!Q276=0),\"\",'521A_entry'!Q276)","v":""},null,null,null,null,null,null,null,null,null,null,null,null,{"$f":"IF(OR('521A_entry'!R276=\"\",'521A_entry'!R276=0),\"\",'521A_entry'!R276)","v":""}]
[{"$f":"IF(OR('521A_entry'!Q277=\"\",'521A_entry'!Q277=0),\"\",'521A_entry'!Q277)","v":""},null,null,null,null,null,null,null,null,null,null,null,null,{"$f":"IF(OR('521A_entry'!R277=\"\",'521A_entry'!R277=0),\"\",'521A_entry'!R277)","v":""}]
[{"$f":"IF(OR('521A_entry'!Q278=\"\",'521A_entry'!Q278=0),\"\",'521A_entry'!Q278)","v":""},null,null,null,null,null,null,null,null,null,null,null,null,{"$f":"IF(OR('521A_entry'!R278=\"\",'521A_entry'!R278=0),\"\",'521A_entry'!R278)","v":""}]
[{"$f":"IF(OR('521A_entry'!Q279=\"\",'521A_entry'!Q279=0),\"\",'521A_entry'!Q279)","v":""},null,null,null,null,null,null,null,null,null,null,null,null,{"$f":"IF(OR('521A_entry'!R279=\"\",'521A_entry'!R279=0),\"\",'521A_entry'!R279)","v":""}]
[{"$f":"IF(OR('521A_entry'!Q280=\"\",'521A_entry'!Q280=0),\"\",'521A_entry'!Q280)","v":""},null,null,null,null,null,null,null,null,null,null,null,null,{"$f":"IF(OR('521A_entry'!R280=\"\",'521A_entry'!R280=0),\"\",'521A_entry'!R280)","v":""}]
[{"$f":"IF(OR('521A_entry'!Q281=\"\",'521A_entry'!Q281=0),\"\",'521A_entry'!Q281)","v":""},null,null,null,null,null,null,null,null,null,null,null,null,{"$f":"IF(OR('521A_entry'!R281=\"\",'521A_entry'!R281=0),\"\",'521A_entry'!R281)","v":""}]
["37. Total Expected Revenue from Eligible Inventory Based Crops/Commodities (sum amounts in column for Item 36):",null,null,null,null,null,null,null,null,null,null,null,null,{"$f":"$N$86","v":0}]
["FSA-521-A (01-23-2023)",null,null,null,null,"1.  Applicant Name",null,null,null,null,null,null,null,"2.  Application Number:"]
[{"$f":"\"Page 7 of \"&$R$3","v":"Page 7 of 4"},null,null,null,null,{"$f":"IF(K3=\"\",\"\",K3)","v":""}]
["SECTION E – ELIGIBLE VALUE-ADDED COMMODITIES"]
["25. Commodity:",null,null,null,null,null,null,null,null,null,null,null,null,"26. Expected Revenue:",null,null,null,{"$f":"IF(AND(A207=\"\",N207=\"\"),0,7)","v":0}]
[{"$f":"IF(OR('521A_entry'!L273=\"\",'521A_entry'!L273=0),\"\",'521A_entry'!L273)","v":""},null,null,null,null,null,null,null,null,null,null,null,null,{"$f":"IF(OR('521A_entry'!M273=\"\",'521A_entry'!M273=0),\"\",'521A_entry'!M273)","v":""}]
[{"$f":"IF(OR('521A_entry'!L274=\"\",'521A_entry'!L274=0),\"\",'521A_entry'!L274)","v":""},null,null,null,null,null,null,null,null,null,null,null,null,{"$f":"IF(OR('521A_entry'!M274=\"\",'521A_entry'!M274=0),\"\",'521A_entry'!M274)","v":""}]
[{"$f":"IF(OR('521A_entry'!L275=\"\",'521A_entry'!L275=0),\"\",'521A_entry'!L275)","v":""},null,null,null,null,null,null,null,null,null,null,null,null,{"$f":"IF(OR('521A_entry'!M275=\"\",'521A_entry'!M275=0),\"\",'521A_entry'!M275)","v":""}]
[{"$f":"IF(OR('521A_entry'!L276=\"\",'521A_entry'!L276=0),\"\",'521A_entry'!L276)","v":""},null,null,null,null,null,null,null,null,null,null,null,null,{"$f":"IF(OR('521A_entry'!M276=\"\",'521A_entry'!M276=0),\"\",'521A_entry'!M276)","v":""}]
[{"$f":"IF(OR('521A_entry'!L277=\"\",'521A_entry'!L277=0),\"\",'521A_entry'!L277)","v":""},null,null,null,null,null,null,null,null,null,null,null,null,{"$f":"IF(OR('521A_entry'!M277=\"\",'521A_entry'!M277=0),\"\",'521A_entry'!M277)","v":""}]
["27. Total Expected Revenue from Eligible Value Added Commodities (sum amounts in column for Item 26):",null,null,null,null,null,null,null,null,null,null,null,null,{"$f":"$N$49","v":0}]
["SECTION F – ELIGIBLE YIELD-BASED CROPS/COMMODITIES"]
["28. Crop/Commodity:",null,null,null,null,null,null,"29. Expected Acres:",null,"30. Expected Yield:\nPer Acre","31. Unit of Measure:","32. Expected Price:\n(Per Unit)",null,"33.  Expected Revenue:",null,null,null,{"$f":"IF(AND(A215=\"\",N215=\"\"),0,7)","v":0}]
[{"$f":"IF(OR('521A_entry'!C327=\"\",'521A_entry'!C327=0),\"\",'521A_entry'!C327)","v":""},null,null,null,null,null,null,{"$f":"IF(OR('521A_entry'!D327=\"\",'521A_entry'!D327=0),\"\",'521A_entry'!D327)","v":""},null,{"$f":"IF(OR('521A_entry'!E327=\"\",'521A_entry'!E327=0),\"\",'521A_entry'!E327)","v":""},{"$f":"IF(OR('521A_entry'!F327=\"\",'521A_entry'!F327=0),\"\",'521A_entry'!F327)","v":""},{"$f":"IF(OR('521A_entry'!G327=\"\",'521A_entry'!G327=0),\"\",'521A_entry'!G327)","v":""},null,{"$f":"IF(OR('521A_entry'!H327=\"\",'521A_entry'!H327=0),\"\",'521A_entry'!H327)","v":""}]
[{"$f":"IF(OR('521A_entry'!C328=\"\",'521A_entry'!C328=0),\"\",'521A_entry'!C328)","v":""},null,null,null,null,null,null,{"$f":"IF(OR('521A_entry'!D328=\"\",'521A_entry'!D328=0),\"\",'521A_entry'!D328)","v":""},null,{"$f":"IF(OR('521A_entry'!E328=\"\",'521A_entry'!E328=0),\"\",'521A_entry'!E328)","v":""},{"$f":"IF(OR('521A_entry'!F328=\"\",'521A_entry'!F328=0),\"\",'521A_entry'!F328)","v":""},{"$f":"IF(OR('521A_entry'!G328=\"\",'521A_entry'!G328=0),\"\",'521A_entry'!G328)","v":""},null,{"$f":"IF(OR('521A_entry'!H328=\"\",'521A_entry'!H328=0),\"\",'521A_entry'!H328)","v":""}]
[{"$f":"IF(OR('521A_entry'!C329=\"\",'521A_entry'!C329=0),\"\",'521A_entry'!C329)","v":""},null,null,null,null,null,null,{"$f":"IF(OR('521A_entry'!D329=\"\",'521A_entry'!D329=0),\"\",'521A_entry'!D329)","v":""},null,{"$f":"IF(OR('521A_entry'!E329=\"\",'521A_entry'!E329=0),\"\",'521A_entry'!E329)","v":""},{"$f":"IF(OR('521A_entry'!F329=\"\",'521A_entry'!F329=0),\"\",'521A_entry'!F329)","v":""},{"$f":"IF(OR('521A_entry'!G329=\"\",'521A_entry'!G329=0),\"\",'521A_entry'!G329)","v":""},null,{"$f":"IF(OR('521A_entry'!H329=\"\",'521A_entry'!H329=0),\"\",'521A_entry'!H329)","v":""}]
[{"$f":"IF(OR('521A_entry'!C330=\"\",'521A_entry'!C330=0),\"\",'521A_entry'!C330)","v":""},null,null,null,null,null,null,{"$f":"IF(OR('521A_entry'!D330=\"\",'521A_entry'!D330=0),\"\",'521A_entry'!D330)","v":""},null,{"$f":"IF(OR('521A_entry'!E330=\"\",'521A_entry'!E330=0),\"\",'521A_entry'!E330)","v":""},{"$f":"IF(OR('521A_entry'!F330=\"\",'521A_entry'!F330=0),\"\",'521A_entry'!F330)","v":""},{"$f":"IF(OR('521A_entry'!G330=\"\",'521A_entry'!G330=0),\"\",'521A_entry'!G330)","v":""},null,{"$f":"IF(OR('521A_entry'!H330=\"\",'521A_entry'!H330=0),\"\",'521A_entry'!H330)","v":""}]
[{"$f":"IF(OR('521A_entry'!C331=\"\",'521A_entry'!C331=0),\"\",'521A_entry'!C331)","v":""},null,null,null,null,null,null,{"$f":"IF(OR('521A_entry'!D331=\"\",'521A_entry'!D331=0),\"\",'521A_entry'!D331)","v":""},null,{"$f":"IF(OR('521A_entry'!E331=\"\",'521A_entry'!E331=0),\"\",'521A_entry'!E331)","v":""},{"$f":"IF(OR('521A_entry'!F331=\"\",'521A_entry'!F331=0),\"\",'521A_entry'!F331)","v":""},{"$f":"IF(OR('521A_entry'!G331=\"\",'521A_entry'!G331=0),\"\",'521A_entry'!G331)","v":""},null,{"$f":"IF(OR('521A_entry'!H331=\"\",'521A_entry'!H331=0),\"\",'521A_entry'!H331)","v":""}]
[{"$f":"IF(OR('521A_entry'!C332=\"\",'521A_entry'!C332=0),\"\",'521A_entry'!C332)","v":""},null,null,null,null,null,null,{"$f":"IF(OR('521A_entry'!D332=\"\",'521A_entry'!D332=0),\"\",'521A_entry'!D332)","v":""},null,{"$f":"IF(OR('521A_entry'!E332=\"\",'521A_entry'!E332=0),\"\",'521A_entry'!E332)","v":""},{"$f":"IF(OR('521A_entry'!F332=\"\",'521A_entry'!F332=0),\"\",'521A_entry'!F332)","v":""},{"$f":"IF(OR('521A_entry'!G332=\"\",'521A_entry'!G332=0),\"\",'521A_entry'!G332)","v":""},null,{"$f":"IF(OR('521A_entry'!H332=\"\",'521A_entry'!H332=0),\"\",'521A_entry'!H332)","v":""}]
[{"$f":"IF(OR('521A_entry'!C333=\"\",'521A_entry'!C333=0),\"\",'521A_entry'!C333)","v":""},null,null,null,null,null,null,{"$f":"IF(OR('521A_entry'!D333=\"\",'521A_entry'!D333=0),\"\",'521A_entry'!D333)","v":""},null,{"$f":"IF(OR('521A_entry'!E333=\"\",'521A_entry'!E333=0),\"\",'521A_entry'!E333)","v":""},{"$f":"IF(OR('521A_entry'!F333=\"\",'521A_entry'!F333=0),\"\",'521A_entry'!F333)","v":""},{"$f":"IF(OR('521A_entry'!G333=\"\",'521A_entry'!G333=0),\"\",'521A_entry'!G333)","v":""},null,{"$f":"IF(OR('521A_entry'!H333=\"\",'521A_entry'!H333=0),\"\",'521A_entry'!H333)","v":""}]
[{"$f":"IF(OR('521A_entry'!C334=\"\",'521A_entry'!C334=0),\"\",'521A_entry'!C334)","v":""},null,null,null,null,null,null,{"$f":"IF(OR('521A_entry'!D334=\"\",'521A_entry'!D334=0),\"\",'521A_entry'!D334)","v":""},null,{"$f":"IF(OR('521A_entry'!E334=\"\",'521A_entry'!E334=0),\"\",'521A_entry'!E334)","v":""},{"$f":"IF(OR('521A_entry'!F334=\"\",'521A_entry'!F334=0),\"\",'521A_entry'!F334)","v":""},{"$f":"IF(OR('521A_entry'!G334=\"\",'521A_entry'!G334=0),\"\",'521A_entry'!G334)","v":""},null,{"$f":"IF(OR('521A_entry'!H334=\"\",'521A_entry'!H334=0),\"\",'521A_entry'!H334)","v":""}]
[{"$f":"IF(OR('521A_entry'!C335=\"\",'521A_entry'!C335=0),\"\",'521A_entry'!C335)","v":""},null,null,null,null,null,null,{"$f":"IF(OR('521A_entry'!D335=\"\",'521A_entry'!D335=0),\"\",'521A_entry'!D335)","v":""},null,{"$f":"IF(OR('521A_entry'!E335=\"\",'521A_entry'!E335=0),\"\",'521A_entry'!E335)","v":""},{"$f":"IF(OR('521A_entry'!F335=\"\",'521A_entry'!F335=0),\"\",'521A_entry'!F335)","v":""},{"$f":"IF(OR('521A_entry'!G335=\"\",'521A_entry'!G335=0),\"\",'521A_entry'!G335)","v":""},null,{"$f":"IF(OR('521A_entry'!H335=\"\",'521A_entry'!H335=0),\"\",'521A_entry'!H335)","v":""}]
[{"$f":"IF(OR('521A_entry'!C336=\"\",'521A_entry'!C336=0),\"\",'521A_entry'!C336)","v":""},null,null,null,null,null,null,{"$f":"IF(OR('521A_entry'!D336=\"\",'521A_entry'!D336=0),\"\",'521A_entry'!D336)","v":""},null,{"$f":"IF(OR('521A_entry'!E336=\"\",'521A_entry'!E336=0),\"\",'521A_entry'!E336)","v":""},{"$f":"IF(OR('521A_entry'!F336=\"\",'521A_entry'!F336=0),\"\",'521A_entry'!F336)","v":""},{"$f":"IF(OR('521A_entry'!G336=\"\",'521A_entry'!G336=0),\"\",'521A_entry'!G336)","v":""},null,{"$f":"IF(OR('521A_entry'!H336=\"\",'521A_entry'!H336=0),\"\",'521A_entry'!H336)","v":""}]
[{"$f":"IF(OR('521A_entry'!C337=\"\",'521A_entry'!C337=0),\"\",'521A_entry'!C337)","v":""},null,null,null,null,null,null,{"$f":"IF(OR('521A_entry'!D337=\"\",'521A_entry'!D337=0),\"\",'521A_entry'!D337)","v":""},null,{"$f":"IF(OR('521A_entry'!E337=\"\",'521A_entry'!E337=0),\"\",'521A_entry'!E337)","v":""},{"$f":"IF(OR('521A_entry'!F337=\"\",'521A_entry'!F337=0),\"\",'521A_entry'!F337)","v":""},{"$f":"IF(OR('521A_entry'!G337=\"\",'521A_entry'!G337=0),\"\",'521A_entry'!G337)","v":""},null,{"$f":"IF(OR('521A_entry'!H337=\"\",'521A_entry'!H337=0),\"\",'521A_entry'!H337)","v":""}]
[{"$f":"IF(OR('521A_entry'!C338=\"\",'521A_entry'!C338=0),\"\",'521A_entry'!C338)","v":""},null,null,null,null,null,null,{"$f":"IF(OR('521A_entry'!D338=\"\",'521A_entry'!D338=0),\"\",'521A_entry'!D338)","v":""},null,{"$f":"IF(OR('521A_entry'!E338=\"\",'521A_entry'!E338=0),\"\",'521A_entry'!E338)","v":""},{"$f":"IF(OR('521A_entry'!F338=\"\",'521A_entry'!F338=0),\"\",'521A_entry'!F338)","v":""},{"$f":"IF(OR('521A_entry'!G338=\"\",'521A_entry'!G338=0),\"\",'521A_entry'!G338)","v":""},null,{"$f":"IF(OR('521A_entry'!H338=\"\",'521A_entry'!H338=0),\"\",'521A_entry'!H338)","v":""}]
[{"$f":"IF(OR('521A_entry'!C339=\"\",'521A_entry'!C339=0),\"\",'521A_entry'!C339)","v":""},null,null,null,null,null,null,{"$f":"IF(OR('521A_entry'!D339=\"\",'521A_entry'!D339=0),\"\",'521A_entry'!D339)","v":""},null,{"$f":"IF(OR('521A_entry'!E339=\"\",'521A_entry'!E339=0),\"\",'521A_entry'!E339)","v":""},{"$f":"IF(OR('521A_entry'!F339=\"\",'521A_entry'!F339=0),\"\",'521A_entry'!F339)","v":""},{"$f":"IF(OR('521A_entry'!G339=\"\",'521A_entry'!G339=0),\"\",'521A_entry'!G339)","v":""},null,{"$f":"IF(OR('521A_entry'!H339=\"\",'521A_entry'!H339=0),\"\",'521A_entry'!H339)","v":""}]
[{"$f":"IF(OR('521A_entry'!C340=\"\",'521A_entry'!C340=0),\"\",'521A_entry'!C340)","v":""},null,null,null,null,null,null,{"$f":"IF(OR('521A_entry'!D340=\"\",'521A_entry'!D340=0),\"\",'521A_entry'!D340)","v":""},null,{"$f":"IF(OR('521A_entry'!E340=\"\",'521A_entry'!E340=0),\"\",'521A_entry'!E340)","v":""},{"$f":"IF(OR('521A_entry'!F340=\"\",'521A_entry'!F340=0),\"\",'521A_entry'!F340)","v":""},{"$f":"IF(OR('521A_entry'!G340=\"\",'521A_entry'!G340=0),\"\",'521A_entry'!G340)","v":""},null,{"$f":"IF(OR('521A_entry'!H340=\"\",'521A_entry'!H340=0),\"\",'521A_entry'!H340)","v":""}]
[{"$f":"IF(OR('521A_entry'!C341=\"\",'521A_entry'!C341=0),\"\",'521A_entry'!C341)","v":""},null,null,null,null,null,null,{"$f":"IF(OR('521A_entry'!D341=\"\",'521A_entry'!D341=0),\"\",'521A_entry'!D341)","v":""},null,{"$f":"IF(OR('521A_entry'!E341=\"\",'521A_entry'!E341=0),\"\",'521A_entry'!E341)","v":""},{"$f":"IF(OR('521A_entry'!F341=\"\",'521A_entry'!F341=0),\"\",'521A_entry'!F341)","v":""},{"$f":"IF(OR('521A_entry'!G341=\"\",'521A_entry'!G341=0),\"\",'521A_entry'!G341)","v":""},null,{"$f":"IF(OR('521A_entry'!H341=\"\",'521A_entry'!H341=0),\"\",'521A_entry'!H341)","v":""}]
[{"$f":"IF(OR('521A_entry'!C342=\"\",'521A_entry'!C342=0),\"\",'521A_entry'!C342)","v":""},null,null,null,null,null,null,{"$f":"IF(OR('521A_entry'!D342=\"\",'521A_entry'!D342=0),\"\",'521A_entry'!D342)","v":""},null,{"$f":"IF(OR('521A_entry'!E342=\"\",'521A_entry'!E342=0),\"\",'521A_entry'!E342)","v":""},{"$f":"IF(OR('521A_entry'!F342=\"\",'521A_entry'!F342=0),\"\",'521A_entry'!F342)","v":""},{"$f":"IF(OR('521A_entry'!G342=\"\",'521A_entry'!G342=0),\"\",'521A_entry'!G342)","v":""},null,{"$f":"IF(OR('521A_entry'!H342=\"\",'521A_entry'!H342=0),\"\",'521A_entry'!H342)","v":""}]
[{"$f":"IF(OR('521A_entry'!C343=\"\",'521A_entry'!C343=0),\"\",'521A_entry'!C343)","v":""},null,null,null,null,null,null,{"$f":"IF(OR('521A_entry'!D343=\"\",'521A_entry'!D343=0),\"\",'521A_entry'!D343)","v":""},null,{"$f":"IF(OR('521A_entry'!E343=\"\",'521A_entry'!E343=0),\"\",'521A_entry'!E343)","v":""},{"$f":"IF(OR('521A_entry'!F343=\"\",'521A_entry'!F343=0),\"\",'521A_entry'!F343)","v":""},{"$f":"IF(OR('521A_entry'!G343=\"\",'521A_entry'!G343=0),\"\",'521A_entry'!G343)","v":""},null,{"$f":"IF(OR('521A_entry'!H343=\"\",'521A_entry'!H343=0),\"\",'521A_entry'!H343)","v":""}]
[{"$f":"IF(OR('521A_entry'!C344=\"\",'521A_entry'!C344=0),\"\",'521A_entry'!C344)","v":""},null,null,null,null,null,null,{"$f":"IF(OR('521A_entry'!D344=\"\",'521A_entry'!D344=0),\"\",'521A_entry'!D344)","v":""},null,{"$f":"IF(OR('521A_entry'!E344=\"\",'521A_entry'!E344=0),\"\",'521A_entry'!E344)","v":""},{"$f":"IF(OR('521A_entry'!F344=\"\",'521A_entry'!F344=0),\"\",'521A_entry'!F344)","v":""},{"$f":"IF(OR('521A_entry'!G344=\"\",'521A_entry'!G344=0),\"\",'521A_entry'!G344)","v":""},null,{"$f":"IF(OR('521A_entry'!H344=\"\",'521A_entry'!H344=0),\"\",'521A_entry'!H344)","v":""}]
[{"$f":"IF(OR('521A_entry'!C345=\"\",'521A_entry'!C345=0),\"\",'521A_entry'!C345)","v":""},null,null,null,null,null,null,{"$f":"IF(OR('521A_entry'!D345=\"\",'521A_entry'!D345=0),\"\",'521A_entry'!D345)","v":""},null,{"$f":"IF(OR('521A_entry'!E345=\"\",'521A_entry'!E345=0),\"\",'521A_entry'!E345)","v":""},{"$f":"IF(OR('521A_entry'!F345=\"\",'521A_entry'!F345=0),\"\",'521A_entry'!F345)","v":""},{"$f":"IF(OR('521A_entry'!G345=\"\",'521A_entry'!G345=0),\"\",'521A_entry'!G345)","v":""},null,{"$f":"IF(OR('521A_entry'!H345=\"\",'521A_entry'!H345=0),\"\",'521A_entry'!H345)","v":""}]
[{"$f":"IF(OR('521A_entry'!C346=\"\",'521A_entry'!C346=0),\"\",'521A_entry'!C346)","v":""},null,null,null,null,null,null,{"$f":"IF(OR('521A_entry'!D346=\"\",'521A_entry'!D346=0),\"\",'521A_entry'!D346)","v":""},null,{"$f":"IF(OR('521A_entry'!E346=\"\",'521A_entry'!E346=0),\"\",'521A_entry'!E346)","v":""},{"$f":"IF(OR('521A_entry'!F346=\"\",'521A_entry'!F346=0),\"\",'521A_entry'!F346)","v":""},{"$f":"IF(OR('521A_entry'!G346=\"\",'521A_entry'!G346=0),\"\",'521A_entry'!G346)","v":""},null,{"$f":"IF(OR('521A_entry'!H346=\"\",'521A_entry'!H346=0),\"\",'521A_entry'!H346)","v":""}]
[{"$f":"IF(OR('521A_entry'!C347=\"\",'521A_entry'!C347=0),\"\",'521A_entry'!C347)","v":""},null,null,null,null,null,null,{"$f":"IF(OR('521A_entry'!D347=\"\",'521A_entry'!D347=0),\"\",'521A_entry'!D347)","v":""},null,{"$f":"IF(OR('521A_entry'!E347=\"\",'521A_entry'!E347=0),\"\",'521A_entry'!E347)","v":""},{"$f":"IF(OR('521A_entry'!F347=\"\",'521A_entry'!F347=0),\"\",'521A_entry'!F347)","v":""},{"$f":"IF(OR('521A_entry'!G347=\"\",'521A_entry'!G347=0),\"\",'521A_entry'!G347)","v":""},null,{"$f":"IF(OR('521A_entry'!H347=\"\",'521A_entry'!H347=0),\"\",'521A_entry'!H347)","v":""}]
[{"$f":"IF(OR('521A_entry'!C348=\"\",'521A_entry'!C348=0),\"\",'521A_entry'!C348)","v":""},null,null,null,null,null,null,{"$f":"IF(OR('521A_entry'!D348=\"\",'521A_entry'!D348=0),\"\",'521A_entry'!D348)","v":""},null,{"$f":"IF(OR('521A_entry'!E348=\"\",'521A_entry'!E348=0),\"\",'521A_entry'!E348)","v":""},{"$f":"IF(OR('521A_entry'!F348=\"\",'521A_entry'!F348=0),\"\",'521A_entry'!F348)","v":""},{"$f":"IF(OR('521A_entry'!G348=\"\",'521A_entry'!G348=0),\"\",'521A_entry'!G348)","v":""},null,{"$f":"IF(OR('521A_entry'!H348=\"\",'521A_entry'!H348=0),\"\",'521A_entry'!H348)","v":""}]
[{"$f":"IF(OR('521A_entry'!C349=\"\",'521A_entry'!C349=0),\"\",'521A_entry'!C349)","v":""},null,null,null,null,null,null,{"$f":"IF(OR('521A_entry'!D349=\"\",'521A_entry'!D349=0),\"\",'521A_entry'!D349)","v":""},null,{"$f":"IF(OR('521A_entry'!E349=\"\",'521A_entry'!E349=0),\"\",'521A_entry'!E349)","v":""},{"$f":"IF(OR('521A_entry'!F349=\"\",'521A_entry'!F349=0),\"\",'521A_entry'!F349)","v":""},{"$f":"IF(OR('521A_entry'!G349=\"\",'521A_entry'!G349=0),\"\",'521A_entry'!G349)","v":""},null,{"$f":"IF(OR('521A_entry'!H349=\"\",'521A_entry'!H349=0),\"\",'521A_entry'!H349)","v":""}]
["34. Total Expected Revenue from Eligible Yield Based Crops/Commodities (sum amounts in column for Item 33):",null,null,null,null,null,null,null,null,null,null,null,null,{"$f":"$N$75","v":0}]
["SECTION G – ELIGIBLE INVENTORY-BASED CROPS/COMMODITIES"]
["35. Crops/Commodity:",null,null,null,null,null,null,null,null,null,null,null,null,"36. Expected Revenue:",null,null,null,{"$f":"IF(AND(A241=\"\",N241=\"\"),0,7)","v":0}]
[{"$f":"IF(OR('521A_entry'!Q282=\"\",'521A_entry'!Q282=0),\"\",'521A_entry'!Q282)","v":""},null,null,null,null,null,null,null,null,null,null,null,null,{"$f":"IF(OR('521A_entry'!R282=\"\",'521A_entry'!R282=0),\"\",'521A_entry'!R282)","v":""}]
[{"$f":"IF(OR('521A_entry'!Q283=\"\",'521A_entry'!Q283=0),\"\",'521A_entry'!Q283)","v":""},null,null,null,null,null,null,null,null,null,null,null,null,{"$f":"IF(OR('521A_entry'!R283=\"\",'521A_entry'!R283=0),\"\",'521A_entry'!R283)","v":""}]
[{"$f":"IF(OR('521A_entry'!Q284=\"\",'521A_entry'!Q284=0),\"\",'521A_entry'!Q284)","v":""},null,null,null,null,null,null,null,null,null,null,null,null,{"$f":"IF(OR('521A_entry'!R284=\"\",'521A_entry'!R284=0),\"\",'521A_entry'!R284)","v":""}]
[{"$f":"IF(OR('521A_entry'!Q285=\"\",'521A_entry'!Q285=0),\"\",'521A_entry'!Q285)","v":""},null,null,null,null,null,null,null,null,null,null,null,null,{"$f":"IF(OR('521A_entry'!R285=\"\",'521A_entry'!R285=0),\"\",'521A_entry'!R285)","v":""}]
[{"$f":"IF(OR('521A_entry'!Q286=\"\",'521A_entry'!Q286=0),\"\",'521A_entry'!Q286)","v":""},null,null,null,null,null,null,null,null,null,null,null,null,{"$f":"IF(OR('521A_entry'!R286=\"\",'521A_entry'!R286=0),\"\",'521A_entry'!R286)","v":""}]
[{"$f":"IF(OR('521A_entry'!Q287=\"\",'521A_entry'!Q287=0),\"\",'521A_entry'!Q287)","v":""},null,null,null,null,null,null,null,null,null,null,null,null,{"$f":"IF(OR('521A_entry'!R287=\"\",'521A_entry'!R287=0),\"\",'521A_entry'!R287)","v":""}]
[{"$f":"IF(OR('521A_entry'!Q288=\"\",'521A_entry'!Q288=0),\"\",'521A_entry'!Q288)","v":""},null,null,null,null,null,null,null,null,null,null,null,null,{"$f":"IF(OR('521A_entry'!R288=\"\",'521A_entry'!R288=0),\"\",'521A_entry'!R288)","v":""}]
[{"$f":"IF(OR('521A_entry'!Q289=\"\",'521A_entry'!Q289=0),\"\",'521A_entry'!Q289)","v":""},null,null,null,null,null,null,null,null,null,null,null,null,{"$f":"IF(OR('521A_entry'!R289=\"\",'521A_entry'!R289=0),\"\",'521A_entry'!R289)","v":""}]
["37. Total Expected Revenue from Eligible Inventory Based Crops/Commodities (sum amounts in column for Item 36):",null,null,null,null,null,null,null,null,null,null,null,null,{"$f":"$N$86","v":0}]
["FSA-521-A (01-23-2023)",null,null,null,null,"1.  Applicant Name",null,null,null,null,null,null,null,"2.  Application Number:"]
[{"$f":"\"Page 8 of \"&$R$3","v":"Page 8 of 4"},null,null,null,null,{"$f":"IF(K3=\"\",\"\",K3)","v":""}]
["SECTION E – ELIGIBLE VALUE-ADDED COMMODITIES"]
["25. Commodity:",null,null,null,null,null,null,null,null,null,null,null,null,"26. Expected Revenue:",null,null,null,{"$f":"IF(AND(A254=\"\",N254=\"\"),0,8)","v":0}]
[{"$f":"IF(OR('521A_entry'!L278=\"\",'521A_entry'!L278=0),\"\",'521A_entry'!L278)","v":""},null,null,null,null,null,null,null,null,null,null,null,null,{"$f":"IF(OR('521A_entry'!M278=\"\",'521A_entry'!M278=0),\"\",'521A_entry'!M278)","v":""}]
[{"$f":"IF(OR('521A_entry'!L279=\"\",'521A_entry'!L279=0),\"\",'521A_entry'!L279)","v":""},null,null,null,null,null,null,null,null,null,null,null,null,{"$f":"IF(OR('521A_entry'!M279=\"\",'521A_entry'!M279=0),\"\",'521A_entry'!M279)","v":""}]
[{"$f":"IF(OR('521A_entry'!L280=\"\",'521A_entry'!L280=0),\"\",'521A_entry'!L280)","v":""},null,null,null,null,null,null,null,null,null,null,null,null,{"$f":"IF(OR('521A_entry'!M280=\"\",'521A_entry'!M280=0),\"\",'521A_entry'!M280)","v":""}]
[{"$f":"IF(OR('521A_entry'!L281=\"\",'521A_entry'!L281=0),\"\",'521A_entry'!L281)","v":""},null,null,null,null,null,null,null,null,null,null,null,null,{"$f":"IF(OR('521A_entry'!M281=\"\",'521A_entry'!M281=0),\"\",'521A_entry'!M281)","v":""}]
[{"$f":"IF(OR('521A_entry'!L282=\"\",'521A_entry'!L282=0),\"\",'521A_entry'!L282)","v":""},null,null,null,null,null,null,null,null,null,null,null,null,{"$f":"IF(OR('521A_entry'!M282=\"\",'521A_entry'!M282=0),\"\",'521A_entry'!M282)","v":""}]
["27. Total Expected Revenue from Eligible Value Added Commodities (sum amounts in column for Item 26):",null,null,null,null,null,null,null,null,null,null,null,null,{"$f":"$N$49","v":0}]
["SECTION F – ELIGIBLE YIELD BASED CROPS/COMMODITIES"]
["28. Crop/Commodity:",null,null,null,null,null,null,"29. Expected Acres:",null,"30. Expected Yield:\nPer Acre","31. Unit of Measure:","32. Expected Price:\n(Per Unit)",null,"33.  Expected Revenue:",null,null,null,{"$f":"IF(AND(A262=\"\",N262=\"\"),0,8)","v":0}]
[{"$f":"IF(OR('521A_entry'!C350=\"\",'521A_entry'!C350=0),\"\",'521A_entry'!C350)","v":""},null,null,null,null,null,null,{"$f":"IF(OR('521A_entry'!D350=\"\",'521A_entry'!D350=0),\"\",'521A_entry'!D350)","v":""},null,{"$f":"IF(OR('521A_entry'!E350=\"\",'521A_entry'!E350=0),\"\",'521A_entry'!E350)","v":""},{"$f":"IF(OR('521A_entry'!F350=\"\",'521A_entry'!F350=0),\"\",'521A_entry'!F350)","v":""},{"$f":"IF(OR('521A_entry'!G350=\"\",'521A_entry'!G350=0),\"\",'521A_entry'!G350)","v":""},null,{"$f":"IF(OR('521A_entry'!H350=\"\",'521A_entry'!H350=0),\"\",'521A_entry'!H350)","v":""}]
[{"$f":"IF(OR('521A_entry'!C351=\"\",'521A_entry'!C351=0),\"\",'521A_entry'!C351)","v":""},null,null,null,null,null,null,{"$f":"IF(OR('521A_entry'!D351=\"\",'521A_entry'!D351=0),\"\",'521A_entry'!D351)","v":""},null,{"$f":"IF(OR('521A_entry'!E351=\"\",'521A_entry'!E351=0),\"\",'521A_entry'!E351)","v":""},{"$f":"IF(OR('521A_entry'!F351=\"\",'521A_entry'!F351=0),\"\",'521A_entry'!F351)","v":""},{"$f":"IF(OR('521A_entry'!G351=\"\",'521A_entry'!G351=0),\"\",'521A_entry'!G351)","v":""},null,{"$f":"IF(OR('521A_entry'!H351=\"\",'521A_entry'!H351=0),\"\",'521A_entry'!H351)","v":""}]
[{"$f":"IF(OR('521A_entry'!C352=\"\",'521A_entry'!C352=0),\"\",'521A_entry'!C352)","v":""},null,null,null,null,null,null,{"$f":"IF(OR('521A_entry'!D352=\"\",'521A_entry'!D352=0),\"\",'521A_entry'!D352)","v":""},null,{"$f":"IF(OR('521A_entry'!E352=\"\",'521A_entry'!E352=0),\"\",'521A_entry'!E352)","v":""},{"$f":"IF(OR('521A_entry'!F352=\"\",'521A_entry'!F352=0),\"\",'521A_entry'!F352)","v":""},{"$f":"IF(OR('521A_entry'!G352=\"\",'521A_entry'!G352=0),\"\",'521A_entry'!G352)","v":""},null,{"$f":"IF(OR('521A_entry'!H352=\"\",'521A_entry'!H352=0),\"\",'521A_entry'!H352)","v":""}]
[{"$f":"IF(OR('521A_entry'!C353=\"\",'521A_entry'!C353=0),\"\",'521A_entry'!C353)","v":""},null,null,null,null,null,null,{"$f":"IF(OR('521A_entry'!D353=\"\",'521A_entry'!D353=0),\"\",'521A_entry'!D353)","v":""},null,{"$f":"IF(OR('521A_entry'!E353=\"\",'521A_entry'!E353=0),\"\",'521A_entry'!E353)","v":""},{"$f":"IF(OR('521A_entry'!F353=\"\",'521A_entry'!F353=0),\"\",'521A_entry'!F353)","v":""},{"$f":"IF(OR('521A_entry'!G353=\"\",'521A_entry'!G353=0),\"\",'521A_entry'!G353)","v":""},null,{"$f":"IF(OR('521A_entry'!H353=\"\",'521A_entry'!H353=0),\"\",'521A_entry'!H353)","v":""}]
[{"$f":"IF(OR('521A_entry'!C354=\"\",'521A_entry'!C354=0),\"\",'521A_entry'!C354)","v":""},null,null,null,null,null,null,{"$f":"IF(OR('521A_entry'!D354=\"\",'521A_entry'!D354=0),\"\",'521A_entry'!D354)","v":""},null,{"$f":"IF(OR('521A_entry'!E354=\"\",'521A_entry'!E354=0),\"\",'521A_entry'!E354)","v":""},{"$f":"IF(OR('521A_entry'!F354=\"\",'521A_entry'!F354=0),\"\",'521A_entry'!F354)","v":""},{"$f":"IF(OR('521A_entry'!G354=\"\",'521A_entry'!G354=0),\"\",'521A_entry'!G354)","v":""},null,{"$f":"IF(OR('521A_entry'!H354=\"\",'521A_entry'!H354=0),\"\",'521A_entry'!H354)","v":""}]
[{"$f":"IF(OR('521A_entry'!C355=\"\",'521A_entry'!C355=0),\"\",'521A_entry'!C355)","v":""},null,null,null,null,null,null,{"$f":"IF(OR('521A_entry'!D355=\"\",'521A_entry'!D355=0),\"\",'521A_entry'!D355)","v":""},null,{"$f":"IF(OR('521A_entry'!E355=\"\",'521A_entry'!E355=0),\"\",'521A_entry'!E355)","v":""},{"$f":"IF(OR('521A_entry'!F355=\"\",'521A_entry'!F355=0),\"\",'521A_entry'!F355)","v":""},{"$f":"IF(OR('521A_entry'!G355=\"\",'521A_entry'!G355=0),\"\",'521A_entry'!G355)","v":""},null,{"$f":"IF(OR('521A_entry'!H355=\"\",'521A_entry'!H355=0),\"\",'521A_entry'!H355)","v":""}]
[{"$f":"IF(OR('521A_entry'!C356=\"\",'521A_entry'!C356=0),\"\",'521A_entry'!C356)","v":""},null,null,null,null,null,null,{"$f":"IF(OR('521A_entry'!D356=\"\",'521A_entry'!D356=0),\"\",'521A_entry'!D356)","v":""},null,{"$f":"IF(OR('521A_entry'!E356=\"\",'521A_entry'!E356=0),\"\",'521A_entry'!E356)","v":""},{"$f":"IF(OR('521A_entry'!F356=\"\",'521A_entry'!F356=0),\"\",'521A_entry'!F356)","v":""},{"$f":"IF(OR('521A_entry'!G356=\"\",'521A_entry'!G356=0),\"\",'521A_entry'!G356)","v":""},null,{"$f":"IF(OR('521A_entry'!H356=\"\",'521A_entry'!H356=0),\"\",'521A_entry'!H356)","v":""}]
[{"$f":"IF(OR('521A_entry'!C248=\"\",'521A_entry'!C248=0),\"\",'521A_entry'!C248)","v":""},null,null,null,null,null,null,{"$f":"IF(OR('521A_entry'!D248=\"\",'521A_entry'!D248=0),\"\",'521A_entry'!D248)","v":""},null,{"$f":"IF(OR('521A_entry'!E248=\"\",'521A_entry'!E248=0),\"\",'521A_entry'!E248)","v":""},{"$f":"IF(OR('521A_entry'!F248=\"\",'521A_entry'!F248=0),\"\",'521A_entry'!F248)","v":""},{"$f":"IF(OR('521A_entry'!G248=\"\",'521A_entry'!G248=0),\"\",'521A_entry'!G248)","v":""},null,{"$f":"IF(OR('521A_entry'!H248=\"\",'521A_entry'!H248=0),\"\",'521A_entry'!H248)","v":""}]
[{"$f":"IF(OR('521A_entry'!C249=\"\",'521A_entry'!C249=0),\"\",'521A_entry'!C249)","v":""}]
[]
[]
[]
[]
[]
[]
[]
[]
[]
[]
[]
[]
[]
[]
["34. Total Expected Revenue from Eligible Yield Based Crops/Commodities (sum amounts in column for Item 33):",null,null,null,null,null,null,null,null,null,null,null,null,{"$f":"$N$75","v":0}]
["SECTION G – ELIGIBLE INVENTORY BASED CROPS/COMMODITIES"]
["35. Crops/Commodity:",null,null,null,null,null,null,null,null,null,null,null,null,"36. Expected Revenue:",null,null,null,{"$f":"IF(AND(A288=\"\",N288=\"\"),0,8)","v":0}]
[{"$f":"IF(OR('521A_entry'!Q290=\"\",'521A_entry'!Q290=0),\"\",'521A_entry'!Q290)","v":""},null,null,null,null,null,null,null,null,null,null,null,null,{"$f":"IF(OR('521A_entry'!R290=\"\",'521A_entry'!R290=0),\"\",'521A_entry'!R290)","v":""}]
[{"$f":"IF(OR('521A_entry'!Q291=\"\",'521A_entry'!Q291=0),\"\",'521A_entry'!Q291)","v":""},null,null,null,null,null,null,null,null,null,null,null,null,{"$f":"IF(OR('521A_entry'!R291=\"\",'521A_entry'!R291=0),\"\",'521A_entry'!R291)","v":""}]
[{"$f":"IF(OR('521A_entry'!Q292=\"\",'521A_entry'!Q292=0),\"\",'521A_entry'!Q292)","v":""},null,null,null,null,null,null,null,null,null,null,null,null,{"$f":"IF(OR('521A_entry'!R292=\"\",'521A_entry'!R292=0),\"\",'521A_entry'!R292)","v":""}]
[{"$f":"IF(OR('521A_entry'!Q293=\"\",'521A_entry'!Q293=0),\"\",'521A_entry'!Q293)","v":""},null,null,null,null,null,null,null,null,null,null,null,null,{"$f":"IF(OR('521A_entry'!R293=\"\",'521A_entry'!R293=0),\"\",'521A_entry'!R293)","v":""}]
[{"$f":"IF(OR('521A_entry'!Q294=\"\",'521A_entry'!Q294=0),\"\",'521A_entry'!Q294)","v":""},null,null,null,null,null,null,null,null,null,null,null,null,{"$f":"IF(OR('521A_entry'!R294=\"\",'521A_entry'!R294=0),\"\",'521A_entry'!R294)","v":""}]
[{"$f":"IF(OR('521A_entry'!Q295=\"\",'521A_entry'!Q295=0),\"\",'521A_entry'!Q295)","v":""},null,null,null,null,null,null,null,null,null,null,null,null,{"$f":"IF(OR('521A_entry'!R295=\"\",'521A_entry'!R295=0),\"\",'521A_entry'!R295)","v":""}]
[{"$f":"IF(OR('521A_entry'!Q296=\"\",'521A_entry'!Q296=0),\"\",'521A_entry'!Q296)","v":""},null,null,null,null,null,null,null,null,null,null,null,null,{"$f":"IF(OR('521A_entry'!R296=\"\",'521A_entry'!R296=0),\"\",'521A_entry'!R296)","v":""}]
[{"$f":"IF(OR('521A_entry'!Q297=\"\",'521A_entry'!Q297=0),\"\",'521A_entry'!Q297)","v":""},null,null,null,null,null,null,null,null,null,null,null,null,{"$f":"IF(OR('521A_entry'!R297=\"\",'521A_entry'!R297=0),\"\",'521A_entry'!R297)","v":""}]
["37. Total Expected Revenue from Eligible Inventory Based Crops/Commodities (sum amounts in column for Item 36):",null,null,null,null,null,null,null,null,null,null,null,null,{"$f":"$N$86","v":0}]
["FSA-521-A (01-23-2023)",null,null,null,null,"1.  Applicant Name",null,null,null,null,null,null,null,"2.  Application Number:"]
[{"$f":"\"Page 9 of \"&$R$3","v":"Page 9 of 4"},null,null,null,null,{"$f":"IF(K193=\"\",\"\",K193)","v":""}]
["SECTION E – ELIGIBLE VALUE-ADDED COMMODITIES"]
["25. Commodity:",null,null,null,null,null,null,null,null,null,null,null,null,"26. Expected Revenue:",null,null,null,{"$f":"IF(AND(A301=\"\",N301=\"\"),0,9)","v":0}]
[{"$f":"IF(OR('521A_entry'!L283=\"\",'521A_entry'!L283=0),\"\",'521A_entry'!L283)","v":""},null,null,null,null,null,null,null,null,null,null,null,null,{"$f":"IF(OR('521A_entry'!M283=\"\",'521A_entry'!M283=0),\"\",'521A_entry'!M283)","v":""}]
[{"$f":"IF(OR('521A_entry'!L284=\"\",'521A_entry'!L284=0),\"\",'521A_entry'!L284)","v":""},null,null,null,null,null,null,null,null,null,null,null,null,{"$f":"IF(OR('521A_entry'!M284=\"\",'521A_entry'!M284=0),\"\",'521A_entry'!M284)","v":""}]
[{"$f":"IF(OR('521A_entry'!L285=\"\",'521A_entry'!L285=0),\"\",'521A_entry'!L285)","v":""},null,null,null,null,null,null,null,null,null,null,null,null,{"$f":"IF(OR('521A_entry'!M285=\"\",'521A_entry'!M285=0),\"\",'521A_entry'!M285)","v":""}]
[{"$f":"IF(OR('521A_entry'!L286=\"\",'521A_entry'!L286=0),\"\",'521A_entry'!L286)","v":""},null,null,null,null,null,null,null,null,null,null,null,null,{"$f":"IF(OR('521A_entry'!M286=\"\",'521A_entry'!M286=0),\"\",'521A_entry'!M286)","v":""}]
[{"$f":"IF(OR('521A_entry'!L287=\"\",'521A_entry'!L287=0),\"\",'521A_entry'!L287)","v":""},null,null,null,null,null,null,null,null,null,null,null,null,{"$f":"IF(OR('521A_entry'!M287=\"\",'521A_entry'!M287=0),\"\",'521A_entry'!M287)","v":""}]
["27. Total Expected Revenue from Eligible Value Added Commodities (sum amounts in column for Item 26):",null,null,null,null,null,null,null,null,null,null,null,null,{"$f":"$N$49","v":0}]
["SECTION F – ELIGIBLE YIELD BASED CROPS/COMMODITIES"]
["28. Crop/Commodity:",null,null,null,null,null,null,"29. Expected Acres:",null,"30. Expected Yield:\nPer Acre","31. Unit of Measure:","32. Expected Price:\n(Per Unit)",null,"33.  Expected Revenue:"]
[]
[]
[]
[]
[]
[]
[]
[]
[]
[]
[]
[]
[]
[]
[]
[]
[]
[]
[]
[]
[]
[]
[]
["34. Total Expected Revenue from Eligible Yield Based Crops/Commodities (sum amounts in column for Item 33):",null,null,null,null,null,null,null,null,null,null,null,null,{"$f":"$N$75","v":0}]
["SECTION G – ELIGIBLE INVENTORY BASED CROPS/COMMODITIES"]
["35. Crops/Commodity:",null,null,null,null,null,null,null,null,null,null,null,null,"36. Expected Revenue:",null,null,null,{"$f":"IF(AND(A335=\"\",N335=\"\"),0,9)","v":0}]
[{"$f":"IF(OR('521A_entry'!Q298=\"\",'521A_entry'!Q298=0),\"\",'521A_entry'!Q298)","v":""},null,null,null,null,null,null,null,null,null,null,null,null,{"$f":"IF(OR('521A_entry'!R298=\"\",'521A_entry'!R298=0),\"\",'521A_entry'!R298)","v":""}]
[{"$f":"IF(OR('521A_entry'!Q299=\"\",'521A_entry'!Q299=0),\"\",'521A_entry'!Q299)","v":""},null,null,null,null,null,null,null,null,null,null,null,null,{"$f":"IF(OR('521A_entry'!R299=\"\",'521A_entry'!R299=0),\"\",'521A_entry'!R299)","v":""}]
[{"$f":"IF(OR('521A_entry'!Q300=\"\",'521A_entry'!Q300=0),\"\",'521A_entry'!Q300)","v":""},null,null,null,null,null,null,null,null,null,null,null,null,{"$f":"IF(OR('521A_entry'!R300=\"\",'521A_entry'!R300=0),\"\",'521A_entry'!R300)","v":""}]
[{"$f":"IF(OR('521A_entry'!Q301=\"\",'521A_entry'!Q301=0),\"\",'521A_entry'!Q301)","v":""},null,null,null,null,null,null,null,null,null,null,null,null,{"$f":"IF(OR('521A_entry'!R301=\"\",'521A_entry'!R301=0),\"\",'521A_entry'!R301)","v":""}]
[{"$f":"IF(OR('521A_entry'!Q302=\"\",'521A_entry'!Q302=0),\"\",'521A_entry'!Q302)","v":""},null,null,null,null,null,null,null,null,null,null,null,null,{"$f":"IF(OR('521A_entry'!R302=\"\",'521A_entry'!R302=0),\"\",'521A_entry'!R302)","v":""}]
[{"$f":"IF(OR('521A_entry'!Q303=\"\",'521A_entry'!Q303=0),\"\",'521A_entry'!Q303)","v":""},null,null,null,null,null,null,null,null,null,null,null,null,{"$f":"IF(OR('521A_entry'!R303=\"\",'521A_entry'!R303=0),\"\",'521A_entry'!R303)","v":""}]
[{"$f":"IF(OR('521A_entry'!Q304=\"\",'521A_entry'!Q304=0),\"\",'521A_entry'!Q304)","v":""},null,null,null,null,null,null,null,null,null,null,null,null,{"$f":"IF(OR('521A_entry'!R304=\"\",'521A_entry'!R304=0),\"\",'521A_entry'!R304)","v":""}]
[{"$f":"IF(OR('521A_entry'!Q305=\"\",'521A_entry'!Q305=0),\"\",'521A_entry'!Q305)","v":""},null,null,null,null,null,null,null,null,null,null,null,null,{"$f":"IF(OR('521A_entry'!R305=\"\",'521A_entry'!R305=0),\"\",'521A_entry'!R305)","v":""}]
["37. Total Expected Revenue from Eligible Inventory Based Crops/Commodities (sum amounts in column for Item 36):",null,null,null,null,null,null,null,null,null,null,null,null,{"$f":"$N$86","v":0}]
["FSA-521-A (01-23-2023)",null,null,null,null,"1.  Applicant Name",null,null,null,null,null,null,null,"2.  Application Number:"]
[{"$f":"\"Page 10 of \"&$R$3","v":"Page 10 of 4"},null,null,null,null,{"$f":"IF(K240=\"\",\"\",K240)","v":""}]
["SECTION E – ELIGIBLE VALUE-ADDED COMMODITIES"]
["25. Commodity:",null,null,null,null,null,null,null,null,null,null,null,null,"26. Expected Revenue:",null,null,null,{"$f":"IF(AND(A348=\"\",N348=\"\"),0,10)","v":0}]
[{"$f":"IF(OR('521A_entry'!L288=\"\",'521A_entry'!L288=0),\"\",'521A_entry'!L288)","v":""},null,null,null,null,null,null,null,null,null,null,null,null,{"$f":"IF(OR('521A_entry'!M288=\"\",'521A_entry'!M288=0),\"\",'521A_entry'!M288)","v":""}]
[{"$f":"IF(OR('521A_entry'!L289=\"\",'521A_entry'!L289=0),\"\",'521A_entry'!L289)","v":""},null,null,null,null,null,null,null,null,null,null,null,null,{"$f":"IF(OR('521A_entry'!M289=\"\",'521A_entry'!M289=0),\"\",'521A_entry'!M289)","v":""}]
[{"$f":"IF(OR('521A_entry'!L290=\"\",'521A_entry'!L290=0),\"\",'521A_entry'!L290)","v":""},null,null,null,null,null,null,null,null,null,null,null,null,{"$f":"IF(OR('521A_entry'!M290=\"\",'521A_entry'!M290=0),\"\",'521A_entry'!M290)","v":""}]
[{"$f":"IF(OR('521A_entry'!L291=\"\",'521A_entry'!L291=0),\"\",'521A_entry'!L291)","v":""},null,null,null,null,null,null,null,null,null,null,null,null,{"$f":"IF(OR('521A_entry'!M291=\"\",'521A_entry'!M291=0),\"\",'521A_entry'!M291)","v":""}]
[{"$f":"IF(OR('521A_entry'!L292=\"\",'521A_entry'!L292=0),\"\",'521A_entry'!L292)","v":""},null,null,null,null,null,null,null,null,null,null,null,null,{"$f":"IF(OR('521A_entry'!M292=\"\",'521A_entry'!M292=0),\"\",'521A_entry'!M292)","v":""}]
["27. Total Expected Revenue from Eligible Value Added Commodities (sum amounts in column for Item 26):",null,null,null,null,null,null,null,null,null,null,null,null,{"$f":"$N$49","v":0}]
["SECTION F – ELIGIBLE YIELD BASED CROPS/COMMODITIES"]
["28. Crop/Commodity:",null,null,null,null,null,null,"29. Expected Acres:",null,"30. Expected Yield:\nPer Acre","31. Unit of Measure:","32. Expected Price:\n(Per Unit)",null,"33.  Expected Revenue:"]
[]
[]
[]
[]
[]
[]
[]
[]
[]
[]
[]
[]
[]
[]
[]
[]
[]
[]
[]
[]
[]
[]
[]
["34. Total Expected Revenue from Eligible Yield Based Crops/Commodities (sum amounts in column for Item 33):",null,null,null,null,null,null,null,null,null,null,null,null,{"$f":"$N$75","v":0}]
["SECTION G – ELIGIBLE INVENTORY BASED CROPS/COMMODITIES"]
["35. Crops/Commodity:",null,null,null,null,null,null,null,null,null,null,null,null,"36. Expected Revenue:",null,null,null,{"$f":"IF(AND(A382=\"\",N382=\"\"),0,10)","v":0}]
[{"$f":"IF(OR('521A_entry'!Q306=\"\",'521A_entry'!Q306=0),\"\",'521A_entry'!Q306)","v":""},null,null,null,null,null,null,null,null,null,null,null,null,{"$f":"IF(OR('521A_entry'!R306=\"\",'521A_entry'!R306=0),\"\",'521A_entry'!R306)","v":""}]
[{"$f":"IF(OR('521A_entry'!Q307=\"\",'521A_entry'!Q307=0),\"\",'521A_entry'!Q307)","v":""},null,null,null,null,null,null,null,null,null,null,null,null,{"$f":"IF(OR('521A_entry'!R307=\"\",'521A_entry'!R307=0),\"\",'521A_entry'!R307)","v":""}]
[{"$f":"IF(OR('521A_entry'!Q308=\"\",'521A_entry'!Q308=0),\"\",'521A_entry'!Q308)","v":""},null,null,null,null,null,null,null,null,null,null,null,null,{"$f":"IF(OR('521A_entry'!R308=\"\",'521A_entry'!R308=0),\"\",'521A_entry'!R308)","v":""}]
[{"$f":"IF(OR('521A_entry'!Q309=\"\",'521A_entry'!Q309=0),\"\",'521A_entry'!Q309)","v":""},null,null,null,null,null,null,null,null,null,null,null,null,{"$f":"IF(OR('521A_entry'!R309=\"\",'521A_entry'!R309=0),\"\",'521A_entry'!R309)","v":""}]
[{"$f":"IF(OR('521A_entry'!Q310=\"\",'521A_entry'!Q310=0),\"\",'521A_entry'!Q310)","v":""},null,null,null,null,null,null,null,null,null,null,null,null,{"$f":"IF(OR('521A_entry'!R310=\"\",'521A_entry'!R310=0),\"\",'521A_entry'!R310)","v":""}]
[{"$f":"IF(OR('521A_entry'!Q311=\"\",'521A_entry'!Q311=0),\"\",'521A_entry'!Q311)","v":""},null,null,null,null,null,null,null,null,null,null,null,null,{"$f":"IF(OR('521A_entry'!R311=\"\",'521A_entry'!R311=0),\"\",'521A_entry'!R311)","v":""}]
[{"$f":"IF(OR('521A_entry'!Q312=\"\",'521A_entry'!Q312=0),\"\",'521A_entry'!Q312)","v":""},null,null,null,null,null,null,null,null,null,null,null,null,{"$f":"IF(OR('521A_entry'!R312=\"\",'521A_entry'!R312=0),\"\",'521A_entry'!R312)","v":""}]
[{"$f":"IF(OR('521A_entry'!Q313=\"\",'521A_entry'!Q313=0),\"\",'521A_entry'!Q313)","v":""},null,null,null,null,null,null,null,null,null,null,null,null,{"$f":"IF(OR('521A_entry'!R313=\"\",'521A_entry'!R313=0),\"\",'521A_entry'!R313)","v":""}]
["37. Total Expected Revenue from Eligible Inventory Based Crops/Commodities (sum amounts in column for Item 36):",null,null,null,null,null,null,null,null,null,null,null,null,{"$f":"$N$86","v":0}]
["FSA-521-A (01-23-2023)",null,null,null,null,"1.  Applicant Name",null,null,null,null,null,null,null,"2.  Application Number:"]
[{"$f":"\"Page 11 of \"&$R$3","v":"Page 11 of 4"},null,null,null,null,{"$f":"IF(K287=\"\",\"\",K287)","v":""}]
["SECTION E – ELIGIBLE VALUE-ADDED COMMODITIES"]
["25. Commodity:",null,null,null,null,null,null,null,null,null,null,null,null,"26. Expected Revenue:",null,null,null,{"$f":"IF(AND(A395=\"\",N395=\"\"),0,11)","v":0}]
[{"$f":"IF(OR('521A_entry'!L293=\"\",'521A_entry'!L293=0),\"\",'521A_entry'!L293)","v":""},null,null,null,null,null,null,null,null,null,null,null,null,{"$f":"IF(OR('521A_entry'!M293=\"\",'521A_entry'!M293=0),\"\",'521A_entry'!M293)","v":""}]
[{"$f":"IF(OR('521A_entry'!L294=\"\",'521A_entry'!L294=0),\"\",'521A_entry'!L294)","v":""},null,null,null,null,null,null,null,null,null,null,null,null,{"$f":"IF(OR('521A_entry'!M294=\"\",'521A_entry'!M294=0),\"\",'521A_entry'!M294)","v":""}]
[{"$f":"IF(OR('521A_entry'!L295=\"\",'521A_entry'!L295=0),\"\",'521A_entry'!L295)","v":""},null,null,null,null,null,null,null,null,null,null,null,null,{"$f":"IF(OR('521A_entry'!M295=\"\",'521A_entry'!M295=0),\"\",'521A_entry'!M295)","v":""}]
[{"$f":"IF(OR('521A_entry'!L296=\"\",'521A_entry'!L296=0),\"\",'521A_entry'!L296)","v":""},null,null,null,null,null,null,null,null,null,null,null,null,{"$f":"IF(OR('521A_entry'!M296=\"\",'521A_entry'!M296=0),\"\",'521A_entry'!M296)","v":""}]
[{"$f":"IF(OR('521A_entry'!L297=\"\",'521A_entry'!L297=0),\"\",'521A_entry'!L297)","v":""},null,null,null,null,null,null,null,null,null,null,null,null,{"$f":"IF(OR('521A_entry'!M297=\"\",'521A_entry'!M297=0),\"\",'521A_entry'!M297)","v":""}]
["27. Total Expected Revenue from Eligible Value Added Commodities (sum amounts in column for Item 26):",null,null,null,null,null,null,null,null,null,null,null,null,{"$f":"$N$49","v":0}]
["SECTION F – ELIGIBLE YIELD BASED CROPS/COMMODITIES"]
["28. Crop/Commodity:",null,null,null,null,null,null,"29. Expected Acres:",null,"30. Expected Yield:\nPer Acre","31. Unit of Measure:","32. Expected Price:\n(Per Unit)",null,"33.  Expected Revenue:"]
[]
[]
[]
[]
[]
[]
[]
[]
[]
[]
[]
[]
[]
[]
[]
[]
[]
[]
[]
[]
[]
[]
[]
["34. Total Expected Revenue from Eligible Yield Based Crops/Commodities (sum amounts in column for Item 33):",null,null,null,null,null,null,null,null,null,null,null,null,{"$f":"$N$75","v":0}]
["SECTION G – ELIGIBLE INVENTORY BASED CROPS/COMMODITIES"]
["35. Crops/Commodity:",null,null,null,null,null,null,null,null,null,null,null,null,"36. Expected Revenue:",null,null,null,{"$f":"IF(AND(A429=\"\",N429=\"\"),0,11)","v":0}]
[{"$f":"IF(OR('521A_entry'!Q314=\"\",'521A_entry'!Q314=0),\"\",'521A_entry'!Q314)","v":""},null,null,null,null,null,null,null,null,null,null,null,null,{"$f":"IF(OR('521A_entry'!R314=\"\",'521A_entry'!R314=0),\"\",'521A_entry'!R314)","v":""}]
[{"$f":"IF(OR('521A_entry'!Q315=\"\",'521A_entry'!Q315=0),\"\",'521A_entry'!Q315)","v":""},null,null,null,null,null,null,null,null,null,null,null,null,{"$f":"IF(OR('521A_entry'!R315=\"\",'521A_entry'!R315=0),\"\",'521A_entry'!R315)","v":""}]
[{"$f":"IF(OR('521A_entry'!Q316=\"\",'521A_entry'!Q316=0),\"\",'521A_entry'!Q316)","v":""},null,null,null,null,null,null,null,null,null,null,null,null,{"$f":"IF(OR('521A_entry'!R316=\"\",'521A_entry'!R316=0),\"\",'521A_entry'!R316)","v":""}]
[{"$f":"IF(OR('521A_entry'!Q317=\"\",'521A_entry'!Q317=0),\"\",'521A_entry'!Q317)","v":""},null,null,null,null,null,null,null,null,null,null,null,null,{"$f":"IF(OR('521A_entry'!R317=\"\",'521A_entry'!R317=0),\"\",'521A_entry'!R317)","v":""}]
[{"$f":"IF(OR('521A_entry'!Q318=\"\",'521A_entry'!Q318=0),\"\",'521A_entry'!Q318)","v":""},null,null,null,null,null,null,null,null,null,null,null,null,{"$f":"IF(OR('521A_entry'!R318=\"\",'521A_entry'!R318=0),\"\",'521A_entry'!R318)","v":""}]
[{"$f":"IF(OR('521A_entry'!Q319=\"\",'521A_entry'!Q319=0),\"\",'521A_entry'!Q319)","v":""},null,null,null,null,null,null,null,null,null,null,null,null,{"$f":"IF(OR('521A_entry'!R319=\"\",'521A_entry'!R319=0),\"\",'521A_entry'!R319)","v":""}]
[{"$f":"IF(OR('521A_entry'!Q320=\"\",'521A_entry'!Q320=0),\"\",'521A_entry'!Q320)","v":""},null,null,null,null,null,null,null,null,null,null,null,null,{"$f":"IF(OR('521A_entry'!R320=\"\",'521A_entry'!R320=0),\"\",'521A_entry'!R320)","v":""}]
[{"$f":"IF(OR('521A_entry'!Q321=\"\",'521A_entry'!Q321=0),\"\",'521A_entry'!Q321)","v":""},null,null,null,null,null,null,null,null,null,null,null,null,{"$f":"IF(OR('521A_entry'!R321=\"\",'521A_entry'!R321=0),\"\",'521A_entry'!R321)","v":""}]
["37. Total Expected Revenue from Eligible Inventory Based Crops/Commodities (sum amounts in column for Item 36):",null,null,null,null,null,null,null,null,null,null,null,null,{"$f":"$N$86","v":0}]
["FSA-521-A (01-23-2023)",null,null,null,null,"1.  Applicant Name",null,null,null,null,null,null,null,"2.  Application Number:"]
[{"$f":"\"Page 12 of \"&$R$3","v":"Page 12 of 4"},null,null,null,null,{"$f":"IF(K334=\"\",\"\",K334)","v":""}]
["SECTION E – ELIGIBLE VALUE-ADDED COMMODITIES"]
["25. Commodity:",null,null,null,null,null,null,null,null,null,null,null,null,"26. Expected Revenue:",null,null,null,{"$f":"IF(AND(A442=\"\",N442=\"\"),0,12)","v":0}]
[{"$f":"IF(OR('521A_entry'!L298=\"\",'521A_entry'!L298=0),\"\",'521A_entry'!L298)","v":""},null,null,null,null,null,null,null,null,null,null,null,null,{"$f":"IF(OR('521A_entry'!M298=\"\",'521A_entry'!M298=0),\"\",'521A_entry'!M298)","v":""}]
[{"$f":"IF(OR('521A_entry'!L299=\"\",'521A_entry'!L299=0),\"\",'521A_entry'!L299)","v":""},null,null,null,null,null,null,null,null,null,null,null,null,{"$f":"IF(OR('521A_entry'!M299=\"\",'521A_entry'!M299=0),\"\",'521A_entry'!M299)","v":""}]
[{"$f":"IF(OR('521A_entry'!L300=\"\",'521A_entry'!L300=0),\"\",'521A_entry'!L300)","v":""},null,null,null,null,null,null,null,null,null,null,null,null,{"$f":"IF(OR('521A_entry'!M300=\"\",'521A_entry'!M300=0),\"\",'521A_entry'!M300)","v":""}]
[{"$f":"IF(OR('521A_entry'!L301=\"\",'521A_entry'!L301=0),\"\",'521A_entry'!L301)","v":""},null,null,null,null,null,null,null,null,null,null,null,null,{"$f":"IF(OR('521A_entry'!M301=\"\",'521A_entry'!M301=0),\"\",'521A_entry'!M301)","v":""}]
[{"$f":"IF(OR('521A_entry'!L302=\"\",'521A_entry'!L302=0),\"\",'521A_entry'!L302)","v":""},null,null,null,null,null,null,null,null,null,null,null,null,{"$f":"IF(OR('521A_entry'!M302=\"\",'521A_entry'!M302=0),\"\",'521A_entry'!M302)","v":""}]
["27. Total Expected Revenue from Eligible Value Added Commodities (sum amounts in column for Item 26):",null,null,null,null,null,null,null,null,null,null,null,null,{"$f":"$N$49","v":0}]
["SECTION F – ELIGIBLE YIELD BASED CROPS/COMMODITIES"]
["28. Crop/Commodity:",null,null,null,null,null,null,"29. Expected Acres:",null,"30. Expected Yield:\nPer Acre","31. Unit of Measure:","32. Expected Price:\n(Per Unit)",null,"33.  Expected Revenue:"]
[]
[]
[]
[]
[]
[]
[]
[]
[]
[]
[]
[]
[]
[]
[]
[]
[]
[]
[]
[]
[]
[]
[]
["34. Total Expected Revenue from Eligible Yield Based Crops/Commodities (sum amounts in column for Item 33):",null,null,null,null,null,null,null,null,null,null,null,null,{"$f":"$N$75","v":0}]
["SECTION G – ELIGIBLE INVENTORY BASED CROPS/COMMODITIES"]
["35. Crops/Commodity:",null,null,null,null,null,null,null,null,null,null,null,null,"36. Expected Revenue:",null,null,null,{"$f":"IF(AND(A476=\"\",N476=\"\"),0,12)","v":0}]
[{"$f":"IF(OR('521A_entry'!Q323=\"\",'521A_entry'!Q323=0),\"\",'521A_entry'!Q323)","v":""},null,null,null,null,null,null,null,null,null,null,null,null,{"$f":"IF(OR('521A_entry'!R323=\"\",'521A_entry'!R323=0),\"\",'521A_entry'!R323)","v":""}]
[{"$f":"IF(OR('521A_entry'!Q324=\"\",'521A_entry'!Q324=0),\"\",'521A_entry'!Q324)","v":""},null,null,null,null,null,null,null,null,null,null,null,null,{"$f":"IF(OR('521A_entry'!R324=\"\",'521A_entry'!R324=0),\"\",'521A_entry'!R324)","v":""}]
[{"$f":"IF(OR('521A_entry'!Q325=\"\",'521A_entry'!Q325=0),\"\",'521A_entry'!Q325)","v":""},null,null,null,null,null,null,null,null,null,null,null,null,{"$f":"IF(OR('521A_entry'!R325=\"\",'521A_entry'!R325=0),\"\",'521A_entry'!R325)","v":""}]
[{"$f":"IF(OR('521A_entry'!Q326=\"\",'521A_entry'!Q326=0),\"\",'521A_entry'!Q326)","v":""},null,null,null,null,null,null,null,null,null,null,null,null,{"$f":"IF(OR('521A_entry'!R326=\"\",'521A_entry'!R326=0),\"\",'521A_entry'!R326)","v":""}]
[{"$f":"IF(OR('521A_entry'!Q327=\"\",'521A_entry'!Q327=0),\"\",'521A_entry'!Q327)","v":""},null,null,null,null,null,null,null,null,null,null,null,null,{"$f":"IF(OR('521A_entry'!R327=\"\",'521A_entry'!R327=0),\"\",'521A_entry'!R327)","v":""}]
[{"$f":"IF(OR('521A_entry'!Q328=\"\",'521A_entry'!Q328=0),\"\",'521A_entry'!Q328)","v":""},null,null,null,null,null,null,null,null,null,null,null,null,{"$f":"IF(OR('521A_entry'!R328=\"\",'521A_entry'!R328=0),\"\",'521A_entry'!R328)","v":""}]
[{"$f":"IF(OR('521A_entry'!Q329=\"\",'521A_entry'!Q329=0),\"\",'521A_entry'!Q329)","v":""},null,null,null,null,null,null,null,null,null,null,null,null,{"$f":"IF(OR('521A_entry'!R329=\"\",'521A_entry'!R329=0),\"\",'521A_entry'!R329)","v":""}]
[{"$f":"IF(OR('521A_entry'!Q330=\"\",'521A_entry'!Q330=0),\"\",'521A_entry'!Q330)","v":""},null,null,null,null,null,null,null,null,null,null,null,null,{"$f":"IF(OR('521A_entry'!R330=\"\",'521A_entry'!R330=0),\"\",'521A_entry'!R330)","v":""}]
["37. Total Expected Revenue from Eligible Inventory Based Crops/Commodities (sum amounts in column for Item 36):",null,null,null,null,null,null,null,null,null,null,null,null,{"$f":"$N$86","v":0}]
["FSA-521-A (01-23-2023)",null,null,null,null,"1.  Applicant Name",null,null,null,null,null,null,null,"2.  Application Number:"]
[{"$f":"\"Page 13 of \"&$R$3","v":"Page 13 of 4"},null,null,null,null,{"$f":"IF(K381=\"\",\"\",K381)","v":""}]
["SECTION E – ELIGIBLE VALUE-ADDED COMMODITIES"]
["25. Commodity:",null,null,null,null,null,null,null,null,null,null,null,null,"26. Expected Revenue:",null,null,null,{"$f":"IF(AND(A489=\"\",N489=\"\"),0,13)","v":0}]
[{"$f":"IF(OR('521A_entry'!L303=\"\",'521A_entry'!L303=0),\"\",'521A_entry'!L303)","v":""},null,null,null,null,null,null,null,null,null,null,null,null,{"$f":"IF(OR('521A_entry'!M303=\"\",'521A_entry'!M303=0),\"\",'521A_entry'!M303)","v":""}]
[{"$f":"IF(OR('521A_entry'!L304=\"\",'521A_entry'!L304=0),\"\",'521A_entry'!L304)","v":""},null,null,null,null,null,null,null,null,null,null,null,null,{"$f":"IF(OR('521A_entry'!M304=\"\",'521A_entry'!M304=0),\"\",'521A_entry'!M304)","v":""}]
[{"$f":"IF(OR('521A_entry'!L305=\"\",'521A_entry'!L305=0),\"\",'521A_entry'!L305)","v":""},null,null,null,null,null,null,null,null,null,null,null,null,{"$f":"IF(OR('521A_entry'!M305=\"\",'521A_entry'!M305=0),\"\",'521A_entry'!M305)","v":""}]
[{"$f":"IF(OR('521A_entry'!L306=\"\",'521A_entry'!L306=0),\"\",'521A_entry'!L306)","v":""},null,null,null,null,null,null,null,null,null,null,null,null,{"$f":"IF(OR('521A_entry'!M306=\"\",'521A_entry'!M306=0),\"\",'521A_entry'!M306)","v":""}]
[{"$f":"IF(OR('521A_entry'!L307=\"\",'521A_entry'!L307=0),\"\",'521A_entry'!L307)","v":""},null,null,null,null,null,null,null,null,null,null,null,null,{"$f":"IF(OR('521A_entry'!M307=\"\",'521A_entry'!M307=0),\"\",'521A_entry'!M307)","v":""}]
["27. Total Expected Revenue from Eligible Value Added Commodities (sum amounts in column for Item 26):",null,null,null,null,null,null,null,null,null,null,null,null,{"$f":"$N$49","v":0}]
["SECTION F – ELIGIBLE YIELD-BASED CROPS/COMMODITIES"]
["28. Crop/Commodity:",null,null,null,null,null,null,"29. Expected Acres:",null,"30. Expected Yield:\nPer Acre","31. Unit of Measure:","32. Expected Price:\n(Per Unit)",null,"33.  Expected Revenue:"]
[]
[]
[]
[]
[]
[]
[]
[]
[]
[]
[]
[]
[]
[]
[]
[]
[]
[]
[]
[]
[]
[]
[]
["34. Total Expected Revenue from Eligible Yield Based Crops/Commodities (sum amounts in column for Item 33):",null,null,null,null,null,null,null,null,null,null,null,null,{"$f":"$N$75","v":0}]
["SECTION G – ELIGIBLE INVENTORY-BASED CROPS/COMMODITIES"]
["35. Crops/Commodity:",null,null,null,null,null,null,null,null,null,null,null,null,"36. Expected Revenue:",null,null,null,{"$f":"IF(AND(A523=\"\",N523=\"\"),0,13)","v":0}]
[{"$f":"IF(OR('521A_entry'!Q331=\"\",'521A_entry'!Q331=0),\"\",'521A_entry'!Q331)","v":""},null,null,null,null,null,null,null,null,null,null,null,null,{"$f":"IF(OR('521A_entry'!R331=\"\",'521A_entry'!R331=0),\"\",'521A_entry'!R331)","v":""}]
[{"$f":"IF(OR('521A_entry'!Q332=\"\",'521A_entry'!Q332=0),\"\",'521A_entry'!Q332)","v":""},null,null,null,null,null,null,null,null,null,null,null,null,{"$f":"IF(OR('521A_entry'!R332=\"\",'521A_entry'!R332=0),\"\",'521A_entry'!R332)","v":""}]
[{"$f":"IF(OR('521A_entry'!Q333=\"\",'521A_entry'!Q333=0),\"\",'521A_entry'!Q333)","v":""},null,null,null,null,null,null,null,null,null,null,null,null,{"$f":"IF(OR('521A_entry'!R333=\"\",'521A_entry'!R333=0),\"\",'521A_entry'!R333)","v":""}]
[{"$f":"IF(OR('521A_entry'!Q334=\"\",'521A_entry'!Q334=0),\"\",'521A_entry'!Q334)","v":""},null,null,null,null,null,null,null,null,null,null,null,null,{"$f":"IF(OR('521A_entry'!R334=\"\",'521A_entry'!R334=0),\"\",'521A_entry'!R334)","v":""}]
[{"$f":"IF(OR('521A_entry'!Q335=\"\",'521A_entry'!Q335=0),\"\",'521A_entry'!Q335)","v":""},null,null,null,null,null,null,null,null,null,null,null,null,{"$f":"IF(OR('521A_entry'!R335=\"\",'521A_entry'!R335=0),\"\",'521A_entry'!R335)","v":""}]
[{"$f":"IF(OR('521A_entry'!Q336=\"\",'521A_entry'!Q336=0),\"\",'521A_entry'!Q336)","v":""},null,null,null,null,null,null,null,null,null,null,null,null,{"$f":"IF(OR('521A_entry'!R336=\"\",'521A_entry'!R336=0),\"\",'521A_entry'!R336)","v":""}]
[{"$f":"IF(OR('521A_entry'!Q337=\"\",'521A_entry'!Q337=0),\"\",'521A_entry'!Q337)","v":""},null,null,null,null,null,null,null,null,null,null,null,null,{"$f":"IF(OR('521A_entry'!R337=\"\",'521A_entry'!R337=0),\"\",'521A_entry'!R337)","v":""}]
[{"$f":"IF(OR('521A_entry'!Q338=\"\",'521A_entry'!Q338=0),\"\",'521A_entry'!Q338)","v":""},null,null,null,null,null,null,null,null,null,null,null,null,{"$f":"IF(OR('521A_entry'!R338=\"\",'521A_entry'!R338=0),\"\",'521A_entry'!R338)","v":""}]
["37. Total Expected Revenue from Eligible Inventory Based Crops/Commodities (sum amounts in column for Item 36):",null,null,null,null,null,null,null,null,null,null,null,null,{"$f":"$N$86","v":0}]
["FSA-521-A (01-23-2023)",null,null,null,null,"1.  Applicant Name",null,null,null,null,null,null,null,"2.  Application Number:"]
[{"$f":"\"Page 14 of \"&$R$3","v":"Page 14 of 4"},null,null,null,null,{"$f":"IF(K428=\"\",\"\",K428)","v":""}]
["SECTION E – ELIGIBLE VALUE-ADDED COMMODITIES"]
["25. Commodity:",null,null,null,null,null,null,null,null,null,null,null,null,"26. Expected Revenue:",null,null,null,{"$f":"IF(AND(A536=\"\",N536=\"\"),0,14)","v":0}]
[{"$f":"IF(OR('521A_entry'!L308=\"\",'521A_entry'!L308=0),\"\",'521A_entry'!L308)","v":""},null,null,null,null,null,null,null,null,null,null,null,null,{"$f":"IF(OR('521A_entry'!M308=\"\",'521A_entry'!M308=0),\"\",'521A_entry'!M308)","v":""}]
[{"$f":"IF(OR('521A_entry'!L309=\"\",'521A_entry'!L309=0),\"\",'521A_entry'!L309)","v":""},null,null,null,null,null,null,null,null,null,null,null,null,{"$f":"IF(OR('521A_entry'!M309=\"\",'521A_entry'!M309=0),\"\",'521A_entry'!M309)","v":""}]
[{"$f":"IF(OR('521A_entry'!L310=\"\",'521A_entry'!L310=0),\"\",'521A_entry'!L310)","v":""},null,null,null,null,null,null,null,null,null,null,null,null,{"$f":"IF(OR('521A_entry'!M310=\"\",'521A_entry'!M310=0),\"\",'521A_entry'!M310)","v":""}]
[{"$f":"IF(OR('521A_entry'!L311=\"\",'521A_entry'!L311=0),\"\",'521A_entry'!L311)","v":""},null,null,null,null,null,null,null,null,null,null,null,null,{"$f":"IF(OR('521A_entry'!M311=\"\",'521A_entry'!M311=0),\"\",'521A_entry'!M311)","v":""}]
[{"$f":"IF(OR('521A_entry'!L312=\"\",'521A_entry'!L312=0),\"\",'521A_entry'!L312)","v":""},null,null,null,null,null,null,null,null,null,null,null,null,{"$f":"IF(OR('521A_entry'!M312=\"\",'521A_entry'!M312=0),\"\",'521A_entry'!M312)","v":""}]
["27. Total Expected Revenue from Eligible Value Added Commodities (sum amounts in column for Item 26):",null,null,null,null,null,null,null,null,null,null,null,null,{"$f":"$N$49","v":0}]
["SECTION F – ELIGIBLE YIELD-BASED CROPS/COMMODITIES"]
["28. Crop/Commodity:",null,null,null,null,null,null,"29. Expected Acres:",null,"30. Expected Yield:\nPer Acre","31. Unit of Measure:","32. Expected Price:\n(Per Unit)",null,"33.  Expected Revenue:"]
[]
[]
[]
[]
[]
[]
[]
[]
[]
[]
[]
[]
[]
[]
[]
[]
[]
[]
[]
[]
[]
[]
[]
["34. Total Expected Revenue from Eligible Yield Based Crops/Commodities (sum amounts in column for Item 33):",null,null,null,null,null,null,null,null,null,null,null,null,{"$f":"$N$75","v":0}]
["SECTION G – ELIGIBLE INVENTORY-BASED CROPS/COMMODITIES"]
["35. Crops/Commodity:",null,null,null,null,null,null,null,null,null,null,null,null,"36. Expected Revenue:",null,null,null,{"$f":"IF(AND(A570=\"\",N570=\"\"),0,14)","v":0}]
[{"$f":"IF(OR('521A_entry'!Q339=\"\",'521A_entry'!Q339=0),\"\",'521A_entry'!Q339)","v":""},null,null,null,null,null,null,null,null,null,null,null,null,{"$f":"IF(OR('521A_entry'!R339=\"\",'521A_entry'!R339=0),\"\",'521A_entry'!R339)","v":""}]
[{"$f":"IF(OR('521A_entry'!Q340=\"\",'521A_entry'!Q340=0),\"\",'521A_entry'!Q340)","v":""},null,null,null,null,null,null,null,null,null,null,null,null,{"$f":"IF(OR('521A_entry'!R340=\"\",'521A_entry'!R340=0),\"\",'521A_entry'!R340)","v":""}]
[{"$f":"IF(OR('521A_entry'!Q341=\"\",'521A_entry'!Q341=0),\"\",'521A_entry'!Q341)","v":""},null,null,null,null,null,null,null,null,null,null,null,null,{"$f":"IF(OR('521A_entry'!R341=\"\",'521A_entry'!R341=0),\"\",'521A_entry'!R341)","v":""}]
[{"$f":"IF(OR('521A_entry'!Q342=\"\",'521A_entry'!Q342=0),\"\",'521A_entry'!Q342)","v":""},null,null,null,null,null,null,null,null,null,null,null,null,{"$f":"IF(OR('521A_entry'!R342=\"\",'521A_entry'!R342=0),\"\",'521A_entry'!R342)","v":""}]
[{"$f":"IF(OR('521A_entry'!Q343=\"\",'521A_entry'!Q343=0),\"\",'521A_entry'!Q343)","v":""},null,null,null,null,null,null,null,null,null,null,null,null,{"$f":"IF(OR('521A_entry'!R343=\"\",'521A_entry'!R343=0),\"\",'521A_entry'!R343)","v":""}]
[{"$f":"IF(OR('521A_entry'!Q344=\"\",'521A_entry'!Q344=0),\"\",'521A_entry'!Q344)","v":""},null,null,null,null,null,null,null,null,null,null,null,null,{"$f":"IF(OR('521A_entry'!R344=\"\",'521A_entry'!R344=0),\"\",'521A_entry'!R344)","v":""}]
[{"$f":"IF(OR('521A_entry'!Q345=\"\",'521A_entry'!Q345=0),\"\",'521A_entry'!Q345)","v":""},null,null,null,null,null,null,null,null,null,null,null,null,{"$f":"IF(OR('521A_entry'!R345=\"\",'521A_entry'!R345=0),\"\",'521A_entry'!R345)","v":""}]
[{"$f":"IF(OR('521A_entry'!Q346=\"\",'521A_entry'!Q346=0),\"\",'521A_entry'!Q346)","v":""},null,null,null,null,null,null,null,null,null,null,null,null,{"$f":"IF(OR('521A_entry'!R346=\"\",'521A_entry'!R346=0),\"\",'521A_entry'!R346)","v":""}]
["37. Total Expected Revenue from Eligible Inventory Based Crops/Commodities (sum amounts in column for Item 36):",null,null,null,null,null,null,null,null,null,null,null,null,{"$f":"$N$86","v":0}]
["FSA-521-A (01-23-2023)",null,null,null,null,"1.  Applicant Name",null,null,null,null,null,null,null,"2.  Application Number:"]
[{"$f":"\"Page 15 of \"&$R$3","v":"Page 15 of 4"},null,null,null,null,{"$f":"IF(K475=\"\",\"\",K475)","v":""}]
["SECTION E – ELIGIBLE VALUE-ADDED COMMODITIES"]
["25. Commodity:",null,null,null,null,null,null,null,null,null,null,null,null,"26. Expected Revenue:",null,null,null,{"$f":"IF(AND(A583=\"\",N583=\"\"),0,15)","v":0}]
[{"$f":"IF(OR('521A_entry'!L313=\"\",'521A_entry'!L313=0),\"\",'521A_entry'!L313)","v":""},null,null,null,null,null,null,null,null,null,null,null,null,{"$f":"IF(OR('521A_entry'!M313=\"\",'521A_entry'!M313=0),\"\",'521A_entry'!M313)","v":""}]
[{"$f":"IF(OR('521A_entry'!L314=\"\",'521A_entry'!L314=0),\"\",'521A_entry'!L314)","v":""},null,null,null,null,null,null,null,null,null,null,null,null,{"$f":"IF(OR('521A_entry'!M314=\"\",'521A_entry'!M314=0),\"\",'521A_entry'!M314)","v":""}]
[{"$f":"IF(OR('521A_entry'!L315=\"\",'521A_entry'!L315=0),\"\",'521A_entry'!L315)","v":""},null,null,null,null,null,null,null,null,null,null,null,null,{"$f":"IF(OR('521A_entry'!M315=\"\",'521A_entry'!M315=0),\"\",'521A_entry'!M315)","v":""}]
[{"$f":"IF(OR('521A_entry'!L316=\"\",'521A_entry'!L316=0),\"\",'521A_entry'!L316)","v":""},null,null,null,null,null,null,null,null,null,null,null,null,{"$f":"IF(OR('521A_entry'!M316=\"\",'521A_entry'!M316=0),\"\",'521A_entry'!M316)","v":""}]
[{"$f":"IF(OR('521A_entry'!L317=\"\",'521A_entry'!L317=0),\"\",'521A_entry'!L317)","v":""},null,null,null,null,null,null,null,null,null,null,null,null,{"$f":"IF(OR('521A_entry'!M317=\"\",'521A_entry'!M317=0),\"\",'521A_entry'!M317)","v":""}]
["27. Total Expected Revenue from Eligible Value Added Commodities (sum amounts in column for Item 26):",null,null,null,null,null,null,null,null,null,null,null,null,{"$f":"$N$49","v":0}]
["SECTION F – ELIGIBLE YIELD-BASED CROPS/COMMODITIES"]
["28. Crop/Commodity:",null,null,null,null,null,null,"29. Expected Acres:",null,"30. Expected Yield:\nPer Acre","31. Unit of Measure:","32. Expected Price:\n(Per Unit)",null,"33.  Expected Revenue:"]
[]
[]
[]
[]
[]
[]
[]
[]
[]
[]
[]
[]
[]
[]
[]
[]
[]
[]
[]
[]
[]
[]
[]
["34. Total Expected Revenue from Eligible Yield Based Crops/Commodities (sum amounts in column for Item 33):",null,null,null,null,null,null,null,null,null,null,null,null,{"$f":"$N$75","v":0}]
["SECTION G – ELIGIBLE INVENTORY-BASED CROPS/COMMODITIES"]
["35. Crops/Commodity:",null,null,null,null,null,null,null,null,null,null,null,null,"36. Expected Revenue:",null,null,null,{"$f":"IF(AND(A617=\"\",N617=\"\"),0,15)","v":0}]
[{"$f":"IF(OR('521A_entry'!Q347=\"\",'521A_entry'!Q347=0),\"\",'521A_entry'!Q347)","v":""},null,null,null,null,null,null,null,null,null,null,null,null,{"$f":"IF(OR('521A_entry'!R347=\"\",'521A_entry'!R347=0),\"\",'521A_entry'!R347)","v":""}]
[{"$f":"IF(OR('521A_entry'!Q348=\"\",'521A_entry'!Q348=0),\"\",'521A_entry'!Q348)","v":""},null,null,null,null,null,null,null,null,null,null,null,null,{"$f":"IF(OR('521A_entry'!R348=\"\",'521A_entry'!R348=0),\"\",'521A_entry'!R348)","v":""}]
[{"$f":"IF(OR('521A_entry'!Q349=\"\",'521A_entry'!Q349=0),\"\",'521A_entry'!Q349)","v":""},null,null,null,null,null,null,null,null,null,null,null,null,{"$f":"IF(OR('521A_entry'!R349=\"\",'521A_entry'!R349=0),\"\",'521A_entry'!R349)","v":""}]
[{"$f":"IF(OR('521A_entry'!Q350=\"\",'521A_entry'!Q350=0),\"\",'521A_entry'!Q350)","v":""},null,null,null,null,null,null,null,null,null,null,null,null,{"$f":"IF(OR('521A_entry'!R350=\"\",'521A_entry'!R350=0),\"\",'521A_entry'!R350)","v":""}]
[{"$f":"IF(OR('521A_entry'!Q351=\"\",'521A_entry'!Q351=0),\"\",'521A_entry'!Q351)","v":""},null,null,null,null,null,null,null,null,null,null,null,null,{"$f":"IF(OR('521A_entry'!R351=\"\",'521A_entry'!R351=0),\"\",'521A_entry'!R351)","v":""}]
[{"$f":"IF(OR('521A_entry'!Q352=\"\",'521A_entry'!Q352=0),\"\",'521A_entry'!Q352)","v":""},null,null,null,null,null,null,null,null,null,null,null,null,{"$f":"IF(OR('521A_entry'!R352=\"\",'521A_entry'!R352=0),\"\",'521A_entry'!R352)","v":""}]
[{"$f":"IF(OR('521A_entry'!Q353=\"\",'521A_entry'!Q353=0),\"\",'521A_entry'!Q353)","v":""},null,null,null,null,null,null,null,null,null,null,null,null,{"$f":"IF(OR('521A_entry'!R353=\"\",'521A_entry'!R353=0),\"\",'521A_entry'!R353)","v":""}]
[{"$f":"IF(OR('521A_entry'!Q354=\"\",'521A_entry'!Q354=0),\"\",'521A_entry'!Q354)","v":""},null,null,null,null,null,null,null,null,null,null,null,null,{"$f":"IF(OR('521A_entry'!R354=\"\",'521A_entry'!R354=0),\"\",'521A_entry'!R354)","v":""}]
["37. Total Expected Revenue from Eligible Inventory Based Crops/Commodities (sum amounts in column for Item 36):",null,null,null,null,null,null,null,null,null,null,null,null,{"$f":"$N$86","v":0}]
["FSA-521-A (01-23-2023)",null,null,null,null,"1.  Applicant Name",null,null,null,null,null,null,null,"2.  Application Number:"]
[{"$f":"\"Page 16 of \"&$R$3","v":"Page 16 of 4"},null,null,null,null,{"$f":"IF(K522=\"\",\"\",K522)","v":""}]
["SECTION E – ELIGIBLE VALUE-ADDED COMMODITIES"]
["25. Commodity:",null,null,null,null,null,null,null,null,null,null,null,null,"26. Expected Revenue:",null,null,null,{"$f":"IF(AND(A630=\"\",N630=\"\"),0,16)","v":0}]
[{"$f":"IF(OR('521A_entry'!L318=\"\",'521A_entry'!L318=0),\"\",'521A_entry'!L318)","v":""},null,null,null,null,null,null,null,null,null,null,null,null,{"$f":"IF(OR('521A_entry'!M318=\"\",'521A_entry'!M318=0),\"\",'521A_entry'!M318)","v":""}]
[{"$f":"IF(OR('521A_entry'!L319=\"\",'521A_entry'!L319=0),\"\",'521A_entry'!L319)","v":""},null,null,null,null,null,null,null,null,null,null,null,null,{"$f":"IF(OR('521A_entry'!M319=\"\",'521A_entry'!M319=0),\"\",'521A_entry'!M319)","v":""}]
[{"$f":"IF(OR('521A_entry'!L320=\"\",'521A_entry'!L320=0),\"\",'521A_entry'!L320)","v":""},null,null,null,null,null,null,null,null,null,null,null,null,{"$f":"IF(OR('521A_entry'!M320=\"\",'521A_entry'!M320=0),\"\",'521A_entry'!M320)","v":""}]
[{"$f":"IF(OR('521A_entry'!L321=\"\",'521A_entry'!L321=0),\"\",'521A_entry'!L321)","v":""},null,null,null,null,null,null,null,null,null,null,null,null,{"$f":"IF(OR('521A_entry'!M321=\"\",'521A_entry'!M321=0),\"\",'521A_entry'!M321)","v":""}]
[{"$f":"IF(OR('521A_entry'!L322=\"\",'521A_entry'!L322=0),\"\",'521A_entry'!L322)","v":""},null,null,null,null,null,null,null,null,null,null,null,null,{"$f":"IF(OR('521A_entry'!M322=\"\",'521A_entry'!M322=0),\"\",'521A_entry'!M322)","v":""}]
["27. Total Expected Revenue from Eligible Value Added Commodities (sum amounts in column for Item 26):",null,null,null,null,null,null,null,null,null,null,null,null,{"$f":"$N$49","v":0}]
["SECTION F – ELIGIBLE YIELD-BASED CROPS/COMMODITIES"]
["28. Crop/Commodity:",null,null,null,null,null,null,"29. Expected Acres:",null,"30. Expected Yield:\nPer Acre","31. Unit of Measure:","32. Expected Price:\n(Per Unit)",null,"33.  Expected Revenue:"]
[]
[]
[]
[]
[]
[]
[]
[]
[]
[]
[]
[]
[]
[]
[]
[]
[]
[]
[]
[]
[]
[]
[]
["34. Total Expected Revenue from Eligible Yield Based Crops/Commodities (sum amounts in column for Item 33):",null,null,null,null,null,null,null,null,null,null,null,null,{"$f":"$N$75","v":0}]
["SECTION G – ELIGIBLE INVENTORY-BASED CROPS/COMMODITIES"]
["35. Crops/Commodity:",null,null,null,null,null,null,null,null,null,null,null,null,"36. Expected Revenue:",null,null,null,{"$f":"IF(AND(A664=\"\",N664=\"\"),0,16)","v":0}]
[{"$f":"IF(OR('521A_entry'!Q354=\"\",'521A_entry'!Q354=0),\"\",'521A_entry'!Q354)","v":""},null,null,null,null,null,null,null,null,null,null,null,null,{"$f":"IF(OR('521A_entry'!R354=\"\",'521A_entry'!R354=0),\"\",'521A_entry'!R354)","v":""}]
[{"$f":"IF(OR('521A_entry'!Q355=\"\",'521A_entry'!Q355=0),\"\",'521A_entry'!Q355)","v":""},null,null,null,null,null,null,null,null,null,null,null,null,{"$f":"IF(OR('521A_entry'!R355=\"\",'521A_entry'!R355=0),\"\",'521A_entry'!R355)","v":""}]
[{"$f":"IF(OR('521A_entry'!Q356=\"\",'521A_entry'!Q356=0),\"\",'521A_entry'!Q356)","v":""},null,null,null,null,null,null,null,null,null,null,null,null,{"$f":"IF(OR('521A_entry'!R356=\"\",'521A_entry'!R356=0),\"\",'521A_entry'!R356)","v":""}]
[{"$f":"IF(OR('521A_entry'!Q248=\"\",'521A_entry'!Q248=0),\"\",'521A_entry'!Q248)","v":""},null,null,null,null,null,null,null,null,null,null,null,null,{"$f":"IF(OR('521A_entry'!R248=\"\",'521A_entry'!R248=0),\"\",'521A_entry'!R248)","v":""}]
[]
[]
[]
[]
["37. Total Expected Revenue from Eligible Inventory Based Crops/Commodities (sum amounts in column for Item 36):",null,null,null,null,null,null,null,null,null,null,null,null,{"$f":"$N$86","v":0}]
["FSA-521-A (01-23-2023)",null,null,null,null,"1.  Applicant Name",null,null,null,null,null,null,null,"2.  Application Number:"]
[{"$f":"\"Page 17 of \"&$R$3","v":"Page 17 of 4"},null,null,null,null,{"$f":"IF(K569=\"\",\"\",K569)","v":""}]
["SECTION E – ELIGIBLE VALUE-ADDED COMMODITIES"]
["25. Commodity:",null,null,null,null,null,null,null,null,null,null,null,null,"26. Expected Revenue:",null,null,null,{"$f":"IF(AND(A677=\"\",N677=\"\"),0,17)","v":0}]
[{"$f":"IF(OR('521A_entry'!L323=\"\",'521A_entry'!L323=0),\"\",'521A_entry'!L323)","v":""},null,null,null,null,null,null,null,null,null,null,null,null,{"$f":"IF(OR('521A_entry'!M323=\"\",'521A_entry'!M323=0),\"\",'521A_entry'!M323)","v":""}]
[{"$f":"IF(OR('521A_entry'!L324=\"\",'521A_entry'!L324=0),\"\",'521A_entry'!L324)","v":""},null,null,null,null,null,null,null,null,null,null,null,null,{"$f":"IF(OR('521A_entry'!M324=\"\",'521A_entry'!M324=0),\"\",'521A_entry'!M324)","v":""}]
[{"$f":"IF(OR('521A_entry'!L325=\"\",'521A_entry'!L325=0),\"\",'521A_entry'!L325)","v":""},null,null,null,null,null,null,null,null,null,null,null,null,{"$f":"IF(OR('521A_entry'!M325=\"\",'521A_entry'!M325=0),\"\",'521A_entry'!M325)","v":""}]
[{"$f":"IF(OR('521A_entry'!L326=\"\",'521A_entry'!L326=0),\"\",'521A_entry'!L326)","v":""},null,null,null,null,null,null,null,null,null,null,null,null,{"$f":"IF(OR('521A_entry'!M326=\"\",'521A_entry'!M326=0),\"\",'521A_entry'!M326)","v":""}]
[{"$f":"IF(OR('521A_entry'!L327=\"\",'521A_entry'!L327=0),\"\",'521A_entry'!L327)","v":""},null,null,null,null,null,null,null,null,null,null,null,null,{"$f":"IF(OR('521A_entry'!M327=\"\",'521A_entry'!M327=0),\"\",'521A_entry'!M327)","v":""}]
["27. Total Expected Revenue from Eligible Value Added Commodities (sum amounts in column for Item 26):",null,null,null,null,null,null,null,null,null,null,null,null,{"$f":"$N$49","v":0}]
["SECTION F – ELIGIBLE YIELD-BASED CROPS/COMMODITIES"]
["28. Crop/Commodity:",null,null,null,null,null,null,"29. Expected Acres:",null,"30. Expected Yield:\nPer Acre","31. Unit of Measure:","32. Expected Price:\n(Per Unit)",null,"33.  Expected Revenue:"]
[]
[]
[]
[]
[]
[]
[]
[]
[]
[]
[]
[]
[]
[]
[]
[]
[]
[]
[]
[]
[]
[]
[]
["34. Total Expected Revenue from Eligible Yield Based Crops/Commodities (sum amounts in column for Item 33):",null,null,null,null,null,null,null,null,null,null,null,null,{"$f":"$N$75","v":0}]
["SECTION G – ELIGIBLE INVENTORY-BASED CROPS/COMMODITIES"]
["35. Crops/Commodity:",null,null,null,null,null,null,null,null,null,null,null,null,"36. Expected Revenue:"]
[]
[]
[]
[]
[]
[]
[]
[]
["37. Total Expected Revenue from Eligible Inventory Based Crops/Commodities (sum amounts in column for Item 36):",null,null,null,null,null,null,null,null,null,null,null,null,{"$f":"$N$86","v":0}]
["FSA-521-A (01-23-2023)",null,null,null,null,"1.  Applicant Name",null,null,null,null,null,null,null,"2.  Application Number:"]
[{"$f":"\"Page 18 of \"&$R$3","v":"Page 18 of 4"},null,null,null,null,{"$f":"IF(K616=\"\",\"\",K616)","v":""}]
["SECTION E – ELIGIBLE VALUE-ADDED COMMODITIES"]
["25. Commodity:",null,null,null,null,null,null,null,null,null,null,null,null,"26. Expected Revenue:",null,null,null,{"$f":"IF(AND(A724=\"\",N724=\"\"),0,18)","v":0}]
[{"$f":"IF(OR('521A_entry'!L328=\"\",'521A_entry'!L328=0),\"\",'521A_entry'!L328)","v":""},null,null,null,null,null,null,null,null,null,null,null,null,{"$f":"IF(OR('521A_entry'!M328=\"\",'521A_entry'!M328=0),\"\",'521A_entry'!M328)","v":""}]
[{"$f":"IF(OR('521A_entry'!L329=\"\",'521A_entry'!L329=0),\"\",'521A_entry'!L329)","v":""},null,null,null,null,null,null,null,null,null,null,null,null,{"$f":"IF(OR('521A_entry'!M329=\"\",'521A_entry'!M329=0),\"\",'521A_entry'!M329)","v":""}]
[{"$f":"IF(OR('521A_entry'!L330=\"\",'521A_entry'!L330=0),\"\",'521A_entry'!L330)","v":""},null,null,null,null,null,null,null,null,null,null,null,null,{"$f":"IF(OR('521A_entry'!M330=\"\",'521A_entry'!M330=0),\"\",'521A_entry'!M330)","v":""}]
[{"$f":"IF(OR('521A_entry'!L331=\"\",'521A_entry'!L331=0),\"\",'521A_entry'!L331)","v":""},null,null,null,null,null,null,null,null,null,null,null,null,{"$f":"IF(OR('521A_entry'!M331=\"\",'521A_entry'!M331=0),\"\",'521A_entry'!M331)","v":""}]
[{"$f":"IF(OR('521A_entry'!L332=\"\",'521A_entry'!L332=0),\"\",'521A_entry'!L332)","v":""},null,null,null,null,null,null,null,null,null,null,null,null,{"$f":"IF(OR('521A_entry'!M332=\"\",'521A_entry'!M332=0),\"\",'521A_entry'!M332)","v":""}]
["27. Total Expected Revenue from Eligible Value Added Commodities (sum amounts in column for Item 26):",null,null,null,null,null,null,null,null,null,null,null,null,{"$f":"$N$49","v":0}]
["SECTION F – ELIGIBLE YIELD-BASED CROPS/COMMODITIES"]
["28. Crop/Commodity:",null,null,null,null,null,null,"29. Expected Acres:",null,"30. Expected Yield:\nPer Acre","31. Unit of Measure:","32. Expected Price:\n(Per Unit)",null,"33.  Expected Revenue:"]
[]
[]
[]
[]
[]
[]
[]
[]
[]
[]
[]
[]
[]
[]
[]
[]
[]
[]
[]
[]
[]
[]
[]
["34. Total Expected Revenue from Eligible Yield Based Crops/Commodities (sum amounts in column for Item 33):",null,null,null,null,null,null,null,null,null,null,null,null,{"$f":"$N$75","v":0}]
["SECTION G – ELIGIBLE INVENTORY-BASED CROPS/COMMODITIES"]
["35. Crops/Commodity:",null,null,null,null,null,null,null,null,null,null,null,null,"36. Expected Revenue:"]
[]
[]
[]
[]
[]
[]
[]
[]
["37. Total Expected Revenue from Eligible Inventory Based Crops/Commodities (sum amounts in column for Item 36):",null,null,null,null,null,null,null,null,null,null,null,null,{"$f":"$N$86","v":0}]
["FSA-521-A (01-23-2023)",null,null,null,null,"1.  Applicant Name",null,null,null,null,null,null,null,"2.  Application Number:"]
[{"$f":"\"Page 19 of \"&$R$3","v":"Page 19 of 4"},null,null,null,null,{"$f":"IF(K663=\"\",\"\",K663)","v":""}]
["SECTION E – ELIGIBLE VALUE-ADDED COMMODITIES"]
["25. Commodity:",null,null,null,null,null,null,null,null,null,null,null,null,"26. Expected Revenue:",null,null,null,{"$f":"IF(AND(A771=\"\",N771=\"\"),0,19)","v":0}]
[{"$f":"IF(OR('521A_entry'!L333=\"\",'521A_entry'!L333=0),\"\",'521A_entry'!L333)","v":""},null,null,null,null,null,null,null,null,null,null,null,null,{"$f":"IF(OR('521A_entry'!M333=\"\",'521A_entry'!M333=0),\"\",'521A_entry'!M333)","v":""}]
[{"$f":"IF(OR('521A_entry'!L334=\"\",'521A_entry'!L334=0),\"\",'521A_entry'!L334)","v":""},null,null,null,null,null,null,null,null,null,null,null,null,{"$f":"IF(OR('521A_entry'!M334=\"\",'521A_entry'!M334=0),\"\",'521A_entry'!M334)","v":""}]
[{"$f":"IF(OR('521A_entry'!L335=\"\",'521A_entry'!L335=0),\"\",'521A_entry'!L335)","v":""},null,null,null,null,null,null,null,null,null,null,null,null,{"$f":"IF(OR('521A_entry'!M335=\"\",'521A_entry'!M335=0),\"\",'521A_entry'!M335)","v":""}]
[{"$f":"IF(OR('521A_entry'!L336=\"\",'521A_entry'!L336=0),\"\",'521A_entry'!L336)","v":""},null,null,null,null,null,null,null,null,null,null,null,null,{"$f":"IF(OR('521A_entry'!M336=\"\",'521A_entry'!M336=0),\"\",'521A_entry'!M336)","v":""}]
[{"$f":"IF(OR('521A_entry'!L337=\"\",'521A_entry'!L337=0),\"\",'521A_entry'!L337)","v":""},null,null,null,null,null,null,null,null,null,null,null,null,{"$f":"IF(OR('521A_entry'!M337=\"\",'521A_entry'!M337=0),\"\",'521A_entry'!M337)","v":""}]
["27. Total Expected Revenue from Eligible Value Added Commodities (sum amounts in column for Item 26):",null,null,null,null,null,null,null,null,null,null,null,null,{"$f":"$N$49","v":0}]
["SECTION F – ELIGIBLE YIELD-BASED CROPS/COMMODITIES"]
["28. Crop/Commodity:",null,null,null,null,null,null,"29. Expected Acres:",null,"30. Expected Yield:\nPer Acre","31. Unit of Measure:","32. Expected Price:\n(Per Unit)",null,"33.  Expected Revenue:"]
[]
[]
[]
[]
[]
[]
[]
[]
[]
[]
[]
[]
[]
[]
[]
[]
[]
[]
[]
[]
[]
[]
[]
["34. Total Expected Revenue from Eligible Yield Based Crops/Commodities (sum amounts in column for Item 33):",null,null,null,null,null,null,null,null,null,null,null,null,{"$f":"$N$75","v":0}]
["SECTION G – ELIGIBLE INVENTORY-BASED CROPS/COMMODITIES"]
["35. Crops/Commodity:",null,null,null,null,null,null,null,null,null,null,null,null,"36. Expected Revenue:"]
[]
[]
[]
[]
[]
[]
[]
[]
["37. Total Expected Revenue from Eligible Inventory Based Crops/Commodities (sum amounts in column for Item 36):",null,null,null,null,null,null,null,null,null,null,null,null,{"$f":"$N$86","v":0}]
["FSA-521-A (01-23-2023)",null,null,null,null,"1.  Applicant Name",null,null,null,null,null,null,null,"2.  Application Number:"]
[{"$f":"\"Page 20 of \"&$R$3","v":"Page 20 of 4"},null,null,null,null,{"$f":"IF(K710=\"\",\"\",K710)","v":""}]
["SECTION E – ELIGIBLE VALUE-ADDED COMMODITIES"]
["25. Commodity:",null,null,null,null,null,null,null,null,null,null,null,null,"26. Expected Revenue:",null,null,null,{"$f":"IF(AND(A818=\"\",N818=\"\"),0,20)","v":0}]
[{"$f":"IF(OR('521A_entry'!L338=\"\",'521A_entry'!L338=0),\"\",'521A_entry'!L338)","v":""},null,null,null,null,null,null,null,null,null,null,null,null,{"$f":"IF(OR('521A_entry'!M338=\"\",'521A_entry'!M338=0),\"\",'521A_entry'!M338)","v":""}]
[{"$f":"IF(OR('521A_entry'!L339=\"\",'521A_entry'!L339=0),\"\",'521A_entry'!L339)","v":""},null,null,null,null,null,null,null,null,null,null,null,null,{"$f":"IF(OR('521A_entry'!M339=\"\",'521A_entry'!M339=0),\"\",'521A_entry'!M339)","v":""}]
[{"$f":"IF(OR('521A_entry'!L340=\"\",'521A_entry'!L340=0),\"\",'521A_entry'!L340)","v":""},null,null,null,null,null,null,null,null,null,null,null,null,{"$f":"IF(OR('521A_entry'!M340=\"\",'521A_entry'!M340=0),\"\",'521A_entry'!M340)","v":""}]
[{"$f":"IF(OR('521A_entry'!L341=\"\",'521A_entry'!L341=0),\"\",'521A_entry'!L341)","v":""},null,null,null,null,null,null,null,null,null,null,null,null,{"$f":"IF(OR('521A_entry'!M341=\"\",'521A_entry'!M341=0),\"\",'521A_entry'!M341)","v":""}]
[{"$f":"IF(OR('521A_entry'!L342=\"\",'521A_entry'!L342=0),\"\",'521A_entry'!L342)","v":""},null,null,null,null,null,null,null,null,null,null,null,null,{"$f":"IF(OR('521A_entry'!M342=\"\",'521A_entry'!M342=0),\"\",'521A_entry'!M342)","v":""}]
["27. Total Expected Revenue from Eligible Value Added Commodities (sum amounts in column for Item 26):",null,null,null,null,null,null,null,null,null,null,null,null,{"$f":"$N$49","v":0}]
["SECTION F – ELIGIBLE YIELD-BASED CROPS/COMMODITIES"]
["28. Crop/Commodity:",null,null,null,null,null,null,"29. Expected Acres:",null,"30. Expected Yield:\nPer Acre","31. Unit of Measure:","32. Expected Price:\n(Per Unit)",null,"33.  Expected Revenue:"]
[]
[]
[]
[]
[]
[]
[]
[]
[]
[]
[]
[]
[]
[]
[]
[]
[]
[]
[]
[]
[]
[]
[]
["34. Total Expected Revenue from Eligible Yield Based Crops/Commodities (sum amounts in column for Item 33):",null,null,null,null,null,null,null,null,null,null,null,null,{"$f":"$N$75","v":0}]
["SECTION G – ELIGIBLE INVENTORY-BASED CROPS/COMMODITIES"]
["35. Crops/Commodity:",null,null,null,null,null,null,null,null,null,null,null,null,"36. Expected Revenue:"]
[]
[]
[]
[]
[]
[]
[]
[]
["37. Total Expected Revenue from Eligible Inventory Based Crops/Commodities (sum amounts in column for Item 36):",null,null,null,null,null,null,null,null,null,null,null,null,{"$f":"$N$86","v":0}]
["FSA-521-A (01-23-2023)",null,null,null,null,"1.  Applicant Name",null,null,null,null,null,null,null,"2.  Application Number:"]
[{"$f":"\"Page 21 of \"&$R$3","v":"Page 21 of 4"},null,null,null,null,{"$f":"IF(K757=\"\",\"\",K757)","v":""}]
["SECTION E – ELIGIBLE VALUE-ADDED COMMODITIES"]
["25. Commodity:",null,null,null,null,null,null,null,null,null,null,null,null,"26. Expected Revenue:",null,null,null,{"$f":"IF(AND(A865=\"\",N865=\"\"),0,21)","v":0}]
[{"$f":"IF(OR('521A_entry'!L343=\"\",'521A_entry'!L343=0),\"\",'521A_entry'!L343)","v":""},null,null,null,null,null,null,null,null,null,null,null,null,{"$f":"IF(OR('521A_entry'!M343=\"\",'521A_entry'!M343=0),\"\",'521A_entry'!M343)","v":""}]
[{"$f":"IF(OR('521A_entry'!L344=\"\",'521A_entry'!L344=0),\"\",'521A_entry'!L344)","v":""},null,null,null,null,null,null,null,null,null,null,null,null,{"$f":"IF(OR('521A_entry'!M344=\"\",'521A_entry'!M344=0),\"\",'521A_entry'!M344)","v":""}]
[{"$f":"IF(OR('521A_entry'!L345=\"\",'521A_entry'!L345=0),\"\",'521A_entry'!L345)","v":""},null,null,null,null,null,null,null,null,null,null,null,null,{"$f":"IF(OR('521A_entry'!M345=\"\",'521A_entry'!M345=0),\"\",'521A_entry'!M345)","v":""}]
[{"$f":"IF(OR('521A_entry'!L346=\"\",'521A_entry'!L346=0),\"\",'521A_entry'!L346)","v":""},null,null,null,null,null,null,null,null,null,null,null,null,{"$f":"IF(OR('521A_entry'!M346=\"\",'521A_entry'!M346=0),\"\",'521A_entry'!M346)","v":""}]
[{"$f":"IF(OR('521A_entry'!L347=\"\",'521A_entry'!L347=0),\"\",'521A_entry'!L347)","v":""},null,null,null,null,null,null,null,null,null,null,null,null,{"$f":"IF(OR('521A_entry'!M347=\"\",'521A_entry'!M347=0),\"\",'521A_entry'!M347)","v":""}]
["27. Total Expected Revenue from Eligible Value Added Commodities (sum amounts in column for Item 26):",null,null,null,null,null,null,null,null,null,null,null,null,{"$f":"$N$49","v":0}]
["SECTION F – ELIGIBLE YIELD-BASED CROPS/COMMODITIES"]
["28. Crop/Commodity:",null,null,null,null,null,null,"29. Expected Acres:",null,"30. Expected Yield:\nPer Acre","31. Unit of Measure:","32. Expected Price:\n(Per Unit)",null,"33.  Expected Revenue:"]
[]
[]
[]
[]
[]
[]
[]
[]
[]
[]
[]
[]
[]
[]
[]
[]
[]
[]
[]
[]
[]
[]
[]
["34. Total Expected Revenue from Eligible Yield Based Crops/Commodities (sum amounts in column for Item 33):",null,null,null,null,null,null,null,null,null,null,null,null,{"$f":"$N$75","v":0}]
["SECTION G – ELIGIBLE INVENTORY-BASED CROPS/COMMODITIES"]
["35. Crops/Commodity:",null,null,null,null,null,null,null,null,null,null,null,null,"36. Expected Revenue:"]
[]
[]
[]
[]
[]
[]
[]
[]
["37. Total Expected Revenue from Eligible Inventory Based Crops/Commodities (sum amounts in column for Item 36):",null,null,null,null,null,null,null,null,null,null,null,null,{"$f":"$N$86","v":0}]
["FSA-521-A (01-23-2023)",null,null,null,null,"1.  Applicant Name",null,null,null,null,null,null,null,"2.  Application Number:"]
[{"$f":"\"Page 22 of \"&$R$3","v":"Page 22 of 4"},null,null,null,null,{"$f":"IF(K804=\"\",\"\",K804)","v":""}]
["SECTION E – ELIGIBLE VALUE-ADDED COMMODITIES"]
["25. Commodity:",null,null,null,null,null,null,null,null,null,null,null,null,"26. Expected Revenue:",null,null,null,{"$f":"IF(AND(A912=\"\",N912=\"\"),0,22)","v":0}]
[{"$f":"IF(OR('521A_entry'!L348=\"\",'521A_entry'!L348=0),\"\",'521A_entry'!L348)","v":""},null,null,null,null,null,null,null,null,null,null,null,null,{"$f":"IF(OR('521A_entry'!M348=\"\",'521A_entry'!M348=0),\"\",'521A_entry'!M348)","v":""}]
[{"$f":"IF(OR('521A_entry'!L349=\"\",'521A_entry'!L349=0),\"\",'521A_entry'!L349)","v":""},null,null,null,null,null,null,null,null,null,null,null,null,{"$f":"IF(OR('521A_entry'!M349=\"\",'521A_entry'!M349=0),\"\",'521A_entry'!M349)","v":""}]
[{"$f":"IF(OR('521A_entry'!L350=\"\",'521A_entry'!L350=0),\"\",'521A_entry'!L350)","v":""},null,null,null,null,null,null,null,null,null,null,null,null,{"$f":"IF(OR('521A_entry'!M350=\"\",'521A_entry'!M350=0),\"\",'521A_entry'!M350)","v":""}]
[{"$f":"IF(OR('521A_entry'!L351=\"\",'521A_entry'!L351=0),\"\",'521A_entry'!L351)","v":""},null,null,null,null,null,null,null,null,null,null,null,null,{"$f":"IF(OR('521A_entry'!M351=\"\",'521A_entry'!M351=0),\"\",'521A_entry'!M351)","v":""}]
[{"$f":"IF(OR('521A_entry'!L352=\"\",'521A_entry'!L352=0),\"\",'521A_entry'!L352)","v":""},null,null,null,null,null,null,null,null,null,null,null,null,{"$f":"IF(OR('521A_entry'!M352=\"\",'521A_entry'!M352=0),\"\",'521A_entry'!M352)","v":""}]
["27. Total Expected Revenue from Eligible Value Added Commodities (sum amounts in column for Item 26):",null,null,null,null,null,null,null,null,null,null,null,null,{"$f":"$N$49","v":0}]
["SECTION F – ELIGIBLE YIELD-BASED CROPS/COMMODITIES"]
["28. Crop/Commodity:",null,null,null,null,null,null,"29. Expected Acres:",null,"30. Expected Yield:\nPer Acre","31. Unit of Measure:","32. Expected Price:\n(Per Unit)",null,"33.  Expected Revenue:"]
[]
[]
[]
[]
[]
[]
[]
[]
[]
[]
[]
[]
[]
[]
[]
[]
[]
[]
[]
[]
[]
[]
[]
["34. Total Expected Revenue from Eligible Yield Based Crops/Commodities (sum amounts in column for Item 33):",null,null,null,null,null,null,null,null,null,null,null,null,{"$f":"$N$75","v":0}]
["SECTION G – ELIGIBLE INVENTORY-BASED CROPS/COMMODITIES"]
["35. Crops/Commodity:",null,null,null,null,null,null,null,null,null,null,null,null,"36. Expected Revenue:"]
[]
[]
[]
[]
[]
[]
[]
[]
["37. Total Expected Revenue from Eligible Inventory Based Crops/Commodities (sum amounts in column for Item 36):",null,null,null,null,null,null,null,null,null,null,null,null,{"$f":"$N$86","v":0}]
["FSA-521-A (01-23-2023)",null,null,null,null,"1.  Applicant Name",null,null,null,null,null,null,null,"2.  Application Number:"]
[{"$f":"\"Page 23 of \"&$R$3","v":"Page 23 of 4"},null,null,null,null,{"$f":"IF(K851=\"\",\"\",K851)","v":""}]
["SECTION E – ELIGIBLE VALUE-ADDED COMMODITIES"]
["25. Commodity:",null,null,null,null,null,null,null,null,null,null,null,null,"26. Expected Revenue:",null,null,null,{"$f":"IF(AND(A959=\"\",N959=\"\"),0,23)","v":0}]
[{"$f":"IF(OR('521A_entry'!L353=\"\",'521A_entry'!L353=0),\"\",'521A_entry'!L353)","v":""},null,null,null,null,null,null,null,null,null,null,null,null,{"$f":"IF(OR('521A_entry'!M353=\"\",'521A_entry'!M353=0),\"\",'521A_entry'!M353)","v":""}]
[{"$f":"IF(OR('521A_entry'!L354=\"\",'521A_entry'!L354=0),\"\",'521A_entry'!L354)","v":""},null,null,null,null,null,null,null,null,null,null,null,null,{"$f":"IF(OR('521A_entry'!M354=\"\",'521A_entry'!M354=0),\"\",'521A_entry'!M354)","v":""}]
[{"$f":"IF(OR('521A_entry'!L355=\"\",'521A_entry'!L355=0),\"\",'521A_entry'!L355)","v":""},null,null,null,null,null,null,null,null,null,null,null,null,{"$f":"IF(OR('521A_entry'!M355=\"\",'521A_entry'!M355=0),\"\",'521A_entry'!M355)","v":""}]
[{"$f":"IF(OR('521A_entry'!L356=\"\",'521A_entry'!L356=0),\"\",'521A_entry'!L356)","v":""},null,null,null,null,null,null,null,null,null,null,null,null,{"$f":"IF(OR('521A_entry'!M356=\"\",'521A_entry'!M356=0),\"\",'521A_entry'!M356)","v":""}]
[{"$f":"IF(OR('521A_entry'!L248=\"\",'521A_entry'!L248=0),\"\",'521A_entry'!L248)","v":""},null,null,null,null,null,null,null,null,null,null,null,null,{"$f":"IF(OR('521A_entry'!M248=\"\",'521A_entry'!M248=0),\"\",'521A_entry'!M248)","v":""}]
["27. Total Expected Revenue from Eligible Value Added Commodities (sum amounts in column for Item 26):",null,null,null,null,null,null,null,null,null,null,null,null,{"$f":"$N$49","v":0}]
["SECTION F – ELIGIBLE YIELD-BASED CROPS/COMMODITIES"]
["28. Crop/Commodity:",null,null,null,null,null,null,"29. Expected Acres:",null,"30. Expected Yield:\nPer Acre","31. Unit of Measure:","32. Expected Price:\n(Per Unit)",null,"33.  Expected Revenue:"]
[]
[]
[]
[]
[]
[]
[]
[]
[]
[]
[]
[]
[]
[]
[]
[]
[]
[]
[]
[]
[]
[]
[]
["34. Total Expected Revenue from Eligible Yield Based Crops/Commodities (sum amounts in column for Item 33):",null,null,null,null,null,null,null,null,null,null,null,null,{"$f":"$N$75","v":0}]
["SECTION G – ELIGIBLE INVENTORY-BASED CROPS/COMMODITIES"]
["35. Crops/Commodity:",null,null,null,null,null,null,null,null,null,null,null,null,"36. Expected Revenue:"]
[]
[]
[]
[]
[]
[]
[]
[]
["37. Total Expected Revenue from Eligible Inventory Based Crops/Commodities (sum amounts in column for Item 36):",null,null,null,null,null,null,null,null,null,null,null,null,{"$f":"$N$86","v":0}]

{"sheet":"Instructions","index":6,"n_rows":95,"n_cols":5,"rows_kept":95,"cut":false,"hidden":false,"merged":[[9,3,9,4],[12,3,12,4],[10,3,10,4],[13,3,13,4],[13,2,14,2],[0,2,0,4],[1,1,1,2],[2,1,2,4],[3,1,3,4],[11,1,11,4],[12,1,12,2],[4,3,4,4],[5,3,5,4],[6,3,6,4],[7,3,7,4],[8,3,8,4],[24,3,24,4],[26,3,26,4],[20,3,20,4],[21,3,21,4],[22,3,22,4],[19,1,19,4],[23,1,23,4],[13,1,14,1],[15,3,15,4],[15,2,16,2],[17,3,17,4],[17,2,18,2],[15,1,16,1],[17,1,18,1],[46,3,46,4],[25,1,25,4],[28,1,28,4],[31,1,31,4],[34,1,34,4],[29,3,29,4],[32,3,32,4],[26,2,27,2],[29,2,30,2],[29,1,30,1],[32,2,33,2],[32,1,33,1],[85,1,85,4],[76,1,76,4],[77,3,77,4],[79,3,79,4],[59,3,59,4],[56,2,57,2],[1,3,1,4],[26,1,27,1],[59,1,59,2],[58,3,58,4],[55,1,55,4],[53,1,53,4],[56,1,57,1],[47,4,52,4],[47,3,52,3],[54,3,54,4],[56,3,56,4],[42,1,42,4],[45,1,45,4],[36,3,36,4],[35,3,35,4],[37,4,41,4],[37,3,41,3],[43,3,43,4],[83,3,83,4],[84,3,84,4],[67,1,67,4],[68,1,68,4],[69,3,69,4],[80,3,80,4],[70,2,71,2],[70,1,71,1],[72,3,72,4],[73,3,73,4],[74,3,74,4],[91,1,92,1],[91,2,92,2],[91,3,91,4],[93,3,93,4],[94,3,94,4],[60,1,60,4],[61,3,61,4],[62,3,62,4],[63,3,63,4],[65,3,65,4],[64,3,64,4],[66,3,66,4],[70,3,70,4],[77,2,78,2],[86,2,87,2],[90,1,90,4],[74,2,75,2],[74,1,75,1],[77,1,78,1],[86,3,86,4],[88,3,88,4],[89,3,89,4],[81,3,81,4],[82,3,82,4]]}
[null,null,{"$f":"'Gross Rev Wrksht'!B6","v":"Gross Revenue Worksheet"}]
[null,"Data Field Name",null,"Instructions"]
[null,"Gross Revenue Worksheet"]
[null,"Producer Information"]
[null,"1A","Recording State","Using the dropdown, enter the applicant’s recording State.\nThe recording State is the State where the payments will be issued for the applicant. This does not limit an applicant from going to only this State. The applicant can apply in any USDA Service Center in the USA, but the recording State will be assigned upon applying."]
[null,"1B","Recording County","Using the dropdown, enter the applicant’s recording county.\nThe recording county is the county where the payments will be issued for the applicant. This does not limit an applicant from going to only this county/State. The applicant can apply in any USDA Service Center in the USA, but the recording county will be assigned upon applying."]
[null,"2A","Name","Enter the applicant's name."]
[null,"2B","Address","Enter the applicant's address."]
[null,"2C","City, State, and Zip Code","Enter the applicant's city, state, and zip code."]
[null,"2D","Phone Number","Enter the applicant's phone number."]
[null,3,"Did you suffer a production loss in  2020 or 2021 due to a qualifying disaster event for the Emergency Relief Program?","Using the dropdown, enter if the loss was for 2020, 2021 or 2020 & 2021 crop years.\nNote:  This will adjust information requested in the Disaster Information Section"]
[null,"Disaster Information"]
[null,"20XX Crop Year",null,"Note:  XX is the applicable year the applicant is applying"]
[null,"4A","What representative revenue year did you experience a crop loss for crop year 20XX due to the qualifying disaster event?","Using the dropdown, enter the applicable revenue year you experienced a crop loss.\n\n2021 Crop year may only select 2021 or 2022, but consecutively following the prior selection if multiple crop years are chosen"]
[null,null,null,"Note:  ","2020 Crop year may only select 2020 or 2021"]
[null,"4B","What benchmark year (2018,2019) represents a typical year of revenue for 20XX? \n\nOr\n\nWhat benchmark year (2018,2019) represents a typical year of revenue for 20XX? \n\nOr\n\nSince you are a new producer the benchmark year will be set to adjusted.\n\n","Using the dropdown, select the applicable benchmark year (2018 or 2019)  that represents a typical year of revenue.\n"]
[null,null,null,"Note:  ","If answers to items 5A is yes, \"Adjusted\" will be the only option, if answers to items 5B or 5C is yes, users may select \"Adjusted 2018 or Adjusted 2019 for the 521A Entry worksheet to allow adjustments."]
[null,"4C","What is your % of Expected Revenue from Specialty & High Value Crops for 20XX?","Enter the percentage of allowable gross revenue for the 2020 disaster year that was derived from specialty and /high value crops, if applicable. "]
[null,null,null,"Note:  ","Specialty crop means fruits, tree nuts, vegetables, culinary herbs and spices, medicinal plants, and nursery, floriculture, and horticulture crops. A list of common specialty crops identified by USDA’s Agricultural Marketing Service may be found at: https://www.ams.usda.gov/services/grants/scbgp/specialty-crop .   \n\nHigh value crops include direct market crops, organic crops, and crops grown for a specific market in which specialized products can be sold resulting in an increased value compared to the typical market for the crops, such as soybeans intended for tofu production. "]
[null,"Adjustment Applicability"]
[null,"5A","Are you a new producer in 2020 or 2021 that did not have any allowable revenue in 2018 or 2019?","Use the drop down to select \"Yes\" or \"No\".  If \"Yes\", you may complete the FSA-521A to potentially adjust the benchmark revenue."]
[null,"5B","Do you have allowable revenue in 2018 or 2019, but your operation has undergone a decrease in operating capacity from Benchmark Year to Disaster Year?   \nNote:  If \"Yes\" indicate the crop disaster year the decrease occurred.","Use the drop down to select \"Yes, 2020 & 2021\", \"Yes, 2020\", \"Yes, 2021\"  or \"No\".  If \"Yes\", you may complete the FSA-521A to potentially adjust the benchmark revenue."]
[null,"5C","Do you have allowable revenue in 2018 or 2019, but your operation has undergone an increase in operating capacity from Benchmark Year to Disaster Year? \nNote:  If \"Yes\" indicate the crop disaster year the increase occurred.","Use the drop down to select \"Yes\" or \"No\".  If \"Yes\", you may complete the FSA-521A to potentially adjust the benchmark revenue."]
[null,"Allowable Revenue Data Entry"]
[null,6,"Disaster year associated to the applicable years revenue?","System will display the program year (2020 ERP, 2021 ERP, 2021 & 2022 ERP) for the revenue year selected above"]
[null,"Schedule F Line 1C Sales of purchased livestock and other resale items,” or information that could be reported on a Scheduled F\""]
[null,"7A","Sales of eligible crops produced by the applicant resulting from value added through post - production activities for the applicable year.","For the applicable revenue year with a program year indicated in item 6, enter the revenue as provided in the comments in the tool."]
[null,null,null,"Note:  ","Entry areas that are grayed out are not required to be completed.  Comments have items to include and exclude when calculating revenue."]
[null,"Schedule F Line 2, “Sales of livestock, produce, grains, and other products you raised,” or information that could be reported on a Schedule F"]
[null,"8A"," Allowable revenue from sales of eligible crops raised and sold in the United States, sales of agriculture commodities, and sales of aquatic species.","For the applicable revenue year with a program year indicated in item 6, enter the revenue as provided in the comments in the tool."]
[null,null,null,"Note:  ","Entry areas that are grayed out are not required to be completed.  Comments have items to include and exclude when calculating revenue."]
[null," Schedule F Line 3a, ““Cooperative distributions,” Form 1099-PATR, or information that could be reported on a Schedule F"]
[null,"9A","Allowable revenue from the taxable amount of cooperative distributions directly related to the sale of eligible crops produced by the applicant ","For the applicable revenue year with a program year indicated in item 6, enter the revenue as provided in the comments in the tool."]
[null,null,null,"Note:  ","Entry areas that are grayed out are not required to be completed.  Comments have items to include and exclude when calculating revenue."]
[null,"Schedule F Line 4a, “Agricultural Program Payments,“ Form 1099-G, or information that could be reported on a Schedule F"]
[null,null,null,"By left clicking on the shape the tool will open a sheet to record the payments that may be found on your 1099 or from Financial Inquiries"]
[null,"10A","Agriculture Risk Coverage (ARC) and Price Loss Coverage (PLC) Program  payments.","For the applicable revenue year with a program year indicated in item 6, enter the revenue as provided in the comments in the tool."]
[null,"10B","Biomass Crop Assistance Program (BCAP)  payments.","Note:  ","Entry areas that are grayed out are not required to be completed.  Comments have items to include and exclude when calculating revenue."]
[null,"10C","Loan Deficiency Payment (LDP) Program  payments."]
[null,"10D","Market Loan Gains (MLG) - repayment of Commodity Credit Corporation (CCC) loan less than the original amount payments."]
[null,"10E","Market Facilitation Program (MFP) payments."]
[null,"10F","For the disaster year only. Emergency Relief Program ERP Phase 1 payments issued to another person or entity for the applicant's share of an eligible crop, regardless of the tax year in which the payment would be reported to the IRS"]
[null,"Schedule F Line 5a - 5c, “Commodity Credit Corporation (CCC) loans reported under election,” Form 1099-A, or information that could be reported on a Schedule F"]
[null,"11A"," Allowable revenue from CCC loans reported under election if elected to be treated as income and reported to IRS.\n","For the applicable revenue year with a program year indicated in item 6, enter the revenue as provided in the comments in the tool."]
[null,"11B","Allowable revenue from CCC loans reported under forfeit if elected to be treated as income and reported to IRS.","Note:  ","Entry areas that are grayed out are not required to be completed.  Comments have items to include and exclude when calculating revenue."]
[null,"Schedule F Line 6, “Crop insurance proceeds and federal crop disaster payments” or information that could be reported on a Schedule F."]
[null,"12A","Crop insurance proceeds, less administrative fees and premiums.","For the applicable revenue year with a program year indicated in item 6, enter the revenue as provided in the comments in the tool."]
[null,"12B","Emergency Assistance for Livestock, Honeybees, and Farm Raised Fish Program (ELAP) - payments specific to aquaculture.","Note:  ","Entry areas that are grayed out are not required to be completed.  Comments have items to include and exclude when calculating revenue."]
[null,"12C","2017 Wildfire and Hurricanes Indemnity Program (WHIP) Payments- Impacts Benchmark Year Revenue (2018, 2019)."]
[null,"12D","Noninsured Disaster Assistance Program (NAP) proceeds, less administrative fees and premiums."]
[null,"12E","On Farm Storage Payments ."]
[null,"12F","Payments issued through grant agreements with FSA for losses of eligible crops."]
[null,"12G","Grants from the Department of Commerce, National Oceanic and Atmospheric Administration (NOAA), and State program funds for the direct loss of eligible crops or the loss of revenue for eligible crops that could be reported on the schedule F."]
[null,"Schedule F Line 7, “Custom hire (machine work) income,” or information that could be reported on a Schedule F."]
[null,"13A","Exclude Custom Hire","No Entry Allowed"]
[null,"Schedule F Line 8,“Other income, including federal and state gasoline or fuel tax credit or refund,” or information that could be reported on a Schedule F."]
[null,"14A","Other revenue directly related to the production of agricultural commodities that IRS requires the applicant to report as income, not included above.","For the applicable revenue year with a program year indicated in item 6, enter the revenue as provided in the comments in the tool."]
[null,null,null,"Note:  ","Entry areas that are grayed out are not required to be completed.  Comments have items to include and exclude when calculating revenue."]
[null,"15A","Adjusted"," Adjustments necessary using the FSA-521A that system will calculate, if applicable."]
[null,"Total Allowable Revenue for ERP:",null,"System will total the entries above"]
[null,"FSA Payment Calculator"]
[null,1,"Program Category","Using the dropdown, select a program listed on the IRS-1099 Report\n"]
[null,2,"Program Name","The calculator will display  the program acronym based on ERP eligibility\n"]
[null,3,"Program Applicability","The calculator will display if ERP requires a reduction.\n"]
[null,4,"Reportable Income","Enter the amount of revenue earned for the program year income from Financial Inquiries or the IRS-1099"]
[null,5,"Receivable/Offsets","Using the dropdown, select a program listed on the IRS-1099 Report\n"]
[null,6,"Net 20XX Payments","Using the dropdown, select a program listed on the IRS-1099 Report\n"]
[null,"CCC-521 Data Entry"]
[null,"Revenue Adjustments"]
[null,1,"Program Year","Displays program year from Gross Revenue Worksheet"]
[null,2,"Benchmark Year","Displays benchmark year selected from Gross Revenue worksheet item 4B for the program year."]
[null,null,null,"Note:","For adjustment to apply must select Adjusted, Adjusted 2018 or Adjusted in 2019 on the Gross Revenue worksheet item 4B."]
[null,3,"Reported Revenue","Displays the Total Revenue entered in the Allowable Revenue Section on the Gross Revenue worksheet by Revenue Year selected."]
[null,4,"Adjustments","Displays the amount of adjustments from information loaded in items 6 through 18 below."]
[null,5,"Adjusted Benchmark","Calculates Reported Revenue (Item 3) plus any applicable adjustments  (Item 4)"]
[null,null,null,"Note:","Message of \"No Adjustments Applied will display if the applicable crop year were not selected in item 4B for the program year."]
[null,"Eligible Yield Based Crops"]
[null,6,"Disaster Year for Adjustment","Using the dropdown, enter the crop  disaster year (2020 or 2021) for which an adjustment is required from item 1 about."]
[null,null,null,"Note:","Benchmark Year (item 2) must contain the word adjusted to populate on FSA-521A."]
[null,7,"Commodity","Enter the crop name, type, and intended use.\nEx.  Corn, YEL, GR"]
[null,8,"Expected Acres","Enter the expected acres that were not accommodated for when the reported revenue\nAdditions or decreases."]
[null,9,"Expected Yield","Enter the yield you expected to receive before the disaster event for the acres in item 9."]
[null,10,"Unit of Measure","Enter the unit of measure for the commodity entered in item 8.\nEx. Bushels for corn"]
[null,11,"Expected Price","Enter the price you expected to receive for the commodity listed in item 8."]
[null,12,"Total Expected Revenue","Item 8 X item 9 X item 11"]
[null,"Eligible Value Added Based Crops"]
[null,13,"Disaster Year for Adjustment","Using the dropdown, enter the crop  disaster year (2020 or 2021) for which an adjustment is required from item 1 about."]
[null,null,null,"Note:","Benchmark Year (item 2) must contain the word adjusted to populate on FSA-521A."]
[null,14,"Eligible Value Added Commodities","Enter the value added commodity name."]
[null,15,"Total Expected Revenue","Enter the revenue you expected to receive for the value based commodity"]
[null,"Eligible Inventory Based Crops"]
[null,16,"Disaster Year for Adjustment","Using the dropdown, enter the crop  disaster year (2020 or 2021) for which an adjustment is required from item 1 about."]
[null,null,null,"Note:","Benchmark Year (item 2) must contain the word adjusted to populate on FSA-521A."]
[null,17,"Eligible Value Added Commodities","Enter the value added commodity name."]
[null,18,"Total Expected Revenue","Enter the revenue you expected to receive for the value based commodity"]

{"sheet":"st_cty_dropdowns","index":7,"n_rows":255,"n_cols":58,"rows_kept":255,"cut":false,"hidden":true,"merged":[]}
[" ","Alabama (01)","Alaska (02)","Arizona (04)","Arkansas (05)","California (06)","Colorado (08)","Connecticut (09)","Delaware (10)","District of Columbia (11)","Florida (12)","Georgia (13)","Guam (14)","Hawaii (15)","Idaho (16)","Illinois (17)","Indiana (18)","Iowa (19)","Kansas (20)","Kentucky (21)","Louisiana (22)","Maine (23)","Maryland (24)","Massachusetts (25)","Michigan (26)","Minnesota (27)","Mississippi (28)","Missouri (29)","Montana (30)","Nebraska (31)","Nevada (32)","New Hampshire (33)","New Jersey (34)","New Mexico (35)","New York (36)","North Carolina (37)","North Dakota (38)","Ohio (39)","Oklahoma (40)","Oregon (41)","Pennsylvania (42)","Rhode Island (44)","South Carolina (45)","South Dakota (46)","Tennessee (47)","Texas (48)","Utah (49)","Vermont (50)","Virginia (51)","Virgin Islands of the U.S. (52)","Washington (53)","West Virginia (54)","Wisconsin (55)","Wyoming (56)","American Samoa (60)","Federated States of Micronesia (64)","Northern Mariana Islands (69)","Puerto Rico (72)"]
[null,"Autauga (001)","Fairbanks (001)","Apache (001)","Arkansas (001)","Alameda (001)","Adams (001)","Fairfield (001)","Kent (001)","District of Columbia (001)","Alachua (001)","Appling (001)","Guam (001)","Hawaii (001)","Ada (001)","Adams (001)","Adams (001)","Adair (001)","Allen (001)","Adair (001)","Acadia (001)","Androscoggin (001)","Allegany (001)","Barnstable (001)","Alcona (001)","Aitkin (001)","Adams (001)","Adair (001)","Beaverhead (001)","Adams (001)","Churchill (001)","Belknap (001)","Atlantic (001)","Bernalillo (001)","Albany (001)","Alamance (001)","Adams (001)","Adams (001)","Adair (001)","Baker (001)","Adams (001)","Bristol (001)","Abbeville (001)","Aurora (003)","Anderson (001)","Anderson (001)","Beaver (001)","Addison (001)","Accomack (001)","St. Croix (001)","Adams (001)","Barbour (001)","Adams (001)","Albany (001)","American Samoa (001)","Pohnpei (040)","Rota (100)","Adjuntas (001)"]
[null,"Baldwin (003)","Delta (002)","Cochise (003)","Ashley (003)","Alpine (003)","Alamosa (003)","Hartford (003)","New Castle (003)",null,"Baker (003)","Atkinson (003)",null,"Honolulu (003)","Adams (003)","Alexander (003)","Allen (003)","Adams (003)","Anderson (003)","Allen (003)","Allen (003)","Houlton (002)","Anne Arundel (003)","Berkshire (003)","Alger (003)","Anoka (003)","Alcorn (003)","Andrew (003)","Big Horn (003)","Antelope (003)","Clark (003)","Carroll (003)","Burlington (005)","Catron (003)","Allegany (003)","Alexander (003)","Barnes (003)","Allen (003)","Alfalfa (003)","Benton (003)","Allegheny (003)","Kent (003)","Aiken (003)","Beadle (005)","Bedford (003)","Andrews (003)","Box Elder (003)","Bennington (003)","Albemarle, Charlottesville City (003)","St. John (003)","Asotin (003)","Berkeley (003)","Ashland (003)","Big Horn (003)",null,null,"Saipan (110)","Arecibo (013)"]
[null,"Barbour (005)","Homer (003)","Coconino (005)","Baxter (005)","Amador (005)","Arapahoe (005)","Litchfield (005)","Sussex (005)",null,"Bay (005)","Bacon (005)",null,"Kalawao (005)","Bannock (005)","Bond (005)","Bartholomew (005)","Allamakee (005)","Atchison (005)","Anderson (005)","Ascension (005)","Aroostook (003)","Baltimore (005)","Bristol (005)","Allegan (005)","Becker (005)","Amite (005)","Atchison (005)","Blaine (005)","Arthur (005)","Douglas (005)","Cheshire (005)","Camden (007)","Chaves (005)","Bronx (005)","Alleghany (005)","Benson (005)","Ashland (005)","Atoka (005)","Clackamas (005)","Armstrong (005)","Newport (005)","Allendale (005)","Bennett (007)","Benton (005)","Angelina (005)","Cache (005)","Caledonia (005)","Alleghany, Covington City (005)","St. Thomas (005)","Benton (005)","Boone (005)","Barron (005)","Campbell (005)",null,null,"Tinian (120)","Barranquitas (019)"]
[null,"Bibb (007)","Palmer (005)","Gila (007)","Benton (007)","Butte (007)","Archuleta (007)","Middlesex (007)",null,null,"Bradford (007)","Baker (007)",null,"Kauai (007)","Bear Lake (007)","Boone (007)","Benton (007)","Appanoose (007)","Barber (007)","Ballard (007)","Assumption (007)","Fort Kent (004)","Calvert (009)","Dukes (007)","Alpena (007)","Beltrami (007)","Attala (007)","Audrain (007)","Broadwater (007)","Banner (007)","Elko (007)","Coos (007)","Cape May (009)","Cibola (006)","Broome (007)","Anson (007)","Billings (007)","Ashtabula (007)","Beaver (007)","Clatsop (007)","Beaver (007)","Providence (007)","Anderson (007)","Bon Homme (009)","Bledsoe (007)","Aransas (007)","Carbon (007)","Chittenden (007)","Amelia (007)",null,"Chelan (007)","Braxton (007)","Bayfield (007)","Carbon (007)",null,null,null,"Caguas (025)"]
[null,"Blount (009)",null,"Graham (009)","Boone (009)","Calaveras (009)","Baca (009)","New Haven (009)",null,null,"Brevard (009)","Baldwin (009)",null,"Maui (009)","Benewah, South Shoshone (009)","Brown (009)","Blackford (009)","Audubon (009)","Barton (009)","Barren (009)","Avoyelles (009)","Cumberland (005)","Caroline (011)","Essex (009)","Antrim (009)","Benton (009)","Benton (009)","Barry (009)","Carbon (009)","Blaine (009)","Esmeralda (009)","Grafton (009)","Cumberland (011)","Colfax (007)","Cattaraugus (009)","Ashe (009)","Bottineau (009)","Athens (009)","Beckham (009)","Columbia (009)","Bedford (009)","Washington (009)","Bamberg (009)","Brookings (011)","Blount (009)","Archer (009)","Daggett (009)","Essex (009)","Amherst (009)",null,"Clallam (009)","Brooke (009)","Brown (009)","Converse (009)",null,null,null,"Corozal (047)"]
[null,"Bullock (011)",null,"Greenlee (011)","Bradley (011)","Colusa (011)","Bent (011)","New London (011)",null,null,"Broward (011)","Banks (011)",null,null,"Bingham (011)","Bureau (011)","Boone (011)","Benton (011)","Bourbon (011)","Bath (011)","Beauregard (011)","Franklin (007)","Carroll (013)","Franklin (011)","Arenac (011)","Big Stone (011)","Bolivar (011)","Barton (011)","Carter (011)","Boone (011)","Eureka (011)","Hillsborough (011)","Gloucester (015)","Curry (009)","Cayuga (011)","Avery (011)","Bowman (011)","Auglaize (011)","Blaine (011)","Coos (011)","Berks (011)",null,"Barnwell (011)","Brown (013)","Bradley (011)","Armstrong (011)","Davis (011)","Franklin (011)","Appomattox (011)",null,"Clark (011)","Cabell (011)","Buffalo (011)","Crook (011)",null,null,null,"Lares (081)"]
[null,"Butler (013)",null,"La Paz (012)","Calhoun (013)","Contra Costa (013)","Boulder (013)","Tolland (013)",null,null,"Calhoun (013)","Barrow (013)",null,null,"Blaine (013)","Calhoun (013)","Brown (013)","Black Hawk (013)","Brown (013)","Bell (013)","Bienville (013)","Hancock (009)","Cecil (015)","Hampden (013)","Baraga (013)","Blue Earth (013)","Calhoun (013)","Bates (013)","Cascade (013)","Box Butte (013)","Humboldt (013)","Merrimack (013)","Hunterdon (019)","De Baca (011)","Chautauqua (013)","Beaufort (013)","Burke (013)","Belmont (013)","Bryan (013)","Crook (013)","Blair (013)",null,"Beaufort (013)","Brule (015)","Campbell (013)","Atascosa (013)","Duchesne (013)","Grand Isle (013)","Arlington (013)",null,"Columbia (013)","Calhoun (013)","Burnett (013)","Fremont (013)",null,null,null,"Mayaguez (097)"]
[null,"Calhoun (015)",null,"Maricopa (013)","Carroll (015)","Del Norte (015)","Broomfield (014)","Windham (015)",null,null,"Charlotte (015)","Bartow (015)",null,null,"Boise (015)","Carroll (015)","Carroll (015)","Boone (015)","Butler (015)","Boone (015)","Bossier (015)","Kennebec (011)","Charles (017)","Hampshire (015)","Barry (015)","Brown (015)","Carroll (015)","Benton (015)","Chouteau (015)","Boyd (015)","Lander (015)","Rockingham (015)","Mercer (021)","Dona Ana (013)","Chemung (015)","Bertie (015)","Burleigh (015)","Brown (015)","Caddo (015)","Curry (015)","Bradford (015)",null,"Berkeley (015)","Buffalo (017)","Cannon (015)","Austin (015)","Emery (015)","Lamoille (015)","Augusta (015)",null,"Cowlitz (015)","Clay (015)","Calumet (015)","Goshen (015)",null,null,null,"Ponce (113)"]
[null,"Chambers (017)",null,"Mohave (015)","Chicot (017)","El Dorado (017)","Chaffee (015)",null,null,null,"Citrus (017)","Ben Hill (017)",null,null,"Bonner (017)","Cass (017)","Cass (017)","Bremer (017)","Chase (017)","Bourbon (017)","Caddo (017)","Knox (013)","Dorchester (019)","Middlesex (017)","Bay (017)","Carlton (017)","Chickasaw (017)","Bollinger (017)","Custer (017)","Brown (017)","Lincoln (017)","Strafford (017)","Middlesex (023)","Eddy (015)","Chenango (017)","Bladen (017)","Cass (017)","Butler (017)","Canadian (017)","Deschutes (017)","Bucks (017)",null,"Calhoun (017)","Butte (019)","Carroll (017)","Bailey (017)","Garfield (017)","Orange (017)","Bath (017)",null,"Douglas (017)","Doddridge (017)","Chippewa (017)","Hot Springs (017)",null,null,null,"Utuado (141)"]
[null,"Cherokee (019)",null,"Navajo (017)","Clark (019)","Fresno (019)","Cheyenne (017)",null,null,null,"Clay (019)","Berrien (019)",null,null,"Bonneville (019)","Champaign (019)","Clark (019)","Buchanan (019)","Chautauqua (019)","Boyd (019)","Calcasieu (019)","Lincoln (015)","Frederick (021)","Nantucket (019)","Benzie (019)","Carver (019)","Choctaw (019)","Boone (019)","Daniels (019)","Buffalo (019)","Lyon (019)","Sullivan (019)","Monmouth (025)","Grant (017)","Clinton (019)","Brunswick (019)","Cavalier (019)","Carroll (019)","Carter (019)","Douglas (019)","Butler (019)",null,"Charleston (019)","Campbell (021)","Carter (019)","Bandera (019)","Grand (019)","Orleans (019)","Bedford (019)",null,"Ferry (019)","Fayette (019)","Clark (019)","Johnson (019)"]
[null,"Chilton (021)",null,"Pima (019)","Clay (021)","Glenn (021)","Clear Creek (019)",null,null,null,"Collier (021)","Bibb (021)",null,null,"Boundary (021)","Christian (021)","Clay (021)","Buena Vista (021)","Cherokee (021)","Boyle (021)","Caldwell (021)","Oxford (017)","Garrett (023)","Norfolk (021)","Berrien (021)","Cass (021)","Claiborne (021)","Buchanan (021)","Dawson (021)","Burt (021)","Mineral (021)",null,"Morris, Bergen, Essex, Hudson, Passaic (027)","Guadalupe (019)","Columbia (021)","Buncombe (021)","Dickey (021)","Champaign (021)","Cherokee (021)","Gilliam (021)","Cambria (021)",null,"Cherokee (021)","Charles Mix (023)","Cheatham (021)","Bastrop (021)","Iron (021)","Rutland (021)","Bland (021)",null,"Franklin (021)","Gilmer (021)","Columbia (021)","Laramie (021)"]
[null,"Choctaw (023)",null,"Pinal (021)","Cleburne (023)","Humboldt (023)","Conejos (021)",null,null,null,"Columbia (023)","Bleckley (023)",null,null,"Butte (023)","Clark (023)","Clinton (023)","Butler (023)","Cheyenne (023)","Bracken (023)","Cameron (023)","Penobscot (019)","Harford (025)","Plymouth (023)","Branch (023)","Chippewa (023)","Clarke (023)","Butler (023)","Deer Lodge (023)","Butler (023)","Northwest Nye (023)",null,"Ocean (029)","Harding (021)","Cortland (023)","Burke (023)","Divide (023)","Clark (023)","Choctaw (023)","Grant (023)","Cameron (023)",null,"Chester (023)","Clark (025)","Chester (023)","Baylor (023)","Juab (023)","Washington (023)","Botetourt (023)",null,"Garfield (023)","Grant (023)","Crawford (023)","Lincoln (023)"]
[null,"Clarke (025)",null,"Santa Cruz (023)","Cleveland (025)","Imperial (025)","Costilla (023)",null,null,null,"Dade, Monroe (025)","Brantley (025)",null,null,"Camas (025)","Clay (025)","Crawford (025)","Calhoun (025)","Clark (025)","Breathitt (025)","Catahoula (025)","Piscataquis (021)","Howard (027)","Suffolk (025)","Calhoun (025)","Chisago (025)","Clay (025)","Caldwell (025)","Fallon (025)","Cass (025)","Pershing (027)",null,"Salem (033)","Hidalgo (023)","Delaware (025)","Cabarrus (025)","Dunn (025)","Clermont (025)","Cimarron (025)","Harney (025)","Carbon (025)",null,"Chesterfield (025)","Clay (027)","Claiborne (025)","Bee (025)","Kane (025)","Windham (025)","Brunswick (025)",null,"Grant (025)","Greenbrier (025)","Dane (025)","Natrona (025)"]
[null,"Clay (027)",null,"Yavapai (025)","Columbia (027)","Inyo (027)","Crowley (025)",null,null,null,"DeSoto (027)","Brooks (027)",null,null,"Canyon (027)","Clinton (027)","Daviess (027)","Carroll (027)","Clay (027)","Breckinridge (027)","Claiborne (027)","Sagadahoc (023)","Kent (029)","Worcester (027)","Cass (027)","Clay (027)","Coahoma (027)","Callaway (027)","Fergus (027)","Cedar (027)","Storey (029)",null,"Somerset, Union (035)","Lea (025)","Dutchess (027)","Caldwell (027)","Eddy (027)","Clinton (027)","Cleveland (027)","Hood River (027)","Centre (027)",null,"Clarendon (027)","Codington (029)","Clay (027)","Bell (027)","Millard (027)","Windsor (027)","Buchanan (027)",null,"Grays Harbor (027)","Hampshire (027)","Dodge (027)","Niobrara (027)"]
[null,"Cleburne (029)",null,"Yuma (027)","Conway (029)","Kern (029)","Custer (027)",null,null,null,"Dixie (029)","Bryan (029)",null,null,"Caribou (029)","Coles (029)","Dearborn (029)","Cass (029)","Cloud (029)","Bullitt (029)","Concordia (029)","Somerset (025)","Montgomery (031)",null,"Charlevoix (029)","Clearwater (029)","Copiah (029)","Camden (029)","Flathead (029)","Chase (029)","Washoe (031)",null,"Sussex (037)","Lincoln (027)","Erie (029)","Camden (029)","Emmons (029)","Columbiana (029)","Coal (029)","Jackson (029)","Chester (029)",null,"Colleton (029)","Corson (031)","Cocke (029)","Bexar (029)","Morgan (029)",null,"Buckingham (029)",null,"Island (029)","Hancock (029)","Door (029)","Park (029)"]
[null,"Coffee (031)",null,null,"Craighead (031)","Kings (031)","Delta (029)",null,null,null,"Duval (031)","Bulloch (031)",null,null,"Cassia (031)","Cook (031)","Decatur (031)","Cedar (031)","Coffey (031)","Butler (031)","De Soto (031)","Waldo (027)","Prince George's (033)",null,"Cheboygan (031)","Cook (031)","Covington (031)","Cape Girardeau (031)","Gallatin (031)","Cherry (031)","White Pine (033)",null,"Warren (041)","Luna (029)","Essex (031)","Carteret (031)","Foster (031)","Coshocton (031)","Comanche (031)","Jefferson (031)","Clarion (031)",null,"Darlington (031)","Custer (033)","Coffee (031)","Blanco (031)","Piute (031)",null,"Campbell, Lynchburg City (031)",null,"Jefferson (031)","Hardy (031)","Douglas (031)","Platte (031)"]
[null,"Colbert (033)",null,null,"Crawford (033)","Lake (033)","Denver (031)",null,null,null,"Escambia (033)","Burke (033)",null,null,"Clark (033)","Crawford (033)","DeKalb (033)","Cerro Gordo (033)","Comanche (033)","Caldwell (033)","East Baton Rouge (033)","Washington (029)","Queen Anne's (035)",null,"Chippewa (033)","Cottonwood (033)","DeSoto (033)","Carroll (033)","Garfield (033)","Cheyenne (033)","Southeast Nye (035)",null,null,"McKinley (031)","Franklin (033)","Caswell (033)","Golden Valley (033)","Crawford (033)","Cotton (033)","Josephine (033)","Clearfield (033)",null,"Dillon (033)","Davison (035)","Crockett (033)","Borden (033)","Rich (033)",null,"Caroline (033)",null,"South King (033)","Harrison (033)","Dunn (033)","Sheridan (033)"]
[null,"Conecuh (035)",null,null,"Crittenden (035)","Lassen (035)","Dolores (033)",null,null,null,"Flagler (035)","Butts (035)",null,null,"Clearwater (035)","Cumberland (035)","Delaware (035)","Cherokee (035)","Cowley (035)","Calloway (035)","East Carroll (035)","York (031)","St. Mary's (037)",null,"Clare (035)","Crow Wing (035)","Forrest (035)","Carter (035)","Glacier (035)","Clay (035)","Carson City (510)",null,null,"Mora (033)","Fulton (035)","Catawba (035)","Grand Forks (035)","Cuyahoga (035)","Craig (035)","Klamath (035)","Clinton (035)",null,"Dorchester (035)","Day (037)","Cumberland (035)","Bosque (035)","Salt Lake (035)",null,"Carroll, East Galax City (035)",null,"Kitsap (035)","Jackson (035)","Eau Claire (035)","Sublette (035)"]
[null,"Coosa (037)",null,null,"Cross (037)","Los Angeles (037)","Douglas (035)",null,null,null,"Franklin (037)","Calhoun (037)",null,null,"South Custer (037)","DeKalb (037)","Dubois (037)","Chickasaw (037)","Crawford (037)","Campbell (037)","East Feliciana (037)",null,"Somerset (039)",null,"Clinton (037)","Dakota (037)","Franklin (037)","Cass (037)","Golden Valley (037)","Colfax (037)",null,null,null,"Otero (035)","Genesee (037)","Chatham (037)","Grant (037)","Darke (037)","Creek (037)","Lake (037)","Columbia (037)",null,"Edgefield (037)","Deuel (039)","Davidson (037)","Bowie (037)","San Juan (037)",null,"Charles City (036)",null,"Kittitas (037)","Jefferson (037)","Florence (037)","Sweetwater (037)"]
[null,"Covington (039)",null,null,"Dallas (039)","Madera (039)","Eagle (037)",null,null,null,"Gadsden (039)","Camden (039)",null,null,"Elmore (039)","DeWitt (039)","Elkhart (039)","Clarke (039)","Decatur (039)","Carlisle (039)","Evangeline (039)",null,"Talbot (041)",null,"Crawford (039)","Dodge (039)","George (039)","Cedar (039)","Granite (039)","Cuming (039)",null,null,null,"Quay (037)","Greene (039)","Cherokee (039)","Griggs (039)","Defiance (039)","Custer (039)","Lane (039)","Crawford (039)",null,"Fairfield (039)","Dewey (041)","Decatur (039)","Brazoria (039)","Sanpete (039)",null,"Charlotte (037)",null,"Klickitat (039)","Kanawha (039)","Fond du Lac (039)","Teton (039)"]
[null,"Crenshaw (041)",null,null,"Desha (041)","Marin (041)","Elbert (039)",null,null,null,"Gilchrist (041)","Candler (043)",null,null,"Franklin (041)","Douglas (041)","Fayette (041)","Clay (041)","Dickinson (041)","Carroll (041)","Franklin (041)",null,"Washington (043)",null,"Delta (041)","Douglas (041)","Greene (041)","Chariton (041)","Hill (041)","Custer (041)",null,null,null,"Rio Arriba (039)","Hamilton (041)","Chowan (041)","Hettinger (041)","Delaware (041)","Delaware (041)","Lincoln (041)","Cumberland (041)",null,"Florence (041)","Douglas (043)","DeKalb (041)","Brazos (041)","Sevier (041)",null,"Chesterfield (041)",null,"Lewis (041)","Lewis (041)","Forest (041)","Uinta (041)"]
[null,"Cullman (043)",null,null,"Drew (043)","Mariposa (043)","El Paso (041)",null,null,null,"Glades (043)","Carroll (045)",null,null,"Fremont (043)","DuPage (043)","Floyd (043)","Clayton (043)","Doniphan (043)","Carter (043)","Grant (043)",null,"Wicomico (045)",null,"Dickinson (043)","Faribault (043)","Grenada (043)","Christian (043)","Jefferson (043)","Dakota (043)",null,null,null,"Roosevelt (041)","Herkimer (043)","Clay (043)","Kidder (043)","Erie (043)","Dewey (043)","Linn (043)","Dauphin (043)",null,"Georgetown (043)","Edmunds (045)","Dickson (043)","Brewster (043)","Summit (043)",null,"Clarke (043)",null,"Lincoln (043)","Lincoln (043)","Grant (043)","Washakie (043)"]
[null,"Dale (045)",null,null,"Faulkner (045)","Mendocino (045)","Fremont (043)",null,null,null,"Gulf (045)","Catoosa (047)",null,null,"Gem (045)","Edgar (045)","Fountain (045)","Clinton (045)","Douglas (045)","Casey (045)","Iberia (045)",null,"Worcester (047)",null,"Eaton (045)","Fillmore (045)","Hancock (045)","Clark (045)","Judith Basin (045)","Dawes, North Sioux (045)",null,null,null,"Sandoval (043)","Jefferson (045)","Cleveland (045)","LaMoure (045)","Fairfield (045)","Ellis (045)","Malheur (045)","Delaware (045)",null,"Greenville (045)","Fall River (047)","Dyer (045)","Briscoe (045)","Tooele (045)",null,"Craig (045)",null,"Mason (045)","Logan, Mingo (045)","Green (045)","Weston (045)"]
[null,"Dallas (047)",null,null,"Franklin (047)","Merced (047)","Garfield (045)",null,null,null,"Hamilton (047)","Charlton (049)",null,null,"Gooding (047)","Edwards (047)","Franklin (047)","Crawford (047)","Edwards (047)","Christian (047)","Iberville (047)",null,"Baltimore (510)",null,"Emmet (047)","Freeborn (047)","Harrison (047)","Clay (047)","Lake (047)","Dawson (047)",null,null,null,"San Juan (045)","Kings (047)","Columbus (047)","Logan (047)","Fayette (047)","Garfield (047)","Marion (047)","Elk (047)",null,"Greenwood (047)","Faulk (049)","Fayette (047)","Brooks (047)","Uintah (047)",null,"Culpeper (047)",null,"Okanogan (047)","Marion (049)","Green Lake (047)"]
[null,"DeKalb (049)",null,null,"Fulton (049)","Modoc (049)","Gilpin (047)",null,null,null,"Hardee (049)","Chatham (051)",null,null,"Idaho (049)","Effingham (049)","Fulton (049)","Dallas (049)","Elk (049)","Clark (049)","Jackson (049)",null,null,null,"Genesee (049)","Goodhue (049)","Hinds (049)","Clinton (049)","Lewis and Clark (049)","Deuel (049)",null,null,null,"San Miguel (047)","Lewis (049)","Craven (049)","McHenry (049)","Franklin (049)","Garvin (049)","Morrow (049)","Erie (049)",null,"Hampton (049)","Grant (051)","Fentress (049)","Brown (049)","Utah (049)",null,"Cumberland (049)",null,"Pacific (049)","Marshall (051)","Iowa (049)"]
[null,"Elmore (051)",null,null,"Garland (051)","Mono (051)","Grand (049)",null,null,null,"Hendry (051)","Chattahoochee (053)",null,null,"Jefferson (051)","Fayette (051)","Gibson (051)","Davis (051)","Ellis (051)","Clay (051)","Jefferson (051)",null,null,null,"Gladwin (051)","Grant (051)","Holmes (051)","Cole (051)","Liberty (051)","Dixon (051)",null,null,null,"Santa Fe (049)","Livingston (051)","Cumberland (051)","McIntosh (051)","Fulton (051)","Grady (051)","Multnomah (051)","Fayette (051)",null,"Horry (051)","Gregory (053)","Franklin (051)","Burleson (051)","Wasatch (051)",null,"Dickenson (051)",null,"Pend Oreille (051)","Mason (053)","Iron (051)"]
[null,"Escambia (053)",null,null,"Grant (053)","Monterey (053)","Gunnison (051)",null,null,null,"Hernando (053)","Chattooga (055)",null,null,"Jerome (053)","Ford (053)","Grant (053)","Decatur (053)","Ellsworth (053)","Clinton (053)","Jefferson Davis (053)",null,null,null,"Gogebic (053)","Hennepin (053)","Humphreys (053)","Cooper (053)","Lincoln (053)","Dodge (053)",null,null,null,"Sierra (051)","Madison (053)","Currituck (053)","McKenzie (053)","Gallia (053)","Grant (053)","Polk (053)","Forest (053)",null,"Jasper (053)","Haakon (055)","Gibson (053)","Burnet (053)","Washington (053)",null,"Dinwiddie, Petersburg City (053)",null,"Pierce (053)","Mercer, McDowell (055)","Jackson (053)"]
[null,"Etowah (055)",null,null,"Greene (055)","Napa (055)","Hinsdale (053)",null,null,null,"Highlands (055)","Cherokee (057)",null,null,"Kootenai, North Shoshone (055)","Franklin (055)","Greene (055)","Delaware (055)","Finney (055)","Crittenden (055)","Lafayette (055)",null,null,null,"Grand Traverse (055)","Houston (055)","Issaquena (055)","Crawford (055)","McCone (055)","Douglas (055)",null,null,null,"Socorro (053)","Monroe (055)","Dare (055)","McLean (055)","Geauga (055)","Greer (055)","Sherman (055)","Franklin (055)",null,"Kershaw (055)","Hamlin (057)","Giles (055)","Caldwell (055)","Wayne (055)",null,"Essex (057)",null,"San Juan (055)","Mineral (057)","Jefferson (055)"]
[null,"Fayette (057)",null,null,"Hempstead (057)","Nevada (057)","Huerfano (055)",null,null,null,"Hillsborough (057)","Clarke (059)",null,null,"Latah (057)","Fulton (057)","Hamilton (057)","Des Moines (057)","Ford (057)","Cumberland (057)","Lafourche (057)",null,null,null,"Gratiot (057)","Hubbard (057)","Itawamba (057)","Dade (057)","Madison (057)","Dundy (057)",null,null,null,"Taos (055)","Montgomery (057)","Davidson (057)","Mercer (057)","Greene (057)","Harmon (057)","Tillamook (057)","Fulton (057)",null,"Lancaster (057)","Hand (059)","Grainger (057)","Calhoun (057)","Weber (057)",null,"Fairfax (059)",null,"Skagit (057)","Monongalia (061)","Juneau (057)"]
[null,"Franklin (059)",null,null,"Hot Spring (059)","Orange (059)","Jackson (057)",null,null,null,"Holmes (059)","Clay (061)",null,null,"Lemhi, North Custer (059)","Gallatin (059)","Hancock (059)","Dickinson (059)","Franklin (059)","Daviess (059)","La Salle (059)",null,null,null,"Hillsdale (059)","Isanti (059)","Jackson (059)","Dallas (059)","Meagher (059)","Fillmore (059)",null,null,null,"Torrance (057)","New York (061)","Davie (059)","Morton (059)","Guernsey (059)","Harper (059)","Umatilla (059)","Greene (059)",null,"Laurens (059)","Hanson (061)","Greene (059)","Callahan (059)",null,null,"Fauquier (061)",null,"Skamania (059)","Monroe (063)","Kenosha (059)"]
[null,"Geneva (061)",null,null,"Howard (061)","Placer (061)","Jefferson (059)",null,null,null,"Indian River (061)","Clayton (063)",null,null,"Lewis (061)","Greene (061)","Harrison (061)","Dubuque (061)","Geary (061)","Edmonson (061)","Lincoln (061)",null,null,null,"Houghton (061)","Itasca (061)","Jasper (061)","Daviess (061)","Mineral (061)","Franklin (061)",null,null,null,"Union (059)","Niagara (063)","Duplin (061)","Mountrail (061)","Hamilton (061)","Haskell (061)","Union (061)","Huntingdon (061)",null,"Lee (061)","Harding (063)","Grundy (061)","Cameron (061)",null,null,"Floyd (063)",null,"Snohomish, North King (061)","Morgan (065)","Kewaunee (061)"]
[null,"Greene (063)",null,null,"Independence (063)","Plumas (063)","Kiowa (061)",null,null,null,"Jackson (063)","Clinch (065)",null,null,"Lincoln (063)","Grundy (063)","Hendricks (063)","Emmet (063)","Gove (063)","Elliott (063)","Livingston (063)",null,null,null,"Huron (063)","Jackson (063)","Jefferson (063)","DeKalb (063)","Missoula (063)","Frontier (063)",null,null,null,"Valencia (061)","Oneida (065)","Durham (063)","Nelson (063)","Hancock (063)","Hughes (063)","Wallowa (063)","Indiana (063)",null,"Lexington (063)","Hughes (065)","Hamblen (063)","Camp (063)",null,null,"Fluvanna (065)",null,"Spokane (063)","Nicholas (067)","La Crosse (063)"]
[null,"Hale (065)",null,null,"Izard (065)","Riverside (065)","Kit Carson (063)",null,null,null,"Jefferson (065)","Cobb (067)",null,null,"Madison (065)","Hamilton (065)","Henry (065)","Fayette (065)","Graham (065)","Estill (065)","Madison (065)",null,null,null,"Ingham (065)","Kanabec (065)","Jefferson Davis (065)","Dent (065)","Musselshell (065)","Furnas (065)",null,null,null,null,"Onondaga (067)","Edgecombe (065)","Oliver (065)","Hardin (065)","Jackson (065)","Wasco (065)","Jefferson (065)",null,"McCormick (065)","Hutchinson (067)","Hamilton (065)","Carson (065)",null,null,"Franklin (067)",null,"Stevens (065)","Ohio (069)","Lafayette (065)"]
[null,"Henry (067)",null,null,"Jackson (067)","Sacramento (067)","Lake (065)",null,null,null,"Lafayette (067)","Coffee (069)",null,null,"Minidoka (067)","Hancock (067)","Howard (067)","Floyd (067)","Grant (067)","Fayette (067)","Morehouse (067)",null,null,null,"Ionia (067)","Kandiyohi (067)","Jones (067)","Douglas (067)","Park (067)","Gage (067)",null,null,null,null,"Ontario (069)","Forsyth (067)","Pembina (067)","Harrison (067)","Jefferson (067)","Washington (067)","Juniata (067)",null,"Marion (067)","Hyde (069)","Hancock (067)","Cass (067)",null,null,"Frederick, Winchester City (069)",null,"Thurston (067)","Pendleton (071)","Langlade (067)"]
[null,"Houston (069)",null,null,"Jefferson (069)","San Benito (069)","La Plata (067)",null,null,null,"Lake (069)","Colquitt (071)",null,null,"Nez Perce (069)","Hardin (069)","Huntington (069)","Franklin (069)","Gray (069)","Fleming (069)","Natchitoches (069)",null,null,null,"Iosco (069)","Kittson (069)","Kemper (069)","Dunklin (069)","Petroleum (069)","Garden (069)",null,null,null,null,"Orange, Rockland (071)","Franklin (069)","Pierce (069)","Henry (069)","Johnston (069)","Wheeler (069)","Lackawanna (069)",null,"Marlboro (069)","Jackson (071)","Hardeman (069)","Castro (069)",null,null,"Giles (071)",null,"Wahkiakum (069)","Pleasants (073)","Lincoln (069)"]
[null,"Jackson (071)",null,null,"Johnson (071)","San Bernardino (071)","Larimer (069)",null,null,null,"Lee (071)","Columbia (073)",null,null,"Oneida (071)","Henderson (071)","Jackson (071)","Fremont (071)","Greeley (071)","Floyd (071)","Orleans (071)",null,null,null,"Iron (071)","Koochiching (071)","Lafayette (071)","Franklin (071)","Phillips (071)","Garfield (071)",null,null,null,null,"Orleans (073)","Gaston (071)","Ramsey (071)","Highland (071)","Kay (071)","Yamhill (071)","Lancaster (071)",null,"Newberry (071)","Jerauld (073)","Hardin (071)","Chambers (071)",null,null,"Gloucester (073)",null,"Walla Walla (071)","Pocahontas (075)","Manitowoc (071)"]
[null,"Jefferson (073)",null,null,"Lafayette (073)","San Diego (073)","Las Animas (071)",null,null,null,"Leon (073)","Cook (075)",null,null,"Owyhee (073)","Henry (073)","Jasper (073)","Greene (073)","Greenwood (073)","Franklin (073)","Ouachita (073)",null,null,null,"Isabella (073)","Lac qui Parle (073)","Lamar (073)","Gasconade (073)","Pondera (073)","Gosper (073)",null,null,null,null,"Oswego (075)","Gates (073)","Ransom (073)","Hocking (073)","Kingfisher (073)",null,"Lawrence (073)",null,"Oconee (073)","Jones (075)","Hawkins (073)","Cherokee (073)",null,null,"Goochland (075)",null,"Whatcom (073)","Preston (077)","Marathon (073)"]
[null,"Lamar (075)",null,null,"Lawrence (075)","San Joaquin (077)","Lincoln (073)",null,null,null,"Levy (075)","Coweta (077)",null,null,"Payette (075)","Iroquois (075)","Jay (075)","Grundy (075)","Hamilton (075)","Fulton (075)","Plaquemines (075)",null,null,null,"Jackson (075)","Lake (075)","Lauderdale (075)","Gentry (075)","Powder River (075)","Grant (075)",null,null,null,null,"Otsego (077)","Graham (075)","Renville (075)","Holmes (075)","Kiowa (075)",null,"Lebanon (075)",null,"Orangeburg (075)","Kingsbury (077)","Haywood (075)","Childress (075)",null,null,"Grayson, West Galax City (077)",null,"Whitman (075)","Putnam (079)","Marinette (075)"]
[null,"Lauderdale (077)",null,null,"Lee (077)","San Luis Obispo (079)","Logan (075)",null,null,null,"Liberty (077)","Crawford (079)",null,null,"Power (077)","Jackson (077)","Jefferson (077)","Guthrie (077)","Harper (077)","Gallatin (077)","Pointe Coupee (077)",null,null,null,"Kalamazoo (077)","Lake of the Woods (077)","Lawrence (077)","Greene (077)","Powell (077)","Greeley (077)",null,null,null,null,"Putnam (079)","Granville (077)","Richland (077)","Huron (077)","Latimer (077)",null,"Lehigh (077)",null,"Pickens (077)","Lake (079)","Henderson (077)","Clay (077)",null,null,"Greene (079)",null,"Yakima (077)","Raleigh (081)","Marquette (077)"]
[null,"Lawrence (079)",null,null,"Lincoln (079)","San Mateo (081)","Mesa (077)",null,null,null,"Madison (079)","Crisp (081)",null,null,"Teton (081)","Jasper (079)","Jennings (079)","Hamilton (079)","Harvey (079)","Garrard (079)","Rapides (079)",null,null,null,"Kalkaska (079)","Le Sueur (079)","Leake (079)","Grundy (079)","Prairie (079)","Hall (079)",null,null,null,null,"Queens (081)","Greene (079)","Rolette (079)","Jackson (079)","Le Flore (079)",null,"Luzerne (079)",null,"Richland (079)","Lawrence (081)","Henry (079)","Cochran (079)",null,null,"Greensville, Emporia City (081)",null,null,"Randolph (083)","Menominee (078)"]
[null,"Lee (081)",null,null,"Little River (081)","Santa Barbara (083)","Mineral (079)",null,null,null,"Manatee (081)","Dade (083)",null,null,"Twin Falls (083)","Jefferson (081)","Johnson (081)","Hancock (081)","Haskell (081)","Grant (081)","Red River (081)",null,null,null,"Kent (081)","Lincoln (081)","Lee (081)","Harrison (081)","Ravalli (081)","Hamilton (081)",null,null,null,null,"Rensselaer (083)","Guilford (081)","Sargent (081)","Jefferson (081)","Lincoln (081)",null,"Lycoming (081)",null,"Saluda (081)","Lincoln (083)","Hickman (081)","Coke (081)",null,null,"Halifax (083)",null,null,"Ritchie (085)","Milwaukee (079)"]
[null,"Limestone (083)",null,null,"Logan (083)","Santa Clara (085)","Moffat (081)",null,null,null,"Marion (083)","Dawson (085)",null,null,"Valley (085)","Jersey (083)","Knox (083)","Hardin (083)","Hodgeman (083)","Graves (083)","Richland (083)",null,null,null,"Keweenaw (083)","Lyon (083)","Leflore (083)","Henry (083)","Richland (083)","Harlan (083)",null,null,null,null,"Richmond (085)","Halifax (083)","Sheridan (083)","Knox (083)","Logan (083)",null,"McKean (083)",null,"Spartanburg (083)","Lyman (085)","Houston (083)","Coleman (083)",null,null,"Hanover (085)",null,null,"Roane (087)","Monroe (081)"]
[null,"Lowndes (085)",null,null,"Lonoke (085)","Santa Cruz (087)","Montezuma (083)",null,null,null,"Martin (085)","Decatur (087)",null,null,"Washington (087)","Jo Daviess (085)","Kosciusko (085)","Harrison (085)","Jackson (085)","Grayson (085)","Sabine (085)",null,null,null,"Lake (085)","McLeod (085)","Lincoln (085)","Hickory (085)","Roosevelt (085)","Hayes (085)",null,null,null,null,"St. Lawrence (089)","Harnett (085)","Sioux (085)","Lake (085)","Love (085)",null,"Mercer (085)",null,"Sumter (085)","McCook (087)","Humphreys (085)","Collin (085)",null,null,"Henrico, Richmond City (087)",null,null,"Summers (089)","Oconto (083)"]
[null,"Macon (087)",null,null,"Madison (087)","Shasta (089)","Montrose (085)",null,null,null,"Nassau (089)","DeKalb (089)",null,null,null,"Johnson (087)","LaGrange (087)","Henry (087)","Jefferson (087)","Green (087)","St. Bernard (087)",null,null,null,"Lapeer (087)","Mahnomen (087)","Lowndes (087)","Holt (087)","Rosebud (087)","Hitchcock (087)",null,null,null,null,"Saratoga (091)","Haywood (087)","Slope (087)","Lawrence (087)","McClain (087)",null,"Mifflin (087)",null,"Union (087)","McPherson (089)","Jackson (087)","Collingsworth (087)",null,null,"Henry, Martinsville City (089)",null,null,"Taylor (091)","Oneida (085)"]
[null,"Madison (089)",null,null,"Marion (089)","Sierra (091)","Morgan (087)",null,null,null,"Okaloosa (091)","Dodge (091)",null,null,null,"Kane (089)","Lake (089)","Howard (089)","Jewell (089)","Greenup (089)","St. Charles (089)",null,null,null,"Leelanau (089)","Marshall (089)","Madison (089)","Howard (089)","Sanders (089)","Holt (089)",null,null,null,null,"Schenectady (093)","Henderson (089)","Stark (089)","Licking (089)","McCurtain (089)",null,"Monroe (089)",null,"Williamsburg (089)","Marshall (091)","Jefferson (089)","Colorado (089)",null,null,"Highland (091)",null,null,"Tucker (093)","Outagamie (087)"]
[null,"Marengo (091)",null,null,"Miller (091)","Siskiyou (093)","Otero (089)",null,null,null,"Okeechobee (093)","Dooly (093)",null,null,null,"Kankakee (091)","LaPorte (091)","Humboldt (091)","Johnson (091)","Hancock (091)","St. Helena (091)",null,null,null,"Lenawee (091)","Martin (091)","Marion (091)","Howell (091)","Sheridan (091)","Hooker (091)",null,null,null,null,"Schoharie (095)","Hertford (091)","Steele (091)","Logan (091)","McIntosh (091)",null,"Montgomery (091)",null,"York (091)","Meade (093)","Johnson (091)","Comal (091)",null,null,"Isle of Wight (093)",null,null,"Tyler (095)","Ozaukee (089)"]
[null,"Marion (093)",null,null,"Mississippi (093)","Solano (095)","Ouray (091)",null,null,null,"Orange (095)","Dougherty (095)",null,null,null,"Kendall (093)","Lawrence (093)","Ida (093)","Kearny (093)","Hardin (093)","St. James (093)",null,null,null,"Livingston (093)","Meeker (093)","Marshall (093)","Iron (093)","Silver Bow (093)","Howard (093)",null,null,null,null,"Schuyler (097)","Hoke (093)","Stutsman (093)","Lorain (093)","Major (093)",null,"Montour (093)",null,null,"Mellette (095)","Knox (093)","Comanche (093)",null,null,"James City, Williamsburg City (095)",null,null,"Upshur (097)","Pepin (091)"]
[null,"Marshall (095)",null,null,"Monroe (095)","Sonoma (097)","Park (093)",null,null,null,"Osceola (097)","Douglas (097)",null,null,null,"Knox (095)","Madison (095)","Iowa (095)","Kingman (095)","Harlan (095)","St. John the Baptist (095)",null,null,null,"Luce (095)","Mille Lacs (095)","Monroe (095)","Jackson (095)","Stillwater (095)","Jefferson (095)",null,null,null,null,"Seneca (099)","Hyde (095)","Towner (095)","East Lucas (094)","Marshall (095)",null,"Northampton (095)",null,null,"Miner (097)","Lake (095)","Concho (095)",null,null,"King and Queen (097)",null,null,"Wayne (099)","Pierce (093)"]
[null,"Mobile (097)",null,null,"Montgomery (097)","Stanislaus (099)","Phillips (095)",null,null,null,"Palm Beach (099)","Early (099)",null,null,null,"Lake (097)","Marion (097)","Jackson (097)","Kiowa (097)","Harrison (097)","St. Landry (097)",null,null,null,"Mackinac (097)","Morrison (097)","Montgomery (097)","Jasper (097)","Sweet Grass (097)","Johnson (097)",null,null,null,null,"Steuben (101)","Iredell (097)","Traill (097)","West Lucas (095)","Mayes (097)",null,"Northumberland (097)",null,null,"Minnehaha (099)","Lauderdale (097)","Cooke (097)",null,null,"King George (099)",null,null,"Webster (101)","Polk (095)"]
[null,"Monroe (099)",null,null,"Nevada (099)","Sutter (101)","Pitkin (097)",null,null,null,"Pasco (101)","Echols (101)",null,null,null,"LaSalle (099)","Marshall (099)","Jasper (099)","Labette (099)","Hart (099)","St. Martin (099)",null,null,null,"Macomb (099)","Mower (099)","Neshoba (099)","Jefferson (099)","Teton (099)","Kearney (099)",null,null,null,null,"Suffolk, Nassau (103)","Jackson (099)","Walsh (099)","Madison (097)","Murray (099)",null,"Perry (099)",null,null,"Moody (101)","Lawrence (099)","Coryell (099)",null,null,"King William (101)",null,null,"Wetzel (103)","Portage (097)"]
[null,"Montgomery (101)",null,null,"Newton (101)","Tehama (103)","Prowers (099)",null,null,null,"Pinellas (103)","Effingham (103)",null,null,null,"Lawrence (101)","Martin (101)","Jefferson (101)","Lane (101)","Henderson (101)","St. Mary (101)",null,null,null,"Manistee (101)","Murray (101)","Newton (101)","Johnson (101)","Toole (101)","Keith (101)",null,null,null,null,"Sullivan (105)","Johnston (101)","Ward (101)","Mahoning (099)","Muskogee (101)",null,"Philadelphia (101)",null,null,"Pennington (103)","Lewis (101)","Cottle (101)",null,null,"Lancaster (103)",null,null,"Wirt (105)","Price (099)"]
[null,"Morgan (103)",null,null,"Ouachita (103)","Trinity (105)","Pueblo (101)",null,null,null,"Polk (105)","Elbert (105)",null,null,null,"Lee (103)","Miami (103)","Johnson (103)","Leavenworth (103)","Henry (103)","St. Tammany (103)",null,null,null,"Marquette (103)","Nicollet (103)","Noxubee (103)","Knox (103)","Treasure (103)","Keya Paha (103)",null,null,null,null,"Tioga (107)","Jones (103)","Wells (103)","Marion (101)","Noble (103)",null,"Pike (103)",null,null,"Perkins (105)","Lincoln (103)","Crane (103)",null,null,"Lee (105)",null,null,"Wood (107)","Racine (101)"]
[null,"Perry (105)",null,null,"Perry (105)","Tulare (107)","Rio Blanco (103)",null,null,null,"Putnam (107)","Emanuel (107)",null,null,null,"Livingston (105)","Monroe (105)","Jones (105)","Lincoln (105)","Hickman (105)","Tangipahoa (105)",null,null,null,"Mason (105)","Nobles (105)","Oktibbeha (105)","Laclede (105)","Valley (105)","Kimball (105)",null,null,null,null,"Tompkins (109)","Lee (105)","Williams (105)","Medina (103)","Nowata (105)",null,"Potter (105)",null,null,"Potter (107)","Loudon (105)","Crockett (105)",null,null,"Loudoun (107)",null,null,"Wyoming (109)","Richland (103)"]
[null,"Pickens (107)",null,null,"Phillips (107)","Tuolumne (109)","Rio Grande (105)",null,null,null,"St. Johns (109)","Evans (109)",null,null,null,"Logan (107)","Montgomery (107)","Keokuk (107)","Linn (107)","Hopkins (107)","Tensas (107)",null,null,null,"Mecosta (107)","Norman (107)","Panola (107)","Lafayette (107)","Wheatland (107)","Knox (107)",null,null,null,null,"Ulster (111)","Lenoir (107)",null,"Meigs (105)","Okfuskee (107)",null,"Schuylkill (107)",null,null,"Roberts (109)","McMinn (107)","Crosby (107)",null,null,"Louisa (109)",null,null,null,"Rock (105)"]
[null,"Pike (109)",null,null,"Pike (109)","Ventura (111)","Routt (107)",null,null,null,"St. Lucie (111)","Fannin (111)",null,null,null,"McDonough (109)","Morgan (109)","Kossuth (109)","Logan (109)","Jackson (109)","Terrebonne (109)",null,null,null,"Menominee (109)","Olmsted (109)","Pearl River (109)","Lawrence (109)","Wibaux (109)","Lancaster (109)",null,null,null,null,"Warren (113)","Lincoln (109)",null,"Mercer (107)","Oklahoma (109)",null,"Snyder (109)",null,null,"Sanborn (111)","McNairy (109)","Culberson (109)",null,null,"Lunenburg (111)",null,null,null,"Rusk (107)"]
[null,"Randolph (111)",null,null,"Poinsett (111)","Yolo (113)","Saguache (109)",null,null,null,"Santa Rosa (113)","Fayette (113)",null,null,null,"McHenry (111)","Newton (111)","Lee (111)","Lyon (111)","Jefferson (111)","Union (111)",null,null,null,"Midland (111)","East Otter Tail (111)","Perry (111)","Lewis (111)","Yellowstone (111)","Lincoln (111)",null,null,null,null,"Washington (115)","McDowell (111)",null,"Miami (109)","Okmulgee (111)",null,"Somerset (111)",null,null,"Oglala Lakota (113)","Macon (111)","Dallam (111)",null,null,"Madison (113)",null,null,null,"St. Croix (109)"]
[null,"Russell (113)",null,null,"Polk (113)","Yuba (115)","San Juan (111)",null,null,null,"Sarasota (115)","Floyd (115)",null,null,null,"McLean (113)","Noble (113)","Linn (113)","McPherson (113)","Jessamine (113)","Vermilion (113)",null,null,null,"Missaukee (113)","West Otter Tail (112)","Pike (113)","Lincoln (113)",null,"Logan (113)",null,null,null,null,"Wayne (117)","Macon (113)",null,"Monroe (111)","Osage (113)",null,"Sullivan (113)",null,null,"Spink (115)","Madison (113)","Dallas (113)",null,null,"Mathews (115)",null,null,null,"Sauk (111)"]
[null,"St. Clair (115)",null,null,"Pope (115)",null,"San Miguel (113)",null,null,null,"Seminole (117)","Forsyth (117)",null,null,null,"Macon (115)","Ohio (115)","Louisa (115)","Marion (115)","Johnson (115)","Vernon (115)",null,null,null,"Monroe (115)","Pennington (113)","Pontotoc (115)","Linn (115)",null,"Loup (115)",null,null,null,null,"Westchester (119)","Madison (115)",null,"Montgomery (113)","Ottawa (115)",null,"Susquehanna (115)",null,null,"Stanley (117)","Marion (115)","Dawson (115)",null,null,"Mecklenburg (117)",null,null,null,"Sawyer (113)"]
[null,"Shelby (117)",null,null,"Prairie (117)",null,"Sedgwick (115)",null,null,null,"Sumter (119)","Franklin (119)",null,null,null,"Macoupin (117)","Orange (117)","Lucas (117)","Marshall (117)","Kenton (117)","Washington (117)",null,null,null,"Montcalm (117)","Pine (115)","Prentiss (117)","Livingston (117)",null,"McPherson (117)",null,null,null,null,"Wyoming (121)","Martin (117)",null,"Morgan (115)","Pawnee (117)",null,"Tioga (117)",null,null,"Sully (119)","Marshall (117)","Deaf Smith (117)",null,null,"Middlesex (119)",null,null,null,"Shawano (115)"]
[null,"Sumter (119)",null,null,"Pulaski (119)",null,"Summit (117)",null,null,null,"Suwannee (121)","Fulton (121)",null,null,null,"Madison (119)","Owen (119)","Lyon (119)","Meade (119)","Knott (119)","Webster (119)",null,null,null,"Montmorency (119)","Pipestone (117)","Quitman (119)","McDonald (119)",null,"Madison (119)",null,null,null,null,"Yates (123)","Mecklenburg (119)",null,"Morrow (117)","Payne (119)",null,"Union (119)",null,null,"Todd (121)","Maury (119)","Delta (119)",null,null,"Montgomery, Radford City (121)",null,null,null,"Sheboygan (117)"]
[null,"Talladega (121)",null,null,"Randolph (121)",null,"Teller (119)",null,null,null,"Taylor (123)","Gilmer (123)",null,null,null,"Marion (121)","Parke (121)","Madison (121)","Miami (121)","Knox (121)","West Baton Rouge (121)",null,null,null,"Muskegon (121)","East Polk (119)","Rankin (121)","Macon (121)",null,"Merrick (121)",null,null,null,null,null,"Mitchell (121)",null,"Muskingum (119)","Pittsburg (121)",null,"Venango (121)",null,null,"Tripp (123)","Meigs (121)","Denton (121)",null,null,"Nelson (125)",null,null,null,"Taylor (119)"]
[null,"Tallapoosa (123)",null,null,"St. Francis (123)",null,"Washington (121)",null,null,null,"Union (125)","Glascock (125)",null,null,null,"Marshall (123)","Perry (123)","Mahaska (123)","Mitchell (123)","Larue (123)","West Carroll (123)",null,null,null,"Newaygo (123)","West Polk (120)","Scott (123)","Madison (123)",null,"Morrill (123)",null,null,null,null,null,"Montgomery (123)",null,"Noble (121)","Pontotoc (123)",null,"Warren (123)",null,null,"Turner (125)","Monroe (123)","DeWitt (123)",null,null,"New Kent (127)",null,null,null,"Trempealeau (121)"]
[null,"Tuscaloosa (125)",null,null,"Saline (125)",null,"Weld (123)",null,null,null,"Volusia (127)","Glynn (127)",null,null,null,"Mason (125)","Pike (125)","Marion (125)","Montgomery (125)","Laurel (125)","West Feliciana (125)",null,null,null,"Oakland (125)","Pope (121)","Sharkey (125)","Maries (125)",null,"Nance (125)",null,null,null,null,null,"Moore (125)",null,"Ottawa (123)","Pottawatomie (125)",null,"Washington (125)",null,null,"Union (127)","Montgomery (125)","Dickens (125)",null,null,"Northampton (131)",null,null,null,"Vernon (123)"]
[null,"Walker (127)",null,null,"Scott (127)",null,"Yuma (125)",null,null,null,"Wakulla (129)","Gordon (129)",null,null,null,"Massac (127)","Porter (127)","Marshall (127)","Morris (127)","Lawrence (127)","Winn (127)",null,null,null,"Oceana (127)","Ramsey (123)","Simpson (127)","Marion (127)",null,"Nemaha (127)",null,null,null,null,null,"Nash (127)",null,"Paulding (125)","Pushmataha (127)",null,"Wayne (127)",null,null,"Walworth (129)","Moore (127)","Dimmit (127)",null,null,"Northumberland (133)",null,null,null,"Vilas (125)"]
[null,"Washington (129)",null,null,"Searcy (129)",null,null,null,null,null,"Walton (131)","Grady (131)",null,null,null,"Menard (129)","Posey (129)","Mills (129)","Morton (129)","Lee (129)",null,null,null,null,"Ogemaw (129)","Red Lake (125)","Smith (129)","Mercer (129)",null,"Nuckolls (129)",null,null,null,null,null,"New Hanover (129)",null,"Perry (127)","Roger Mills (129)",null,"Westmoreland (129)",null,null,"Yankton (135)","Morgan (129)","Donley (129)",null,null,"Nottoway (135)",null,null,null,"Walworth (127)"]
[null,"Wilcox (131)",null,null,"Sebastian (131)",null,null,null,null,null,"Washington (133)","Greene (133)",null,null,null,"Mercer (131)","Pulaski (131)","Mitchell (131)","Nemaha (131)","Leslie (131)",null,null,null,null,"Ontonagon (131)","Redwood (127)","Stone (131)","Miller (131)",null,"Otoe (131)",null,null,null,null,null,"Northampton (131)",null,"Pickaway (129)","Rogers (131)",null,"Wyoming (131)",null,null,"Ziebach (137)","Obion (131)","Duval (131)",null,null,"Orange (137)",null,null,null,"Washburn (129)"]
[null,"Winston (133)",null,null,"Sevier (133)",null,null,null,null,null,null,"Gwinnett (135)",null,null,null,"Monroe (133)","Putnam (133)","Monona (133)","Neosho (133)","Letcher (133)",null,null,null,null,"Osceola (133)","Renville (129)","Sunflower (133)","Mississippi (133)",null,"Pawnee (133)",null,null,null,null,null,"Onslow (133)",null,"Pike (131)","Seminole (133)",null,"York (133)",null,null,null,"Overton (133)","Eastland (133)",null,null,"Page (139)",null,null,null,"Washington (131)"]
[null,null,null,null,"Sharp (135)",null,null,null,null,null,null,"Habersham (137)",null,null,null,"Montgomery (135)","Randolph (135)","Monroe (135)","Ness (135)","Lewis (135)",null,null,null,null,"Oscoda (135)","Rice (131)","Tallahatchie (135)","Moniteau (135)",null,"Perkins (135)",null,null,null,null,null,"Orange (135)",null,"Portage (133)","Sequoyah (135)",null,null,null,null,null,"Perry (135)","Ector (135)",null,null,"Patrick (141)",null,null,null,"Waukesha (133)"]
[null,null,null,null,"Stone (137)",null,null,null,null,null,null,"Hall (139)",null,null,null,"Morgan (137)","Ripley (137)","Montgomery (137)","Norton (137)","Lincoln (137)",null,null,null,null,"Otsego (137)","Rock (133)","Tate (137)","Monroe (137)",null,"Phelps (137)",null,null,null,null,null,"Pamlico (137)",null,"Preble (135)","Stephens (137)",null,null,null,null,null,"Pickett (137)","Edwards (137)",null,null,"Pittsylvania (143)",null,null,null,"Waupaca (135)"]
[null,null,null,null,"Union (139)",null,null,null,null,null,null,"Hancock (141)",null,null,null,"Moultrie (139)","Rush (139)","Muscatine (139)","Osage (139)","Livingston (139)",null,null,null,null,"Ottawa (139)","Roseau (135)","Tippah (139)","Montgomery (139)",null,"Pierce (139)",null,null,null,null,null,"Pasquotank (139)",null,"Putnam (137)","Texas (139)",null,null,null,null,null,"Polk (139)","Ellis (139)",null,null,"Powhatan (145)",null,null,null,"Waushara (137)"]
[null,null,null,null,"Van Buren (141)",null,null,null,null,null,null,"Haralson (143)",null,null,null,"Ogle (141)","St. Joseph (141)","O'Brien (141)","Osborne (141)","Logan (141)",null,null,null,null,"Presque Isle (141)","North St. Louis (137)","Tishomingo (141)","Morgan (141)",null,"Platte (141)",null,null,null,null,null,"Pender (141)",null,"Richland (139)","Tillman (141)",null,null,null,null,null,"Putnam (141)","El Paso (141)",null,null,"Prince Edward (147)",null,null,null,"Winnebago (139)"]
[null,null,null,null,"Washington (143)",null,null,null,null,null,null,"Harris (145)",null,null,null,"Peoria (143)","Scott (143)","Osceola (143)","Ottawa (143)","Lyon (143)",null,null,null,null,"Roscommon (143)","South St. Louis (138)","Tunica (143)","New Madrid (143)",null,"Polk (143)",null,null,null,null,null,"Perquimans (143)",null,"Ross (141)","Tulsa (143)",null,null,null,null,null,"Rhea (143)","Erath (143)",null,null,"Prince George (149)",null,null,null,"Wood (141)"]
[null,null,null,null,"White (145)",null,null,null,null,null,null,"Hart (147)",null,null,null,"Perry (145)","Shelby (145)","Page (145)","Pawnee (145)","McCracken (145)",null,null,null,null,"Saginaw (145)","Scott (139)","Union (145)","Newton (145)",null,"Red Willow (145)",null,null,null,null,null,"Person (145)",null,"Sandusky (143)","Wagoner (145)",null,null,null,null,null,"Roane (145)","Falls (145)",null,null,"Prince William (153)"]
[null,null,null,null,"Woodruff (147)",null,null,null,null,null,null,"Heard (149)",null,null,null,"Piatt (147)","Spencer (147)","Palo Alto (147)","Phillips (147)","McCreary (147)",null,null,null,null,"St. Clair (147)","Sherburne (141)","Walthall (147)","Nodaway (147)",null,"Richardson (147)",null,null,null,null,null,"Pitt (147)",null,"Scioto (145)","Washington (147)",null,null,null,null,null,"Robertson (147)","Fannin (147)",null,null,"Pulaski (155)"]
[null,null,null,null,"Yell (149)",null,null,null,null,null,null,"Henry (151)",null,null,null,"Pike (149)","Starke (149)","Plymouth (149)","Pottawatomie (149)","McLean (149)",null,null,null,null,"St. Joseph (149)","Sibley (143)","Warren (149)","Oregon (149)",null,"Rock (149)",null,null,null,null,null,"Polk (149)",null,"Seneca (147)","Washita (149)",null,null,null,null,null,"Rutherford (149)","Fayette (149)",null,null,"Rappahannock (157)"]
[null,null,null,null,null,null,null,null,null,null,null,"Houston (153)",null,null,null,"Pope (151)","Steuben (151)","Pocahontas (151)","Pratt (151)","Madison (151)",null,null,null,null,"Sanilac (151)","Stearns (145)","Washington (151)","Osage (151)",null,"Saline (151)",null,null,null,null,null,"Randolph (151)",null,"Shelby (149)","Woods (151)",null,null,null,null,null,"Scott (151)","Fisher (151)",null,null,"Richmond (159)"]
[null,null,null,null,null,null,null,null,null,null,null,"Irwin (155)",null,null,null,"Pulaski (153)","Sullivan (153)","Polk (153)","Rawlins (153)","Magoffin (153)",null,null,null,null,"Schoolcraft (153)","Steele (147)","Wayne (153)","Ozark (153)",null,"Sarpy (153)",null,null,null,null,null,"Richmond (153)",null,"Stark (151)","Woodward (153)",null,null,null,null,null,"Sequatchie (153)","Floyd (153)",null,null,"Roanoke, Roanoke City, Salem City (161)"]
[null,null,null,null,null,null,null,null,null,null,null,"Jackson (157)",null,null,null,"Putnam (155)","Switzerland (155)","East Pottawattamie (155)","Reno (155)","Marion (155)",null,null,null,null,"Shiawassee (155)","Stevens (149)","Webster (155)","Pemiscot (155)",null,"Saunders (155)",null,null,null,null,null,"Robeson (155)",null,"Summit (153)",null,null,null,null,null,null,"Sevier (155)","Foard (155)",null,null,"Rockbridge, Buena Vista City, Lexington City (163)"]
[null,null,null,null,null,null,null,null,null,null,null,"Jasper (159)",null,null,null,"Randolph (157)","Tippecanoe (157)","West Pottawattamie (156)","Republic (157)","Marshall (157)",null,null,null,null,"Tuscola (157)","Swift (151)","Wilkinson (157)","Perry (157)",null,"Scotts Bluff (157)",null,null,null,null,null,"Rockingham (157)",null,"Trumbull (155)",null,null,null,null,null,null,"Shelby (157)","Fort Bend (157)",null,null,"Rockingham, Harrisonburg City (165)"]
[null,null,null,null,null,null,null,null,null,null,null,"Jeff Davis (161)",null,null,null,"Richland (159)","Tipton (159)","Poweshiek (157)","Rice (159)","Martin (159)",null,null,null,null,"Van Buren (159)","Todd (153)","Winston (159)","Pettis (159)",null,"Seward (159)",null,null,null,null,null,"Rowan (159)",null,"Tuscarawas (157)",null,null,null,null,null,null,"Smith (159)","Franklin (159)",null,null,"Russell (167)"]
[null,null,null,null,null,null,null,null,null,null,null,"Jefferson (163)",null,null,null,"Rock Island (161)","Union (161)","Ringgold (159)","Riley (161)","Mason (161)",null,null,null,null,"Washtenaw (161)","Traverse (155)","Yalobusha (161)","Phelps (161)",null,"Sheridan (161)",null,null,null,null,null,"Rutherford (161)",null,"Union (159)",null,null,null,null,null,null,"Stewart (161)","Freestone (161)",null,null,"Scott (169)"]
[null,null,null,null,null,null,null,null,null,null,null,"Jenkins (165)",null,null,null,"St. Clair (163)","Vanderburgh (163)","Sac (161)","Rooks (163)","Meade (163)",null,null,null,null,"Wayne (163)","Wabasha (157)","Yazoo (163)","Pike (163)",null,"Sherman (163)",null,null,null,null,null,"Sampson (163)",null,"Van Wert (161)",null,null,null,null,null,null,"Sullivan (163)","Frio (163)",null,null,"Shenandoah (171)"]
[null,null,null,null,null,null,null,null,null,null,null,"Johnson (167)",null,null,null,"Saline (165)","Vermillion (165)","Scott (163)","Rush (165)","Menifee (165)",null,null,null,null,"Wexford (165)","Wadena (159)",null,"Platte (165)",null,"South Sioux (165)",null,null,null,null,null,"Scotland (165)",null,"Vinton (163)",null,null,null,null,null,null,"Sumner (165)","Gaines (165)",null,null,"Smyth (173)"]
[null,null,null,null,null,null,null,null,null,null,null,"Jones (169)",null,null,null,"Sangamon (167)","Vigo (167)","Shelby (165)","Russell (167)","Mercer (167)",null,null,null,null,null,"Waseca (161)",null,"Polk (167)",null,"Stanton (167)",null,null,null,null,null,"Stanly (167)",null,"Warren (165)",null,null,null,null,null,null,"Tipton (167)","Galveston (167)",null,null,"Southampton, Franklin City (175)"]
[null,null,null,null,null,null,null,null,null,null,null,"Lamar (171)",null,null,null,"Schuyler (169)","Wabash (169)","Sioux (167)","Saline (169)","Metcalfe (169)",null,null,null,null,null,"Washington (163)",null,"Pulaski (169)",null,"Thayer (169)",null,null,null,null,null,"Stokes (169)",null,"Washington (167)",null,null,null,null,null,null,"Trousdale (169)","Garza (169)",null,null,"Spotsylvania, Fredericksburg City (177)"]
[null,null,null,null,null,null,null,null,null,null,null,"Lanier (173)",null,null,null,"Scott (171)","Warren (171)","Story (169)","Scott (171)","Monroe (171)",null,null,null,null,null,"Watonwan (165)",null,"Putnam (171)",null,"Thomas (171)",null,null,null,null,null,"Surry (171)",null,"Wayne (169)",null,null,null,null,null,null,"Unicoi (171)","Gillespie (171)",null,null,"Stafford (179)"]
[null,null,null,null,null,null,null,null,null,null,null,"Laurens (175)",null,null,null,"Shelby (173)","Warrick (173)","Tama (171)","Sedgwick (173)","Montgomery (173)",null,null,null,null,null,"Wilkin (167)",null,"Ralls (173)",null,"Thurston (173)",null,null,null,null,null,"Swain (173)",null,"Williams (171)",null,null,null,null,null,null,"Union (173)","Glasscock (173)",null,null,"Surry (181)"]
[null,null,null,null,null,null,null,null,null,null,null,"Lee (177)",null,null,null,"Stark (175)","Washington (175)","Taylor (173)","Seward (175)","Morgan (175)",null,null,null,null,null,"Winona (169)",null,"Randolph (175)",null,"Valley (175)",null,null,null,null,null,"Transylvania (175)",null,"Wood (173)",null,null,null,null,null,null,"Van Buren (175)","Goliad (175)",null,null,"Sussex (183)"]
[null,null,null,null,null,null,null,null,null,null,null,"Liberty (179)",null,null,null,"Stephenson (177)","Wayne (177)","Union (175)","Shawnee (177)","Muhlenberg (177)",null,null,null,null,null,"Wright (171)",null,"Ray (177)",null,"Washington (177)",null,null,null,null,null,"Tyrrell (177)",null,"Wyandot (175)",null,null,null,null,null,null,"Warren (177)","Gonzales (177)",null,null,"Tazewell (185)"]
[null,null,null,null,null,null,null,null,null,null,null,"Lincoln (181)",null,null,null,"Tazewell (179)","Wells (179)","Van Buren (177)","Sheridan (179)","Nelson (179)",null,null,null,null,null,"Yellow Medicine (173)",null,"Reynolds (179)",null,"Wayne (179)",null,null,null,null,null,"Union (179)",null,null,null,null,null,null,null,null,"Washington (179)","Gray (179)",null,null,"Warren (187)"]
[null,null,null,null,null,null,null,null,null,null,null,"Long (183)",null,null,null,"Union (181)","White (181)","Wapello (179)","Sherman (181)","Nicholas (181)",null,null,null,null,null,null,null,"Ripley (181)",null,"Webster (181)",null,null,null,null,null,"Vance (181)",null,null,null,null,null,null,null,null,"Wayne (181)","Grayson (181)",null,null,"Washington, Bristol City (191)"]
[null,null,null,null,null,null,null,null,null,null,null,"Lowndes (185)",null,null,null,"Vermilion (183)","Whitley (183)","Warren (181)","Smith (183)","Ohio (183)",null,null,null,null,null,null,null,"St. Charles (183)",null,"Wheeler (183)",null,null,null,null,null,"Wake (183)",null,null,null,null,null,null,null,null,"Weakley (183)","Gregg (183)",null,null,"Westmoreland (193)"]
[null,null,null,null,null,null,null,null,null,null,null,"Lumpkin (187)",null,null,null,"Wabash (185)",null,"Washington (183)","Stafford (185)","Oldham (185)",null,null,null,null,null,null,null,"St. Clair (185)",null,"York (185)",null,null,null,null,null,"Warren (185)",null,null,null,null,null,null,null,null,"White (185)","Grimes (185)",null,null,"Wise (195)"]
[null,null,null,null,null,null,null,null,null,null,null,"McDuffie (189)",null,null,null,"Warren (187)",null,"Wayne (185)","Stanton (187)","Owen (187)",null,null,null,null,null,null,null,"St. Francois (187)",null,null,null,null,null,null,null,"Washington (187)",null,null,null,null,null,null,null,null,"Williamson (187)","Guadalupe (187)",null,null,"Wythe (197)"]
[null,null,null,null,null,null,null,null,null,null,null,"McIntosh (191)",null,null,null,"Washington (189)",null,"Webster (187)","Stevens (189)","Owsley (189)",null,null,null,null,null,null,null,"St. Louis (189)",null,null,null,null,null,null,null,"Watauga (189)",null,null,null,null,null,null,null,null,"Wilson (189)","Hale (189)",null,null,"York, Poquoson City (199)"]
[null,null,null,null,null,null,null,null,null,null,null,"Macon (193)",null,null,null,"Wayne (191)",null,"Winnebago (189)","Sumner (191)","Pendleton (191)",null,null,null,null,null,null,null,"Ste. Genevieve (193)",null,null,null,null,null,null,null,"Wayne (191)",null,null,null,null,null,null,null,null,null,"Hall (191)",null,null,"Alexandria (510)"]
[null,null,null,null,null,null,null,null,null,null,null,"Madison (195)",null,null,null,"White (193)",null,"Winneshiek (191)","Thomas (193)","Perry (193)",null,null,null,null,null,null,null,"Saline (195)",null,null,null,null,null,null,null,"Wilkes (193)",null,null,null,null,null,null,null,null,null,"Hamilton (193)",null,null,"Bedford (515)"]
[null,null,null,null,null,null,null,null,null,null,null,"Marion (197)",null,null,null,"Whiteside (195)",null,"Woodbury (193)","Trego (195)","Pike (195)",null,null,null,null,null,null,null,"Schuyler (197)",null,null,null,null,null,null,null,"Wilson (195)",null,null,null,null,null,null,null,null,null,"Hansford (195)",null,null,"Chesapeake (550)"]
[null,null,null,null,null,null,null,null,null,null,null,"Meriwether (199)",null,null,null,"Will (197)",null,"Worth (195)","Wabaunsee (197)","Powell (197)",null,null,null,null,null,null,null,"Scotland (199)",null,null,null,null,null,null,null,"Yadkin (197)",null,null,null,null,null,null,null,null,null,"Hardeman (197)",null,null,"Colonial Heights (570)"]
[null,null,null,null,null,null,null,null,null,null,null,"Miller (201)",null,null,null,"Williamson (199)",null,"Wright (197)","Wallace (199)","Pulaski (199)",null,null,null,null,null,null,null,"Scott (201)",null,null,null,null,null,null,null,"Yancey (199)",null,null,null,null,null,null,null,null,null,"Hardin (199)",null,null,"Danville (590)"]
[null,null,null,null,null,null,null,null,null,null,null,"Mitchell (205)",null,null,null,"Winnebago (201)",null,null,"Washington (201)","Robertson (201)",null,null,null,null,null,null,null,"Shannon (203)",null,null,null,null,null,null,null,null,null,null,null,null,null,null,null,null,null,"Harris (201)",null,null,"Fairfax (600)"]
[null,null,null,null,null,null,null,null,null,null,null,"Monroe (207)",null,null,null,"Woodford (203)",null,null,"Wichita (203)","Rockcastle (203)",null,null,null,null,null,null,null,"Shelby (205)",null,null,null,null,null,null,null,null,null,null,null,null,null,null,null,null,null,"Harrison (203)",null,null,"Falls Church (610)"]
[null,null,null,null,null,null,null,null,null,null,null,"Montgomery (209)",null,null,null,null,null,null,"Wilson (205)","Rowan (205)",null,null,null,null,null,null,null,"Stoddard (207)",null,null,null,null,null,null,null,null,null,null,null,null,null,null,null,null,null,"Hartley (205)",null,null,"Hampton (650)"]
[null,null,null,null,null,null,null,null,null,null,null,"Morgan (211)",null,null,null,null,null,null,"Woodson (207)","Russell (207)",null,null,null,null,null,null,null,"Stone (209)",null,null,null,null,null,null,null,null,null,null,null,null,null,null,null,null,null,"Haskell (207)",null,null,"Hopewell (670)"]
[null,null,null,null,null,null,null,null,null,null,null,"Murray (213)",null,null,null,null,null,null,"Wyandotte (209)","Scott (209)",null,null,null,null,null,null,null,"Sullivan (211)",null,null,null,null,null,null,null,null,null,null,null,null,null,null,null,null,null,"Hays (209)",null,null,"Manassas (683)"]
[null,null,null,null,null,null,null,null,null,null,null,"Muscogee (215)",null,null,null,null,null,null,null,"Shelby (211)",null,null,null,null,null,null,null,"Taney (213)",null,null,null,null,null,null,null,null,null,null,null,null,null,null,null,null,null,"Hemphill (211)",null,null,"Manassas Park (685)"]
[null,null,null,null,null,null,null,null,null,null,null,"Newton (217)",null,null,null,null,null,null,null,"Simpson (213)",null,null,null,null,null,null,null,"Texas (215)",null,null,null,null,null,null,null,null,null,null,null,null,null,null,null,null,null,"Henderson (213)",null,null,"Newport News (700)"]
[null,null,null,null,null,null,null,null,null,null,null,"Oconee (219)",null,null,null,null,null,null,null,"Spencer (215)",null,null,null,null,null,null,null,"Vernon (217)",null,null,null,null,null,null,null,null,null,null,null,null,null,null,null,null,null,"Hidalgo (215)",null,null,"Norfolk (710)"]
[null,null,null,null,null,null,null,null,null,null,null,"Oglethorpe (221)",null,null,null,null,null,null,null,"Taylor (217)",null,null,null,null,null,null,null,"Warren (219)",null,null,null,null,null,null,null,null,null,null,null,null,null,null,null,null,null,"Hill (217)",null,null,"Norton (720)"]
[null,null,null,null,null,null,null,null,null,null,null,"Paulding (223)",null,null,null,null,null,null,null,"Todd (219)",null,null,null,null,null,null,null,"Washington (221)",null,null,null,null,null,null,null,null,null,null,null,null,null,null,null,null,null,"Hockley (219)",null,null,"Portsmouth (740)"]
[null,null,null,null,null,null,null,null,null,null,null,"Peach (225)",null,null,null,null,null,null,null,"Trigg (221)",null,null,null,null,null,null,null,"Wayne (223)",null,null,null,null,null,null,null,null,null,null,null,null,null,null,null,null,null,"Hood (221)",null,null,"Staunton (790)"]
[null,null,null,null,null,null,null,null,null,null,null,"Pickens (227)",null,null,null,null,null,null,null,"Trimble (223)",null,null,null,null,null,null,null,"Webster (225)",null,null,null,null,null,null,null,null,null,null,null,null,null,null,null,null,null,"Hopkins (223)",null,null,"Suffolk (800)"]
[null,null,null,null,null,null,null,null,null,null,null,"Pierce (229)",null,null,null,null,null,null,null,"Union (225)",null,null,null,null,null,null,null,"Worth (227)",null,null,null,null,null,null,null,null,null,null,null,null,null,null,null,null,null,"Houston (225)",null,null,"Virginia Beach (810)"]
[null,null,null,null,null,null,null,null,null,null,null,"Pike (231)",null,null,null,null,null,null,null,"Warren (227)",null,null,null,null,null,null,null,"Wright (229)",null,null,null,null,null,null,null,null,null,null,null,null,null,null,null,null,null,"Howard (227)",null,null,"Waynesboro (820)"]
[null,null,null,null,null,null,null,null,null,null,null,"Polk (233)",null,null,null,null,null,null,null,"Washington (229)",null,null,null,null,null,null,null,"St. Louis (510)",null,null,null,null,null,null,null,null,null,null,null,null,null,null,null,null,null,"Hudspeth (229)"]
[null,null,null,null,null,null,null,null,null,null,null,"Pulaski (235)",null,null,null,null,null,null,null,"Wayne (231)",null,null,null,null,null,null,null,null,null,null,null,null,null,null,null,null,null,null,null,null,null,null,null,null,null,"Hunt (231)"]
[null,null,null,null,null,null,null,null,null,null,null,"Putnam (237)",null,null,null,null,null,null,null,"Webster (233)",null,null,null,null,null,null,null,null,null,null,null,null,null,null,null,null,null,null,null,null,null,null,null,null,null,"Hutchinson (233)"]
[null,null,null,null,null,null,null,null,null,null,null,"Quitman (239)",null,null,null,null,null,null,null,"Whitley (235)",null,null,null,null,null,null,null,null,null,null,null,null,null,null,null,null,null,null,null,null,null,null,null,null,null,"Irion (235)"]
[null,null,null,null,null,null,null,null,null,null,null,"Rabun (241)",null,null,null,null,null,null,null,"Wolfe (237)",null,null,null,null,null,null,null,null,null,null,null,null,null,null,null,null,null,null,null,null,null,null,null,null,null,"Jack (237)"]
[null,null,null,null,null,null,null,null,null,null,null,"Randolph (243)",null,null,null,null,null,null,null,"Woodford (239)",null,null,null,null,null,null,null,null,null,null,null,null,null,null,null,null,null,null,null,null,null,null,null,null,null,"Jackson (239)"]
[null,null,null,null,null,null,null,null,null,null,null,"Richmond (245)",null,null,null,null,null,null,null,null,null,null,null,null,null,null,null,null,null,null,null,null,null,null,null,null,null,null,null,null,null,null,null,null,null,"Jasper (241)"]
[null,null,null,null,null,null,null,null,null,null,null,"Rockdale (247)",null,null,null,null,null,null,null,null,null,null,null,null,null,null,null,null,null,null,null,null,null,null,null,null,null,null,null,null,null,null,null,null,null,"Jeff Davis (243)"]
[null,null,null,null,null,null,null,null,null,null,null,"Schley (249)",null,null,null,null,null,null,null,null,null,null,null,null,null,null,null,null,null,null,null,null,null,null,null,null,null,null,null,null,null,null,null,null,null,"Jefferson (245)"]
[null,null,null,null,null,null,null,null,null,null,null,"Screven (251)",null,null,null,null,null,null,null,null,null,null,null,null,null,null,null,null,null,null,null,null,null,null,null,null,null,null,null,null,null,null,null,null,null,"Jim Hogg (247)"]
[null,null,null,null,null,null,null,null,null,null,null,"Seminole (253)",null,null,null,null,null,null,null,null,null,null,null,null,null,null,null,null,null,null,null,null,null,null,null,null,null,null,null,null,null,null,null,null,null,"Jim Wells (249)"]
[null,null,null,null,null,null,null,null,null,null,null,"Spalding (255)",null,null,null,null,null,null,null,null,null,null,null,null,null,null,null,null,null,null,null,null,null,null,null,null,null,null,null,null,null,null,null,null,null,"Johnson (251)"]
[null,null,null,null,null,null,null,null,null,null,null,"Stephens (257)",null,null,null,null,null,null,null,null,null,null,null,null,null,null,null,null,null,null,null,null,null,null,null,null,null,null,null,null,null,null,null,null,null,"Jones (253)"]
[null,null,null,null,null,null,null,null,null,null,null,"Stewart (259)",null,null,null,null,null,null,null,null,null,null,null,null,null,null,null,null,null,null,null,null,null,null,null,null,null,null,null,null,null,null,null,null,null,"Karnes (255)"]
[null,null,null,null,null,null,null,null,null,null,null,"Sumter (261)",null,null,null,null,null,null,null,null,null,null,null,null,null,null,null,null,null,null,null,null,null,null,null,null,null,null,null,null,null,null,null,null,null,"Kaufman (257)"]
[null,null,null,null,null,null,null,null,null,null,null,"Talbot (263)",null,null,null,null,null,null,null,null,null,null,null,null,null,null,null,null,null,null,null,null,null,null,null,null,null,null,null,null,null,null,null,null,null,"Kendall (259)"]
[null,null,null,null,null,null,null,null,null,null,null,"Taliaferro (265)",null,null,null,null,null,null,null,null,null,null,null,null,null,null,null,null,null,null,null,null,null,null,null,null,null,null,null,null,null,null,null,null,null,"Kenedy (261)"]
[null,null,null,null,null,null,null,null,null,null,null,"Tattnall (267)",null,null,null,null,null,null,null,null,null,null,null,null,null,null,null,null,null,null,null,null,null,null,null,null,null,null,null,null,null,null,null,null,null,"Kent (263)"]
[null,null,null,null,null,null,null,null,null,null,null,"Taylor (269)",null,null,null,null,null,null,null,null,null,null,null,null,null,null,null,null,null,null,null,null,null,null,null,null,null,null,null,null,null,null,null,null,null,"Kerr (265)"]
[null,null,null,null,null,null,null,null,null,null,null,"Telfair (271)",null,null,null,null,null,null,null,null,null,null,null,null,null,null,null,null,null,null,null,null,null,null,null,null,null,null,null,null,null,null,null,null,null,"Kimble (267)"]
[null,null,null,null,null,null,null,null,null,null,null,"Terrell (273)",null,null,null,null,null,null,null,null,null,null,null,null,null,null,null,null,null,null,null,null,null,null,null,null,null,null,null,null,null,null,null,null,null,"King (269)"]
[null,null,null,null,null,null,null,null,null,null,null,"Thomas (275)",null,null,null,null,null,null,null,null,null,null,null,null,null,null,null,null,null,null,null,null,null,null,null,null,null,null,null,null,null,null,null,null,null,"Kinney (271)"]
[null,null,null,null,null,null,null,null,null,null,null,"Tift (277)",null,null,null,null,null,null,null,null,null,null,null,null,null,null,null,null,null,null,null,null,null,null,null,null,null,null,null,null,null,null,null,null,null,"Kleberg (273)"]
[null,null,null,null,null,null,null,null,null,null,null,"Toombs (279)",null,null,null,null,null,null,null,null,null,null,null,null,null,null,null,null,null,null,null,null,null,null,null,null,null,null,null,null,null,null,null,null,null,"Knox (275)"]
[null,null,null,null,null,null,null,null,null,null,null,"Towns (281)",null,null,null,null,null,null,null,null,null,null,null,null,null,null,null,null,null,null,null,null,null,null,null,null,null,null,null,null,null,null,null,null,null,"Lamar (277)"]
[null,null,null,null,null,null,null,null,null,null,null,"Treutlen (283)",null,null,null,null,null,null,null,null,null,null,null,null,null,null,null,null,null,null,null,null,null,null,null,null,null,null,null,null,null,null,null,null,null,"Lamb (279)"]
[null,null,null,null,null,null,null,null,null,null,null,"Troup (285)",null,null,null,null,null,null,null,null,null,null,null,null,null,null,null,null,null,null,null,null,null,null,null,null,null,null,null,null,null,null,null,null,null,"Lampasas (281)"]
[null,null,null,null,null,null,null,null,null,null,null,"Turner (287)",null,null,null,null,null,null,null,null,null,null,null,null,null,null,null,null,null,null,null,null,null,null,null,null,null,null,null,null,null,null,null,null,null,"La Salle (283)"]
[null,null,null,null,null,null,null,null,null,null,null,"Twiggs (289)",null,null,null,null,null,null,null,null,null,null,null,null,null,null,null,null,null,null,null,null,null,null,null,null,null,null,null,null,null,null,null,null,null,"Lavaca (285)"]
[null,null,null,null,null,null,null,null,null,null,null,"Union (291)",null,null,null,null,null,null,null,null,null,null,null,null,null,null,null,null,null,null,null,null,null,null,null,null,null,null,null,null,null,null,null,null,null,"Lee (287)"]
[null,null,null,null,null,null,null,null,null,null,null,"Upson (293)",null,null,null,null,null,null,null,null,null,null,null,null,null,null,null,null,null,null,null,null,null,null,null,null,null,null,null,null,null,null,null,null,null,"Leon (289)"]
[null,null,null,null,null,null,null,null,null,null,null,"Walker (295)",null,null,null,null,null,null,null,null,null,null,null,null,null,null,null,null,null,null,null,null,null,null,null,null,null,null,null,null,null,null,null,null,null,"Liberty (291)"]
[null,null,null,null,null,null,null,null,null,null,null,"Walton (297)",null,null,null,null,null,null,null,null,null,null,null,null,null,null,null,null,null,null,null,null,null,null,null,null,null,null,null,null,null,null,null,null,null,"Limestone (293)"]
[null,null,null,null,null,null,null,null,null,null,null,"Ware (299)",null,null,null,null,null,null,null,null,null,null,null,null,null,null,null,null,null,null,null,null,null,null,null,null,null,null,null,null,null,null,null,null,null,"Lipscomb (295)"]
[null,null,null,null,null,null,null,null,null,null,null,"Warren (301)",null,null,null,null,null,null,null,null,null,null,null,null,null,null,null,null,null,null,null,null,null,null,null,null,null,null,null,null,null,null,null,null,null,"Live Oak (297)"]
[null,null,null,null,null,null,null,null,null,null,null,"Washington (303)",null,null,null,null,null,null,null,null,null,null,null,null,null,null,null,null,null,null,null,null,null,null,null,null,null,null,null,null,null,null,null,null,null,"Llano (299)"]
[null,null,null,null,null,null,null,null,null,null,null,"Wayne (305)",null,null,null,null,null,null,null,null,null,null,null,null,null,null,null,null,null,null,null,null,null,null,null,null,null,null,null,null,null,null,null,null,null,"Loving (301)"]
[null,null,null,null,null,null,null,null,null,null,null,"Webster (307)",null,null,null,null,null,null,null,null,null,null,null,null,null,null,null,null,null,null,null,null,null,null,null,null,null,null,null,null,null,null,null,null,null,"Lubbock (303)"]
[null,null,null,null,null,null,null,null,null,null,null,"Wheeler (309)",null,null,null,null,null,null,null,null,null,null,null,null,null,null,null,null,null,null,null,null,null,null,null,null,null,null,null,null,null,null,null,null,null,"Lynn (305)"]
[null,null,null,null,null,null,null,null,null,null,null,"White (311)",null,null,null,null,null,null,null,null,null,null,null,null,null,null,null,null,null,null,null,null,null,null,null,null,null,null,null,null,null,null,null,null,null,"McCulloch (307)"]
[null,null,null,null,null,null,null,null,null,null,null,"Whitfield (313)",null,null,null,null,null,null,null,null,null,null,null,null,null,null,null,null,null,null,null,null,null,null,null,null,null,null,null,null,null,null,null,null,null,"McLennan (309)"]
[null,null,null,null,null,null,null,null,null,null,null,"Wilcox (315)",null,null,null,null,null,null,null,null,null,null,null,null,null,null,null,null,null,null,null,null,null,null,null,null,null,null,null,null,null,null,null,null,null,"McMullen (311)"]
[null,null,null,null,null,null,null,null,null,null,null,"Wilkes (317)",null,null,null,null,null,null,null,null,null,null,null,null,null,null,null,null,null,null,null,null,null,null,null,null,null,null,null,null,null,null,null,null,null,"Madison (313)"]
[null,null,null,null,null,null,null,null,null,null,null,"Wilkinson (319)",null,null,null,null,null,null,null,null,null,null,null,null,null,null,null,null,null,null,null,null,null,null,null,null,null,null,null,null,null,null,null,null,null,"Marion (315)"]
[null,null,null,null,null,null,null,null,null,null,null,"Worth (321)",null,null,null,null,null,null,null,null,null,null,null,null,null,null,null,null,null,null,null,null,null,null,null,null,null,null,null,null,null,null,null,null,null,"Martin (317)"]
[null,null,null,null,null,null,null,null,null,null,null,null,null,null,null,null,null,null,null,null,null,null,null,null,null,null,null,null,null,null,null,null,null,null,null,null,null,null,null,null,null,null,null,null,null,"Mason (319)"]
[null,null,null,null,null,null,null,null,null,null,null,null,null,null,null,null,null,null,null,null,null,null,null,null,null,null,null,null,null,null,null,null,null,null,null,null,null,null,null,null,null,null,null,null,null,"Matagorda (321)"]
[null,null,null,null,null,null,null,null,null,null,null,null,null,null,null,null,null,null,null,null,null,null,null,null,null,null,null,null,null,null,null,null,null,null,null,null,null,null,null,null,null,null,null,null,null,"Maverick (323)"]
[null,null,null,null,null,null,null,null,null,null,null,null,null,null,null,null,null,null,null,null,null,null,null,null,null,null,null,null,null,null,null,null,null,null,null,null,null,null,null,null,null,null,null,null,null,"Medina (325)"]
[null,null,null,null,null,null,null,null,null,null,null,null,null,null,null,null,null,null,null,null,null,null,null,null,null,null,null,null,null,null,null,null,null,null,null,null,null,null,null,null,null,null,null,null,null,"Menard (327)"]
[null,null,null,null,null,null,null,null,null,null,null,null,null,null,null,null,null,null,null,null,null,null,null,null,null,null,null,null,null,null,null,null,null,null,null,null,null,null,null,null,null,null,null,null,null,"Midland (329)"]
[null,null,null,null,null,null,null,null,null,null,null,null,null,null,null,null,null,null,null,null,null,null,null,null,null,null,null,null,null,null,null,null,null,null,null,null,null,null,null,null,null,null,null,null,null,"Milam (331)"]
[null,null,null,null,null,null,null,null,null,null,null,null,null,null,null,null,null,null,null,null,null,null,null,null,null,null,null,null,null,null,null,null,null,null,null,null,null,null,null,null,null,null,null,null,null,"Mills (333)"]
[null,null,null,null,null,null,null,null,null,null,null,null,null,null,null,null,null,null,null,null,null,null,null,null,null,null,null,null,null,null,null,null,null,null,null,null,null,null,null,null,null,null,null,null,null,"Mitchell (335)"]
[null,null,null,null,null,null,null,null,null,null,null,null,null,null,null,null,null,null,null,null,null,null,null,null,null,null,null,null,null,null,null,null,null,null,null,null,null,null,null,null,null,null,null,null,null,"Montague (337)"]
[null,null,null,null,null,null,null,null,null,null,null,null,null,null,null,null,null,null,null,null,null,null,null,null,null,null,null,null,null,null,null,null,null,null,null,null,null,null,null,null,null,null,null,null,null,"Montgomery (339)"]
[null,null,null,null,null,null,null,null,null,null,null,null,null,null,null,null,null,null,null,null,null,null,null,null,null,null,null,null,null,null,null,null,null,null,null,null,null,null,null,null,null,null,null,null,null,"Moore (341)"]
[null,null,null,null,null,null,null,null,null,null,null,null,null,null,null,null,null,null,null,null,null,null,null,null,null,null,null,null,null,null,null,null,null,null,null,null,null,null,null,null,null,null,null,null,null,"Morris (343)"]
[null,null,null,null,null,null,null,null,null,null,null,null,null,null,null,null,null,null,null,null,null,null,null,null,null,null,null,null,null,null,null,null,null,null,null,null,null,null,null,null,null,null,null,null,null,"Motley (345)"]
[null,null,null,null,null,null,null,null,null,null,null,null,null,null,null,null,null,null,null,null,null,null,null,null,null,null,null,null,null,null,null,null,null,null,null,null,null,null,null,null,null,null,null,null,null,"Nacogdoches (347)"]
[null,null,null,null,null,null,null,null,null,null,null,null,null,null,null,null,null,null,null,null,null,null,null,null,null,null,null,null,null,null,null,null,null,null,null,null,null,null,null,null,null,null,null,null,null,"Navarro (349)"]
[null,null,null,null,null,null,null,null,null,null,null,null,null,null,null,null,null,null,null,null,null,null,null,null,null,null,null,null,null,null,null,null,null,null,null,null,null,null,null,null,null,null,null,null,null,"Newton (351)"]
[null,null,null,null,null,null,null,null,null,null,null,null,null,null,null,null,null,null,null,null,null,null,null,null,null,null,null,null,null,null,null,null,null,null,null,null,null,null,null,null,null,null,null,null,null,"Nolan (353)"]
[null,null,null,null,null,null,null,null,null,null,null,null,null,null,null,null,null,null,null,null,null,null,null,null,null,null,null,null,null,null,null,null,null,null,null,null,null,null,null,null,null,null,null,null,null,"Nueces (355)"]
[null,null,null,null,null,null,null,null,null,null,null,null,null,null,null,null,null,null,null,null,null,null,null,null,null,null,null,null,null,null,null,null,null,null,null,null,null,null,null,null,null,null,null,null,null,"Ochiltree (357)"]
[null,null,null,null,null,null,null,null,null,null,null,null,null,null,null,null,null,null,null,null,null,null,null,null,null,null,null,null,null,null,null,null,null,null,null,null,null,null,null,null,null,null,null,null,null,"Oldham (359)"]
[null,null,null,null,null,null,null,null,null,null,null,null,null,null,null,null,null,null,null,null,null,null,null,null,null,null,null,null,null,null,null,null,null,null,null,null,null,null,null,null,null,null,null,null,null,"Orange (361)"]
[null,null,null,null,null,null,null,null,null,null,null,null,null,null,null,null,null,null,null,null,null,null,null,null,null,null,null,null,null,null,null,null,null,null,null,null,null,null,null,null,null,null,null,null,null,"Palo Pinto (363)"]
[null,null,null,null,null,null,null,null,null,null,null,null,null,null,null,null,null,null,null,null,null,null,null,null,null,null,null,null,null,null,null,null,null,null,null,null,null,null,null,null,null,null,null,null,null,"Panola (365)"]
[null,null,null,null,null,null,null,null,null,null,null,null,null,null,null,null,null,null,null,null,null,null,null,null,null,null,null,null,null,null,null,null,null,null,null,null,null,null,null,null,null,null,null,null,null,"Parker (367)"]
[null,null,null,null,null,null,null,null,null,null,null,null,null,null,null,null,null,null,null,null,null,null,null,null,null,null,null,null,null,null,null,null,null,null,null,null,null,null,null,null,null,null,null,null,null,"Parmer (369)"]
[null,null,null,null,null,null,null,null,null,null,null,null,null,null,null,null,null,null,null,null,null,null,null,null,null,null,null,null,null,null,null,null,null,null,null,null,null,null,null,null,null,null,null,null,null,"Pecos (371)"]
[null,null,null,null,null,null,null,null,null,null,null,null,null,null,null,null,null,null,null,null,null,null,null,null,null,null,null,null,null,null,null,null,null,null,null,null,null,null,null,null,null,null,null,null,null,"Polk (373)"]
[null,null,null,null,null,null,null,null,null,null,null,null,null,null,null,null,null,null,null,null,null,null,null,null,null,null,null,null,null,null,null,null,null,null,null,null,null,null,null,null,null,null,null,null,null,"Potter (375)"]
[null,null,null,null,null,null,null,null,null,null,null,null,null,null,null,null,null,null,null,null,null,null,null,null,null,null,null,null,null,null,null,null,null,null,null,null,null,null,null,null,null,null,null,null,null,"Presidio (377)"]
[null,null,null,null,null,null,null,null,null,null,null,null,null,null,null,null,null,null,null,null,null,null,null,null,null,null,null,null,null,null,null,null,null,null,null,null,null,null,null,null,null,null,null,null,null,"Rains (379)"]
[null,null,null,null,null,null,null,null,null,null,null,null,null,null,null,null,null,null,null,null,null,null,null,null,null,null,null,null,null,null,null,null,null,null,null,null,null,null,null,null,null,null,null,null,null,"Randall (381)"]
[null,null,null,null,null,null,null,null,null,null,null,null,null,null,null,null,null,null,null,null,null,null,null,null,null,null,null,null,null,null,null,null,null,null,null,null,null,null,null,null,null,null,null,null,null,"Reagan (383)"]
[null,null,null,null,null,null,null,null,null,null,null,null,null,null,null,null,null,null,null,null,null,null,null,null,null,null,null,null,null,null,null,null,null,null,null,null,null,null,null,null,null,null,null,null,null,"Real (385)"]
[null,null,null,null,null,null,null,null,null,null,null,null,null,null,null,null,null,null,null,null,null,null,null,null,null,null,null,null,null,null,null,null,null,null,null,null,null,null,null,null,null,null,null,null,null,"Red River (387)"]
[null,null,null,null,null,null,null,null,null,null,null,null,null,null,null,null,null,null,null,null,null,null,null,null,null,null,null,null,null,null,null,null,null,null,null,null,null,null,null,null,null,null,null,null,null,"Reeves (389)"]
[null,null,null,null,null,null,null,null,null,null,null,null,null,null,null,null,null,null,null,null,null,null,null,null,null,null,null,null,null,null,null,null,null,null,null,null,null,null,null,null,null,null,null,null,null,"Refugio (391)"]
[null,null,null,null,null,null,null,null,null,null,null,null,null,null,null,null,null,null,null,null,null,null,null,null,null,null,null,null,null,null,null,null,null,null,null,null,null,null,null,null,null,null,null,null,null,"Roberts (393)"]
[null,null,null,null,null,null,null,null,null,null,null,null,null,null,null,null,null,null,null,null,null,null,null,null,null,null,null,null,null,null,null,null,null,null,null,null,null,null,null,null,null,null,null,null,null,"Robertson (395)"]
[null,null,null,null,null,null,null,null,null,null,null,null,null,null,null,null,null,null,null,null,null,null,null,null,null,null,null,null,null,null,null,null,null,null,null,null,null,null,null,null,null,null,null,null,null,"Rockwall (397)"]
[null,null,null,null,null,null,null,null,null,null,null,null,null,null,null,null,null,null,null,null,null,null,null,null,null,null,null,null,null,null,null,null,null,null,null,null,null,null,null,null,null,null,null,null,null,"Runnels (399)"]
[null,null,null,null,null,null,null,null,null,null,null,null,null,null,null,null,null,null,null,null,null,null,null,null,null,null,null,null,null,null,null,null,null,null,null,null,null,null,null,null,null,null,null,null,null,"Rusk (401)"]
[null,null,null,null,null,null,null,null,null,null,null,null,null,null,null,null,null,null,null,null,null,null,null,null,null,null,null,null,null,null,null,null,null,null,null,null,null,null,null,null,null,null,null,null,null,"Sabine (403)"]
[null,null,null,null,null,null,null,null,null,null,null,null,null,null,null,null,null,null,null,null,null,null,null,null,null,null,null,null,null,null,null,null,null,null,null,null,null,null,null,null,null,null,null,null,null,"San Augustine (405)"]
[null,null,null,null,null,null,null,null,null,null,null,null,null,null,null,null,null,null,null,null,null,null,null,null,null,null,null,null,null,null,null,null,null,null,null,null,null,null,null,null,null,null,null,null,null,"San Jacinto (407)"]
[null,null,null,null,null,null,null,null,null,null,null,null,null,null,null,null,null,null,null,null,null,null,null,null,null,null,null,null,null,null,null,null,null,null,null,null,null,null,null,null,null,null,null,null,null,"San Patricio (409)"]
[null,null,null,null,null,null,null,null,null,null,null,null,null,null,null,null,null,null,null,null,null,null,null,null,null,null,null,null,null,null,null,null,null,null,null,null,null,null,null,null,null,null,null,null,null,"San Saba (411)"]
[null,null,null,null,null,null,null,null,null,null,null,null,null,null,null,null,null,null,null,null,null,null,null,null,null,null,null,null,null,null,null,null,null,null,null,null,null,null,null,null,null,null,null,null,null,"Schleicher (413)"]
[null,null,null,null,null,null,null,null,null,null,null,null,null,null,null,null,null,null,null,null,null,null,null,null,null,null,null,null,null,null,null,null,null,null,null,null,null,null,null,null,null,null,null,null,null,"Scurry (415)"]
[null,null,null,null,null,null,null,null,null,null,null,null,null,null,null,null,null,null,null,null,null,null,null,null,null,null,null,null,null,null,null,null,null,null,null,null,null,null,null,null,null,null,null,null,null,"Shackelford (417)"]
[null,null,null,null,null,null,null,null,null,null,null,null,null,null,null,null,null,null,null,null,null,null,null,null,null,null,null,null,null,null,null,null,null,null,null,null,null,null,null,null,null,null,null,null,null,"Shelby (419)"]
[null,null,null,null,null,null,null,null,null,null,null,null,null,null,null,null,null,null,null,null,null,null,null,null,null,null,null,null,null,null,null,null,null,null,null,null,null,null,null,null,null,null,null,null,null,"Sherman (421)"]
[null,null,null,null,null,null,null,null,null,null,null,null,null,null,null,null,null,null,null,null,null,null,null,null,null,null,null,null,null,null,null,null,null,null,null,null,null,null,null,null,null,null,null,null,null,"Smith (423)"]
[null,null,null,null,null,null,null,null,null,null,null,null,null,null,null,null,null,null,null,null,null,null,null,null,null,null,null,null,null,null,null,null,null,null,null,null,null,null,null,null,null,null,null,null,null,"Somervell (425)"]
[null,null,null,null,null,null,null,null,null,null,null,null,null,null,null,null,null,null,null,null,null,null,null,null,null,null,null,null,null,null,null,null,null,null,null,null,null,null,null,null,null,null,null,null,null,"Starr (427)"]
[null,null,null,null,null,null,null,null,null,null,null,null,null,null,null,null,null,null,null,null,null,null,null,null,null,null,null,null,null,null,null,null,null,null,null,null,null,null,null,null,null,null,null,null,null,"Stephens (429)"]
[null,null,null,null,null,null,null,null,null,null,null,null,null,null,null,null,null,null,null,null,null,null,null,null,null,null,null,null,null,null,null,null,null,null,null,null,null,null,null,null,null,null,null,null,null,"Sterling (431)"]
[null,null,null,null,null,null,null,null,null,null,null,null,null,null,null,null,null,null,null,null,null,null,null,null,null,null,null,null,null,null,null,null,null,null,null,null,null,null,null,null,null,null,null,null,null,"Stonewall (433)"]
[null,null,null,null,null,null,null,null,null,null,null,null,null,null,null,null,null,null,null,null,null,null,null,null,null,null,null,null,null,null,null,null,null,null,null,null,null,null,null,null,null,null,null,null,null,"Sutton (435)"]
[null,null,null,null,null,null,null,null,null,null,null,null,null,null,null,null,null,null,null,null,null,null,null,null,null,null,null,null,null,null,null,null,null,null,null,null,null,null,null,null,null,null,null,null,null,"Swisher (437)"]
[null,null,null,null,null,null,null,null,null,null,null,null,null,null,null,null,null,null,null,null,null,null,null,null,null,null,null,null,null,null,null,null,null,null,null,null,null,null,null,null,null,null,null,null,null,"Tarrant (439)"]
[null,null,null,null,null,null,null,null,null,null,null,null,null,null,null,null,null,null,null,null,null,null,null,null,null,null,null,null,null,null,null,null,null,null,null,null,null,null,null,null,null,null,null,null,null,"Taylor (441)"]
[null,null,null,null,null,null,null,null,null,null,null,null,null,null,null,null,null,null,null,null,null,null,null,null,null,null,null,null,null,null,null,null,null,null,null,null,null,null,null,null,null,null,null,null,null,"Terrell (443)"]
[null,null,null,null,null,null,null,null,null,null,null,null,null,null,null,null,null,null,null,null,null,null,null,null,null,null,null,null,null,null,null,null,null,null,null,null,null,null,null,null,null,null,null,null,null,"Terry (445)"]
[null,null,null,null,null,null,null,null,null,null,null,null,null,null,null,null,null,null,null,null,null,null,null,null,null,null,null,null,null,null,null,null,null,null,null,null,null,null,null,null,null,null,null,null,null,"Throckmorton (447)"]
[null,null,null,null,null,null,null,null,null,null,null,null,null,null,null,null,null,null,null,null,null,null,null,null,null,null,null,null,null,null,null,null,null,null,null,null,null,null,null,null,null,null,null,null,null,"Titus (449)"]
[null,null,null,null,null,null,null,null,null,null,null,null,null,null,null,null,null,null,null,null,null,null,null,null,null,null,null,null,null,null,null,null,null,null,null,null,null,null,null,null,null,null,null,null,null,"Tom Green (451)"]
[null,null,null,null,null,null,null,null,null,null,null,null,null,null,null,null,null,null,null,null,null,null,null,null,null,null,null,null,null,null,null,null,null,null,null,null,null,null,null,null,null,null,null,null,null,"Travis (453)"]
[null,null,null,null,null,null,null,null,null,null,null,null,null,null,null,null,null,null,null,null,null,null,null,null,null,null,null,null,null,null,null,null,null,null,null,null,null,null,null,null,null,null,null,null,null,"Trinity (455)"]
[null,null,null,null,null,null,null,null,null,null,null,null,null,null,null,null,null,null,null,null,null,null,null,null,null,null,null,null,null,null,null,null,null,null,null,null,null,null,null,null,null,null,null,null,null,"Tyler (457)"]
[null,null,null,null,null,null,null,null,null,null,null,null,null,null,null,null,null,null,null,null,null,null,null,null,null,null,null,null,null,null,null,null,null,null,null,null,null,null,null,null,null,null,null,null,null,"Upshur (459)"]
[null,null,null,null,null,null,null,null,null,null,null,null,null,null,null,null,null,null,null,null,null,null,null,null,null,null,null,null,null,null,null,null,null,null,null,null,null,null,null,null,null,null,null,null,null,"Upton (461)"]
[null,null,null,null,null,null,null,null,null,null,null,null,null,null,null,null,null,null,null,null,null,null,null,null,null,null,null,null,null,null,null,null,null,null,null,null,null,null,null,null,null,null,null,null,null,"Uvalde (463)"]
[null,null,null,null,null,null,null,null,null,null,null,null,null,null,null,null,null,null,null,null,null,null,null,null,null,null,null,null,null,null,null,null,null,null,null,null,null,null,null,null,null,null,null,null,null,"Val Verde (465)"]
[null,null,null,null,null,null,null,null,null,null,null,null,null,null,null,null,null,null,null,null,null,null,null,null,null,null,null,null,null,null,null,null,null,null,null,null,null,null,null,null,null,null,null,null,null,"Van Zandt (467)"]
[null,null,null,null,null,null,null,null,null,null,null,null,null,null,null,null,null,null,null,null,null,null,null,null,null,null,null,null,null,null,null,null,null,null,null,null,null,null,null,null,null,null,null,null,null,"Victoria (469)"]
[null,null,null,null,null,null,null,null,null,null,null,null,null,null,null,null,null,null,null,null,null,null,null,null,null,null,null,null,null,null,null,null,null,null,null,null,null,null,null,null,null,null,null,null,null,"Walker (471)"]
[null,null,null,null,null,null,null,null,null,null,null,null,null,null,null,null,null,null,null,null,null,null,null,null,null,null,null,null,null,null,null,null,null,null,null,null,null,null,null,null,null,null,null,null,null,"Waller (473)"]
[null,null,null,null,null,null,null,null,null,null,null,null,null,null,null,null,null,null,null,null,null,null,null,null,null,null,null,null,null,null,null,null,null,null,null,null,null,null,null,null,null,null,null,null,null,"Ward (475)"]
[null,null,null,null,null,null,null,null,null,null,null,null,null,null,null,null,null,null,null,null,null,null,null,null,null,null,null,null,null,null,null,null,null,null,null,null,null,null,null,null,null,null,null,null,null,"Washington (477)"]
[null,null,null,null,null,null,null,null,null,null,null,null,null,null,null,null,null,null,null,null,null,null,null,null,null,null,null,null,null,null,null,null,null,null,null,null,null,null,null,null,null,null,null,null,null,"Webb (479)"]
[null,null,null,null,null,null,null,null,null,null,null,null,null,null,null,null,null,null,null,null,null,null,null,null,null,null,null,null,null,null,null,null,null,null,null,null,null,null,null,null,null,null,null,null,null,"Wharton (481)"]
[null,null,null,null,null,null,null,null,null,null,null,null,null,null,null,null,null,null,null,null,null,null,null,null,null,null,null,null,null,null,null,null,null,null,null,null,null,null,null,null,null,null,null,null,null,"Wheeler (483)"]
[null,null,null,null,null,null,null,null,null,null,null,null,null,null,null,null,null,null,null,null,null,null,null,null,null,null,null,null,null,null,null,null,null,null,null,null,null,null,null,null,null,null,null,null,null,"Wichita (485)"]
[null,null,null,null,null,null,null,null,null,null,null,null,null,null,null,null,null,null,null,null,null,null,null,null,null,null,null,null,null,null,null,null,null,null,null,null,null,null,null,null,null,null,null,null,null,"Wilbarger (487)"]
[null,null,null,null,null,null,null,null,null,null,null,null,null,null,null,null,null,null,null,null,null,null,null,null,null,null,null,null,null,null,null,null,null,null,null,null,null,null,null,null,null,null,null,null,null,"Willacy (489)"]
[null,null,null,null,null,null,null,null,null,null,null,null,null,null,null,null,null,null,null,null,null,null,null,null,null,null,null,null,null,null,null,null,null,null,null,null,null,null,null,null,null,null,null,null,null,"Williamson (491)"]
[null,null,null,null,null,null,null,null,null,null,null,null,null,null,null,null,null,null,null,null,null,null,null,null,null,null,null,null,null,null,null,null,null,null,null,null,null,null,null,null,null,null,null,null,null,"Wilson (493)"]
[null,null,null,null,null,null,null,null,null,null,null,null,null,null,null,null,null,null,null,null,null,null,null,null,null,null,null,null,null,null,null,null,null,null,null,null,null,null,null,null,null,null,null,null,null,"Winkler (495)"]
[null,null,null,null,null,null,null,null,null,null,null,null,null,null,null,null,null,null,null,null,null,null,null,null,null,null,null,null,null,null,null,null,null,null,null,null,null,null,null,null,null,null,null,null,null,"Wise (497)"]
[null,null,null,null,null,null,null,null,null,null,null,null,null,null,null,null,null,null,null,null,null,null,null,null,null,null,null,null,null,null,null,null,null,null,null,null,null,null,null,null,null,null,null,null,null,"Wood (499)"]
[null,null,null,null,null,null,null,null,null,null,null,null,null,null,null,null,null,null,null,null,null,null,null,null,null,null,null,null,null,null,null,null,null,null,null,null,null,null,null,null,null,null,null,null,null,"Yoakum (501)"]
[null,null,null,null,null,null,null,null,null,null,null,null,null,null,null,null,null,null,null,null,null,null,null,null,null,null,null,null,null,null,null,null,null,null,null,null,null,null,null,null,null,null,null,null,null,"Young (503)"]
[null,null,null,null,null,null,null,null,null,null,null,null,null,null,null,null,null,null,null,null,null,null,null,null,null,null,null,null,null,null,null,null,null,null,null,null,null,null,null,null,null,null,null,null,null,"Zapata (505)"]
[null,null,null,null,null,null,null,null,null,null,null,null,null,null,null,null,null,null,null,null,null,null,null,null,null,null,null,null,null,null,null,null,null,null,null,null,null,null,null,null,null,null,null,null,null,"Zavala (507)"]